Workbook

Sheet Tarif (2)
D1: 4 | E1: 5 | F1: 6 | G1: 7 | H1: 8 | I1: 9 | J1: 10 | K1: 11 | L1: 12 | M1: 13 | N1: 14 | O1: 15 | P1: 16 | Q1: 17 | R1: 18 | T1: =S26/S2 -> 0.00014285714 | V1: =V2/S2 -> 0.58333333
B2: GRILLE : LME +350 | D2: 1500 | E2: 1550 | F2: 1600 | G2: 1650 | H2: 1700 | I2: 1750 | J2: 1800 | K2: 1850 | L2: 1900 | M2: 1950 | N2: 2000 | O2: 2050 | P2: 2100 | Q2: 2150 | R2: 2200 | S2: =SUM(S4:S25) -> 2100 | T2: =ROUND(SUM(T4:T25),0) -> 3700 | V2: ='FP230130 Auto'!I50 -> 1225
B3: Typ | C3: Gewicht | D3: LME 1500 | E3: LME 1550 | F3: LME 1600 | G3: LME 1650 | H3: LME 1700 | I3: LME 1750 | J3: LME 1800 | K3: LME 1850 | L3: LME 1900 | M3: LME 1950 | N3: LME 2000 | O3: LME 2050 | P3: LME 2100 | Q3: LME 2150 | R3: LME 2200 | S3: Commande | T3: Poids
A4: PLAQUES 204+ | B4: 204+ | C4: 1.175 | D4: =MROUND(Tarif!D4,0.001) -> 3.213 | E4: =MROUND(Tarif!E4,0.001) -> 3.279 | F4: =MROUND(Tarif!F4,0.001) -> 3.346 | G4: =MROUND(Tarif!G4,0.001) -> 3.407 | H4: =MROUND(Tarif!H4,0.001) -> 3.468 | I4: =MROUND(Tarif!I4,0.001) -> 3.524 | J4: =MROUND(Tarif!J4,0.001) -> 3.58 | K4: =MROUND(Tarif!K4,0.001) -> 3.636 | ... R4: =MROUND(Tarif!R4,0.001) -> 4.044 | T4: =S4*C4 -> 0 | U4: =C4+$T$1 -> 1.1751429 | V4: =U4*S4 -> 0
A5: PLAQUES 204- | B5: 204- | C5: 0.96 | D5: =MROUND(Tarif!D5,0.001) -> 2.356 | E5: =MROUND(Tarif!E5,0.001) -> 2.402 | F5: =MROUND(Tarif!F5,0.001) -> 2.448 | G5: =MROUND(Tarif!G5,0.001) -> 2.499 | H5: =MROUND(Tarif!H5,0.001) -> 2.55 | I5: =MROUND(Tarif!I5,0.001) -> 2.601 | J5: =MROUND(Tarif!J5,0.001) -> 2.652 | K5: =MROUND(Tarif!K5,0.001) -> 2.693 | ... R5: =MROUND(Tarif!R5,0.001) -> 2.996 | T5: =S5*C5 -> 0 | U5: =C5+$T$1 -> 0.96014286 | V5: =U5*S5 -> 0
A6: PLAQUES OGI+ | B6: OGI+ | C6: 0.84 | D6: =MROUND(Tarif!D6,0.001) -> 1.142 | E6: =MROUND(Tarif!E6,0.001) -> 1.168 | F6: =MROUND(Tarif!F6,0.001) -> 1.193 | G6: =MROUND(Tarif!G6,0.001) -> 1.214 | H6: =MROUND(Tarif!H6,0.001) -> 1.234 | I6: =MROUND(Tarif!I6,0.001) -> 1.26 | J6: =MROUND(Tarif!J6,0.001) -> 1.285 | K6: =MROUND(Tarif!K6,0.001) -> 1.305 | ... R6: =MROUND(Tarif!R6,0.001) -> 1.452 | T6: =S6*C6 -> 0 | U6: =C6+$T$1 -> 0.84014286 | V6: =U6*S6 -> 0
A7: PLAQUES OGI- | B7: OGI- | C7: 0.474 | D7: =MROUND(Tarif!D7,0.001) -> 1.142 | E7: =MROUND(Tarif!E7,0.001) -> 1.168 | F7: =MROUND(Tarif!F7,0.001) -> 1.193 | G7: =MROUND(Tarif!G7,0.001) -> 1.209 | H7: =MROUND(Tarif!H7,0.001) -> 1.224 | I7: =MROUND(Tarif!I7,0.001) -> 1.255 | J7: =MROUND(Tarif!J7,0.001) -> 1.285 | K7: =MROUND(Tarif!K7,0.001) -> 1.305 | ... R7: =MROUND(Tarif!R7,0.001) -> 1.452 | S7: 500 | T7: =S7*C7 -> 237 | U7: =C7+$T$1 -> 0.47414286 | V7: =U7*S7 -> 237.07143
A8: PLAQUES TUBULAIRES 274 | B8: 274+ | C8: 1.49 | D8: =MROUND(Tarif!D8,0.001) -> 4.121 | E8: =MROUND(Tarif!E8,0.001) -> 4.197 | F8: =MROUND(Tarif!F8,0.001) -> 4.274 | G8: =MROUND(Tarif!G8,0.001) -> 4.35 | H8: =MROUND(Tarif!H8,0.001) -> 4.427 | I8: =MROUND(Tarif!I8,0.001) -> 4.503 | J8: =MROUND(Tarif!J8,0.001) -> 4.58 | K8: =MROUND(Tarif!K8,0.001) -> 4.651 | ... R8: =MROUND(Tarif!R8,0.001) -> 5.174 | T8: =S8*C8 -> 0 | U8: =C8+$T$1 -> 1.4901429 | V8: =U8*S8 -> 0
A9: PLAQUES 274 internes | B9: 274 int | C9: 1.27 | D9: =MROUND(Tarif!D9,0.001) -> 3.04 | E9: =MROUND(Tarif!E9,0.001) -> 3.106 | F9: =MROUND(Tarif!F9,0.001) -> 3.172 | G9: =MROUND(Tarif!G9,0.001) -> 3.239 | H9: =MROUND(Tarif!H9,0.001) -> 3.305 | I9: =MROUND(Tarif!I9,0.001) -> 3.371 | J9: =MROUND(Tarif!J9,0.001) -> 3.437 | K9: =MROUND(Tarif!K9,0.001) -> 3.491 | ... R9: =MROUND(Tarif!R9,0.001) -> 3.883 | T9: =S9*C9 -> 0 | U9: =C9+$T$1 -> 1.2701429 | V9: =U9*S9 -> 0
A10: PLAQUES 274 externes | B10: 274-ext | C10: 0.82 | D10: =MROUND(Tarif!D10,0.001) -> 1.958 | E10: =MROUND(Tarif!E10,0.001) -> 1.999 | F10: =MROUND(Tarif!F10,0.001) -> 2.04 | G10: =MROUND(Tarif!G10,0.001) -> 2.086 | H10: =MROUND(Tarif!H10,0.001) -> 2.132 | I10: =MROUND(Tarif!I10,0.001) -> 2.173 | J10: =MROUND(Tarif!J10,0.001) -> 2.213 | K10: =MROUND(Tarif!K10,0.001) -> 2.248 | ... R10: =MROUND(Tarif!R10,0.001) -> 2.5 | T10: =S10*C10 -> 0 | U10: =C10+$T$1 -> 0.82014286 | V10: =U10*S10 -> 0
A11: PLAQUES TUBULAIRES 289 | B11: 289+ | C11: 1.613 | D11: =MROUND(Tarif!D11,0.001) -> 4.447 | E11: =MROUND(Tarif!E11,0.001) -> 4.529 | F11: =MROUND(Tarif!F11,0.001) -> 4.61 | G11: =MROUND(Tarif!G11,0.001) -> 4.692 | H11: =MROUND(Tarif!H11,0.001) -> 4.774 | I11: =MROUND(Tarif!I11,0.001) -> 4.855 | J11: =MROUND(Tarif!J11,0.001) -> 4.937 | K11: =MROUND(Tarif!K11,0.001) -> 5.014 | ... R11: =MROUND(Tarif!R11,0.001) -> 5.577 | T11: =S11*C11 -> 0 | U11: =C11+$T$1 -> 1.6131429 | V11: =U11*S11 -> 0
A12: PLAQUES 289 internes | B12: 289-int | C12: 1.345 | D12: =MROUND(Tarif!D12,0.001) -> 3.233 | E12: =MROUND(Tarif!E12,0.001) -> 3.305 | F12: =MROUND(Tarif!F12,0.001) -> 3.376 | G12: =MROUND(Tarif!G12,0.001) -> 3.448 | H12: =MROUND(Tarif!H12,0.001) -> 3.519 | I12: =MROUND(Tarif!I12,0.001) -> 3.59 | J12: =MROUND(Tarif!J12,0.001) -> 3.662 | K12: =MROUND(Tarif!K12,0.001) -> 3.719 | ... R12: =MROUND(Tarif!R12,0.001) -> 4.137 | T12: =S12*C12 -> 0 | U12: =C12+$T$1 -> 1.3451429 | V12: =U12*S12 -> 0
A13: PLAQUES 289 externes | B13: 289-ext | C13: 0.878 | D13: =MROUND(Tarif!D13,0.001) -> 2.081 | E13: =MROUND(Tarif!E13,0.001) -> 2.122 | F13: =MROUND(Tarif!F13,0.001) -> 2.162 | G13: =MROUND(Tarif!G13,0.001) -> 2.208 | H13: =MROUND(Tarif!H13,0.001) -> 2.254 | I13: =MROUND(Tarif!I13,0.001) -> 2.3 | J13: =MROUND(Tarif!J13,0.001) -> 2.346 | K13: =MROUND(Tarif!K13,0.001) -> 2.383 | ... R13: =MROUND(Tarif!R13,0.001) -> 2.65 | T13: =S13*C13 -> 0 | U13: =C13+$T$1 -> 0.87814286 | V13: =U13*S13 -> 0
A14: PLAQUES TUBULAIRES 315 | B14: 315+ | C14: 1.74 | D14: =MROUND(Tarif!D14,0.001) -> 5.508 | E14: =MROUND(Tarif!E14,0.001) -> 5.615 | F14: =MROUND(Tarif!F14,0.001) -> 5.722 | G14: =MROUND(Tarif!G14,0.001) -> 5.824 | H14: =MROUND(Tarif!H14,0.001) -> 5.926 | I14: =MROUND(Tarif!I14,0.001) -> 6.033 | J14: =MROUND(Tarif!J14,0.001) -> 6.14 | K14: =MROUND(Tarif!K14,0.001) -> 6.236 | ... R14: =MROUND(Tarif!R14,0.001) -> 6.936 | T14: =S14*C14 -> 0 | U14: =C14+$T$1 -> 1.7401429 | V14: =U14*S14 -> 0
A15: PLAQUES 315 internes | B15: 315-int | C15: 1.49 | D15: =MROUND(Tarif!D15,0.001) -> 3.611 | E15: =MROUND(Tarif!E15,0.001) -> 3.692 | F15: =MROUND(Tarif!F15,0.001) -> 3.774 | G15: =MROUND(Tarif!G15,0.001) -> 3.851 | H15: =MROUND(Tarif!H15,0.001) -> 3.927 | I15: =MROUND(Tarif!I15,0.001) -> 4.003 | J15: =MROUND(Tarif!J15,0.001) -> 4.08 | K15: =MROUND(Tarif!K15,0.001) -> 4.144 | ... R15: =MROUND(Tarif!R15,0.001) -> 4.609 | T15: =S15*C15 -> 0 | U15: =C15+$T$1 -> 1.4901429 | V15: =U15*S15 -> 0
A16: PLAQUES 315 externes | B16: 315-ext | C16: 1.01 | D16: =MROUND(Tarif!D16,0.001) -> 2.621 | E16: =MROUND(Tarif!E16,0.001) -> 2.678 | F16: =MROUND(Tarif!F16,0.001) -> 2.734 | G16: =MROUND(Tarif!G16,0.001) -> 2.79 | H16: =MROUND(Tarif!H16,0.001) -> 2.846 | I16: =MROUND(Tarif!I16,0.001) -> 2.902 | J16: =MROUND(Tarif!J16,0.001) -> 2.958 | K16: =MROUND(Tarif!K16,0.001) -> 3.004 | ... R16: =MROUND(Tarif!R16,0.001) -> 3.341 | T16: =S16*C16 -> 0 | U16: =C16+$T$1 -> 1.0101429 | V16: =U16*S16 -> 0
A17: PLAQUES TUBULAIRES 399 | B17: 399+ | C17: 2.212 | D17: =MROUND(Tarif!D17,0.001) -> 5.998 | E17: =MROUND(Tarif!E17,0.001) -> 6.11 | F17: =MROUND(Tarif!F17,0.001) -> 6.222 | G17: =MROUND(Tarif!G17,0.001) -> 6.339 | H17: =MROUND(Tarif!H17,0.001) -> 6.457 | I17: =MROUND(Tarif!I17,0.001) -> 6.569 | J17: =MROUND(Tarif!J17,0.001) -> 6.681 | K17: =MROUND(Tarif!K17,0.001) -> 6.785 | ... R17: =MROUND(Tarif!R17,0.001) -> 7.547 | S17: 600 | T17: =S17*C17 -> 1327.2 | U17: =C17+$T$1 -> 2.2121429 | V17: =U17*S17 -> 1327.2857
A18: PLAQUES 399 internes | B18: 399-int | C18: 1.8 | D18: =MROUND(Tarif!D18,0.001) -> 4.376 | E18: =MROUND(Tarif!E18,0.001) -> 4.473 | F18: =MROUND(Tarif!F18,0.001) -> 4.57 | G18: =MROUND(Tarif!G18,0.001) -> 4.661 | H18: =MROUND(Tarif!H18,0.001) -> 4.753 | I18: =MROUND(Tarif!I18,0.001) -> 4.85 | J18: =MROUND(Tarif!J18,0.001) -> 4.947 | K18: =MROUND(Tarif!K18,0.001) -> 5.024 | ... R18: =MROUND(Tarif!R18,0.001) -> 5.588 | S18: 400 | T18: =S18*C18 -> 720 | U18: =C18+$T$1 -> 1.8001429 | V18: =U18*S18 -> 720.05714
A19: PLAQUES 399 externes | B19: 399-ext | C19: 1.194 | D19: =MROUND(Tarif!D19,0.001) -> 2.713 | E19: =MROUND(Tarif!E19,0.001) -> 2.774 | F19: =MROUND(Tarif!F19,0.001) -> 2.836 | G19: =MROUND(Tarif!G19,0.001) -> 2.892 | H19: =MROUND(Tarif!H19,0.001) -> 2.948 | I19: =MROUND(Tarif!I19,0.001) -> 3.009 | J19: =MROUND(Tarif!J19,0.001) -> 3.07 | K19: =MROUND(Tarif!K19,0.001) -> 3.118 | ... R19: =MROUND(Tarif!R19,0.001) -> 3.468 | S19: 100 | T19: =S19*C19 -> 119.4 | U19: =C19+$T$1 -> 1.1941429 | V19: =U19*S19 -> 119.41429
A20: PLAQUES TUBULAIRES 429 | B20: 429+ | C20: 2.34 | D20: =MROUND(Tarif!D20,0.001) -> 6.426 | E20: =MROUND(Tarif!E20,0.001) -> 6.543 | F20: =MROUND(Tarif!F20,0.001) -> 6.661 | G20: =MROUND(Tarif!G20,0.001) -> 6.783 | H20: =MROUND(Tarif!H20,0.001) -> 6.905 | I20: =MROUND(Tarif!I20,0.001) -> 7.023 | J20: =MROUND(Tarif!J20,0.001) -> 7.14 | K20: =MROUND(Tarif!K20,0.001) -> 7.252 | ... R20: =MROUND(Tarif!R20,0.001) -> 8.066 | T20: =S20*C20 -> 0 | U20: =C20+$T$1 -> 2.3401429 | V20: =U20*S20 -> 0
A21: PLAQUES 429 internes | B21: 429-int | C21: 1.98 | D21: =MROUND(Tarif!D21,0.001) -> 4.814 | E21: =MROUND(Tarif!E21,0.001) -> 4.922 | F21: =MROUND(Tarif!F21,0.001) -> 5.029 | G21: =MROUND(Tarif!G21,0.001) -> 5.131 | H21: =MROUND(Tarif!H21,0.001) -> 5.233 | I21: =MROUND(Tarif!I21,0.001) -> 5.335 | J21: =MROUND(Tarif!J21,0.001) -> 5.437 | K21: =MROUND(Tarif!K21,0.001) -> 5.522 | ... R21: =MROUND(Tarif!R21,0.001) -> 6.141 | T21: =S21*C21 -> 0 | U21: =C21+$T$1 -> 1.9801429 | V21: =U21*S21 -> 0
A22: PLAQUES 429 externes | B22: 429-ext | C22: 1.294 | D22: =MROUND(Tarif!D22,0.001) -> 2.907 | E22: =MROUND(Tarif!E22,0.001) -> 2.973 | F22: =MROUND(Tarif!F22,0.001) -> 3.04 | G22: =MROUND(Tarif!G22,0.001) -> 3.055 | H22: =MROUND(Tarif!H22,0.001) -> 3.07 | I22: =MROUND(Tarif!I22,0.001) -> 3.182 | J22: =MROUND(Tarif!J22,0.001) -> 3.295 | K22: =MROUND(Tarif!K22,0.001) -> 3.346 | ... R22: =MROUND(Tarif!R22,0.001) -> 3.722 | T22: =S22*C22 -> 0 | U22: =C22+$T$1 -> 1.2941429 | V22: =U22*S22 -> 0
A23: PLAQUES TUBULAIRES 534 | B23: 534+ | C23: 2.71 | D23: =MROUND(Tarif!D23,0.001) -> 7.507 | E23: =MROUND(Tarif!E23,0.001) -> 7.645 | F23: =MROUND(Tarif!F23,0.001) -> 7.783 | G23: =MROUND(Tarif!G23,0.001) -> 7.925 | H23: =MROUND(Tarif!H23,0.001) -> 8.068 | I23: =MROUND(Tarif!I23,0.001) -> 8.206 | J23: =MROUND(Tarif!J23,0.001) -> 8.344 | K23: =MROUND(Tarif!K23,0.001) -> 8.474 | ... R23: =MROUND(Tarif!R23,0.001) -> 9.425 | S23: 300 | T23: =S23*C23 -> 813 | U23: =C23+$T$1 -> 2.7101429 | V23: =U23*S23 -> 813.04286
A24: PLAQUES 534 internes | B24: 534-int | C24: 2.415 | D24: =MROUND(Tarif!D24,0.001) -> 5.875 | E24: =MROUND(Tarif!E24,0.001) -> 5.998 | F24: =MROUND(Tarif!F24,0.001) -> 6.12 | G24: =MROUND(Tarif!G24,0.001) -> 6.248 | H24: =MROUND(Tarif!H24,0.001) -> 6.375 | I24: =MROUND(Tarif!I24,0.001) -> 6.502 | J24: =MROUND(Tarif!J24,0.001) -> 6.63 | K24: =MROUND(Tarif!K24,0.001) -> 6.734 | ... R24: =MROUND(Tarif!R24,0.001) -> 7.49 | S24: 200 | T24: =S24*C24 -> 483 | U24: =C24+$T$1 -> 2.4151429 | V24: =U24*S24 -> 483.02857
A25: PLAQUES 534 externes | B25: 534-ext | C25: 1.603 | D25: =MROUND(Tarif!D25,0.001) -> 3.764 | E25: =MROUND(Tarif!E25,0.001) -> 3.85 | F25: =MROUND(Tarif!F25,0.001) -> 3.937 | G25: =MROUND(Tarif!G25,0.001) -> 4.019 | H25: =MROUND(Tarif!H25,0.001) -> 4.1 | I25: =MROUND(Tarif!I25,0.001) -> 4.182 | J25: =MROUND(Tarif!J25,0.001) -> 4.264 | K25: =MROUND(Tarif!K25,0.001) -> 4.33 | ... R25: =MROUND(Tarif!R25,0.001) -> 4.816 | T25: =S25*C25 -> 0 | U25: =C25+$T$1 -> 1.6031429 | V25: =U25*S25 -> 0
A26: GRILLE | D26: =+D2 -> 1500 | E26: =+E2 -> 1550 | F26: =+F2 -> 1600 | G26: =+G2 -> 1650 | H26: =+H2 -> 1700 | I26: =+I2 -> 1750 | J26: =+J2 -> 1800 | K26: =+K2 -> 1850 | ... R26: =+R2 -> 2200 | S26: 0.3
C27: Preise sind gültig bis 30/06/2022

Sheet Tarif
D1: 4 | E1: 5 | F1: 6 | G1: 7 | H1: 8 | I1: 9 | J1: 10 | K1: 11 | L1: 12 | M1: 13 | N1: 14 | O1: 15 | P1: 16 | Q1: 17 | R1: 18 | T1: =S26/S2 -> 0.00015197568 | V1: =V2/S2 -> 0.37234043
B2: GRILLE : LME +350 | D2: 1500 | E2: 1550 | F2: 1600 | G2: 1650 | H2: 1700 | I2: 1750 | J2: 1800 | K2: 1850 | L2: 1900 | M2: 1950 | N2: 2000 | O2: 2050 | P2: 2100 | Q2: 2150 | R2: 2200 | S2: =SUM(S4:S25) -> 3290 | T2: =ROUND(SUM(T4:T25),0) -> 4625 | V2: ='FP230130 Auto'!I50 -> 1225
B3: Typ | C3: Gewicht | D3: LME 1500 | E3: LME 1550 | F3: LME 1600 | G3: LME 1650 | H3: LME 1700 | I3: LME 1750 | J3: LME 1800 | K3: LME 1850 | L3: LME 1900 | M3: LME 1950 | N3: LME 2000 | O3: LME 2050 | P3: LME 2100 | Q3: LME 2150 | R3: LME 2200 | S3: Commande | T3: Poids
A4: PLAQUES 204+ | B4: 204+ | C4: 1.175 | D4: 3.213 | E4: 3.279 | F4: 3.346 | G4: 3.407 | H4: 3.468 | I4: 3.524 | J4: 3.58 | K4: 3.636 | L4: 3.692 | M4: 3.749 | N4: 3.806 | O4: 3.864 | P4: 3.924 | Q4: 3.983 | R4: 4.044 | T4: =S4*C4 -> 0 | U4: =C4+($T$1*1000) -> 1.3269757 | V4: =U4*S4 -> 0
A5: PLAQUES 204- | B5: 204- | C5: 0.96 | D5: 2.356 | E5: 2.402 | F5: 2.448 | G5: 2.499 | H5: 2.55 | I5: 2.601 | J5: 2.652 | K5: 2.693 | L5: 2.735 | M5: 2.777 | N5: 2.819 | O5: 2.862 | P5: 2.907 | Q5: 2.951 | R5: 2.996 | T5: =S5*C5 -> 0 | U5: =C5+($T$1*1000) -> 1.1119757 | V5: =U5*S5 -> 0
A6: PLAQUES OGI+ | B6: OGI+ | C6: 0.84 | D6: 1.142 | E6: 1.168 | F6: 1.193 | G6: 1.214 | H6: 1.234 | I6: 1.26 | J6: 1.285 | K6: 1.305 | L6: 1.325 | M6: 1.346 | N6: 1.366 | O6: 1.387 | P6: 1.409 | Q6: 1.43 | R6: 1.452 | S6: 500 | T6: =S6*C6 -> 420 | U6: =C6+($T$1*1000) -> 0.99197568 | V6: =U6*S6 -> 495.98784
A7: PLAQUES OGI- | B7: OGI- | C7: 0.474 | D7: 1.142 | E7: 1.168 | F7: 1.193 | G7: 1.209 | H7: 1.224 | I7: 1.255 | J7: 1.285 | K7: 1.305 | L7: 1.325 | M7: 1.346 | N7: 1.366 | O7: 1.387 | P7: 1.409 | Q7: 1.43 | R7: 1.452 | S7: 800 | T7: =S7*C7 -> 379.2 | U7: =C7+($T$1*1000) -> 0.62597568 | V7: =U7*S7 -> 500.78055
A8: PLAQUES TUBULAIRES 274 | B8: 274+ | C8: 1.49 | D8: 4.121 | E8: 4.197 | F8: 4.274 | G8: 4.35 | H8: 4.427 | I8: 4.503 | J8: 4.58 | K8: 4.651 | L8: 4.723 | M8: 4.796 | N8: 4.868 | O8: 4.943 | P8: 5.019 | Q8: 5.096 | R8: 5.174 | S8: 100 | T8: =S8*C8 -> 149 | U8: =C8+($T$1*1000) -> 1.6419757 | V8: =U8*S8 -> 164.19757
A9: PLAQUES 274 internes | B9: 274 int | C9: 1.27 | D9: 3.04 | E9: 3.106 | F9: 3.172 | G9: 3.239 | H9: 3.305 | I9: 3.371 | J9: 3.437 | K9: 3.491 | L9: 3.545 | M9: 3.599 | N9: 3.654 | O9: 3.71 | P9: 3.767 | Q9: 3.825 | R9: 3.883 | S9: 80 | T9: =S9*C9 -> 101.6 | U9: =C9+($T$1*1000) -> 1.4219757 | V9: =U9*S9 -> 113.75805
A10: PLAQUES 274 externes | B10: 274-ext | C10: 0.82 | D10: 1.958 | E10: 1.999 | F10: 2.04 | G10: 2.086 | H10: 2.132 | I10: 2.173 | J10: 2.213 | K10: 2.248 | L10: 2.283 | M10: 2.318 | N10: 2.353 | O10: 2.389 | P10: 2.426 | Q10: 2.463 | R10: 2.5 | S10: 50 | T10: =S10*C10 -> 41 | U10: =C10+($T$1*1000) -> 0.97197568 | V10: =U10*S10 -> 48.598784
A11: PLAQUES TUBULAIRES 289 | B11: 289+ | C11: 1.613 | D11: 4.447 | E11: 4.529 | F11: 4.61 | G11: 4.692 | H11: 4.774 | I11: 4.855 | J11: 4.937 | K11: 5.014 | L11: 5.091 | M11: 5.169 | N11: 5.248 | O11: 5.329 | P11: 5.411 | Q11: 5.493 | R11: 5.577 | T11: =S11*C11 -> 0 | U11: =C11+($T$1*1000) -> 1.7649757 | V11: =U11*S11 -> 0
A12: PLAQUES 289 internes | B12: 289-int | C12: 1.345 | D12: 3.233 | E12: 3.305 | F12: 3.376 | G12: 3.448 | H12: 3.519 | I12: 3.59 | J12: 3.662 | K12: 3.719 | L12: 3.776 | M12: 3.834 | N12: 3.893 | O12: 3.952 | P12: 4.013 | Q12: 4.074 | R12: 4.137 | T12: =S12*C12 -> 0 | U12: =C12+($T$1*1000) -> 1.4969757 | V12: =U12*S12 -> 0
A13: PLAQUES 289 externes | B13: 289-ext | C13: 0.878 | D13: 2.081 | E13: 2.122 | F13: 2.162 | G13: 2.208 | H13: 2.254 | I13: 2.3 | J13: 2.346 | K13: 2.383 | L13: 2.419 | M13: 2.457 | N13: 2.494 | O13: 2.532 | P13: 2.571 | Q13: 2.61 | R13: 2.65 | T13: =S13*C13 -> 0 | U13: =C13+($T$1*1000) -> 1.0299757 | V13: =U13*S13 -> 0
A14: PLAQUES TUBULAIRES 315 | B14: 315+ | C14: 1.74 | D14: 5.508 | E14: 5.615 | F14: 5.722 | G14: 5.824 | H14: 5.926 | I14: 6.033 | J14: 6.14 | K14: 6.236 | L14: 6.332 | M14: 6.43 | N14: 6.527 | O14: 6.628 | P14: 6.73 | Q14: 6.832 | R14: 6.936 | T14: =S14*C14 -> 0 | U14: =C14+($T$1*1000) -> 1.8919757 | V14: =U14*S14 -> 0
A15: PLAQUES 315 internes | B15: 315-int | C15: 1.49 | D15: 3.611 | E15: 3.692 | F15: 3.774 | G15: 3.851 | H15: 3.927 | I15: 4.003 | J15: 4.08 | K15: 4.144 | L15: 4.207 | M15: 4.272 | N15: 4.337 | O15: 4.404 | P15: 4.472 | Q15: 4.539 | R15: 4.609 | T15: =S15*C15 -> 0 | U15: =C15+($T$1*1000) -> 1.6419757 | V15: =U15*S15 -> 0
A16: PLAQUES 315 externes | B16: 315-ext | C16: 1.01 | D16: 2.621 | E16: 2.678 | F16: 2.734 | G16: 2.79 | H16: 2.846 | I16: 2.902 | J16: 2.958 | K16: 3.004 | L16: 3.05 | M16: 3.097 | N16: 3.144 | O16: 3.193 | P16: 3.242 | Q16: 3.291 | R16: 3.341 | T16: =S16*C16 -> 0 | U16: =C16+($T$1*1000) -> 1.1619757 | V16: =U16*S16 -> 0
A17: PLAQUES TUBULAIRES 399 | B17: 399+ | C17: 2.212 | D17: 5.998 | E17: 6.11 | F17: 6.222 | G17: 6.339 | H17: 6.457 | I17: 6.569 | J17: 6.681 | K17: 6.785 | L17: 6.89 | M17: 6.996 | N17: 7.102 | O17: 7.211 | P17: 7.322 | Q17: 7.433 | R17: 7.547 | S17: 600 | T17: =S17*C17 -> 1327.2 | U17: =C17+($T$1*1000) -> 2.3639757 | V17: =U17*S17 -> 1418.3854
A18: PLAQUES 399 internes | B18: 399-int | C18: 1.8 | D18: 4.376 | E18: 4.473 | F18: 4.57 | G18: 4.661 | H18: 4.753 | I18: 4.85 | J18: 4.947 | K18: 5.024 | L18: 5.102 | M18: 5.18 | N18: 5.259 | O18: 5.34 | P18: 5.422 | Q18: 5.504 | R18: 5.588 | S18: 480 | T18: =S18*C18 -> 864 | U18: =C18+($T$1*1000) -> 1.9519757 | V18: =U18*S18 -> 936.94833
A19: PLAQUES 399 externes | B19: 399-ext | C19: 1.194 | D19: 2.713 | E19: 2.774 | F19: 2.836 | G19: 2.892 | H19: 2.948 | I19: 3.009 | J19: 3.07 | K19: 3.118 | L19: 3.166 | M19: 3.215 | N19: 3.264 | O19: 3.314 | P19: 3.365 | Q19: 3.416 | R19: 3.468 | S19: 240 | T19: =S19*C19 -> 286.56 | U19: =C19+($T$1*1000) -> 1.3459757 | V19: =U19*S19 -> 323.03416
A20: PLAQUES TUBULAIRES 429 | B20: 429+ | C20: 2.34 | D20: 6.426 | E20: 6.543 | F20: 6.661 | G20: 6.783 | H20: 6.905 | I20: 7.023 | J20: 7.14 | K20: 7.252 | L20: 7.363 | M20: 7.476 | N20: 7.59 | O20: 7.707 | P20: 7.825 | Q20: 7.944 | R20: 8.066 | T20: =S20*C20 -> 0 | U20: =C20+($T$1*1000) -> 2.4919757 | V20: =U20*S20 -> 0
A21: PLAQUES 429 internes | B21: 429-int | C21: 1.98 | D21: 4.814 | E21: 4.922 | F21: 5.029 | G21: 5.131 | H21: 5.233 | I21: 5.335 | J21: 5.437 | K21: 5.522 | L21: 5.606 | M21: 5.693 | N21: 5.779 | O21: 5.868 | P21: 5.958 | Q21: 6.049 | R21: 6.141 | T21: =S21*C21 -> 0 | U21: =C21+($T$1*1000) -> 2.1319757 | V21: =U21*S21 -> 0
A22: PLAQUES 429 externes | B22: 429-ext | C22: 1.294 | D22: 2.907 | E22: 2.973 | F22: 3.04 | G22: 3.055 | H22: 3.07 | I22: 3.182 | J22: 3.295 | K22: 3.346 | L22: 3.398 | M22: 3.45 | N22: 3.502 | O22: 3.556 | P22: 3.611 | Q22: 3.666 | R22: 3.722 | T22: =S22*C22 -> 0 | U22: =C22+($T$1*1000) -> 1.4459757 | V22: =U22*S22 -> 0
A23: PLAQUES TUBULAIRES 534 | B23: 534+ | C23: 2.71 | D23: 7.507 | E23: 7.645 | F23: 7.783 | G23: 7.925 | H23: 8.068 | I23: 8.206 | J23: 8.344 | K23: 8.474 | L23: 8.604 | M23: 8.737 | N23: 8.869 | O23: 9.006 | P23: 9.145 | Q23: 9.283 | R23: 9.425 | S23: 200 | T23: =S23*C23 -> 542 | U23: =C23+($T$1*1000) -> 2.8619757 | V23: =U23*S23 -> 572.39514
A24: PLAQUES 534 internes | B24: 534-int | C24: 2.415 | D24: 5.875 | E24: 5.998 | F24: 6.12 | G24: 6.248 | H24: 6.375 | I24: 6.502 | J24: 6.63 | K24: 6.734 | L24: 6.837 | M24: 6.942 | N24: 7.048 | O24: 7.156 | P24: 7.266 | Q24: 7.377 | R24: 7.49 | S24: 160 | T24: =S24*C24 -> 386.4 | U24: =C24+($T$1*1000) -> 2.5669757 | V24: =U24*S24 -> 410.71611
A25: PLAQUES 534 externes | B25: 534-ext | C25: 1.603 | D25: 3.764 | E25: 3.85 | F25: 3.937 | G25: 4.019 | H25: 4.1 | I25: 4.182 | J25: 4.264 | K25: 4.33 | L25: 4.397 | M25: 4.465 | N25: 4.532 | O25: 4.602 | P25: 4.673 | Q25: 4.744 | R25: 4.816 | S25: 80 | T25: =S25*C25 -> 128.24 | U25: =C25+($T$1*1000) -> 1.7549757 | V25: =U25*S25 -> 140.39805
A26: GRILLE | D26: =+D2 -> 1500 | E26: =+E2 -> 1550 | F26: =+F2 -> 1600 | G26: =+G2 -> 1650 | H26: =+H2 -> 1700 | I26: =+I2 -> 1750 | J26: =+J2 -> 1800 | K26: =+K2 -> 1850 | ... R26: =+R2 -> 2200 | S26: 0.5
B31: Customer | C31: Ref Bon de commande | D31: Date commande | E31: Plate type | F31: Unité | G31: Poids Moy | H31: Quantity commande | I31: Poids Théorique
B32: Hempe | C32: COMMANDE 16 | D32: 45245 | E32: OGI+ | F32: piece | G32: 0.84 | H32: 500 | I32: =+G32*H32 -> 420
B33: Hempe | C33: COMMANDE 16 | D33: 45245 | E33: OGI- | F33: piece | G33: 0.474 | H33: 800 | I33: =+G33*H33 -> 379.2
B34: Hempe | C34: COMMANDE 16 | D34: 45245 | E34: 274+ | F34: piece | G34: 1.49 | H34: 100 | I34: =+G34*H34 -> 149
B35: Hempe | C35: COMMANDE 16 | D35: 45245 | E35: 274 int | F35: piece | G35: 1.27 | H35: 80 | I35: =+G35*H35 -> 101.6
B36: Hempe | C36: COMMANDE 16 | D36: 45245 | E36: 274-ext | F36: piece | G36: 0.82 | H36: 50 | I36: =+G36*H36 -> 41
B37: Hempe | C37: COMMANDE 16 | D37: 45245 | E37: 399+ | F37: piece | G37: 2.212 | H37: 600 | I37: =+G37*H37 -> 1327.2
B38: Hempe | C38: COMMANDE 16 | D38: 45245 | E38: 399-int | F38: piece | G38: 1.8 | H38: 480 | I38: =+G38*H38 -> 864
B39: Hempe | C39: COMMANDE 16 | D39: 45245 | E39: 399-ext | F39: piece | G39: 1.194 | H39: 240 | I39: =+G39*H39 -> 286.56
B40: Hempe | C40: COMMANDE 16 | D40: 45245 | E40: 534+ | F40: piece | G40: 2.71 | H40: 200 | I40: =+G40*H40 -> 542
B41: Hempe | C41: COMMANDE 16 | D41: 45245 | E41: 534-int | F41: piece | G41: 2.415 | H41: 160 | I41: =+G41*H41 -> 386.4
B42: Hempe | C42: COMMANDE 16 | D42: 45245 | E42: 534-ext | F42: piece | G42: 1.603 | H42: 80 | I42: =+G42*H42 -> 128.24

Sheet FP230130 Auto
E2: Société Nouvelle des Accumulateurs | K2: LME | L2: 16
E4: Route de sousse km 6 2033 Megrine-Tunisie Tel : [+216] 71 433-233 Fax : [+216] 71 433-424
E5: Capital 10.500.000 DT MF : 1027384 F/A/M/000 RC : B2478702007 Mail : bat.nour@nour.com.tn
E6: Web: www.batteriesnour.com
E7: Banque Domiciliataire : STB bank IBAN : TN59 1010 6045 2315 2787 8897 SWIFT : STBKTNTTXXX
C11: Megrine le : 20/11/2023
C12: Batteriedienst Hempe
C13: Weimarische Str. 128, 99625 Großneuhausen, Germany
C14: USt-Id-Nr: DE 815903643
C15: Steuernummer : 151/230/26214
C16: Email : sabrina@batteriedienst-hempe.de / info@nour-batteries.de
C17: Tél : 00491714020578
C19: FACTURE PROFORMA N° FP230150
C21: Réf | D21: Désignation | F21: Quantité pce | G21: Poids (tonne) | H21: P.U en EURO | I21: P.T en EURO
H22: EXW | I22: EXW
D23: PLAQUES 204+ | F23: =+VLOOKUP(D23,Tarif!A:S,19,FALSE) -> 0 | G23: =+F23*Tarif!C4/1000 -> 0 | H23: =+VLOOKUP(D23,Tarif!A:R,$L$2,FALSE) -> 3.924 | I23: =H23*F23 -> 0
D24: PLAQUES 204- | F24: =+VLOOKUP(D24,Tarif!A:S,19,FALSE) -> 0 | G24: =+F24*Tarif!C5/1000 -> 0 | H24: =+VLOOKUP(D24,Tarif!A:R,$L$2,FALSE) -> 2.907 | I24: =H24*F24 -> 0
C25: 1 | D25: PLAQUES OGI+ | F25: =+VLOOKUP(D25,Tarif!A:S,19,FALSE) -> 500 | G25: =+F25*Tarif!C6/1000 -> 0.42 | H25: =+VLOOKUP(D25,Tarif!A:R,$L$2,FALSE) -> 1.409 | I25: =H25*F25 -> 704.5
C26: 2 | D26: PLAQUES OGI- | F26: =+VLOOKUP(D26,Tarif!A:S,19,FALSE) -> 800 | G26: =+F26*Tarif!C7/1000 -> 0.3792 | H26: =+VLOOKUP(D26,Tarif!A:R,$L$2,FALSE) -> 1.409 | I26: =H26*F26 -> 1127.2
C27: 3 | D27: PLAQUES TUBULAIRES 274 | F27: =+VLOOKUP(D27,Tarif!A:S,19,FALSE) -> 100 | G27: =+F27*Tarif!C8/1000 -> 0.149 | H27: =+VLOOKUP(D27,Tarif!A:R,$L$2,FALSE) -> 5.019 | I27: =H27*F27 -> 501.9
C28: 4 | D28: PLAQUES 274 internes | F28: =+VLOOKUP(D28,Tarif!A:S,19,FALSE) -> 80 | G28: =+F28*Tarif!C9/1000 -> 0.1016 | H28: =+VLOOKUP(D28,Tarif!A:R,$L$2,FALSE) -> 3.767 | I28: =H28*F28 -> 301.36
C29: 5 | D29: PLAQUES 274 externes | F29: =+VLOOKUP(D29,Tarif!A:S,19,FALSE) -> 50 | G29: =+F29*Tarif!C10/1000 -> 0.041 | H29: =+VLOOKUP(D29,Tarif!A:R,$L$2,FALSE) -> 2.426 | I29: =H29*F29 -> 121.3
D30: PLAQUES TUBULAIRES 289 | F30: =+VLOOKUP(D30,Tarif!A:S,19,FALSE) -> 0 | G30: =+F30*Tarif!C11/1000 -> 0 | H30: =+VLOOKUP(D30,Tarif!A:R,$L$2,FALSE) -> 5.411 | I30: =H30*F30 -> 0
D31: PLAQUES 289 internes | F31: =+VLOOKUP(D31,Tarif!A:S,19,FALSE) -> 0 | G31: =+F31*Tarif!C12/1000 -> 0 | H31: =+VLOOKUP(D31,Tarif!A:R,$L$2,FALSE) -> 4.013 | I31: =H31*F31 -> 0
D32: PLAQUES 289 externes | F32: =+VLOOKUP(D32,Tarif!A:S,19,FALSE) -> 0 | G32: =+F32*Tarif!C13/1000 -> 0 | H32: =+VLOOKUP(D32,Tarif!A:R,$L$2,FALSE) -> 2.571 | I32: =H32*F32 -> 0
D33: PLAQUES TUBULAIRES 315 | F33: =+VLOOKUP(D33,Tarif!A:S,19,FALSE) -> 0 | G33: =+F33*Tarif!C14/1000 -> 0 | H33: =+VLOOKUP(D33,Tarif!A:R,$L$2,FALSE) -> 6.73 | I33: =H33*F33 -> 0
D34: PLAQUES 315 internes | F34: =+VLOOKUP(D34,Tarif!A:S,19,FALSE) -> 0 | G34: =+F34*Tarif!C15/1000 -> 0 | H34: =+VLOOKUP(D34,Tarif!A:R,$L$2,FALSE) -> 4.472 | I34: =H34*F34 -> 0
D35: PLAQUES 315 externes | F35: =+VLOOKUP(D35,Tarif!A:S,19,FALSE) -> 0 | G35: =+F35*Tarif!C16/1000 -> 0 | H35: =+VLOOKUP(D35,Tarif!A:R,$L$2,FALSE) -> 3.242 | I35: =H35*F35 -> 0
C36: 6 | D36: PLAQUES TUBULAIRES 399 | F36: =+VLOOKUP(D36,Tarif!A:S,19,FALSE) -> 600 | G36: =+F36*Tarif!C17/1000 -> 1.3272 | H36: =+VLOOKUP(D36,Tarif!A:R,$L$2,FALSE) -> 7.322 | I36: =H36*F36 -> 4393.2
C37: 7 | D37: PLAQUES 399 internes | F37: =+VLOOKUP(D37,Tarif!A:S,19,FALSE) -> 480 | G37: =+F37*Tarif!C18/1000 -> 0.864 | H37: =+VLOOKUP(D37,Tarif!A:R,$L$2,FALSE) -> 5.422 | I37: =H37*F37 -> 2602.56
C38: 8 | D38: PLAQUES 399 externes | F38: =+VLOOKUP(D38,Tarif!A:S,19,FALSE) -> 240 | G38: =+F38*Tarif!C19/1000 -> 0.28656 | H38: =+VLOOKUP(D38,Tarif!A:R,$L$2,FALSE) -> 3.365 | I38: =H38*F38 -> 807.6
D39: PLAQUES TUBULAIRES 429 | F39: =+VLOOKUP(D39,Tarif!A:S,19,FALSE) -> 0 | G39: =+F39*Tarif!C20/1000 -> 0 | H39: =+VLOOKUP(D39,Tarif!A:R,$L$2,FALSE) -> 7.825 | I39: =H39*F39 -> 0
D40: PLAQUES 429 internes | F40: =+VLOOKUP(D40,Tarif!A:S,19,FALSE) -> 0 | G40: =+F40*Tarif!C21/1000 -> 0 | H40: =+VLOOKUP(D40,Tarif!A:R,$L$2,FALSE) -> 5.958 | I40: =H40*F40 -> 0
D41: PLAQUES 429 externes | F41: =+VLOOKUP(D41,Tarif!A:S,19,FALSE) -> 0 | G41: =+F41*Tarif!C22/1000 -> 0 | H41: =+VLOOKUP(D41,Tarif!A:R,$L$2,FALSE) -> 3.611 | I41: =H41*F41 -> 0
C42: 9 | D42: PLAQUES TUBULAIRES 534 | F42: =+VLOOKUP(D42,Tarif!A:S,19,FALSE) -> 200 | G42: =+F42*Tarif!C23/1000 -> 0.542 | H42: =+VLOOKUP(D42,Tarif!A:R,$L$2,FALSE) -> 9.145 | I42: =H42*F42 -> 1829
C43: 10 | D43: PLAQUES 534 internes | F43: =+VLOOKUP(D43,Tarif!A:S,19,FALSE) -> 160 | G43: =+F43*Tarif!C24/1000 -> 0.3864 | H43: =+VLOOKUP(D43,Tarif!A:R,$L$2,FALSE) -> 7.266 | I43: =H43*F43 -> 1162.56
C44: 11 | D44: PLAQUES 534 externes | F44: =+VLOOKUP(D44,Tarif!A:S,19,FALSE) -> 80 | G44: =+F44*Tarif!C25/1000 -> 0.12824 | H44: =+VLOOKUP(D44,Tarif!A:R,$L$2,FALSE) -> 4.673 | I44: =H44*F44 -> 373.84
D45: Batteries de démarrage non formées sans acide: | I45: =H45*F45 -> 0
D46: ML34CF00L1S13 | G46: =33*F46/1000 -> 0 | H46: 103.95 | I46: =H46*F46 -> 0
D47: MSP12BF003L1S13 | G47: =27.3*F47/1000 -> 0 | H47: 88.44 | I47: =H47*F47 -> 0
...

Sheet FN230071
E2: Société Nouvelle des Accumulateurs
E4: Route de sousse km 6 2033 Megrine-Tunisie Tel : [+216] 71 433-233 Fax : [+216] 71 433-424
E5: Capital 10.500.000 DT MF : 1027384 F/A/M/000 RC : B2478702007 Mail : bat.nour@nour.com.tn
E6: Web: www.batteriesnour.com
E7: Banque Domiciliataire : STB bank IBAN : TN59 1010 6045 2315 2787 8897 SWIFT : STBKTNTTXXX
C11: =#REF! -> #REF!
C12: Batteriedienst Hempe
C13: Weimarische Str. 128, 99625 Großneuhausen, Germany
C14: USt-Id-Nr: DE 815903643
C15: Steuernummer : 151/230/26214
C16: Email : sabrina@batteriedienst-hempe.de / info@nour-batteries.de
C17: Tél : 00491714020578
C19: FACTURE N° FN230071
C21: Réf | D21: Désignation | F21: Quantité pce | G21: Poids (tonne) | H21: P.U en EURO | I21: P.T en EURO | J21: plomb | K21: 0.5 | L21: poids en T
H22: EXW | I22: EXW | J22: OGI+/- | K22: 3400 | L22: quantité
C23: 1 | D23: =#REF! -> #REF! | F23: =#REF! -> #REF! | G23: =F23*2.4/1000 -> #REF! | H23: ='FP230130 Auto'!H23 -> 3.924 | I23: =F23*H23 -> #REF! | J23: Coef | K23: =K21/K22*1000 -> 0.14705882 | L23: Calculé
C24: =+C23+1 -> 2 | D24: =#REF! -> #REF! | F24: =#REF! -> #REF! | G24: =F24*2.4/1000 -> #REF! | H24: 5.262 | I24: =F24*H24 -> #REF! | J24: Tot Fact | K24: =VLOOKUP(C39,'FP230130 Auto'!C23:I54,7,FALSE) -> 15150.02 | L24: Tot PROF REELLE
C25: =+C24+1 -> 3 | D25: =#REF! -> #REF! | F25: =#REF! -> #REF! | G25: =F25*2.4/1000 -> #REF! | H25: ='FP230130 Auto'!H25 -> 1.409 | I25: =F25*H25 -> #REF! | J25: Tot OGI | K25: ='FP230130 Auto'!I30+'FP230130 Auto'!I29 -> 121.3 | L25: TOT OGI+/-
C26: 1 | D26: =#REF! -> #REF! | F26: =#REF! -> #REF! | G26: =F26*L43/1000 -> #REF! | H26: ='FP230130 Auto'!H26 -> 1.409 | I26: =F26*H26 -> #REF! | J26: DIF | K26: ='FP230130 Auto'!I50-(SUM(I23:I28)-SUM('FP230130 Auto'!I23:I28)) -> #REF! | L26: Tot Plomb-ajustements
C27: =+C26+1 -> 2 | D27: =#REF! -> #REF! | F27: =#REF! -> #REF! | G27: =F27*L42/1000 -> #REF! | H27: ='FP230130 Auto'!H27 -> 5.019 | I27: =F27*H27 -> #REF! | J27: Unit AJUST | K27: =K26/K22 -> #REF! | L27: Ajouter au PU OGI+/-
C28: =+C27+1 -> 3 | D28: =#REF! -> #REF! | F28: =#REF! -> #REF! | G28: =F28*2.4/1000 -> #REF! | H28: ='FP230130 Auto'!H28 -> 3.767 | I28: =F28*H28 -> #REF!
C29: =+C28+1 -> 4 | D29: =#REF! -> #REF! | F29: =#REF! -> #REF! | G29: =F29*0.33/1000 -> #REF! | H29: 1.72 | I29: =F29*H29 -> #REF! | J29: Ajustement Poids | K29: =K21/#REF! -> #REF! | L29: = poids réel+qtépce*K$29
C30: 4 | D30: =#REF! -> #REF! | F30: =#REF! -> #REF! | G30: =F30*0.33/1000 -> #REF! | H30: 1.71 | I30: =F30*H30 -> #REF! | N30: 3624
C31: =+C30+1 -> 5 | D31: =#REF! -> #REF! | F31: =#REF! -> #REF! | G31: =#REF! -> #REF! | H31: ='FP230130 Auto'!H31 -> 4.013 | I31: =F31*H31 -> #REF! | K31: =G23+(F23*K$29) -> #REF!
C32: 10 | D32: =#REF! -> #REF! | F32: =#REF! -> #REF! | G32: =#REF! -> #REF! | H32: ='FP230130 Auto'!H32 -> 2.571 | I32: =F32*H32 -> #REF! | K32: =G24+(F24*K$29) -> #REF!
C33: =#REF! -> #REF! | D33: =#REF! -> #REF! | F33: =#REF! -> #REF! | G33: =#REF! -> #REF! | H33: ='FP230130 Auto'!H33 -> 6.73 | I33: =F33*H33 -> #REF! | K33: =G25+(F25*K$29) -> #REF!
C34: =#REF! -> #REF! | D34: =#REF! -> #REF! | F34: =#REF! -> #REF! | G34: =#REF! -> #REF! | H34: ='FP230130 Auto'!H34 -> 4.472 | I34: =F34*H34 -> #REF! | K34: =G26+(F26*K$29) -> #REF!
C35: =#REF! -> #REF! | D35: =#REF! -> #REF! | F35: =#REF! -> #REF! | G35: =#REF! -> #REF! | H35: ='FP230130 Auto'!H35 -> 3.242 | I35: =F35*H35 -> #REF! | J35: =300/0.6 -> 500 | K35: =G27+(F27*K$29) -> #REF!
C36: =#REF! -> #REF! | D36: =#REF! -> #REF! | F36: =#REF! -> #REF! | G36: =#REF! -> #REF! | H36: ='FP230130 Auto'!H36 -> 7.322 | I36: =F36*H36 -> #REF! | J36: =0.6/300 -> 0.002 | K36: =G28+(F28*K$29) -> #REF!
C37: =#REF! -> #REF! | D37: =#REF! -> #REF! | F37: =#REF! -> #REF! | G37: =#REF! -> #REF! | H37: ='FP230130 Auto'!H43 -> 7.266 | I37: =F37*H37 -> #REF! | K37: =G29+(F29*K$29) -> #REF!
C38: =#REF! -> #REF! | D38: =#REF! -> #REF! | F38: =#REF! -> #REF! | G38: =#REF! -> #REF! | H38: ='FP230130 Auto'!H44 -> 4.673 | I38: =F38*H38 -> #REF! | K38: =G30+(F30*K$29) -> #REF!
C39: Totaux | F39: =SUM(F23:F38) -> #REF! | G39: =SUM(G23:G38) -> #REF! | I39: =SUM(I23:I38) -> #REF! | J39: =G23/F23*1000 -> #REF! | K39: =G31+(F31*K$29) -> #REF! | M39: 2.4
C40: * Arrêtée la présente facture à la somme de : | J40: =G24/F24*1000 -> #REF! | K40: =G32+(F32*K$29) -> #REF! | M40: 2.4
C41: =#REF! -> #REF! | J41: =G25/F25*1000 -> #REF! | K41: =G33+(F33*K$29) -> #REF! | M41: 1.6666667
C42: =#REF! -> #REF! | J42: =G26/F26*1000 -> #REF! | K42: =G34+(F34*K$29) -> #REF! | L42: 2.4 | M42: 3
C43: =#REF! -> #REF! | J43: =G27/F27*1000 -> #REF! | K43: =G35+(F35*K$29) -> #REF! | L43: 3.27 | M43: 2.8
C44: =#REF! -> #REF! | J44: =G28/F28*1000 -> #REF! | K44: =G36+(F36*K$29) -> #REF! | M44: 2
C45: =#REF! -> #REF! | J45: =G29/F29*1000 -> #REF! | K45: =G37+(F37*K$29) -> #REF! | M45: 330
C46: =#REF! -> #REF! | J46: =G30/F30*1000 -> #REF! | K46: =G38+(F38*K$29) -> #REF! | M46: 330
C47: =#REF! -> #REF! | K47: =G39+(F39*K$29) -> #REF!
...

Sheet FN230114
E2: Société Nouvelle des Accumulateurs | K2: LME | L2: ='FP230130 Auto'!$L$2 -> 16
E4: Route de sousse km 6 2033 Megrine-Tunisie Tel : [+216] 71 433-233 Fax : [+216] 71 433-424
E5: Capital 10.500.000 DT MF : 1027384 F/A/M/000 RC : B2478702007 Mail : bat.nour@nour.com.tn
E6: Web: www.batteriesnour.com
E7: Banque Domiciliataire : STB bank IBAN : TN59 1010 6045 2315 2787 8897 SWIFT : STBKTNTTXXX
C11: Megrine le : 30/11/2023
C12: Batteriedienst Hempe
C13: Weimarische Str. 128, 99625 Großneuhausen, Germany
C14: USt-Id-Nr: DE 815903643
C15: Steuernummer : 151/230/26214
C16: Email : sabrina@batteriedienst-hempe.de / info@nour-batteries.de
C17: Tél : 00491714020578
C19: FACTURE N° FN230154
C21: Réf | D21: Désignation | F21: Quantité pce | G21: Poids (tonne) | H21: P.U en EURO | I21: P.T en EURO
H22: EXW | I22: EXW
D23: PLAQUES 204+ | F23: =+VLOOKUP(D23,Tarif!A:S,19,FALSE) -> 0 | G23: =VLOOKUP(D23,Tarif!A:V,22,0)/1000 -> 0 | H23: =MROUND((+VLOOKUP(D23,Tarif!A:R,$L$2,FALSE)+Tarif!$V$1),0.001) -> 4.296 | I23: =H23*F23 -> 0
D24: PLAQUES 204- | F24: =+VLOOKUP(D24,Tarif!A:S,19,FALSE) -> 0 | G24: =VLOOKUP(D24,Tarif!A:V,22,0)/1000 -> 0 | H24: =MROUND((+VLOOKUP(D24,Tarif!A:R,$L$2,FALSE)+Tarif!$V$1),0.001) -> 3.279 | I24: =H24*F24 -> 0
C25: 1 | D25: PLAQUES OGI+ | F25: =+VLOOKUP(D25,Tarif!A:S,19,FALSE) -> 500 | G25: =VLOOKUP(D25,Tarif!A:V,22,0)/1000 -> 0.49598784 | H25: =MROUND((+VLOOKUP(D25,Tarif!A:R,$L$2,FALSE)+Tarif!$V$1),0.001) -> 1.781 | I25: =H25*F25 -> 890.5
C26: 2 | D26: PLAQUES OGI- | F26: =+VLOOKUP(D26,Tarif!A:S,19,FALSE) -> 800 | G26: =VLOOKUP(D26,Tarif!A:V,22,0)/1000 -> 0.50078055 | H26: =MROUND((+VLOOKUP(D26,Tarif!A:R,$L$2,FALSE)+Tarif!$V$1),0.001) -> 1.781 | I26: =H26*F26 -> 1424.8
C27: 3 | D27: PLAQUES TUBULAIRES 274 | F27: =+VLOOKUP(D27,Tarif!A:S,19,FALSE) -> 100 | G27: =VLOOKUP(D27,Tarif!A:V,22,0)/1000 -> 0.16419757 | H27: =MROUND((+VLOOKUP(D27,Tarif!A:R,$L$2,FALSE)+Tarif!$V$1),0.001) -> 5.391 | I27: =H27*F27 -> 539.1
C28: 4 | D28: PLAQUES 274 internes | F28: =+VLOOKUP(D28,Tarif!A:S,19,FALSE) -> 80 | G28: =VLOOKUP(D28,Tarif!A:V,22,0)/1000 -> 0.11375805 | H28: =MROUND((+VLOOKUP(D28,Tarif!A:R,$L$2,FALSE)+Tarif!$V$1),0.001) -> 4.139 | I28: =H28*F28 -> 331.12
C29: 5 | D29: PLAQUES 274 externes | F29: =+VLOOKUP(D29,Tarif!A:S,19,FALSE) -> 50 | G29: =VLOOKUP(D29,Tarif!A:V,22,0)/1000 -> 0.048598784 | H29: =MROUND((+VLOOKUP(D29,Tarif!A:R,$L$2,FALSE)+Tarif!$V$1),0.001)+0.9248 -> 3.7228 | I29: =H29*F29 -> 186.14
D30: PLAQUES TUBULAIRES 289 | F30: =+VLOOKUP(D30,Tarif!A:S,19,FALSE) -> 0 | G30: =VLOOKUP(D30,Tarif!A:V,22,0)/1000 -> 0 | H30: =MROUND((+VLOOKUP(D30,Tarif!A:R,$L$2,FALSE)+Tarif!$V$1),0.001) -> 5.783 | I30: =H30*F30 -> 0
D31: PLAQUES 289 internes | F31: =+VLOOKUP(D31,Tarif!A:S,19,FALSE) -> 0 | G31: =VLOOKUP(D31,Tarif!A:V,22,0)/1000 -> 0 | H31: =MROUND((+VLOOKUP(D31,Tarif!A:R,$L$2,FALSE)+Tarif!$V$1),0.001) -> 4.385 | I31: =H31*F31 -> 0
D32: PLAQUES 289 externes | F32: =+VLOOKUP(D32,Tarif!A:S,19,FALSE) -> 0 | G32: =VLOOKUP(D32,Tarif!A:V,22,0)/1000 -> 0 | H32: =MROUND((+VLOOKUP(D32,Tarif!A:R,$L$2,FALSE)+Tarif!$V$1),0.001) -> 2.943 | I32: =H32*F32 -> 0
D33: PLAQUES TUBULAIRES 315 | F33: =+VLOOKUP(D33,Tarif!A:S,19,FALSE) -> 0 | G33: =VLOOKUP(D33,Tarif!A:V,22,0)/1000 -> 0 | H33: =MROUND((+VLOOKUP(D33,Tarif!A:R,$L$2,FALSE)+Tarif!$V$1),0.001) -> 7.102 | I33: =H33*F33 -> 0
D34: PLAQUES 315 internes | F34: =+VLOOKUP(D34,Tarif!A:S,19,FALSE) -> 0 | G34: =VLOOKUP(D34,Tarif!A:V,22,0)/1000 -> 0 | H34: =MROUND((+VLOOKUP(D34,Tarif!A:R,$L$2,FALSE)+Tarif!$V$1),0.001) -> 4.844 | I34: =H34*F34 -> 0
D35: PLAQUES 315 externes | F35: =+VLOOKUP(D35,Tarif!A:S,19,FALSE) -> 0 | G35: =VLOOKUP(D35,Tarif!A:V,22,0)/1000 -> 0 | H35: =MROUND((+VLOOKUP(D35,Tarif!A:R,$L$2,FALSE)+Tarif!$V$1),0.001) -> 3.614 | I35: =H35*F35 -> 0
C36: 6 | D36: PLAQUES TUBULAIRES 399 | F36: =+VLOOKUP(D36,Tarif!A:S,19,FALSE) -> 600 | G36: =VLOOKUP(D36,Tarif!A:V,22,0)/1000 -> 1.4183854 | H36: =MROUND((+VLOOKUP(D36,Tarif!A:R,$L$2,FALSE)+Tarif!$V$1),0.001) -> 7.694 | I36: =H36*F36 -> 4616.4
C37: 7 | D37: PLAQUES 399 internes | F37: =+VLOOKUP(D37,Tarif!A:S,19,FALSE) -> 480 | G37: =VLOOKUP(D37,Tarif!A:V,22,0)/1000 -> 0.93694833 | H37: 5.7 | I37: =H37*F37 -> 2736
C38: 8 | D38: PLAQUES 399 externes | F38: =+VLOOKUP(D38,Tarif!A:S,19,FALSE) -> 240 | G38: =VLOOKUP(D38,Tarif!A:V,22,0)/1000 -> 0.32303416 | H38: =MROUND((+VLOOKUP(D38,Tarif!A:R,$L$2,FALSE)+Tarif!$V$1),0.001) -> 3.737 | I38: =H38*F38 -> 896.88
D39: PLAQUES TUBULAIRES 429 | F39: =+VLOOKUP(D39,Tarif!A:S,19,FALSE) -> 0 | G39: =VLOOKUP(D39,Tarif!A:V,22,0)/1000 -> 0 | H39: =MROUND((+VLOOKUP(D39,Tarif!A:R,$L$2,FALSE)+Tarif!$V$1),0.001) -> 8.197 | I39: =H39*F39 -> 0
D40: PLAQUES 429 internes | F40: =+VLOOKUP(D40,Tarif!A:S,19,FALSE) -> 0 | G40: =VLOOKUP(D40,Tarif!A:V,22,0)/1000 -> 0 | H40: =MROUND((+VLOOKUP(D40,Tarif!A:R,$L$2,FALSE)+Tarif!$V$1),0.001) -> 6.33 | I40: =H40*F40 -> 0
D41: PLAQUES 429 externes | F41: =+VLOOKUP(D41,Tarif!A:S,19,FALSE) -> 0 | G41: =VLOOKUP(D41,Tarif!A:V,22,0)/1000 -> 0 | H41: =MROUND((+VLOOKUP(D41,Tarif!A:R,$L$2,FALSE)+Tarif!$V$1),0.001) -> 3.983 | I41: =H41*F41 -> 0
C42: 9 | D42: PLAQUES TUBULAIRES 534 | F42: =+VLOOKUP(D42,Tarif!A:S,19,FALSE) -> 200 | G42: =VLOOKUP(D42,Tarif!A:V,22,0)/1000 -> 0.57239514 | H42: =MROUND((+VLOOKUP(D42,Tarif!A:R,$L$2,FALSE)+Tarif!$V$1),0.001) -> 9.517 | I42: =H42*F42 -> 1903.4
C43: 10 | D43: PLAQUES 534 internes | F43: =+VLOOKUP(D43,Tarif!A:S,19,FALSE) -> 160 | G43: =VLOOKUP(D43,Tarif!A:V,22,0)/1000 -> 0.41071611 | H43: =MROUND((+VLOOKUP(D43,Tarif!A:R,$L$2,FALSE)+Tarif!$V$1),0.001) -> 7.638 | I43: =H43*F43 -> 1222.08
C44: 11 | D44: PLAQUES 534 externes | F44: =+VLOOKUP(D44,Tarif!A:S,19,FALSE) -> 80 | G44: =VLOOKUP(D44,Tarif!A:V,22,0)/1000 -> 0.14039805 | H44: =MROUND((+VLOOKUP(D44,Tarif!A:R,$L$2,FALSE)+Tarif!$V$1),0.001) -> 5.045 | I44: =H44*F44 -> 403.6
D45: ='FP230130 Auto'!D45 -> Batteries de démarrage non formées sans acide:
C46: 12 | D46: ='FP230130 Auto'!D46 -> ML34CF00L1S13 | F46: ='FP230130 Auto'!F46 -> 0 | G46: ='FP230130 Auto'!G46 -> 0 | H46: ='FP230130 Auto'!H46 -> 103.95 | I46: =H46*F46 -> 0
C47: 13 | D47: ='FP230130 Auto'!D47 -> MSP12BF003L1S13 | F47: ='FP230130 Auto'!F47 -> 0 | G47: ='FP230130 Auto'!G47 -> 0 | H47: ='FP230130 Auto'!H47 -> 88.44 | I47: =H47*F47 -> 0
...

Sheet FN230114 Auto
E2: Société Nouvelle des Accumulateurs | K2: LME | L2: ='FP230130 Auto'!$L$2 -> 16
E4: Route de sousse km 6 2033 Megrine-Tunisie Tel : [+216] 71 433-233 Fax : [+216] 71 433-424
E5: Capital 10.500.000 DT MF : 1027384 F/A/M/000 RC : B2478702007 Mail : bat.nour@nour.com.tn
E6: Web: www.batteriesnour.com
E7: Banque Domiciliataire : STB bank IBAN : TN59 1010 6045 2315 2787 8897 SWIFT : STBKTNTTXXX
C11: Megrine le : 19/09/2023
C12: Batteriedienst Hempe
C13: Weimarische Str. 128, 99625 Großneuhausen, Germany
C14: USt-Id-Nr: DE 815903643
C15: Steuernummer : 151/230/26214
C16: Email : sabrina@batteriedienst-hempe.de / info@nour-batteries.de
C17: Tél : 00491714020578
C19: FACTURE N° FP230128
C21: Réf | D21: Désignation | F21: Quantité pce | G21: Poids (tonne) | H21: P.U en EURO | I21: P.T en EURO
H22: EXW | I22: EXW
C23: 1 | D23: PLAQUES 204+ | F23: =+VLOOKUP(D23,Tarif!A:S,19,FALSE) -> 0 | G23: =VLOOKUP(D23,Tarif!A:V,22,0)/1000 -> 0 | H23: =MROUND((+VLOOKUP(D23,Tarif!A:R,$L$2,FALSE)+Tarif!$V$1),0.001) -> 4.296 | I23: =H23*F23 -> 0 | L23: =$K$46/F20 -> #DIV/0!
C24: 2 | D24: PLAQUES 204- | F24: =+VLOOKUP(D24,Tarif!A:S,19,FALSE) -> 0 | G24: =VLOOKUP(D24,Tarif!A:V,22,0)/1000 -> 0 | H24: =MROUND((+VLOOKUP(D24,Tarif!A:R,$L$2,FALSE)+Tarif!$V$1),0.001) -> 3.279 | I24: =H24*F24 -> 0 | L24: =$K$46/F21 -> #VALUE!
C25: 3 | D25: PLAQUES OGI+ | F25: =+VLOOKUP(D25,Tarif!A:S,19,FALSE) -> 500 | G25: =VLOOKUP(D25,Tarif!A:V,22,0)/1000 -> 0.49598784 | H25: =MROUND((+VLOOKUP(D25,Tarif!A:R,$L$2,FALSE)+Tarif!$V$1),0.001) -> 1.781 | I25: =H25*F25 -> 890.5 | L25: =$K$46/F22 -> #DIV/0!
C26: 4 | D26: PLAQUES OGI- | F26: =+VLOOKUP(D26,Tarif!A:S,19,FALSE) -> 800 | G26: =VLOOKUP(D26,Tarif!A:V,22,0)/1000 -> 0.50078055 | H26: =MROUND((+VLOOKUP(D26,Tarif!A:R,$L$2,FALSE)+Tarif!$V$1),0.001) -> 1.781 | I26: =H26*F26 -> 1424.8 | L26: =$K$46/F23 -> #DIV/0!
C27: 5 | D27: PLAQUES TUBULAIRES 274 | F27: =+VLOOKUP(D27,Tarif!A:S,19,FALSE) -> 100 | G27: =VLOOKUP(D27,Tarif!A:V,22,0)/1000 -> 0.16419757 | H27: =MROUND((+VLOOKUP(D27,Tarif!A:R,$L$2,FALSE)+Tarif!$V$1),0.001) -> 5.391 | I27: =H27*F27 -> 539.1 | L27: =$K$46/F24 -> #DIV/0!
C28: 6 | D28: PLAQUES 274 internes | F28: =+VLOOKUP(D28,Tarif!A:S,19,FALSE) -> 80 | G28: =VLOOKUP(D28,Tarif!A:V,22,0)/1000 -> 0.11375805 | H28: =MROUND((+VLOOKUP(D28,Tarif!A:R,$L$2,FALSE)+Tarif!$V$1),0.001) -> 4.139 | I28: =H28*F28 -> 331.12 | L28: =$K$46/F25 -> 5.2338
C29: 7 | D29: PLAQUES 274 externes | F29: =+VLOOKUP(D29,Tarif!A:S,19,FALSE) -> 50 | G29: =VLOOKUP(D29,Tarif!A:V,22,0)/1000 -> 0.048598784 | H29: =MROUND((+VLOOKUP(D29,Tarif!A:R,$L$2,FALSE)+Tarif!$V$1),0.001) -> 2.798 | I29: =H29*F29 -> 139.9 | L29: =$K$46/F26 -> 3.271125
C30: 6 | D30: PLAQUES TUBULAIRES 289 | F30: =+VLOOKUP(D30,Tarif!A:S,19,FALSE) -> 0 | G30: =VLOOKUP(D30,Tarif!A:V,22,0)/1000 -> 0 | H30: =MROUND((+VLOOKUP(D30,Tarif!A:R,$L$2,FALSE)+Tarif!$V$1),0.001) -> 5.783 | I30: =H30*F30 -> 0 | L30: =$K$46/F27 -> 26.169
C31: 8 | D31: PLAQUES 289 internes | F31: =+VLOOKUP(D31,Tarif!A:S,19,FALSE) -> 0 | G31: =VLOOKUP(D31,Tarif!A:V,22,0)/1000 -> 0 | H31: =MROUND((+VLOOKUP(D31,Tarif!A:R,$L$2,FALSE)+Tarif!$V$1),0.001) -> 4.385 | I31: =H31*F31 -> 0 | L31: =$K$46/F28 -> 32.71125
C32: 9 | D32: PLAQUES 289 externes | F32: =+VLOOKUP(D32,Tarif!A:S,19,FALSE) -> 0 | G32: =VLOOKUP(D32,Tarif!A:V,22,0)/1000 -> 0 | H32: =MROUND((+VLOOKUP(D32,Tarif!A:R,$L$2,FALSE)+Tarif!$V$1),0.001) -> 2.943 | I32: =H32*F32 -> 0 | L32: =$K$46/F29 -> 52.338
C33: 10 | D33: PLAQUES TUBULAIRES 315 | F33: =+VLOOKUP(D33,Tarif!A:S,19,FALSE) -> 0 | G33: =VLOOKUP(D33,Tarif!A:V,22,0)/1000 -> 0 | H33: =MROUND((+VLOOKUP(D33,Tarif!A:R,$L$2,FALSE)+Tarif!$V$1),0.001) -> 7.102 | I33: =H33*F33 -> 0 | L33: =$K$46/F30 -> #DIV/0!
C34: 11 | D34: PLAQUES 315 internes | F34: =+VLOOKUP(D34,Tarif!A:S,19,FALSE) -> 0 | G34: =VLOOKUP(D34,Tarif!A:V,22,0)/1000 -> 0 | H34: =MROUND((+VLOOKUP(D34,Tarif!A:R,$L$2,FALSE)+Tarif!$V$1),0.001) -> 4.844 | I34: =H34*F34 -> 0 | L34: =$K$46/F31 -> #DIV/0!
C35: 12 | D35: PLAQUES 315 externes | F35: =+VLOOKUP(D35,Tarif!A:S,19,FALSE) -> 0 | G35: =VLOOKUP(D35,Tarif!A:V,22,0)/1000 -> 0 | H35: =MROUND((+VLOOKUP(D35,Tarif!A:R,$L$2,FALSE)+Tarif!$V$1),0.001) -> 3.614 | I35: =H35*F35 -> 0 | L35: =$K$46/F32 -> #DIV/0!
C36: =+C35+1 -> 13 | D36: PLAQUES TUBULAIRES 399 | F36: =+VLOOKUP(D36,Tarif!A:S,19,FALSE) -> 600 | G36: =VLOOKUP(D36,Tarif!A:V,22,0)/1000 -> 1.4183854 | H36: =MROUND((+VLOOKUP(D36,Tarif!A:R,$L$2,FALSE)+Tarif!$V$1),0.001) -> 7.694 | I36: =H36*F36 -> 4616.4 | L36: =$K$46/F33 -> #DIV/0!
C37: =+C36+1 -> 14 | D37: PLAQUES 399 internes | F37: =+VLOOKUP(D37,Tarif!A:S,19,FALSE) -> 480 | G37: =VLOOKUP(D37,Tarif!A:V,22,0)/1000 -> 0.93694833 | H37: =MROUND((+VLOOKUP(D37,Tarif!A:R,$L$2,FALSE)+Tarif!$V$1),0.001) -> 5.794 | I37: =H37*F37 -> 2781.12 | L37: =$K$46/F34 -> #DIV/0!
C38: =+C37+1 -> 15 | D38: PLAQUES 399 externes | F38: =+VLOOKUP(D38,Tarif!A:S,19,FALSE) -> 240 | G38: =VLOOKUP(D38,Tarif!A:V,22,0)/1000 -> 0.32303416 | H38: =MROUND((+VLOOKUP(D38,Tarif!A:R,$L$2,FALSE)+Tarif!$V$1),0.001) -> 3.737 | I38: =H38*F38 -> 896.88 | K38: =3.715+0.027 -> 3.742 | L38: =$K$46/F35 -> #DIV/0!
C39: =+C38+1 -> 16 | D39: PLAQUES TUBULAIRES 429 | F39: =+VLOOKUP(D39,Tarif!A:S,19,FALSE) -> 0 | G39: =VLOOKUP(D39,Tarif!A:V,22,0)/1000 -> 0 | H39: =MROUND((+VLOOKUP(D39,Tarif!A:R,$L$2,FALSE)+Tarif!$V$1),0.001) -> 8.197 | I39: =H39*F39 -> 0 | L39: =$K$46/F36 -> 4.3615
C40: =+C39+1 -> 17 | D40: PLAQUES 429 internes | F40: =+VLOOKUP(D40,Tarif!A:S,19,FALSE) -> 0 | G40: =VLOOKUP(D40,Tarif!A:V,22,0)/1000 -> 0 | H40: =MROUND((+VLOOKUP(D40,Tarif!A:R,$L$2,FALSE)+Tarif!$V$1),0.001) -> 6.33 | I40: =H40*F40 -> 0 | L40: =$K$46/F37 -> 5.451875
C41: =+C40+1 -> 18 | D41: PLAQUES 429 externes | F41: =+VLOOKUP(D41,Tarif!A:S,19,FALSE) -> 0 | G41: =VLOOKUP(D41,Tarif!A:V,22,0)/1000 -> 0 | H41: =MROUND((+VLOOKUP(D41,Tarif!A:R,$L$2,FALSE)+Tarif!$V$1),0.001) -> 3.983 | I41: =H41*F41 -> 0 | L41: =$K$46/F38 -> 10.90375
C42: =+C41+1 -> 19 | D42: PLAQUES TUBULAIRES 534 | F42: =+VLOOKUP(D42,Tarif!A:S,19,FALSE) -> 200 | G42: =VLOOKUP(D42,Tarif!A:V,22,0)/1000 -> 0.57239514 | H42: =MROUND((+VLOOKUP(D42,Tarif!A:R,$L$2,FALSE)+Tarif!$V$1),0.001) -> 9.517 | I42: =H42*F42 -> 1903.4 | L42: =$K$46/F39 -> #DIV/0!
C43: =+C42+1 -> 20 | D43: PLAQUES 534 internes | F43: =+VLOOKUP(D43,Tarif!A:S,19,FALSE) -> 160 | G43: =VLOOKUP(D43,Tarif!A:V,22,0)/1000 -> 0.41071611 | H43: =MROUND((+VLOOKUP(D43,Tarif!A:R,$L$2,FALSE)+Tarif!$V$1),0.001) -> 7.638 | I43: =H43*F43 -> 1222.08 | L43: =$K$46/F40 -> #DIV/0!
C44: =+C43+1 -> 21 | D44: PLAQUES 534 externes | F44: =+VLOOKUP(D44,Tarif!A:S,19,FALSE) -> 80 | G44: =VLOOKUP(D44,Tarif!A:V,22,0)/1000 -> 0.14039805 | H44: =MROUND((+VLOOKUP(D44,Tarif!A:R,$L$2,FALSE)+Tarif!$V$1),0.001) -> 5.045 | I44: =H44*F44 -> 403.6 | L44: =$K$46/F41 -> #DIV/0!
L45: =$K$46/F42 -> 13.0845
C46: Totaux | F46: =SUM(F23:F45) -> 3290 | G46: =SUM(G23:G45) -> 5.1252 | I46: =SUM(I23:I45) -> 15148.9 | K46: =I46-12532 -> 2616.9 | L46: =$K$46/F43 -> 16.355625
C47: * Arrêtée la présente facture à la somme de :
...

Sheet PLD
E2: Societe Nouvelle des Accumulateurs NOUR
E3: Address: Route de sousse km 6, 2033 Megrine, Tunis
E4: Tel : [+216] 71 433-233 Fax : [+216] 71 433-424
E5: Capital 12.000.000 DT MF : 1027384 F/A/M/000 RC : B2478702007
E6: Bank Details : STB bank / IBAN : TN59 1010 6045 2315 2787 8897 / SWIFT : STBKTNTTXXX
D9: Date:30/11/2023
D10: Client:
D11: ='FN230071'!C12 -> Batteriedienst Hempe
D12: ='FN230071'!C13 -> Weimarische Str. 128, 99625 Großneuhausen, Germany
D13: ='FN230071'!C14 -> USt-Id-Nr: DE 815903643
D14: ='FN230071'!C15 -> Steuernummer : 151/230/26214
D15: ='FN230071'!C16 -> Email : sabrina@batteriedienst-hempe.de / info@nour-batteries.de
D16: ='FN230071'!C17 -> Tél : 00491714020578
D18: LISTE DE COLISAGE
D19: RELATIVE A LA FACTURE: FN230154
D21: PALETTE Numéro | E21: Désignation | F21: Quantité | I21: Palette N°01
D22: 1 | E22: PLAQUES OGI+ | F22: 500 | I22: Type | J22: Quantité
E23: PLAQUES OGI- | F23: 800
E24: PLAQUES TUBULAIRES 274 | F24: 100
E25: PLAQUES 274 externe | F25: 80
E26: PLAQUES 274 internes | F26: 50
E27: PLAQUES TUBULAIRES 534 | F27: 200
D28: 2 | E28: PLAQUES TUBULAIRES 399 | F28: 400
D29: 3 | E29: PLAQUES 399 internes | F29: 180
E30: PLAQUES 399 externe | F30: 240
E31: PLAQUES 534 internes | F31: 160 | I31: 534 TUB | J31: 250
E32: PLAQUES 534 externe | F32: 80
D33: 4 | E33: PLAQUES TUBULAIRES 399 | F33: 200
E34: PLAQUES 399 internes | F34: 300
D35: TOTAL | F35: =+SUM(F22:F34) -> 3290 | I35: Type | J35: Quantité
D38: * Mode de livraison: EXW | I38: 399 TUB | J38: 400
D39: * Nombre de Palettes : 04 | I39: 399 IN | J39: 350
D40: =+'FN230114'!C56 -> * Poids net : | E40: 5125
D41: =+'FN230114'!C57 -> * Poids Brut : | E41: 5225

Sheet Calcul D
E2: Société Nouvelle des Accumulateurs
E4: Route de sousse km 6 2033 Megrine-Tunisie Tel : [+216] 71 433-233 Fax : [+216] 71 433-424
E5: Capital 10.500.000 DT MF : 1027384 F/A/M/000 RC : B2478702007 Mail : bat.nour@nour.com.tn
E6: Web: www.batteriesnour.com
E7: Banque Domiciliataire : STB bank IBAN : TN59 1010 6045 2315 2787 8897 SWIFT : STBKTNTTXXX
C11: Megrine le : | E11: 44810
C12: Batteriedienst Hempe
C13: Weimarische Str. 128, 99625 Großneuhausen, Germany
C14: USt-Id-Nr: DE 815903643
C15: Steuernummer : 151/230/26214
C16: Email : sabrina@batteriedienst-hempe.de / info@nour-batteries.de
C17: Tél : 00491714020578
C19: FACTURE N° FN220062
C21: Réf | D21: Désignation | F21: Quantité pce | G21: Poids (tonne) | H21: P.U en EURO | I21: P.T en EURO | J21: plomb | K21: 0.3 | L21: poids en T
H22: EXW | I22: EXW | J22: OGI+/- | K22: 1600 | L22: quantité | N22: ='FP230130 Auto'!I51/'FP230130 Auto'!F51 -> 4.6048693 | O22: ='FP230130 Auto'!#REF! -> #REF! | P22: ='FP230130 Auto'!#REF! -> #REF!
C23: 1 | D23: PLAQUES TUBULAIRES 399 | F23: ='FP230130 Auto'!F23 -> 0 | G23: =+F23*2.23/1000 -> 0 | H23: ='FP230130 Auto'!H23+0.4 -> 4.324 | I23: =F23*H23 -> 0 | J23: Coef | K23: =K21/K22*1000 -> 0.1875 | L23: Calculé | O23: =N22-P22 -> #REF!
C24: =+C23+1 -> 2 | D24: PLAQUES 399 internes | F24: ='FP230130 Auto'!F24 -> 0 | G24: =+F24*1.81/1000 -> 0 | H24: ='FP230130 Auto'!H24+0.4 -> 3.307 | I24: =F24*H24 -> 0 | J24: Tot Fact | K24: =VLOOKUP(C33,'FP230130 Auto'!C23:I54,7,FALSE) -> 15150.02 | L24: Tot PROF REELLE
C25: =+C24+1 -> 3 | D25: PLAQUES 399 externes | F25: ='FP230130 Auto'!F25 -> 500 | G25: =+F25*1.2/1000 -> 0.6 | H25: ='FP230130 Auto'!H25+0.4 -> 1.809 | I25: =F25*H25 -> 904.5 | J25: Tot OGI | K25: ='FP230130 Auto'!I30+'FP230130 Auto'!I29 -> 121.3 | L25: TOT OGI+/-
C26: =+C25+1 -> 4 | D26: PLAQUES TUBULAIRES 534 | F26: ='FP230130 Auto'!F26 -> 800 | G26: =+F26*2.72/1000 -> 2.176 | H26: ='FP230130 Auto'!H26+0.4 -> 1.809 | I26: =F26*H26 -> 1447.2 | J26: DIF | K26: ='FP230130 Auto'!I50-(SUM(I23:I28)-SUM('FP230130 Auto'!I23:I28)) -> 633 | L26: Tot Plomb-ajustements
C27: =+C26+1 -> 5 | D27: PLAQUES 534 internes | F27: ='FP230130 Auto'!F27 -> 100 | G27: =+F27*2.43/1000 -> 0.243 | H27: ='FP230130 Auto'!H27+0.4 -> 5.419 | I27: =F27*H27 -> 541.9 | J27: Unit AJUST | K27: =K26/K22 -> 0.395625 | L27: Ajouter au PU OGI+/-
C28: =+C27+1 -> 6 | D28: PLAQUES 534 externes | F28: ='FP230130 Auto'!F28 -> 80 | G28: =+F28*1.61/1000 -> 0.1288 | H28: ='FP230130 Auto'!H28+0.4 -> 4.167 | I28: =F28*H28 -> 333.36
C29: =+C28+1 -> 7 | D29: PLAQUES OGI+ | F29: ='FP230130 Auto'!F29 -> 50 | G29: =+F29*(0.484+K23)/1000 -> 0.033575 | H29: ='FP230130 Auto'!H29+0.4 -> 2.826 | I29: =F29*H29 -> 141.3
C30: 8 | D30: PLAQUES OGI- | F30: ='FP230130 Auto'!F30 -> 0 | G30: =+F30*(0.49+K23)/1000 -> 0 | H30: ='FP230130 Auto'!H30+0.4 -> 5.811 | I30: =F30*H30 -> 0
C33: Totaux | F33: =SUM(F23:F32) -> 1530 | G33: =SUM(G23:G32) -> 3.181375 | I33: =SUM(I23:I32) -> 3368.26
C34: * Arrêtée la présente facture à la somme de :
C35: Vingt et un mille huit cent soixante neuf euros 49 centimes.
C36: * Mode de livraison: EXW
C37: * Mode de paiement : Virement avant Expédition
C38: * Nombre de Palettes : 04
C39: * Poids net : 7436 KGS
C40: * Poids Brut : 7516 KGS
C41: * Produit d'origine tunisienne
