Workbook
Name Basket1: [1]Summary!$E$8
Name Basket1: [2]Summary!$E$8
Name Basket1: [3]Summary!$E$8
Name Basket2: [1]Summary!$F$8
Name Basket2: [2]Summary!$F$8
Name Basket2: [3]Summary!$F$8
Name Basket3: [1]Summary!$G$8
Name Basket3: [2]Summary!$G$8
Name Basket3: [3]Summary!$G$8
Name Basket4: [1]Summary!$H$8
Name Basket4: [2]Summary!$H$8
Name Basket4: [3]Summary!$H$8
Name Basket5: [1]Summary!$I$8
Name Basket5: [2]Summary!$I$8
Name Basket5: [3]Summary!$I$8
Name DebResh: [4]Data!$B$5:$C$36
Name Separator: [4]Data!$E$20:$F$26
Name SeparM2: #REF!
Name SeparM2: #REF!
Name SeparM2: #REF!
Name ново: #REF!
Name ново: #REF!
Name ново: #REF!

Sheet Price list
V2: Valid for | X2: June | Y2: orders
S3: 1900 | T3: Lead Escalator | U3: =(O5-1900)*0.025/100 -> 0.01356
S4: 1800 | U4: =(O5-1800)*0.025/100 -> 0.03856
L5: LME June | O5: 1954.24 | S5: 2050 | U5: =(O6-S5)*0.025/100 -> 0.0167275 | X5: Pallets Target | Y5: 22
O6: 2116.91
L7: AD, Discount | O7: 0
B8: Customer | C8: International Code | D8: Nour Code | E8: Nour Polarity | F8: Type | G8: Short code | I8: Capacity C20, Ah | J8: CCA, A [EN} | K8: BOX | O8: Layout | P8: Terminal | Q8: BHD | R8: Weight | S8: Qty per pallet | T8: Base Price EXW | U8: Net Price EXW | W8: Quantity per layer | X8: NOUR Reference | Y8: 1st Order - Kenya | Z8: Total nombre de couches | AA8: Palette 3 couche | AB8: Nour Code | AC8: Code international | AD8: Palettes 3 couches | AE8: Qté/ Palette | AF8: Qté | AG8: Poids net | AH8: Poids brut | AI8: PU € | AJ8: Total €
G9: Lubatex | H9: article commande | L9: L | M9: W | N9: H | R9: kg | S9: pcs | T9: LME 1900€ | U9: =L5 -> LME June
A10: =CONCATENATE(B10,D10) -> RPALB55L1W172R1Z55 | B10: RPA | C10: SMF 55027 | D10: LB55L1W172R1Z55 | E10: R+ | F10: DIN | I10: 52 | J10: 500 | K10: L1 | L10: 207 | M10: 175 | N10: 190 | O10: 0 | P10: 1 | Q10: B13 | R10: 12.56 | S10: 96 | T10: 26.75 | U10: =MROUND((T10/(1-U$3)),0.01) -> 27.12 | V10: =ROUND(Z10,0)*W10 -> 0 | W10: =S10/4 -> 24 | X10: =D10 -> LB55L1W172R1Z55 | Z10: =Y10/W10 -> 0 | AA10: =Z10/3 -> 0 | AB10: =X10 -> LB55L1W172R1Z55 | AD10: =AA10 -> 0 | AG10: =Y10*R10 -> 0 | AH10: =(AD10*25)+AG10 -> 0 | AI10: =U10 -> 27.12 | AJ10: =AI10*Y10 -> 0 | AM10: P0001 | AN10: =CONCATENATE(A10,'PL230087'!$R$5) -> RPALB55L1W172R1Z55Commande 4 | AO10: =AM10 -> P0001 | AP10: =A10 -> RPALB55L1W172R1Z55 | AQ10: =AO10 -> P0001
A11: =CONCATENATE(B11,D11) -> RPALB66L2W172R1Z55 | B11: RPA | C11: SMF 56219 | D11: LB66L2W172R1Z55 | E11: R+ | F11: DIN | I11: 62 | J11: 600 | K11: L2 | L11: 242 | M11: 175 | N11: 190 | O11: 0 | P11: 1 | Q11: B13 | R11: 14.55 | S11: 84 | T11: 30.85 | U11: =MROUND((T11/(1-U$3)),0.01) -> 31.27 | V11: =ROUND(Z11,0)*W11 -> 189 | W11: =S11/4 -> 21 | X11: =D11 -> LB66L2W172R1Z55 | Y11: =AA11*W11*3 -> 189 | Z11: =Y11/W11 -> 9 | AA11: =AD11 -> 3 | AB11: =X11 -> LB66L2W172R1Z55 | AC11: =C11 -> SMF 56219 | AD11: 3 | AE11: =W11*3 -> 63 | AF11: =AD11*W11*3 -> 189 | AG11: =Y11*R11 -> 2749.95 | AH11: =(AD11*25)+AG11 -> 2824.95 | AI11: =U11 -> 31.27 | AJ11: =AI11*Y11 -> 5910.03 | AM11: P0002 | AN11: =CONCATENATE(A11,'PL230087'!$R$5) -> RPALB66L2W172R1Z55Commande 4 | AO11: =AM11 -> P0002 | AP11: =A11 -> RPALB66L2W172R1Z55 | AQ11: =AO11 -> P0002
A12: =CONCATENATE(B12,D12) -> RPALB77L3W172R1Z55 | B12: RPA | C12: SMF 57412 | D12: LB77L3W172R1Z55 | E12: R+ | F12: DIN | I12: 74 | J12: 700 | K12: L3 | L12: 278 | M12: 175 | N12: 190 | O12: 0 | P12: 1 | Q12: B13 | R12: 17.45 | S12: 76 | T12: 38.05 | U12: =MROUND((T12/(1-U$3)),0.01) -> 38.57 | V12: =ROUND(Z12,0)*W12 -> 342 | W12: =S12/4 -> 19 | X12: =D12 -> LB77L3W172R1Z55 | Y12: =AA12*W12*3 -> 342 | Z12: =Y12/W12 -> 18 | AA12: =AD12 -> 6 | AB12: =X12 -> LB77L3W172R1Z55 | AC12: =C12 -> SMF 57412 | AD12: 6 | AE12: =W12*3 -> 57 | AF12: =AD12*W12*3 -> 342 | AG12: =Y12*R12 -> 5967.9 | AH12: =(AD12*25)+AG12 -> 6117.9 | AI12: =U12 -> 38.57 | AJ12: =AI12*Y12 -> 13190.94 | AM12: P0003 | AN12: =CONCATENATE(A12,'PL230087'!$R$5) -> RPALB77L3W172R1Z55Commande 4 | AO12: =AM12 -> P0003 | AP12: =A12 -> RPALB77L3W172R1Z55 | AQ12: =AO12 -> P0003
A13: =CONCATENATE(B13,D13) -> RPALB90L5W172R1Z55 | B13: RPA | C13: SMF 60044 | D13: LB90L5W172R1Z55 | E13: R+ | F13: DIN | I13: 100 | J13: 850 | K13: L5 | L13: 353 | M13: 175 | N13: 190 | O13: 0 | P13: 1 | Q13: B13 | R13: 22.8 | S13: 48 | T13: 51.85 | U13: =MROUND((T13/(1-U$3)),0.01) -> 52.56 | V13: =ROUND(Z13,0)*W13 -> 0 | W13: =S13/4 -> 12 | X13: =D13 -> LB90L5W172R1Z55 | Y13: 0 | Z13: =Y13/W13 -> 0 | AA13: =Z13/3 -> 0 | AB13: =X13 -> LB90L5W172R1Z55 | AD13: =AA13 -> 0 | AG13: =Y13*R13 -> 0 | AH13: =(AD13*25)+AG13 -> 0 | AI13: =U13 -> 52.56 | AJ13: =AI13*Y13 -> 0 | AM13: P0004 | AN13: =CONCATENATE(A13,'PL230087'!$R$5) -> RPALB90L5W172R1Z55Commande 4 | AO13: =AM13 -> P0004 | AP13: =A13 -> RPALB90L5W172R1Z55 | AQ13: =AO13 -> P0004
A14: =CONCATENATE(B14,D14) -> RPALB45B1W172R1Z44 | B14: RPA | C14: SMF 54512 | D14: LB45B1W172R1Z44 | E14: R+ | F14: DIN | I14: 45 | J14: 400 | K14: L1B | L14: 207 | M14: 175 | N14: 225 | O14: 0 | P14: 1 | Q14: B13 | R14: 11.6 | S14: 96 | T14: 24.5 | U14: =MROUND((T14/(1-U$3)),0.01) -> 24.84 | V14: =ROUND(Z14,0)*W14 -> 0 | W14: =S14/4 -> 24 | X14: =D14 -> LB45B1W172R1Z44 | Y14: 0 | Z14: =Y14/W14 -> 0 | AA14: =Z14/3 -> 0 | AB14: =X14 -> LB45B1W172R1Z44 | AD14: =AA14 -> 0 | AG14: =Y14*R14 -> 0 | AH14: =(AD14*25)+AG14 -> 0 | AI14: =U14 -> 24.84 | AJ14: =AI14*Y14 -> 0 | AM14: P0005 | AN14: =CONCATENATE(A14,'PL230087'!$R$5) -> RPALB45B1W172R1Z44Commande 4 | AO14: =AM14 -> P0005 | AP14: =A14 -> RPALB45B1W172R1Z44 | AQ14: =AO14 -> P0005
A15: =CONCATENATE(B15,D15) -> RPALB45L1W172R1Z44 | B15: RPA | C15: SMF 54459 | D15: LB45L1W172R1Z44 | E15: R+ | F15: DIN | I15: 45 | J15: 400 | K15: L1 | L15: 207 | M15: 175 | N15: 225 | O15: 0 | P15: 1 | Q15: B13 | R15: 11.6 | S15: 96 | T15: 24.5 | U15: =MROUND((T15/(1-U$3)),0.01) -> 24.84 | V15: =ROUND(Z15,0)*W15 -> 0 | W15: =S15/4 -> 24 | X15: =D15 -> LB45L1W172R1Z44 | Y15: 0 | Z15: =Y15/W15 -> 0 | AA15: =Z15/3 -> 0 | AB15: =X15 -> LB45L1W172R1Z44 | AD15: =AA15 -> 0 | AG15: =Y15*R15 -> 0 | AH15: =(AD15*25)+AG15 -> 0 | AI15: =U15 -> 24.84 | AJ15: =AI15*Y15 -> 0 | AM15: P0006 | AN15: =CONCATENATE(A15,'PL230087'!$R$5) -> RPALB45L1W172R1Z44Commande 4 | AO15: =AM15 -> P0006 | AP15: =A15 -> RPALB45L1W172R1Z44 | AQ15: =AO15 -> P0006
A16: =CONCATENATE(B16,D16) -> RPALB56B2W172R1Z44 | B16: RPA | C16: SMF 56077 | D16: LB56B2W172R1Z44 | E16: R+ | F16: DIN | I16: 60 | J16: 520 | K16: L2B | L16: 242 | M16: 175 | N16: 175 | O16: 0 | P16: 1 | Q16: B13 | R16: 13.9 | S16: 84 | T16: 29.5 | U16: =MROUND((T16/(1-U$3)),0.01) -> 29.91 | V16: =ROUND(Z16,0)*W16 -> 0 | W16: =S16/4 -> 21 | X16: =D16 -> LB56B2W172R1Z44 | Y16: 0 | Z16: =Y16/W16 -> 0 | AA16: =Z16/3 -> 0 | AB16: =X16 -> LB56B2W172R1Z44 | AD16: =AA16 -> 0 | AG16: =Y16*R16 -> 0 | AH16: =(AD16*25)+AG16 -> 0 | AI16: =U16 -> 29.91 | AJ16: =AI16*Y16 -> 0 | AM16: P0007 | AN16: =CONCATENATE(A16,'PL230087'!$R$5) -> RPALB56B2W172R1Z44Commande 4 | AO16: =AM16 -> P0007 | AP16: =A16 -> RPALB56B2W172R1Z44 | AQ16: =AO16 -> P0007
A17: =CONCATENATE(B17,D17) -> RPALB56L2W172R1Z44 | B17: RPA | C17: SMF 56078 | D17: LB56L2W172R1Z44 | E17: R+ | F17: DIN | I17: 60 | J17: 520 | K17: L2 | L17: 242 | M17: 175 | N17: 190 | O17: 0 | P17: 1 | Q17: B13 | R17: 13.9 | S17: 84 | T17: 29.5 | U17: =MROUND((T17/(1-U$3)),0.01) -> 29.91 | V17: =ROUND(Z17,0)*W17 -> 504 | W17: =S17/4 -> 21 | X17: =D17 -> LB56L2W172R1Z44 | Y17: =AA17*W17*3 -> 504 | Z17: =Y17/W17 -> 24 | AA17: =AD17 -> 8 | AB17: =X17 -> LB56L2W172R1Z44 | AC17: =C17 -> SMF 56078 | AD17: 8 | AE17: =W17*3 -> 63 | AF17: =AD17*W17*3 -> 504 | AG17: =Y17*R17 -> 7005.6 | AH17: =(AD17*25)+AG17 -> 7205.6 | AI17: =U17 -> 29.91 | AJ17: =AI17*Y17 -> 15074.64 | AM17: P0008 | AN17: =CONCATENATE(A17,'PL230087'!$R$5) -> RPALB56L2W172R1Z44Commande 4 | AO17: =AM17 -> P0008 | AP17: =A17 -> RPALB56L2W172R1Z44 | AQ17: =AO17 -> P0008
A18: =CONCATENATE(B18,D18) -> RPALB67B3W172R1Z44 | B18: RPA | C18: SMF 57014 | D18: LB67B3W172R1Z44 | E18: R+ | F18: DIN | I18: 70 | J18: 620 | K18: L3B | L18: 278 | M18: 175 | N18: 175 | O18: 0 | P18: 1 | Q18: B13 | R18: 16.8 | S18: 76 | T18: 34.1 | U18: =MROUND((T18/(1-U$3)),0.01) -> 34.57 | V18: =ROUND(Z18,0)*W18 -> 0 | W18: =S18/4 -> 19 | X18: =D18 -> LB67B3W172R1Z44 | Y18: 0 | Z18: =Y18/W18 -> 0 | AA18: =Z18/3 -> 0 | AB18: =X18 -> LB67B3W172R1Z44 | AD18: =AA18 -> 0 | AG18: =Y18*R18 -> 0 | AH18: =(AD18*25)+AG18 -> 0 | AI18: =U18 -> 34.57 | AJ18: =AI18*Y18 -> 0 | AM18: P0009 | AN18: =CONCATENATE(A18,'PL230087'!$R$5) -> RPALB67B3W172R1Z44Commande 4 | AO18: =AM18 -> P0009 | AP18: =A18 -> RPALB67B3W172R1Z44 | AQ18: =AO18 -> P0009
A19: =CONCATENATE(B19,D19) -> RPALB67L3W172R1Z44 | B19: RPA | C19: SMF 57220 | D19: LB67L3W172R1Z44 | E19: R+ | F19: DIN | I19: 70 | J19: 620 | K19: L3 | L19: 278 | M19: 175 | N19: 190 | O19: 0 | P19: 1 | Q19: B13 | R19: 16.8 | S19: 76 | T19: 34.1 | U19: =MROUND((T19/(1-U$3)),0.01) -> 34.57 | V19: =ROUND(Z19,0)*W19 -> 456 | W19: =S19/4 -> 19 | X19: =D19 -> LB67L3W172R1Z44 | Y19: =AA19*W19*3 -> 456 | Z19: =Y19/W19 -> 24 | AA19: =AD19 -> 8 | AB19: =X19 -> LB67L3W172R1Z44 | AC19: =C19 -> SMF 57220 | AD19: 8 | AE19: =W19*3 -> 57 | AF19: =AD19*W19*3 -> 456 | AG19: =Y19*R19 -> 7660.8 | AH19: =(AD19*25)+AG19 -> 7860.8 | AI19: =U19 -> 34.57 | AJ19: =AI19*Y19 -> 15763.92 | AM19: P0010 | AN19: =CONCATENATE(A19,'PL230087'!$R$5) -> RPALB67L3W172R1Z44Commande 4 | AO19: =AM19 -> P0010 | AP19: =A19 -> RPALB67L3W172R1Z44 | AQ19: =AO19 -> P0010
A20: =CONCATENATE(B20,D20) -> RPALB89L5W172R1Z44 | B20: RPA | C20: SMF 59538 | D20: LB89L5W172R1Z44 | E20: R+ | F20: DIN | I20: 95 | J20: 800 | K20: L5 | L20: 353 | M20: 175 | N20: 190 | O20: 0 | P20: 1 | Q20: B13 | R20: 21.2 | S20: 48 | T20: 47.85 | U20: =MROUND((T20/(1-U$3)),0.01) -> 48.51 | V20: =ROUND(Z20,0)*W20 -> 0 | W20: =S20/4 -> 12 | X20: =D20 -> LB89L5W172R1Z44 | Y20: 0 | Z20: =Y20/W20 -> 0 | AA20: =Z20/3 -> 0 | AB20: =X20 -> LB89L5W172R1Z44 | AD20: =AA20 -> 0 | AG20: =Y20*R20 -> 0 | AH20: =(AD20*25)+AG20 -> 0 | AI20: =U20 -> 48.51 | AJ20: =AI20*Y20 -> 0 | AM20: P0011 | AN20: =CONCATENATE(A20,'PL230087'!$R$5) -> RPALB89L5W172R1Z44Commande 4 | AO20: =AM20 -> P0011 | AP20: =A20 -> RPALB89L5W172R1Z44 | AQ20: =AO20 -> P0011
A21: =CONCATENATE(B21,D21) -> RPALB44B1K072R1S12 | B21: RPA | C21: MF 54512 | D21: LB44B1K072R1S12 | E21: R+ | F21: DIN | I21: 44 | J21: 380 | K21: L1B | L21: 207 | M21: 175 | N21: 175 | O21: 0 | P21: 1 | Q21: B13 | R21: 10.7 | S21: 96 | T21: 23.25 | U21: =MROUND((T21/(1-U$3)),0.01) -> 23.57 | V21: =ROUND(Z21,0)*W21 -> 0 | W21: =S21/4 -> 24 | X21: =D21 -> LB44B1K072R1S12 | Y21: 0 | Z21: =Y21/W21 -> 0 | AA21: =Z21/3 -> 0 | AB21: =X21 -> LB44B1K072R1S12 | AD21: =AA21 -> 0 | AG21: =Y21*R21 -> 0 | AH21: =(AD21*25)+AG21 -> 0 | AI21: =U21 -> 23.57 | AJ21: =AI21*Y21 -> 0 | AM21: P0012 | AN21: =CONCATENATE(A21,'PL230087'!$R$5) -> RPALB44B1K072R1S12Commande 4 | AO21: =AM21 -> P0012 | AP21: =A21 -> RPALB44B1K072R1S12 | AQ21: =AO21 -> P0012
A22: =CONCATENATE(B22,D22) -> RPALB44L1K072R1S12 | B22: RPA | C22: MF 54459 | D22: LB44L1K072R1S12 | E22: R+ | F22: DIN | I22: 44 | J22: 380 | K22: L1 | L22: 207 | M22: 175 | N22: 190 | O22: 0 | P22: 1 | Q22: B13 | R22: 10.9 | S22: 96 | T22: 23.25 | U22: =MROUND((T22/(1-U$3)),0.01) -> 23.57 | V22: =ROUND(Z22,0)*W22 -> 72 | W22: =S22/4 -> 24 | X22: =D22 -> LB44L1K072R1S12 | Y22: =AA22*W22*3 -> 72 | Z22: =Y22/W22 -> 3 | AA22: =AD22 -> 1 | AB22: =X22 -> LB44L1K072R1S12 | AC22: =C22 -> MF 54459 | AD22: 1 | AE22: =W22*3 -> 72 | AF22: =AD22*W22*3 -> 72 | AG22: =Y22*R22 -> 784.8 | AH22: =(AD22*25)+AG22 -> 809.8 | AI22: =U22 -> 23.57 | AJ22: =AI22*Y22 -> 1697.04 | AM22: P0013 | AN22: =CONCATENATE(A22,'PL230087'!$R$5) -> RPALB44L1K072R1S12Commande 4 | AO22: =AM22 -> P0013 | AP22: =A22 -> RPALB44L1K072R1S12 | AQ22: =AO22 -> P0013
A23: =CONCATENATE(B23,D23) -> RPALB55B2K072R1S12 | B23: RPA | C23: MF 55519 | D23: LB55B2K072R1S12 | E23: R+ | F23: DIN | I23: 55 | J23: 460 | K23: L2B | L23: 242 | M23: 175 | N23: 175 | O23: 0 | P23: 1 | Q23: B13 | R23: 11.9 | S23: 84 | T23: 27.85 | U23: =MROUND((T23/(1-U$3)),0.01) -> 28.23 | V23: =ROUND(Z23,0)*W23 -> 0 | W23: =S23/4 -> 21 | X23: =D23 -> LB55B2K072R1S12 | Z23: =Y23/W23 -> 0 | AA23: =Z23/3 -> 0 | AB23: =X23 -> LB55B2K072R1S12 | AD23: =AA23 -> 0 | AG23: =Y23*R23 -> 0 | AH23: =(AD23*25)+AG23 -> 0 | AI23: =U23 -> 28.23 | AJ23: =AI23*Y23 -> 0 | AK23: =R23*Y23 -> 0 | AM23: P0014 | AN23: =CONCATENATE(A23,'PL230087'!$R$5) -> RPALB55B2K072R1S12Commande 4 | AO23: =AM23 -> P0014 | AP23: =A23 -> RPALB55B2K072R1S12 | AQ23: =AO23 -> P0014
A24: =CONCATENATE(B24,D24) -> RPALB55L2K072R1S12 | B24: RPA | C24: MF 55559 | D24: LB55L2K072R1S12 | E24: R+ | F24: DIN | I24: 55 | J24: 460 | K24: L2 | L24: 242 | M24: 175 | N24: 190 | O24: 0 | P24: 1 | Q24: B13 | R24: 12.3 | S24: 84 | T24: 27.85 | U24: =MROUND((T24/(1-U$3)),0.01) -> 28.23 | V24: =ROUND(Z24,0)*W24 -> 0 | W24: =S24/4 -> 21 | X24: =D24 -> LB55L2K072R1S12 | Z24: =Y24/W24 -> 0 | AA24: =Z24/3 -> 0 | AB24: =X24 -> LB55L2K072R1S12 | AD24: =AA24 -> 0 | AG24: =Y24*R24 -> 0 | AH24: =(AD24*25)+AG24 -> 0 | AI24: =U24 -> 28.23 | AJ24: =AI24*Y24 -> 0 | AM24: P0015 | AN24: =CONCATENATE(A24,'PL230087'!$R$5) -> RPALB55L2K072R1S12Commande 4 | AO24: =AM24 -> P0015 | AP24: =A24 -> RPALB55L2K072R1S12 | AQ24: =AO24 -> P0015
A25: =CONCATENATE(B25,D25) -> RPALB66B3K072R1S12 | B25: RPA | C25: MF 56613 | D25: LB66B3K072R1S12 | E25: R+ | F25: DIN | I25: 66 | J25: 550 | K25: L3B | L25: 278 | M25: 175 | N25: 175 | O25: 0 | P25: 1 | Q25: B13 | R25: 15.5 | S25: 76 | T25: 33.25 | U25: =MROUND((T25/(1-U$3)),0.01) -> 33.71 | V25: =ROUND(Z25,0)*W25 -> 0 | W25: =S25/4 -> 19 | X25: =D25 -> LB66B3K072R1S12 | Z25: =Y25/W25 -> 0 | AA25: =Z25/3 -> 0 | AB25: =X25 -> LB66B3K072R1S12 | AD25: =AA25 -> 0 | AG25: =Y25*R25 -> 0 | AH25: =(AD25*25)+AG25 -> 0 | AI25: =U25 -> 33.71 | AJ25: =AI25*Y25 -> 0 | AK25: =R25*Y25 -> 0 | AM25: P0016 | AN25: =CONCATENATE(A25,'PL230087'!$R$5) -> RPALB66B3K072R1S12Commande 4 | AO25: =AM25 -> P0016 | AP25: =A25 -> RPALB66B3K072R1S12 | AQ25: =AO25 -> P0016
A26: =CONCATENATE(B26,D26) -> RPALB66L3K072R1S12 | B26: RPA | C26: MF 56648 | D26: LB66L3K072R1S12 | E26: R+ | F26: DIN | I26: 66 | J26: 550 | K26: L3 | L26: 278 | M26: 175 | N26: 190 | O26: 0 | P26: 1 | Q26: B13 | R26: 15.8 | S26: 76 | T26: 33.25 | U26: =MROUND((T26/(1-U$3)),0.01) -> 33.71 | V26: =ROUND(Z26,0)*W26 -> 0 | W26: =S26/4 -> 19 | X26: =D26 -> LB66L3K072R1S12 | Z26: =Y26/W26 -> 0 | AA26: =Z26/3 -> 0 | AB26: =X26 -> LB66L3K072R1S12 | AD26: =AA26 -> 0 | AG26: =Y26*R26 -> 0 | AH26: =(AD26*25)+AG26 -> 0 | AI26: =U26 -> 33.71 | AJ26: =AI26*Y26 -> 0 | AM26: P0017 | AN26: =CONCATENATE(A26,'PL230087'!$R$5) -> RPALB66L3K072R1S12Commande 4 | AO26: =AM26 -> P0017 | AP26: =A26 -> RPALB66L3K072R1S12 | AQ26: =AO26 -> P0017
A27: =CONCATENATE(B27,D27) -> RPALB88L5K072R1S12 | B27: RPA | C27: MF 58827 | D27: LB88L5K072R1S12 | E27: R+ | F27: DIN | I27: 88 | J27: 700 | K27: L5 | L27: 353 | M27: 175 | N27: 190 | O27: 0 | P27: 1 | Q27: B13 | R27: 20.8 | S27: 48 | T27: 46.6 | U27: =MROUND((T27/(1-U$3)),0.01) -> 47.24 | V27: =ROUND(Z27,0)*W27 -> 0 | W27: =S27/4 -> 12 | X27: =D27 -> LB88L5K072R1S12 | Z27: =Y27/W27 -> 0 | AA27: =Z27/3 -> 0 | AB27: =X27 -> LB88L5K072R1S12 | AD27: =AA27 -> 0 | AG27: =Y27*R27 -> 0 | AH27: =(AD27*25)+AG27 -> 0 | AI27: =U27 -> 47.24 | AJ27: =AI27*Y27 -> 0 | AK27: =R27*Y27 -> 0 | AM27: P0018 | AN27: =CONCATENATE(A27,'PL230087'!$R$5) -> RPALB88L5K072R1S12Commande 4 | AO27: =AM27 -> P0018 | AP27: =A27 -> RPALB88L5K072R1S12 | AQ27: =AO27 -> P0018
A28: =CONCATENATE(B28,D28) -> RPAMSP89AF003L1S13 | B28: RPA | C28: 62545 | D28: MSP89AF003L1S13 | E28: L+ | F28: DIN | I28: 125 | J28: 850 | K28: A | L28: 513 | M28: 192 | N28: 215 | O28: 3 | P28: 1 | Q28: B0 | R28: 32.7 | S28: 32 | T28: 73.3 | U28: =MROUND((T28/(1-U$3)),0.01) -> 74.31 | V28: =ROUND(Z28,0)*W28 -> 0 | W28: =S28/4 -> 8 | X28: =D28 -> MSP89AF003L1S13 | Z28: =Y28/W28 -> 0 | AA28: =Z28/3 -> 0 | AB28: =X28 -> MSP89AF003L1S13 | AD28: =AA28 -> 0 | AG28: =Y28*R28 -> 0 | AH28: =(AD28*25)+AG28 -> 0 | AI28: =U28 -> 74.31 | AJ28: =AI28*Y28 -> 0 | AK28: =R28*Y28 -> 0 | AM28: P0019 | AN28: =CONCATENATE(A28,'PL230087'!$R$5) -> RPAMSP89AF003L1S13Commande 4 | AO28: =AM28 -> P0019 | AP28: =A28 -> RPAMSP89AF003L1S13 | AQ28: =AO28 -> P0019
A29: =CONCATENATE(B29,D29) -> RPAMSP90BF003L1S13 | B29: RPA | C29: 64317 | D29: MSP90BF003L1S13 | E29: L+ | F29: DIN | I29: 143 | J29: 900 | K29: B | L29: 513 | M29: 223 | N29: 215 | O29: 3 | P29: 1 | Q29: B0 | R29: 37.7 | S29: 28 | T29: 84.3 | U29: =MROUND((T29/(1-U$3)),0.01) -> 85.46 | V29: =ROUND(Z29,0)*W29 -> 0 | W29: =S29/4 -> 7 | X29: =D29 -> MSP90BF003L1S13 | Z29: =Y29/W29 -> 0 | AA29: =Z29/3 -> 0 | AB29: =X29 -> MSP90BF003L1S13 | AD29: =AA29 -> 0 | AG29: =Y29*R29 -> 0 | AH29: =(AD29*25)+AG29 -> 0 | AI29: =U29 -> 85.46 | AJ29: =AI29*Y29 -> 0 | AK29: =R29*Y29 -> 0 | AM29: P0020 | AN29: =CONCATENATE(A29,'PL230087'!$R$5) -> RPAMSP90BF003L1S13Commande 4 | AO29: =AM29 -> P0020 | AP29: =A29 -> RPAMSP90BF003L1S13 | AQ29: =AO29 -> P0020
A30: =CONCATENATE(B30,D30) -> RPAMSP12BF003L1S13 | B30: RPA | C30: 67043 | D30: MSP12BF003L1S13 | E30: L+ | F30: DIN | I30: 170 | J30: 1000 | K30: B | L30: 513 | M30: 223 | N30: 215 | O30: 3 | P30: 1 | Q30: B0 | R30: 42 | S30: 28 | T30: 93.9 | U30: =MROUND((T30/(1-U$3)),0.01) -> 95.19 | V30: =ROUND(Z30,0)*W30 -> 0 | W30: =S30/4 -> 7 | X30: =D30 -> MSP12BF003L1S13 | Z30: =Y30/W30 -> 0 | AA30: =Z30/3 -> 0 | AB30: =X30 -> MSP12BF003L1S13 | AD30: =AA30 -> 0 | AG30: =Y30*R30 -> 0 | AH30: =(AD30*25)+AG30 -> 0 | AI30: =U30 -> 95.19 | AJ30: =AI30*Y30 -> 0 | AK30: =R30*Y30 -> 0 | AM30: P0021 | AN30: =CONCATENATE(A30,'PL230087'!$R$5) -> RPAMSP12BF003L1S13Commande 4 | AO30: =AM30 -> P0021 | AP30: =A30 -> RPAMSP12BF003L1S13 | AQ30: =AO30 -> P0021
A31: =CONCATENATE(B31,D31) -> RPAML34CF00L1S13 | B31: RPA | C31: 70027 | D31: ML34CF00L1S13 | E31: L+ | F31: DIN | I31: 200 | J31: 1200 | K31: C | L31: 518 | M31: 275 | N31: 235 | O31: 3 | P31: 1 | Q31: B0 | R31: 54 | S31: 24 | T31: 111.75 | U31: =MROUND((T31/(1-U$3)),0.01) -> 113.29 | V31: =ROUND(Z31,0)*W31 -> 0 | W31: =S31/4 -> 6 | X31: =D31 -> ML34CF00L1S13 | Z31: =Y31/W31 -> 0 | AA31: =Z31/3 -> 0 | AB31: =X31 -> ML34CF00L1S13 | AD31: =AA31 -> 0 | AG31: =Y31*R31 -> 0 | AH31: =(AD31*25)+AG31 -> 0 | AI31: =U31 -> 113.29 | AJ31: =AI31*Y31 -> 0 | AK31: =R31*Y31 -> 0 | AM31: P0022 | AN31: =CONCATENATE(A31,'PL230087'!$R$5) -> RPAML34CF00L1S13Commande 4 | AO31: =AM31 -> P0022 | AP31: =A31 -> RPAML34CF00L1S13 | AQ31: =AO31 -> P0022
A32: =CONCATENATE(B32,D32) -> RPA | B32: RPA | AM32: P0023 | AN32: =CONCATENATE(A32,'PL230087'!$R$5) -> RPACommande 4 | AO32: =AM32 -> P0023 | AP32: =A32 -> RPA | AQ32: =AO32 -> P0023
A33: =CONCATENATE(B33,D33) -> RPA | B33: RPA | AM33: P0024 | AN33: =CONCATENATE(A33,'PL230087'!$R$5) -> RPACommande 4 | AO33: =AM33 -> P0024 | AP33: =A33 -> RPA | AQ33: =AO33 -> P0024
A34: =CONCATENATE(B34,D34) -> RPA | B34: RPA | AM34: P0025 | AN34: =CONCATENATE(A34,'PL230087'!$R$5) -> RPACommande 4 | AO34: =AM34 -> P0025 | AP34: =A34 -> RPA | AQ34: =AO34 -> P0025
A35: =CONCATENATE(B35,D35) -> RPA | B35: RPA | AM35: P0026 | AN35: =CONCATENATE(A35,'PL230087'!$R$5) -> RPACommande 4 | AO35: =AM35 -> P0026 | AP35: =A35 -> RPA | AQ35: =AO35 -> P0026
A36: =CONCATENATE(B36,D36) -> RPA | B36: RPA | AM36: P0027 | AN36: =CONCATENATE(A36,'PL230087'!$R$5) -> RPACommande 4 | AO36: =AM36 -> P0027 | AP36: =A36 -> RPA | AQ36: =AO36 -> P0027
A37: =CONCATENATE(B37,D37) -> RPA | B37: RPA | AM37: P0028 | AN37: =CONCATENATE(A37,'PL230087'!$R$5) -> RPACommande 4 | AO37: =AM37 -> P0028 | AP37: =A37 -> RPA | AQ37: =AO37 -> P0028
A38: =CONCATENATE(B38,D38) -> RPA | B38: RPA | AM38: P0029 | AN38: =CONCATENATE(A38,'PL230087'!$R$5) -> RPACommande 4 | AO38: =AM38 -> P0029 | AP38: =A38 -> RPA | AQ38: =AO38 -> P0029
A39: =CONCATENATE(B39,D39) -> RPA | B39: RPA | AM39: P0030 | AN39: =CONCATENATE(A39,'PL230087'!$R$5) -> RPACommande 4 | AO39: =AM39 -> P0030 | AP39: =A39 -> RPA | AQ39: =AO39 -> P0030
A40: =CONCATENATE(B40,D40) -> RPA | B40: RPA | AM40: P0031 | AN40: =CONCATENATE(A40,'PL230087'!$R$5) -> RPACommande 4 | AO40: =AM40 -> P0031 | AP40: =A40 -> RPA | AQ40: =AO40 -> P0031
A41: =CONCATENATE(B41,D41) -> RPA | B41: RPA | AM41: P0032 | AN41: =CONCATENATE(A41,'PL230087'!$R$5) -> RPACommande 4 | AO41: =AM41 -> P0032 | AP41: =A41 -> RPA | AQ41: =AO41 -> P0032
...

Sheet Commande Export 2023
H1: =SUBTOTAL(9,H3:H1972) -> 1337.4167 | J1: =SUBTOTAL(9,J3:J1972) -> 98705 | K1: =SUBTOTAL(9,K3:K1972) -> 13254 | L1: =SUBTOTAL(9,L3:L1972) -> 82446 | M1: =SUBTOTAL(9,M3:M1972) -> 1783 | N1: =+J1-L1 -> 16259
A2: Customer | B2: Destination | C2: Battery type | D2: International code | E2: NOUR code | F2: Box | G2: Qtt par palette | H2: NBR PALETTES | I2: Poids Brut | J2: Qtt Commandée | K2: Stck Semi-fini | L2: Stck Batt fini & Livée | M2: Reste a Produire Assemblage | N2: Possible Delivery | O2: Deadline | P2: Delivery date & Commentaire | Q2: Date facture | R2: N° Facture
A3: Bin Shihon | B3: Commande 1 | D3: MF48D26R | E3: D26 GAUCHE 4/5 | F3: D26 | G3: 68 | H3: =+J3/G3 -> 5 | J3: 340 | L3: 340 | M3: =IF(0<J3-K3-L3,J3-K3-L3,0) -> 0 | N3: W03 | O3: JANVIER | P3: 44957 | Q3: 44942 | R3: FN230003 | S3: =E3 -> D26 GAUCHE 4/5 | T3: =D3 -> MF48D26R | V3: =VLOOKUP(S3,'Price list'!D$15:S$298,15,FALSE) -> #N/A | W3: =G3 -> 68 | X3: =H3 -> 5 | Y3: =VLOOKUP(A3,AA:AB,2,FALSE) -> BIN SHIHON | Z3: =B3 -> Commande 1 | AA3: =A3 -> Bin Shihon | AB3: BIN SHIHON | AC3: =CONCATENATE(Y3,S3,Z3) -> BIN SHIHOND26 GAUCHE 4/5Commande 1 | AD3: =S3 -> D26 GAUCHE 4/5 | AE3: =CONCATENATE(Y3,AD3) -> BIN SHIHOND26 GAUCHE 4/5 | AF3: =VLOOKUP(AC3,'Price list'!AN:AO,2,FALSE) -> #N/A | AG3: =S3 -> D26 GAUCHE 4/5 | AH3: =W3 -> 68 | AI3: =X3 -> 5
A4: Bin Shihon | B4: Commande 1 | D4: MF48D26L | E4: D26 DROITE 4/5 | F4: D26 | G4: 68 | H4: =+J4/G4 -> 13 | J4: 884 | L4: 884 | M4: =IF(0<J4-K4-L4,J4-K4-L4,0) -> 0 | N4: W03 | P4: 44957 | Q4: 44942 | R4: FN230003 | S4: =E4 -> D26 DROITE 4/5 | T4: =D4 -> MF48D26L | V4: =VLOOKUP(S4,'Price list'!D$15:S$298,15,FALSE) -> #N/A | W4: =G4 -> 68 | X4: =H4 -> 13 | Y4: =VLOOKUP(A4,AA:AB,2,FALSE) -> BIN SHIHON | Z4: =B4 -> Commande 1 | AA4: =A53 -> Libya | AB4: Arrafik | AC4: =CONCATENATE(Y4,S4,Z4) -> BIN SHIHOND26 DROITE 4/5Commande 1 | AD4: =S4 -> D26 DROITE 4/5 | AE4: =CONCATENATE(Y4,AD4) -> BIN SHIHOND26 DROITE 4/5 | AF4: =VLOOKUP(AC4,'Price list'!AN:AO,2,FALSE) -> #N/A | AG4: =S4 -> D26 DROITE 4/5 | AH4: =W4 -> 68 | AI4: =X4 -> 13
A5: Bin Shihon | B5: Commande 1 | D5: MF55D23R | E5: D23 GAUCHE 5/5 | F5: D23 | G5: 76 | H5: =+J5/G5 -> 2 | J5: 152 | L5: 152 | M5: =IF(0<J5-K5-L5,J5-K5-L5,0) -> 0 | N5: W03 | P5: 44957 | Q5: 44942 | R5: FN230003 | S5: =E5 -> D23 GAUCHE 5/5 | T5: =D5 -> MF55D23R | V5: =VLOOKUP(S5,'Price list'!D$15:S$298,15,FALSE) -> #N/A | W5: =G5 -> 76 | X5: =H5 -> 2 | Y5: =VLOOKUP(A5,AA:AB,2,FALSE) -> BIN SHIHON | Z5: =B5 -> Commande 1 | AA5: =A65 -> LITTORAL BATTERIES | AB5: Littoral Batteries | AC5: =CONCATENATE(Y5,S5,Z5) -> BIN SHIHOND23 GAUCHE 5/5Commande 1 | AD5: =S5 -> D23 GAUCHE 5/5 | AE5: =CONCATENATE(Y5,AD5) -> BIN SHIHOND23 GAUCHE 5/5 | AF5: =VLOOKUP(AC5,'Price list'!AN:AO,2,FALSE) -> #N/A | AG5: =S5 -> D23 GAUCHE 5/5 | AH5: =W5 -> 76 | AI5: =X5 -> 2
A6: Bin Shihon | B6: Commande 1 | D6: MF55D23L | E6: D23 DROITE 5/5 | F6: D23 | G6: 76 | H6: =+J6/G6 -> 16 | J6: 1216 | L6: 1216 | M6: =IF(0<J6-K6-L6,J6-K6-L6,0) -> 0 | N6: W03 | P6: 44957 | Q6: 44942 | R6: FN230003 | S6: =E6 -> D23 DROITE 5/5 | T6: =D6 -> MF55D23L | V6: =VLOOKUP(S6,'Price list'!D$15:S$298,15,FALSE) -> #N/A | W6: =G6 -> 76 | X6: =H6 -> 16 | Y6: =VLOOKUP(A6,AA:AB,2,FALSE) -> BIN SHIHON | Z6: =B6 -> Commande 1 | AA6: =A84 -> ACCUSPLUS | AB6: RPA | AC6: =CONCATENATE(Y6,S6,Z6) -> BIN SHIHOND23 DROITE 5/5Commande 1 | AD6: =S6 -> D23 DROITE 5/5 | AE6: =CONCATENATE(Y6,AD6) -> BIN SHIHOND23 DROITE 5/5 | AF6: =VLOOKUP(AC6,'Price list'!AN:AO,2,FALSE) -> #N/A | AG6: =S6 -> D23 DROITE 5/5 | AH6: =W6 -> 76 | AI6: =X6 -> 16
A7: Bin Shihon | B7: Commande 1 | D7: MF50B24LS | E7: NS60LSMF DROITE | F7: NS60 | G7: 100 | H7: =+J7/G7 -> 10 | J7: 1000 | L7: 1000 | M7: =IF(0<J7-K7-L7,J7-K7-L7,0) -> 0 | N7: W03 | P7: 44957 | Q7: 44942 | R7: FN230003 | S7: =E7 -> NS60LSMF DROITE | T7: =D7 -> MF50B24LS | V7: =VLOOKUP(S7,'Price list'!D$15:S$298,15,FALSE) -> #N/A | W7: =G7 -> 100 | X7: =H7 -> 10 | Y7: =VLOOKUP(A7,AA:AB,2,FALSE) -> BIN SHIHON | Z7: =B7 -> Commande 1 | AA7: =A92 -> Ouest Batteries | AB7: Ouest Batteries | AC7: =CONCATENATE(Y7,S7,Z7) -> BIN SHIHONNS60LSMF DROITECommande 1 | AD7: =S7 -> NS60LSMF DROITE | AE7: =CONCATENATE(Y7,AD7) -> BIN SHIHONNS60LSMF DROITE | AF7: =VLOOKUP(AC7,'Price list'!AN:AO,2,FALSE) -> #N/A | AG7: =S7 -> NS60LSMF DROITE | AH7: =W7 -> 100 | AI7: =X7 -> 10
A8: Bin Shihon | B8: Commande 1 | D8: MF65D31R | E8: D31 GAUCHE 6/6 | F8: D31 | G8: 56 | H8: =+J8/G8 -> 2 | J8: 112 | L8: 112 | M8: =IF(0<J8-K8-L8,J8-K8-L8,0) -> 0 | N8: W03 | P8: 44957 | Q8: 44942 | R8: FN230003 | S8: =E8 -> D31 GAUCHE 6/6 | T8: =D8 -> MF65D31R | V8: =VLOOKUP(S8,'Price list'!D$15:S$298,15,FALSE) -> #N/A | W8: =G8 -> 56 | X8: =H8 -> 2 | Y8: =VLOOKUP(A8,AA:AB,2,FALSE) -> BIN SHIHON | Z8: =B8 -> Commande 1 | AA8: =A125 -> ALGERIE | AB8: Next Power | AC8: =CONCATENATE(Y8,S8,Z8) -> BIN SHIHOND31 GAUCHE 6/6Commande 1 | AD8: =S8 -> D31 GAUCHE 6/6 | AE8: =CONCATENATE(Y8,AD8) -> BIN SHIHOND31 GAUCHE 6/6 | AF8: =VLOOKUP(AC8,'Price list'!AN:AO,2,FALSE) -> #N/A | AG8: =S8 -> D31 GAUCHE 6/6 | AH8: =W8 -> 56 | AI8: =X8 -> 2
A9: Bin Shihon | B9: Commande 1 | D9: MF65D31L | E9: D31 DOITE 6/6 | F9: D31 | G9: 56 | H9: =+J9/G9 -> 3 | J9: 168 | L9: 168 | M9: =IF(0<J9-K9-L9,J9-K9-L9,0) -> 0 | N9: W03 | P9: 44957 | Q9: 44942 | R9: FN230003 | S9: =E9 -> D31 DOITE 6/6 | T9: =D9 -> MF65D31L | V9: =VLOOKUP(S9,'Price list'!D$15:S$298,15,FALSE) -> #N/A | W9: =G9 -> 56 | X9: =H9 -> 3 | Y9: =VLOOKUP(A9,AA:AB,2,FALSE) -> BIN SHIHON | Z9: =B9 -> Commande 1 | AA9: =A149 -> LUBATEX | AB9: Lubatex | AC9: =CONCATENATE(Y9,S9,Z9) -> BIN SHIHOND31 DOITE 6/6Commande 1 | AD9: =S9 -> D31 DOITE 6/6 | AE9: =CONCATENATE(Y9,AD9) -> BIN SHIHOND31 DOITE 6/6 | AF9: =VLOOKUP(AC9,'Price list'!AN:AO,2,FALSE) -> #N/A | AG9: =S9 -> D31 DOITE 6/6 | AH9: =W9 -> 56 | AI9: =X9 -> 3
A10: Bin Shihon | B10: Commande 1 | D10: MF80D26R | E10: D26 GAUCHE 6/6 | F10: D26 | G10: 68 | H10: =+J10/G10 -> 3 | J10: 204 | L10: 204 | M10: =IF(0<J10-K10-L10,J10-K10-L10,0) -> 0 | N10: W03 | P10: 44957 | Q10: 44942 | R10: FN230003 | S10: =E10 -> D26 GAUCHE 6/6 | T10: =D10 -> MF80D26R | V10: =VLOOKUP(S10,'Price list'!D$15:S$298,15,FALSE) -> #N/A | W10: =G10 -> 68 | X10: =H10 -> 3 | Y10: =VLOOKUP(A10,AA:AB,2,FALSE) -> BIN SHIHON | Z10: =B10 -> Commande 1 | AA10: =A160 -> PROXITECH | AB10: Proxitech | AC10: =CONCATENATE(Y10,S10,Z10) -> BIN SHIHOND26 GAUCHE 6/6Commande 1 | AD10: =S10 -> D26 GAUCHE 6/6 | AE10: =CONCATENATE(Y10,AD10) -> BIN SHIHOND26 GAUCHE 6/6 | AF10: =VLOOKUP(AC10,'Price list'!AN:AO,2,FALSE) -> #N/A | AG10: =S10 -> D26 GAUCHE 6/6 | AH10: =W10 -> 68 | AI10: =X10 -> 3
A11: Bin Shihon | B11: Commande 1 | D11: MF80D26L | E11: D26 DROITE 6/6 | F11: D26 | G11: 68 | H11: =+J11/G11 -> 16 | J11: 1088 | L11: 1088 | M11: =IF(0<J11-K11-L11,J11-K11-L11,0) -> 0 | N11: W03 | P11: 44957 | Q11: 44942 | R11: FN230003 | S11: =E11 -> D26 DROITE 6/6 | T11: =D11 -> MF80D26L | V11: =VLOOKUP(S11,'Price list'!D$15:S$298,15,FALSE) -> #N/A | W11: =G11 -> 68 | X11: =H11 -> 16 | Y11: =VLOOKUP(A11,AA:AB,2,FALSE) -> BIN SHIHON | Z11: =B11 -> Commande 1 | AA11: =A241 -> DT Batteries d’Armor | AB11: RPA | AC11: =CONCATENATE(Y11,S11,Z11) -> BIN SHIHOND26 DROITE 6/6Commande 1 | AD11: =S11 -> D26 DROITE 6/6 | AE11: =CONCATENATE(Y11,AD11) -> BIN SHIHOND26 DROITE 6/6 | AF11: =VLOOKUP(AC11,'Price list'!AN:AO,2,FALSE) -> #N/A | AG11: =S11 -> D26 DROITE 6/6 | AH11: =W11 -> 68 | AI11: =X11 -> 16
A12: Bin Shihon | B12: Commande 1 | D12: MF105D31L | E12: D31 DOITE 7/8 | F12: D31 | G12: 56 | H12: =+J12/G12 -> 4 | J12: 224 | L12: 224 | M12: =IF(0<J12-K12-L12,J12-K12-L12,0) -> 0 | N12: W03 | P12: 44957 | Q12: 44942 | R12: FN230003 | S12: =E12 -> D31 DOITE 7/8 | T12: =D12 -> MF105D31L | V12: =VLOOKUP(S12,'Price list'!D$15:S$298,15,FALSE) -> #N/A | W12: =G12 -> 56 | X12: =H12 -> 4 | Y12: =VLOOKUP(A12,AA:AB,2,FALSE) -> BIN SHIHON | Z12: =B12 -> Commande 1 | AC12: =CONCATENATE(Y12,S12,Z12) -> BIN SHIHOND31 DOITE 7/8Commande 1 | AD12: =S12 -> D31 DOITE 7/8 | AE12: =CONCATENATE(Y12,AD12) -> BIN SHIHOND31 DOITE 7/8 | AF12: =VLOOKUP(AC12,'Price list'!AN:AO,2,FALSE) -> #N/A | AG12: =S12 -> D31 DOITE 7/8 | AH12: =W12 -> 56 | AI12: =X12 -> 4
A13: Bin Shihon | B13: Commande 1 | D13: MF54459 | E13: LB145L1P432R1 | F13: L1 | G13: 84 | H13: =+J13/G13 -> 8 | J13: 672 | L13: 672 | M13: =IF(0<J13-K13-L13,J13-K13-L13,0) -> 0 | N13: W03 | P13: 44957 | Q13: 44942 | R13: FN230003 | S13: =E13 -> LB145L1P432R1 | T13: =D13 -> MF54459 | V13: =VLOOKUP(S13,'Price list'!D$15:S$298,15,FALSE) -> 11.8 | W13: =G13 -> 84 | X13: =H13 -> 8 | Y13: =VLOOKUP(A13,AA:AB,2,FALSE) -> BIN SHIHON | Z13: =B13 -> Commande 1 | AC13: =CONCATENATE(Y13,S13,Z13) -> BIN SHIHONLB145L1P432R1Commande 1 | AD13: =S13 -> LB145L1P432R1 | AE13: =CONCATENATE(Y13,AD13) -> BIN SHIHONLB145L1P432R1 | AF13: =VLOOKUP(AC13,'Price list'!AN:AO,2,FALSE) -> #N/A | AG13: =S13 -> LB145L1P432R1 | AH13: =W13 -> 84 | AI13: =X13 -> 8
A14: Bin Shihon | B14: Commande 1 | D14: MF55559 | E14: LB156L2P432R1 | F14: L2 | G14: 76 | H14: =+J14/G14 -> 10 | J14: 760 | L14: 760 | M14: =IF(0<J14-K14-L14,J14-K14-L14,0) -> 0 | N14: W03 | P14: 44957 | Q14: 44942 | R14: FN230003 | S14: =E14 -> LB156L2P432R1 | T14: =D14 -> MF55559 | V14: =VLOOKUP(S14,'Price list'!D$15:S$298,15,FALSE) -> 14.3 | W14: =G14 -> 76 | X14: =H14 -> 10 | Y14: =VLOOKUP(A14,AA:AB,2,FALSE) -> BIN SHIHON | Z14: =B14 -> Commande 1 | AC14: =CONCATENATE(Y14,S14,Z14) -> BIN SHIHONLB156L2P432R1Commande 1 | AD14: =S14 -> LB156L2P432R1 | AE14: =CONCATENATE(Y14,AD14) -> BIN SHIHONLB156L2P432R1 | AF14: =VLOOKUP(AC14,'Price list'!AN:AO,2,FALSE) -> #N/A | AG14: =S14 -> LB156L2P432R1 | AH14: =W14 -> 76 | AI14: =X14 -> 10
A15: Bin Shihon | B15: Commande 1 | D15: MF56638 | E15: LB167L3P432R1 | F15: L3 | G15: 64 | H15: =+J15/G15 -> 5 | J15: 320 | L15: 320 | M15: =IF(0<J15-K15-L15,J15-K15-L15,0) -> 0 | N15: W03 | P15: 44957 | Q15: 44942 | R15: FN230003 | S15: =E15 -> LB167L3P432R1 | T15: =D15 -> MF56638 | V15: =VLOOKUP(S15,'Price list'!D$15:S$298,15,FALSE) -> 15.8 | W15: =G15 -> 64 | X15: =H15 -> 5 | Y15: =VLOOKUP(A15,AA:AB,2,FALSE) -> BIN SHIHON | Z15: =B15 -> Commande 1 | AC15: =CONCATENATE(Y15,S15,Z15) -> BIN SHIHONLB167L3P432R1Commande 1 | AD15: =S15 -> LB167L3P432R1 | AE15: =CONCATENATE(Y15,AD15) -> BIN SHIHONLB167L3P432R1 | AF15: =VLOOKUP(AC15,'Price list'!AN:AO,2,FALSE) -> #N/A | AG15: =S15 -> LB167L3P432R1 | AH15: =W15 -> 64 | AI15: =X15 -> 5
A16: Bin Shihon | B16: Commande 1 | D16: MF56219 | E16: LB166L2P432R1 | F16: L2 | G16: 76 | H16: =+J16/G16 -> 3 | J16: 228 | L16: 228 | M16: =IF(0<J16-K16-L16,J16-K16-L16,0) -> 0 | N16: W03 | P16: 44957 | Q16: 44942 | R16: FN230003 | S16: =E16 -> LB166L2P432R1 | T16: =D16 -> MF56219 | V16: =VLOOKUP(S16,'Price list'!D$15:S$298,15,FALSE) -> 14.7 | W16: =G16 -> 76 | X16: =H16 -> 3 | Y16: =VLOOKUP(A16,AA:AB,2,FALSE) -> BIN SHIHON | Z16: =B16 -> Commande 1 | AC16: =CONCATENATE(Y16,S16,Z16) -> BIN SHIHONLB166L2P432R1Commande 1 | AD16: =S16 -> LB166L2P432R1 | AE16: =CONCATENATE(Y16,AD16) -> BIN SHIHONLB166L2P432R1 | AF16: =VLOOKUP(AC16,'Price list'!AN:AO,2,FALSE) -> #N/A | AG16: =S16 -> LB166L2P432R1 | AH16: =W16 -> 76 | AI16: =X16 -> 3
A17: Bin Shihon | B17: Commande 1 | D17: MF57220 | E17: LB177L3P432R1 | F17: L3 | G17: 64 | H17: =+J17/G17 -> 7 | J17: 448 | L17: 448 | M17: =IF(0<J17-K17-L17,J17-K17-L17,0) -> 0 | N17: W03 | P17: 44957 | Q17: 44942 | R17: FN230003 | S17: =E17 -> LB177L3P432R1 | T17: =D17 -> MF57220 | V17: =VLOOKUP(S17,'Price list'!D$15:S$298,15,FALSE) -> 17.2 | W17: =G17 -> 64 | X17: =H17 -> 7 | Y17: =VLOOKUP(A17,AA:AB,2,FALSE) -> BIN SHIHON | Z17: =B17 -> Commande 1 | AC17: =CONCATENATE(Y17,S17,Z17) -> BIN SHIHONLB177L3P432R1Commande 1 | AD17: =S17 -> LB177L3P432R1 | AE17: =CONCATENATE(Y17,AD17) -> BIN SHIHONLB177L3P432R1 | AF17: =VLOOKUP(AC17,'Price list'!AN:AO,2,FALSE) -> #N/A | AG17: =S17 -> LB177L3P432R1 | AH17: =W17 -> 64 | AI17: =X17 -> 7
A18: Bin Shihon | B18: Commande 1 | D18: MF58827 | E18: LB189L5P432R1 | F18: L5 | G18: 48 | H18: =+J18/G18 -> 2 | J18: 96 | L18: 96 | M18: =IF(0<J18-K18-L18,J18-K18-L18,0) -> 0 | N18: W03 | P18: 44957 | Q18: 44942 | R18: FN230003 | S18: =E18 -> LB189L5P432R1 | T18: =D18 -> MF58827 | V18: =VLOOKUP(S18,'Price list'!D$15:S$298,15,FALSE) -> 21.3 | W18: =G18 -> 48 | X18: =H18 -> 2 | Y18: =VLOOKUP(A18,AA:AB,2,FALSE) -> BIN SHIHON | Z18: =B18 -> Commande 1 | AC18: =CONCATENATE(Y18,S18,Z18) -> BIN SHIHONLB189L5P432R1Commande 1 | AD18: =S18 -> LB189L5P432R1 | AE18: =CONCATENATE(Y18,AD18) -> BIN SHIHONLB189L5P432R1 | AF18: =VLOOKUP(AC18,'Price list'!AN:AO,2,FALSE) -> #N/A | AG18: =S18 -> LB189L5P432R1 | AH18: =W18 -> 48 | AI18: =X18 -> 2
A19: Bin Shihon | B19: Commande 1 | D19: MF60038 | E19: LB190L5P432R1 | F19: L5 | G19: 48 | H19: =+J19/G19 -> 1 | J19: 48 | L19: 48 | M19: =IF(0<J19-K19-L19,J19-K19-L19,0) -> 0 | N19: W03 | P19: 44957 | Q19: 44942 | R19: FN230003 | S19: =E19 -> LB190L5P432R1 | T19: =D19 -> MF60038 | V19: =VLOOKUP(S19,'Price list'!D$15:S$298,15,FALSE) -> 22.4 | W19: =G19 -> 48 | X19: =H19 -> 1 | Y19: =VLOOKUP(A19,AA:AB,2,FALSE) -> BIN SHIHON | Z19: =B19 -> Commande 1 | AC19: =CONCATENATE(Y19,S19,Z19) -> BIN SHIHONLB190L5P432R1Commande 1 | AD19: =S19 -> LB190L5P432R1 | AE19: =CONCATENATE(Y19,AD19) -> BIN SHIHONLB190L5P432R1 | AF19: =VLOOKUP(AC19,'Price list'!AN:AO,2,FALSE) -> #N/A | AG19: =S19 -> LB190L5P432R1 | AH19: =W19 -> 48 | AI19: =X19 -> 1
A20: Bin Shihon | B20: Commande 1 | D20: MF48D26R | E20: D26 GAUCHE 4/5 | F20: D26 | G20: 68 | H20: =+J20/G20 -> 1 | J20: 68 | L20: 68 | M20: =IF(0<J20-K20-L20,J20-K20-L20,0) -> 0 | N20: W04 | O20: FEBRUARY | P20: 44958 | Q20: 44950 | R20: FN230006 | S20: =E20 -> D26 GAUCHE 4/5 | T20: =D20 -> MF48D26R | V20: =VLOOKUP(S20,'Price list'!D$15:S$298,15,FALSE) -> #N/A | W20: =G20 -> 68 | X20: =H20 -> 1 | Y20: =VLOOKUP(A20,AA:AB,2,FALSE) -> BIN SHIHON | Z20: =B20 -> Commande 1 | AC20: =CONCATENATE(Y20,S20,Z20) -> BIN SHIHOND26 GAUCHE 4/5Commande 1 | AD20: =S20 -> D26 GAUCHE 4/5 | AE20: =CONCATENATE(Y20,AD20) -> BIN SHIHOND26 GAUCHE 4/5 | AF20: =VLOOKUP(AC20,'Price list'!AN:AO,2,FALSE) -> #N/A | AG20: =S20 -> D26 GAUCHE 4/5 | AH20: =W20 -> 68 | AI20: =X20 -> 1
A21: Bin Shihon | B21: Commande 1 | D21: MF55D23R | E21: D23 GAUCHE 5/5 | F21: D23 | G21: 76 | H21: =+J21/G21 -> 1 | J21: 76 | L21: 76 | M21: =IF(0<J21-K21-L21,J21-K21-L21,0) -> 0 | N21: W04 | P21: 44958 | Q21: 44950 | R21: FN230006 | S21: =E21 -> D23 GAUCHE 5/5 | T21: =D21 -> MF55D23R | V21: =VLOOKUP(S21,'Price list'!D$15:S$298,15,FALSE) -> #N/A | W21: =G21 -> 76 | X21: =H21 -> 1 | Y21: =VLOOKUP(A21,AA:AB,2,FALSE) -> BIN SHIHON | Z21: =B21 -> Commande 1 | AC21: =CONCATENATE(Y21,S21,Z21) -> BIN SHIHOND23 GAUCHE 5/5Commande 1 | AD21: =S21 -> D23 GAUCHE 5/5 | AE21: =CONCATENATE(Y21,AD21) -> BIN SHIHOND23 GAUCHE 5/5 | AF21: =VLOOKUP(AC21,'Price list'!AN:AO,2,FALSE) -> #N/A | AG21: =S21 -> D23 GAUCHE 5/5 | AH21: =W21 -> 76 | AI21: =X21 -> 1
A22: Bin Shihon | B22: Commande 1 | D22: MF55D23L | E22: D23 DROITE 5/5 | F22: D23 | G22: 76 | H22: =+J22/G22 -> 26 | J22: 1976 | L22: 1976 | M22: =IF(0<J22-K22-L22,J22-K22-L22,0) -> 0 | N22: W04 | P22: 44958 | Q22: 44950 | R22: FN230006 | S22: =E22 -> D23 DROITE 5/5 | T22: =D22 -> MF55D23L | V22: =VLOOKUP(S22,'Price list'!D$15:S$298,15,FALSE) -> #N/A | W22: =G22 -> 76 | X22: =H22 -> 26 | Y22: =VLOOKUP(A22,AA:AB,2,FALSE) -> BIN SHIHON | Z22: =B22 -> Commande 1 | AC22: =CONCATENATE(Y22,S22,Z22) -> BIN SHIHOND23 DROITE 5/5Commande 1 | AD22: =S22 -> D23 DROITE 5/5 | AE22: =CONCATENATE(Y22,AD22) -> BIN SHIHOND23 DROITE 5/5 | AF22: =VLOOKUP(AC22,'Price list'!AN:AO,2,FALSE) -> #N/A | AG22: =S22 -> D23 DROITE 5/5 | AH22: =W22 -> 76 | AI22: =X22 -> 26
A23: Bin Shihon | B23: Commande 1 | D23: MF50B24R | E23: NS60MF GAUCHE | F23: NS60 | G23: 100 | H23: =+J23/G23 -> 2 | J23: 200 | L23: 200 | M23: =IF(0<J23-K23-L23,J23-K23-L23,0) -> 0 | N23: W04 | P23: 44958 | Q23: 44950 | R23: FN230006 | S23: =E23 -> NS60MF GAUCHE | T23: =D23 -> MF50B24R | V23: =VLOOKUP(S23,'Price list'!D$15:S$298,15,FALSE) -> #N/A | W23: =G23 -> 100 | X23: =H23 -> 2 | Y23: =VLOOKUP(A23,AA:AB,2,FALSE) -> BIN SHIHON | Z23: =B23 -> Commande 1 | AC23: =CONCATENATE(Y23,S23,Z23) -> BIN SHIHONNS60MF GAUCHECommande 1 | AD23: =S23 -> NS60MF GAUCHE | AE23: =CONCATENATE(Y23,AD23) -> BIN SHIHONNS60MF GAUCHE | AF23: =VLOOKUP(AC23,'Price list'!AN:AO,2,FALSE) -> #N/A | AG23: =S23 -> NS60MF GAUCHE | AH23: =W23 -> 100 | AI23: =X23 -> 2
A24: Bin Shihon | B24: Commande 1 | D24: MF50B24LS | E24: NS60LSMF DROITE | F24: NS60 | G24: 100 | H24: =+J24/G24 -> 21 | J24: 2100 | L24: 2100 | M24: =IF(0<J24-K24-L24,J24-K24-L24,0) -> 0 | N24: W04 | P24: 44958 | Q24: 44950 | R24: FN230006 | S24: =E24 -> NS60LSMF DROITE | T24: =D24 -> MF50B24LS | V24: =VLOOKUP(S24,'Price list'!D$15:S$298,15,FALSE) -> #N/A | W24: =G24 -> 100 | X24: =H24 -> 21 | Y24: =VLOOKUP(A24,AA:AB,2,FALSE) -> BIN SHIHON | Z24: =B24 -> Commande 1 | AC24: =CONCATENATE(Y24,S24,Z24) -> BIN SHIHONNS60LSMF DROITECommande 1 | AD24: =S24 -> NS60LSMF DROITE | AE24: =CONCATENATE(Y24,AD24) -> BIN SHIHONNS60LSMF DROITE | AF24: =VLOOKUP(AC24,'Price list'!AN:AO,2,FALSE) -> #N/A | AG24: =S24 -> NS60LSMF DROITE | AH24: =W24 -> 100 | AI24: =X24 -> 21
A25: Bin Shihon | B25: Commande 1 | D25: MF65D31R | E25: D31 GAUCHE 6/6 | F25: D31 | G25: 56 | H25: =+J25/G25 -> 3 | J25: 168 | L25: 168 | M25: =IF(0<J25-K25-L25,J25-K25-L25,0) -> 0 | N25: W04 | P25: 44958 | Q25: 44950 | R25: FN230006 | S25: =E25 -> D31 GAUCHE 6/6 | T25: =D25 -> MF65D31R | V25: =VLOOKUP(S25,'Price list'!D$15:S$298,15,FALSE) -> #N/A | W25: =G25 -> 56 | X25: =H25 -> 3 | Y25: =VLOOKUP(A25,AA:AB,2,FALSE) -> BIN SHIHON | Z25: =B25 -> Commande 1 | AC25: =CONCATENATE(Y25,S25,Z25) -> BIN SHIHOND31 GAUCHE 6/6Commande 1 | AD25: =S25 -> D31 GAUCHE 6/6 | AE25: =CONCATENATE(Y25,AD25) -> BIN SHIHOND31 GAUCHE 6/6 | AF25: =VLOOKUP(AC25,'Price list'!AN:AO,2,FALSE) -> #N/A | AG25: =S25 -> D31 GAUCHE 6/6 | AH25: =W25 -> 56 | AI25: =X25 -> 3
A26: Bin Shihon | B26: Commande 1 | D26: MF65D31L | E26: D31 DOITE 6/6 | F26: D31 | G26: 56 | H26: =+J26/G26 -> 4 | J26: 224 | L26: 224 | M26: =IF(0<J26-K26-L26,J26-K26-L26,0) -> 0 | N26: W04 | P26: 44958 | Q26: 44950 | R26: FN230006 | S26: =E26 -> D31 DOITE 6/6 | T26: =D26 -> MF65D31L | V26: =VLOOKUP(S26,'Price list'!D$15:S$298,15,FALSE) -> #N/A | W26: =G26 -> 56 | X26: =H26 -> 4 | Y26: =VLOOKUP(A26,AA:AB,2,FALSE) -> BIN SHIHON | Z26: =B26 -> Commande 1 | AC26: =CONCATENATE(Y26,S26,Z26) -> BIN SHIHOND31 DOITE 6/6Commande 1 | AD26: =S26 -> D31 DOITE 6/6 | AE26: =CONCATENATE(Y26,AD26) -> BIN SHIHOND31 DOITE 6/6 | AF26: =VLOOKUP(AC26,'Price list'!AN:AO,2,FALSE) -> #N/A | AG26: =S26 -> D31 DOITE 6/6 | AH26: =W26 -> 56 | AI26: =X26 -> 4
A27: Bin Shihon | B27: Commande 1 | D27: MF80D26R | E27: D26 GAUCHE 6/6 | F27: D26 | G27: 68 | H27: =+J27/G27 -> 1 | J27: 68 | L27: 68 | M27: =IF(0<J27-K27-L27,J27-K27-L27,0) -> 0 | N27: W04 | P27: 44958 | Q27: 44950 | R27: FN230006 | S27: =E27 -> D26 GAUCHE 6/6 | T27: =D27 -> MF80D26R | V27: =VLOOKUP(S27,'Price list'!D$15:S$298,15,FALSE) -> #N/A | W27: =G27 -> 68 | X27: =H27 -> 1 | Y27: =VLOOKUP(A27,AA:AB,2,FALSE) -> BIN SHIHON | Z27: =B27 -> Commande 1 | AC27: =CONCATENATE(Y27,S27,Z27) -> BIN SHIHOND26 GAUCHE 6/6Commande 1 | AD27: =S27 -> D26 GAUCHE 6/6 | AE27: =CONCATENATE(Y27,AD27) -> BIN SHIHOND26 GAUCHE 6/6 | AF27: =VLOOKUP(AC27,'Price list'!AN:AO,2,FALSE) -> #N/A | AG27: =S27 -> D26 GAUCHE 6/6 | AH27: =W27 -> 68 | AI27: =X27 -> 1
A28: Bin Shihon | B28: Commande 1 | D28: MF80D26L | E28: D26 DROITE 6/6 | F28: D26 | G28: 68 | H28: =+J28/G28 -> 16 | J28: 1088 | L28: 1088 | M28: =IF(0<J28-K28-L28,J28-K28-L28,0) -> 0 | N28: W04 | P28: 44958 | Q28: 44950 | R28: FN230006 | S28: =E28 -> D26 DROITE 6/6 | T28: =D28 -> MF80D26L | V28: =VLOOKUP(S28,'Price list'!D$15:S$298,15,FALSE) -> #N/A | W28: =G28 -> 68 | X28: =H28 -> 16 | Y28: =VLOOKUP(A28,AA:AB,2,FALSE) -> BIN SHIHON | Z28: =B28 -> Commande 1 | AC28: =CONCATENATE(Y28,S28,Z28) -> BIN SHIHOND26 DROITE 6/6Commande 1 | AD28: =S28 -> D26 DROITE 6/6 | AE28: =CONCATENATE(Y28,AD28) -> BIN SHIHOND26 DROITE 6/6 | AF28: =VLOOKUP(AC28,'Price list'!AN:AO,2,FALSE) -> #N/A | AG28: =S28 -> D26 DROITE 6/6 | AH28: =W28 -> 68 | AI28: =X28 -> 16
A29: Bin Shihon | B29: Commande 1 | D29: MF105D31L | E29: D31 DOITE 7/8 | F29: D31 | G29: 56 | H29: =+J29/G29 -> 6 | J29: 336 | L29: 336 | M29: =IF(0<J29-K29-L29,J29-K29-L29,0) -> 0 | N29: W04 | P29: 44958 | Q29: 44950 | R29: FN230006 | S29: =E29 -> D31 DOITE 7/8 | T29: =D29 -> MF105D31L | V29: =VLOOKUP(S29,'Price list'!D$15:S$298,15,FALSE) -> #N/A | W29: =G29 -> 56 | X29: =H29 -> 6 | Y29: =VLOOKUP(A29,AA:AB,2,FALSE) -> BIN SHIHON | Z29: =B29 -> Commande 1 | AC29: =CONCATENATE(Y29,S29,Z29) -> BIN SHIHOND31 DOITE 7/8Commande 1 | AD29: =S29 -> D31 DOITE 7/8 | AE29: =CONCATENATE(Y29,AD29) -> BIN SHIHOND31 DOITE 7/8 | AF29: =VLOOKUP(AC29,'Price list'!AN:AO,2,FALSE) -> #N/A | AG29: =S29 -> D31 DOITE 7/8 | AH29: =W29 -> 56 | AI29: =X29 -> 6
A30: Bin Shihon | B30: Commande 1 | D30: MF54459 | E30: LB145L1P432R1 | F30: L1 | G30: 84 | H30: =+J30/G30 -> 10 | J30: 840 | L30: 840 | M30: =IF(0<J30-K30-L30,J30-K30-L30,0) -> 0 | N30: W04 | P30: 44958 | Q30: 44950 | R30: FN230006 | S30: =E30 -> LB145L1P432R1 | T30: =D30 -> MF54459 | V30: =VLOOKUP(S30,'Price list'!D$15:S$298,15,FALSE) -> 11.8 | W30: =G30 -> 84 | X30: =H30 -> 10 | Y30: =VLOOKUP(A30,AA:AB,2,FALSE) -> BIN SHIHON | Z30: =B30 -> Commande 1 | AC30: =CONCATENATE(Y30,S30,Z30) -> BIN SHIHONLB145L1P432R1Commande 1 | AD30: =S30 -> LB145L1P432R1 | AE30: =CONCATENATE(Y30,AD30) -> BIN SHIHONLB145L1P432R1 | AF30: =VLOOKUP(AC30,'Price list'!AN:AO,2,FALSE) -> #N/A | AG30: =S30 -> LB145L1P432R1 | AH30: =W30 -> 84 | AI30: =X30 -> 10
A31: Bin Shihon | B31: Commande 1 | D31: MF55559 | E31: LB156L2P432R1 | F31: L2 | G31: 76 | H31: =+J31/G31 -> 20 | J31: 1520 | L31: 1520 | M31: =IF(0<J31-K31-L31,J31-K31-L31,0) -> 0 | N31: W04 | P31: 44958 | Q31: 44950 | R31: FN230006 | S31: =E31 -> LB156L2P432R1 | T31: =D31 -> MF55559 | V31: =VLOOKUP(S31,'Price list'!D$15:S$298,15,FALSE) -> 14.3 | W31: =G31 -> 76 | X31: =H31 -> 20 | Y31: =VLOOKUP(A31,AA:AB,2,FALSE) -> BIN SHIHON | Z31: =B31 -> Commande 1 | AC31: =CONCATENATE(Y31,S31,Z31) -> BIN SHIHONLB156L2P432R1Commande 1 | AD31: =S31 -> LB156L2P432R1 | AE31: =CONCATENATE(Y31,AD31) -> BIN SHIHONLB156L2P432R1 | AF31: =VLOOKUP(AC31,'Price list'!AN:AO,2,FALSE) -> #N/A | AG31: =S31 -> LB156L2P432R1 | AH31: =W31 -> 76 | AI31: =X31 -> 20
A32: Bin Shihon | B32: Commande 1 | D32: MF56638 | E32: LB167L3P432R1 | F32: L3 | G32: 64 | H32: =+J32/G32 -> 10 | J32: 640 | L32: 640 | M32: =IF(0<J32-K32-L32,J32-K32-L32,0) -> 0 | N32: W04 | P32: 44958 | Q32: 44950 | R32: FN230006 | S32: =E32 -> LB167L3P432R1 | T32: =D32 -> MF56638 | V32: =VLOOKUP(S32,'Price list'!D$15:S$298,15,FALSE) -> 15.8 | W32: =G32 -> 64 | X32: =H32 -> 10 | Y32: =VLOOKUP(A32,AA:AB,2,FALSE) -> BIN SHIHON | Z32: =B32 -> Commande 1 | AC32: =CONCATENATE(Y32,S32,Z32) -> BIN SHIHONLB167L3P432R1Commande 1 | AD32: =S32 -> LB167L3P432R1 | AE32: =CONCATENATE(Y32,AD32) -> BIN SHIHONLB167L3P432R1 | AF32: =VLOOKUP(AC32,'Price list'!AN:AO,2,FALSE) -> #N/A | AG32: =S32 -> LB167L3P432R1 | AH32: =W32 -> 64 | AI32: =X32 -> 10
... A36: Bin Shihon | B36: Commande 1 | D36: MF60038 | E36: LB190L5P432R1 | F36: L5 | G36: 48 | H36: =+J36/G36 -> 1 | J36: 48 | L36: 48 | M36: =IF(0<J36-K36-L36,J36-K36-L36,0) -> 0 | N36: W04 | P36: 44958 | Q36: 44950 | R36: FN230006 | S36: =E36 -> LB190L5P432R1 | T36: =D36 -> MF60038 | V36: =VLOOKUP(S36,'Price list'!D$15:S$298,15,FALSE) -> 22.4 | W36: =G36 -> 48 | X36: =H36 -> 1 | Y36: =VLOOKUP(A36,AA:AB,2,FALSE) -> BIN SHIHON | Z36: =B36 -> Commande 1 | AC36: =CONCATENATE(Y36,S36,Z36) -> BIN SHIHONLB190L5P432R1Commande 1 | AD36: =S36 -> LB190L5P432R1 | AE36: =CONCATENATE(Y36,AD36) -> BIN SHIHONLB190L5P432R1 | AF36: =VLOOKUP(AC36,'Price list'!AN:AO,2,FALSE) -> #N/A | AG36: =S36 -> LB190L5P432R1 | AH36: =W36 -> 48 | AI36: =X36 -> 1
A37: Bin Shihon | B37: Commande 1 | D37: MF48D26R | E37: D26 GAUCHE 4/5 | F37: D26 | G37: 68 | H37: =+J37/G37 -> 1 | J37: 68 | L37: 68 | M37: =IF(0<J37-K37-L37,J37-K37-L37,0) -> 0 | N37: W05 | O37: 44978 | P37: 44986 | Q37: 44972 | R37: FN230016 | S37: =E37 -> D26 GAUCHE 4/5 | T37: =D37 -> MF48D26R | V37: =VLOOKUP(S37,'Price list'!D$15:S$298,15,FALSE) -> #N/A | W37: =G37 -> 68 | X37: =H37 -> 1 | Y37: =VLOOKUP(A37,AA:AB,2,FALSE) -> BIN SHIHON | Z37: =B37 -> Commande 1 | AC37: =CONCATENATE(Y37,S37,Z37) -> BIN SHIHOND26 GAUCHE 4/5Commande 1 | AD37: =S37 -> D26 GAUCHE 4/5 | AE37: =CONCATENATE(Y37,AD37) -> BIN SHIHOND26 GAUCHE 4/5 | AF37: =VLOOKUP(AC37,'Price list'!AN:AO,2,FALSE) -> #N/A | AG37: =S37 -> D26 GAUCHE 4/5 | AH37: =W37 -> 68 | AI37: =X37 -> 1
A38: Bin Shihon | B38: Commande 1 | D38: MF48D26L | E38: D26 DROITE 4/5 | F38: D26 | G38: 68 | H38: =+J38/G38 -> 2 | J38: 136 | L38: 136 | M38: =IF(0<J38-K38-L38,J38-K38-L38,0) -> 0 | N38: W05 | O38: 44978 | P38: 44986 | Q38: 44972 | R38: FN230016 | S38: =E38 -> D26 DROITE 4/5 | T38: =D38 -> MF48D26L | V38: =VLOOKUP(S38,'Price list'!D$15:S$298,15,FALSE) -> #N/A | W38: =G38 -> 68 | X38: =H38 -> 2 | Y38: =VLOOKUP(A38,AA:AB,2,FALSE) -> BIN SHIHON | Z38: =B38 -> Commande 1 | AC38: =CONCATENATE(Y38,S38,Z38) -> BIN SHIHOND26 DROITE 4/5Commande 1 | AD38: =S38 -> D26 DROITE 4/5 | AE38: =CONCATENATE(Y38,AD38) -> BIN SHIHOND26 DROITE 4/5 | AF38: =VLOOKUP(AC38,'Price list'!AN:AO,2,FALSE) -> #N/A | AG38: =S38 -> D26 DROITE 4/5 | AH38: =W38 -> 68 | AI38: =X38 -> 2
A39: Bin Shihon | B39: Commande 1 | D39: MF55D23R | E39: D23 GAUCHE 5/5 | F39: D23 | G39: 76 | H39: =+J39/G39 -> 3 | J39: 228 | L39: 228 | M39: =IF(0<J39-K39-L39,J39-K39-L39,0) -> 0 | N39: W05 | O39: 44978 | P39: 44986 | Q39: 44972 | R39: FN230016 | S39: =E39 -> D23 GAUCHE 5/5 | T39: =D39 -> MF55D23R | V39: =VLOOKUP(S39,'Price list'!D$15:S$298,15,FALSE) -> #N/A | W39: =G39 -> 76 | X39: =H39 -> 3 | Y39: =VLOOKUP(A39,AA:AB,2,FALSE) -> BIN SHIHON | Z39: =B39 -> Commande 1 | AC39: =CONCATENATE(Y39,S39,Z39) -> BIN SHIHOND23 GAUCHE 5/5Commande 1 | AD39: =S39 -> D23 GAUCHE 5/5 | AE39: =CONCATENATE(Y39,AD39) -> BIN SHIHOND23 GAUCHE 5/5 | AF39: =VLOOKUP(AC39,'Price list'!AN:AO,2,FALSE) -> #N/A | AG39: =S39 -> D23 GAUCHE 5/5 | AH39: =W39 -> 76 | AI39: =X39 -> 3
A40: Bin Shihon | B40: Commande 1 | D40: MF55D23L | E40: D23 DROITE 5/5 | F40: D23 | G40: 76 | H40: =+J40/G40 -> 9 | J40: 684 | L40: 684 | M40: =IF(0<J40-K40-L40,J40-K40-L40,0) -> 0 | N40: W05 | O40: 44978 | P40: 44986 | Q40: 44972 | R40: FN230016 | S40: =E40 -> D23 DROITE 5/5 | T40: =D40 -> MF55D23L | V40: =VLOOKUP(S40,'Price list'!D$15:S$298,15,FALSE) -> #N/A | W40: =G40 -> 76 | X40: =H40 -> 9 | Y40: =VLOOKUP(A40,AA:AB,2,FALSE) -> BIN SHIHON | Z40: =B40 -> Commande 1 | AC40: =CONCATENATE(Y40,S40,Z40) -> BIN SHIHOND23 DROITE 5/5Commande 1 | AD40: =S40 -> D23 DROITE 5/5 | AE40: =CONCATENATE(Y40,AD40) -> BIN SHIHOND23 DROITE 5/5 | AF40: =VLOOKUP(AC40,'Price list'!AN:AO,2,FALSE) -> #N/A | AG40: =S40 -> D23 DROITE 5/5 | AH40: =W40 -> 76 | AI40: =X40 -> 9
A41: Bin Shihon | B41: Commande 1 | D41: MF65D31R | E41: D31 GAUCHE 6/6 | F41: D31 | G41: 56 | H41: =+J41/G41 -> 2 | J41: 112 | L41: 112 | M41: =IF(0<J41-K41-L41,J41-K41-L41,0) -> 0 | N41: W05 | O41: 44978 | P41: 44986 | Q41: 44972 | R41: FN230016 | S41: =E41 -> D31 GAUCHE 6/6 | T41: =D41 -> MF65D31R | V41: =VLOOKUP(S41,'Price list'!D$15:S$298,15,FALSE) -> #N/A | W41: =G41 -> 56 | X41: =H41 -> 2 | Y41: =VLOOKUP(A41,AA:AB,2,FALSE) -> BIN SHIHON | Z41: =B41 -> Commande 1 | AC41: =CONCATENATE(Y41,S41,Z41) -> BIN SHIHOND31 GAUCHE 6/6Commande 1 | AD41: =S41 -> D31 GAUCHE 6/6 | AE41: =CONCATENATE(Y41,AD41) -> BIN SHIHOND31 GAUCHE 6/6 | AF41: =VLOOKUP(AC41,'Price list'!AN:AO,2,FALSE) -> #N/A | AG41: =S41 -> D31 GAUCHE 6/6 | AH41: =W41 -> 56 | AI41: =X41 -> 2
A42: Bin Shihon | B42: Commande 1 | D42: MF80D26R | E42: D26 GAUCHE 6/6 | F42: D26 | G42: 68 | H42: =+J42/G42 -> 1 | J42: 68 | L42: 68 | M42: =IF(0<J42-K42-L42,J42-K42-L42,0) -> 0 | N42: W05 | O42: 44978 | P42: 44986 | Q42: 44972 | R42: FN230016 | S42: =E42 -> D26 GAUCHE 6/6 | T42: =D42 -> MF80D26R | V42: =VLOOKUP(S42,'Price list'!D$15:S$298,15,FALSE) -> #N/A | W42: =G42 -> 68 | X42: =H42 -> 1 | Y42: =VLOOKUP(A42,AA:AB,2,FALSE) -> BIN SHIHON | Z42: =B42 -> Commande 1 | AC42: =CONCATENATE(Y42,S42,Z42) -> BIN SHIHOND26 GAUCHE 6/6Commande 1 | AD42: =S42 -> D26 GAUCHE 6/6 | AE42: =CONCATENATE(Y42,AD42) -> BIN SHIHOND26 GAUCHE 6/6 | AF42: =VLOOKUP(AC42,'Price list'!AN:AO,2,FALSE) -> #N/A | AG42: =S42 -> D26 GAUCHE 6/6 | AH42: =W42 -> 68 | AI42: =X42 -> 1
A43: Bin Shihon | B43: Commande 1 | D43: MF80D26L | E43: D26 DROITE 6/6 | F43: D26 | G43: 68 | H43: =+J43/G43 -> 10 | J43: 680 | L43: 680 | M43: =IF(0<J43-K43-L43,J43-K43-L43,0) -> 0 | N43: W05 | O43: 44978 | P43: 44986 | Q43: 44972 | R43: FN230016 | S43: =E43 -> D26 DROITE 6/6 | T43: =D43 -> MF80D26L | V43: =VLOOKUP(S43,'Price list'!D$15:S$298,15,FALSE) -> #N/A | W43: =G43 -> 68 | X43: =H43 -> 10 | Y43: =VLOOKUP(A43,AA:AB,2,FALSE) -> BIN SHIHON | Z43: =B43 -> Commande 1 | AC43: =CONCATENATE(Y43,S43,Z43) -> BIN SHIHOND26 DROITE 6/6Commande 1 | AD43: =S43 -> D26 DROITE 6/6 | AE43: =CONCATENATE(Y43,AD43) -> BIN SHIHOND26 DROITE 6/6 | AF43: =VLOOKUP(AC43,'Price list'!AN:AO,2,FALSE) -> #N/A | AG43: =S43 -> D26 DROITE 6/6 | AH43: =W43 -> 68 | AI43: =X43 -> 10
...

Sheet Base clients
A1: Base clients
A2: Saisissez vos clients ici (cases vertes uniquement)
A3: Pour trouver un client plus rapidement, faire Ctrl + touche F
A5: Numéro client | B5: Type | C5: Nom prénom ou raison sociale | D5: Adresse | E5: C. postal | F5: Ville | G5: Téléphone | H5: Portable | I5: Site internet | J5: E-mail | K5: RCS | L5: Devise | M5: SIREN | N5: SIRET | O5: TVA | P5: PAYS | Q5: ASSURENCE | R5: Price list name
A6: ='[6]Base clients'!A6 -> C00001 | B6: ='[6]Base clients'!B6 -> test | C6: ='[6]Base clients'!C6 -> test | D6: ='[6]Base clients'!D6 -> Boulevard Michelet | E6: ='[6]Base clients'!E6 -> 01200 | F6: ='[6]Base clients'!F6 -> Nantes | G6: ='[6]Base clients'!G6 -> 02 60 60 60 60 | H6: ='[6]Base clients'!H6 -> 660606060 | I6: ='[6]Base clients'!I6 -> www.batteries-du-littoral.fr | K6: ='[6]Base clients'!K6 -> 0 | L6: ='[6]Base clients'!L6 -> 0 | M6: ='[6]Base clients'!M6 -> 0 | N6: ='[6]Base clients'!N6 -> 0 | O6: ='[6]Base clients'!O6 -> 0 | P6: ='[6]Base clients'!P6 -> FRANCE | Q6: ='[6]Base clients'!Q6 -> 800000
A7: ='[6]Base clients'!A7 -> X352001 | B7: ='[6]Base clients'!B7 -> Professionnel | C7: ='[6]Base clients'!C7 -> Lubatex Group | D7: ='[6]Base clients'!D7 -> 13 Avenue du Bois | E7: ='[6]Base clients'!E7 -> L-1251 | F7: ='[6]Base clients'!F7 -> Luxembourg | G7: ='[6]Base clients'!G7 -> +33 (0)3 87 95 88 56 | I7: ='[6]Base clients'!I7 -> www.lubatexgroup.com | J7: ='[6]Base clients'!J7 -> Morgane.KESSALY@LUBATEXGROUP.COM | K7: ='[6]Base clients'!K7 -> 0 | L7: ='[6]Base clients'!L7 -> EURO | M7: ='[6]Base clients'!M7 -> 0 | N7: ='[6]Base clients'!N7 -> 0 | O7: ='[6]Base clients'!O7 -> 0 | P7: ='[6]Base clients'!P7 -> LUXAMBOURG | Q7: ='[6]Base clients'!Q7 -> 0 | R7: ='Price list'!B235 -> Lubatex
A8: ='[6]Base clients'!A8 -> X033005 | B8: ='[6]Base clients'!B8 -> Professionnel | C8: ='[6]Base clients'!C8 -> DT Batteries d'Armor | D8: ='[6]Base clients'!D8 -> ZA Les Hautieres 11 Rue Eiffel | E8: ='[6]Base clients'!E8 -> 22440 | F8: ='[6]Base clients'!F8 -> Tremuson | G8: ='[6]Base clients'!G8 -> +33 (0)2 96 76 86 08 | I8: ='[6]Base clients'!I8 -> www.dtbatteries.fr | J8: ='[6]Base clients'!J8 -> dtbatteries@orange.fr | K8: ='[6]Base clients'!K8 -> 100B1B2R3 | L8: ='[6]Base clients'!L8 -> EURO | M8: ='[6]Base clients'!M8 -> 0 | N8: ='[6]Base clients'!N8 -> 0 | O8: ='[6]Base clients'!O8 -> FR04501412365 | P8: ='[6]Base clients'!P8 -> FRANCE | Q8: ='[6]Base clients'!Q8 -> 400000 | R8: ='Price list'!B10 -> RPA
A9: ='[6]Base clients'!A9 -> X213004 | B9: ='[6]Base clients'!B9 -> Professionnel | C9: ='[6]Base clients'!C9 -> SARL NEXT POWER | D9: ='[6]Base clients'!D9 -> Zone Industrielle El Taref n° C 11 - Bin Badis | E9: ='[6]Base clients'!E9 -> 0 | F9: ='[6]Base clients'!F9 -> Constantine | G9: ='[6]Base clients'!G9 -> +213 770940614 | H9: ='[6]Base clients'!H9 -> +213 553280150 | J9: ='[6]Base clients'!J9 -> sarlnextpower@gmail.com | K9: ='[6]Base clients'!K9 -> 20B00727003 | L9: ='[6]Base clients'!L9 -> EURO | M9: ='[6]Base clients'!M9 -> 0 | N9: ='[6]Base clients'!N9 -> 0 | O9: ='[6]Base clients'!O9 -> 2025007270385 | P9: ='[6]Base clients'!P9 -> ALGERIA | Q9: ='[6]Base clients'!Q9 -> 0
A10: ='[6]Base clients'!A10 -> X049002 | B10: ='[6]Base clients'!B10 -> Professionnel | C10: ='[6]Base clients'!C10 -> Batteriedienst Hempe | D10: ='[6]Base clients'!D10 -> Weimarische Str. 128 | E10: ='[6]Base clients'!E10 -> 99625 | F10: ='[6]Base clients'!F10 -> Großneuhausen | G10: ='[6]Base clients'!G10 -> +49 1714020578 | I10: ='[6]Base clients'!I10 -> www.staplerbatterie24.de | J10: ='[6]Base clients'!J10 -> sabrina@batteriedienst-hempe.de | K10: ='[6]Base clients'!K10 -> DE 815903643 | L10: ='[6]Base clients'!L10 -> EURO | M10: ='[6]Base clients'!M10 -> 0 | N10: ='[6]Base clients'!N10 -> 0 | O10: ='[6]Base clients'!O10 -> 151/230/26214 | P10: ='[6]Base clients'!P10 -> GERMANY | Q10: ='[6]Base clients'!Q10 -> 0
A11: ='[6]Base clients'!A11 -> X973001 | B11: ='[6]Base clients'!B11 -> Professionnel | C11: ='[6]Base clients'!C11 -> NADHEERA TRADING EST | D11: ='[6]Base clients'!D11 -> PO BOX | E11: ='[6]Base clients'!E11 -> 37920 | F11: ='[6]Base clients'!F11 -> EAST RIFFA | K11: ='[6]Base clients'!K11 -> 0 | L11: ='[6]Base clients'!L11 -> EURO | M11: ='[6]Base clients'!M11 -> 0 | N11: ='[6]Base clients'!N11 -> 0 | O11: ='[6]Base clients'!O11 -> 0 | P11: ='[6]Base clients'!P11 -> KINGDOM OF BAHARAIN | Q11: ='[6]Base clients'!Q11 -> 0
A12: ='[6]Base clients'!A12 -> X033001 | B12: ='[6]Base clients'!B12 -> Professionnel | C12: ='[6]Base clients'!C12 -> LITTORAL BATTERIES | D12: ='[6]Base clients'!D12 -> 348 RTE DE SAINT OMER 62280 | E12: ='[6]Base clients'!E12 -> 62280 | F12: ='[6]Base clients'!F12 -> SAINT-MARTIN-BOULOGNE | I12: ='[6]Base clients'!I12 -> www.batteries-du-littoral.fr | J12: ='[6]Base clients'!J12 -> littoral.batteries@wanadoo.fr | K12: ='[6]Base clients'!K12 -> B 440 078 210 | L12: ='[6]Base clients'!L12 -> EURO | M12: ='[6]Base clients'!M12 -> 440078210 | N12: ='[6]Base clients'!N12 -> 44007821000026 | O12: ='[6]Base clients'!O12 -> FR40440078210 | P12: ='[6]Base clients'!P12 -> FRANCE | Q12: ='[6]Base clients'!Q12 -> 800000 | R12: ='Price list'!B145 -> Littoral Batteries
A13: ='[6]Base clients'!A13 -> X033002 | B13: ='[6]Base clients'!B13 -> Professionnel | C13: ='[6]Base clients'!C13 -> ACCUS PLUS | D13: ='[6]Base clients'!D13 -> 2211 RTE DE LA FENERIE | E13: ='[6]Base clients'!E13 -> 06580 | F13: ='[6]Base clients'!F13 -> PEGOMAS | G13: ='[6]Base clients'!G13 -> +33(0)614840839 | I13: ='[6]Base clients'!I13 -> www.accusplus.com | J13: ='[6]Base clients'!J13 -> Christian.Giroux@accus-plus.com | K13: ='[6]Base clients'!K13 -> B 409 158 631 | L13: ='[6]Base clients'!L13 -> EURO | M13: ='[6]Base clients'!M13 -> 409158631 | N13: ='[6]Base clients'!N13 -> 40915863100062 | O13: ='[6]Base clients'!O13 -> FR75 409 158 | P13: ='[6]Base clients'!P13 -> FRANCE | Q13: ='[6]Base clients'!Q13 -> 400000 | R13: =R8 -> RPA
A14: ='[6]Base clients'!A14 -> X033003 | B14: ='[6]Base clients'!B14 -> Professionnel | C14: ='[6]Base clients'!C14 -> OUEST BATTERIES | D14: ='[6]Base clients'!D14 -> 6 AV DU LAC | E14: ='[6]Base clients'!E14 -> 37550 | F14: ='[6]Base clients'!F14 -> SAINT-AVERTIN | G14: ='[6]Base clients'!G14 -> +33(0)247251212 | J14: ='[6]Base clients'!J14 -> magasin28@ouest-batteries.fr | K14: ='[6]Base clients'!K14 -> B 413 423 146 | L14: ='[6]Base clients'!L14 -> EURO | M14: ='[6]Base clients'!M14 -> 413423146 | N14: ='[6]Base clients'!N14 -> 41342314600047 | O14: ='[6]Base clients'!O14 -> FR96413423146 | P14: ='[6]Base clients'!P14 -> FRANCE | Q14: ='[6]Base clients'!Q14 -> 1300000 | R14: ='Price list'!B89 -> Ouest Batteries
A15: ='[6]Base clients'!A15 -> X033004 | B15: ='[6]Base clients'!B15 -> Professionnel | C15: ='[6]Base clients'!C15 -> PROXITECH SAS | D15: ='[6]Base clients'!D15 -> Parc Gustave Eiffel- 3,Av, Gutenberg- | E15: ='[6]Base clients'!E15 -> 77600 | F15: ='[6]Base clients'!F15 -> BUSSY SAINT GEORGE | G15: ='[6]Base clients'!G15 -> +33(0) 1 71 58 26 10 | H15: ='[6]Base clients'!H15 -> +33 (0) 1 85 76 65 84 | ... Q15: ='[6]Base clients'!Q15 -> 800000 | R15: ='Price list'!B106 -> Proxitech
A16: ='[6]Base clients'!A16 -> X966001 | B16: ='[6]Base clients'!B16 -> Professionnel | C16: ='[6]Base clients'!C16 -> Bin-Shihon Group Co., Ltd. | D16: ='[6]Base clients'!D16 -> P.O. Box 5922 | E16: ='[6]Base clients'!E16 -> 21432 | F16: ='[6]Base clients'!F16 -> Jeddah | G16: ='[6]Base clients'!G16 -> +966 12 681 22 22 | I16: ='[6]Base clients'!I16 -> www.binshihon.com | K16: ='[6]Base clients'!K16 -> 0 | L16: ='[6]Base clients'!L16 -> USD | M16: ='[6]Base clients'!M16 -> 0 | N16: ='[6]Base clients'!N16 -> 0 | O16: ='[6]Base clients'!O16 -> 0 | P16: ='[6]Base clients'!P16 -> KINGDOM OF SAUDI ARABIA | Q16: ='[6]Base clients'!Q16 -> 1500000 | R16: ='Price list'!B161 -> BIN SHIHON
A17: ='[6]Base clients'!A17 -> X966002 | B17: ='[6]Base clients'!B17 -> Professionnel | C17: ='[6]Base clients'!C17 -> Bin-Shihon trading Co | D17: ='[6]Base clients'!D17 -> P.O. Box 2896 | E17: ='[6]Base clients'!E17 -> 11461 | F17: ='[6]Base clients'!F17 -> Riyadh | K17: ='[6]Base clients'!K17 -> 0 | L17: ='[6]Base clients'!L17 -> USD | M17: ='[6]Base clients'!M17 -> 0 | N17: ='[6]Base clients'!N17 -> 0 | O17: ='[6]Base clients'!O17 -> 0 | P17: ='[6]Base clients'!P17 -> KINGDOM OF SAUDI ARABIA | Q17: ='[6]Base clients'!Q17 -> 0 | R17: =R16 -> BIN SHIHON
A18: ='[6]Base clients'!A18 -> X218004 | B18: ='[6]Base clients'!B18 -> Professionnel | C18: ='[6]Base clients'!C18 -> ERRAFIK EL DAYEM | D18: ='[6]Base clients'!D18 -> Tripoli | E18: ='[6]Base clients'!E18 -> 0 | F18: ='[6]Base clients'!F18 -> TRIPOLI | G18: ='[6]Base clients'!G18 -> +218 913201365 | K18: ='[6]Base clients'!K18 -> 0 | L18: ='[6]Base clients'!L18 -> EURO | M18: ='[6]Base clients'!M18 -> 0 | N18: ='[6]Base clients'!N18 -> 0 | O18: ='[6]Base clients'!O18 -> 0 | P18: ='[6]Base clients'!P18 -> 0 | Q18: ='[6]Base clients'!Q18 -> 0
A19: ='[6]Base clients'!A19 -> X359001 | B19: ='[6]Base clients'!B19 -> Professionnel | C19: ='[6]Base clients'!C19 -> MONBAT AD | D19: ='[6]Base clients'!D19 -> 32A, Cherni Vrah Blvd, fl 4, VAT No BG111028849 | E19: ='[6]Base clients'!E19 -> 1407 | F19: ='[6]Base clients'!F19 -> Sofia | G19: ='[6]Base clients'!G19 -> +359 96 393 123 | I19: ='[6]Base clients'!I19 -> www.monbat.com | K19: ='[6]Base clients'!K19 -> 0 | L19: ='[6]Base clients'!L19 -> EURO | M19: ='[6]Base clients'!M19 -> 0 | N19: ='[6]Base clients'!N19 -> 0 | O19: ='[6]Base clients'!O19 -> 0 | P19: ='[6]Base clients'!P19 -> BULGARIA | Q19: ='[6]Base clients'!Q19 -> 0
A20: ='[6]Base clients'!A20 -> X048001 | B20: ='[6]Base clients'!B20 -> Professionnel | C20: ='[6]Base clients'!C20 -> BATCAR | D20: ='[6]Base clients'!D20 -> Spolka Jawna Krzysztof Pawluc | E20: ='[6]Base clients'!E20 -> 0 | F20: ='[6]Base clients'!F20 -> Bogdan Tyliszczak | G20: ='[6]Base clients'!G20 -> +48 683209898 | I20: ='[6]Base clients'!I20 -> www.batcar.pl | J20: ='[6]Base clients'!J20 -> mdymek@batcar.pl | K20: ='[6]Base clients'!K20 -> PL9730548815 | L20: ='[6]Base clients'!L20 -> EURO | M20: ='[6]Base clients'!M20 -> 0 | N20: ='[6]Base clients'!N20 -> 535010484 | O20: ='[6]Base clients'!O20 -> 9730548815 | P20: ='[6]Base clients'!P20 -> POLAND | Q20: ='[6]Base clients'!Q20 -> 1000000 | R20: ='Price list'!B67 -> Batcar
