Workbook

Sheet Tarif (2)
D1: 1 | E1: 2 | F1: 3 | G1: 4 | H1: 5 | I1: 6 | J1: 7 | K1: 8 | L1: 9 | M1: 10 | N1: 11 | O1: 12 | P1: 13 | Q1: 14 | R1: 15
B2: Typ | C2: Gewicht | D2: LME 1500 | E2: LME 1550 | F2: LME 1600 | G2: LME 1650 | H2: LME 1700 | I2: LME 1750 | J2: LME 1800 | K2: LME 1850 | L2: LME 1900 | M2: LME 1950 | N2: LME 2000 | O2: LME 2050 | P2: LME 2100 | Q2: LME 2150 | R2: LME 2200
A3: PLAQUES 204+ | B3: 204+ | C3: 1.16 | D3: 3.21 | E3: 3.28 | F3: 3.35 | G3: 3.41 | H3: 3.47 | I3: 3.52 | J3: 3.58 | K3: 3.64 | L3: 3.69 | M3: 3.75 | N3: 3.81 | O3: 3.86 | P3: 3.92 | Q3: 3.98 | R3: 4.04
A4: PLAQUES 204- | B4: 204- | C4: 0.97 | D4: 2.36 | E4: 2.4 | F4: 2.45 | G4: 2.5 | H4: 2.55 | I4: 2.6 | J4: 2.65 | K4: 2.69 | L4: 2.73 | M4: 2.78 | N4: 2.82 | O4: 2.86 | P4: 2.91 | Q4: 2.95 | R4: 3
A5: PLAQUES OGI+ | B5: OGI+ | C5: 0.48205973 | D5: 1.14 | E5: 1.17 | F5: 1.19 | G5: 1.21 | H5: 1.23 | I5: 1.26 | J5: 1.29 | K5: 1.31 | L5: 1.33 | M5: 1.35 | N5: 1.37 | O5: 1.39 | P5: 1.41 | Q5: 1.43 | R5: 1.45
A6: PLAQUES OGI- | B6: OGI- | C6: 0.48 | D6: 1.14 | E6: 1.17 | F6: 1.19 | G6: 1.21 | H6: 1.22 | I6: 1.25 | J6: 1.29 | K6: 1.31 | L6: 1.33 | M6: 1.35 | N6: 1.37 | O6: 1.39 | P6: 1.41 | Q6: 1.43 | R6: 1.45 | S6: 500
A7: PLAQUES TUBULAIRES 274 | B7: 274+ | C7: 1.48 | D7: 4.12 | E7: 4.2 | F7: 4.27 | G7: 4.35 | H7: 4.43 | I7: 4.5 | J7: 4.58 | K7: 4.65 | L7: 4.72 | M7: 4.8 | N7: 4.87 | O7: 4.94 | P7: 5.02 | Q7: 5.1 | R7: 5.17
A8: PLAQUES 274 internes | B8: 274 int | C8: 1.27 | D8: 3.04 | E8: 3.11 | F8: 3.17 | G8: 3.24 | H8: 3.3 | I8: 3.37 | J8: 3.44 | K8: 3.49 | L8: 3.54 | M8: 3.6 | N8: 3.65 | O8: 3.71 | P8: 3.77 | Q8: 3.82 | R8: 3.88
A9: PLAQUES 274 externes | B9: 274-ext | C9: 0.82 | D9: 1.96 | E9: 2 | F9: 2.04 | G9: 2.09 | H9: 2.13 | I9: 2.17 | J9: 2.21 | K9: 2.25 | L9: 2.28 | M9: 2.32 | N9: 2.35 | O9: 2.39 | P9: 2.43 | Q9: 2.46 | R9: 2.5
A10: PLAQUES TUBULAIRES 289 | B10: 289+ | C10: 1.6 | D10: 4.45 | E10: 4.53 | F10: 4.61 | G10: 4.69 | H10: 4.77 | I10: 4.86 | J10: 4.94 | K10: 5.01 | L10: 5.09 | M10: 5.17 | N10: 5.25 | O10: 5.33 | P10: 5.41 | Q10: 5.49 | R10: 5.58
A11: PLAQUES 289 internes | B11: 289-int | C11: 1.345 | D11: 3.23 | E11: 3.3 | F11: 3.38 | G11: 3.45 | H11: 3.52 | I11: 3.59 | J11: 3.66 | K11: 3.72 | L11: 3.78 | M11: 3.83 | N11: 3.89 | O11: 3.95 | P11: 4.01 | Q11: 4.07 | R11: 4.14
A12: PLAQUES 289 externes | B12: 289-ext | C12: 0.87 | D12: 2.08 | E12: 2.12 | F12: 2.16 | G12: 2.21 | H12: 2.25 | I12: 2.3 | J12: 2.35 | K12: 2.38 | L12: 2.42 | M12: 2.46 | N12: 2.49 | O12: 2.53 | P12: 2.57 | Q12: 2.61 | R12: 2.65
A13: PLAQUES TUBULAIRES 315 | B13: 315+ | C13: 2.01 | D13: 5.51 | E13: 5.62 | F13: 5.72 | G13: 5.82 | H13: 5.93 | I13: 6.03 | J13: 6.14 | K13: 6.24 | L13: 6.33 | M13: 6.43 | N13: 6.53 | O13: 6.63 | P13: 6.73 | Q13: 6.83 | R13: 6.94
A14: PLAQUES 315 internes | B14: 315-int | C14: 1.495 | D14: 3.61 | E14: 3.69 | F14: 3.77 | G14: 3.85 | H14: 3.93 | I14: 4 | J14: 4.08 | K14: 4.14 | L14: 4.21 | M14: 4.27 | N14: 4.34 | O14: 4.4 | P14: 4.47 | Q14: 4.54 | R14: 4.61
A15: PLAQUES 315 externes | B15: 315-ext | C15: 1.1 | D15: 2.62 | E15: 2.68 | F15: 2.73 | G15: 2.79 | H15: 2.85 | I15: 2.9 | J15: 2.96 | K15: 3 | L15: 3.05 | M15: 3.1 | N15: 3.14 | O15: 3.19 | P15: 3.24 | Q15: 3.29 | R15: 3.34
A16: PLAQUES TUBULAIRES 399 | B16: 399+ | C16: 2.18 | D16: 6 | E16: 6.11 | F16: 6.22 | G16: 6.34 | H16: 6.46 | I16: 6.57 | J16: 6.68 | K16: 6.79 | L16: 6.89 | M16: 7 | N16: 7.1 | O16: 7.21 | P16: 7.32 | Q16: 7.43 | R16: 7.55 | S16: 600
A17: PLAQUES 399 internes | B17: 399-int | C17: 1.81 | D17: 4.38 | E17: 4.47 | F17: 4.57 | G17: 4.66 | H17: 4.75 | I17: 4.85 | J17: 4.95 | K17: 5.02 | L17: 5.1 | M17: 5.18 | N17: 5.26 | O17: 5.34 | P17: 5.42 | Q17: 5.5 | R17: 5.59 | S17: 400
A18: PLAQUES 399 externes | B18: 399-ext | C18: 1.14 | D18: 2.71 | E18: 2.77 | F18: 2.84 | G18: 2.89 | H18: 2.95 | I18: 3.01 | J18: 3.07 | K18: 3.12 | L18: 3.17 | M18: 3.21 | N18: 3.26 | O18: 3.31 | P18: 3.36 | Q18: 3.42 | R18: 3.47 | S18: 100
A19: PLAQUES TUBULAIRES 429 | B19: 429+ | C19: 2.32 | D19: 6.43 | E19: 6.54 | F19: 6.66 | G19: 6.78 | H19: 6.91 | I19: 7.02 | J19: 7.14 | K19: 7.25 | L19: 7.36 | M19: 7.48 | N19: 7.59 | O19: 7.71 | P19: 7.83 | Q19: 7.94 | R19: 8.07
A20: PLAQUES 429 internes | B20: 429-int | C20: 1.99 | D20: 4.81 | E20: 4.92 | F20: 5.03 | G20: 5.13 | H20: 5.23 | I20: 5.33 | J20: 5.44 | K20: 5.52 | L20: 5.61 | M20: 5.69 | N20: 5.78 | O20: 5.87 | P20: 5.96 | Q20: 6.05 | R20: 6.14
A21: PLAQUES 429 externes | B21: 429-ext | C21: 1.22 | D21: 2.91 | E21: 2.97 | F21: 3.04 | G21: 3.05 | H21: 3.07 | I21: 3.18 | J21: 3.29 | K21: 3.35 | L21: 3.4 | M21: 3.45 | N21: 3.5 | O21: 3.56 | P21: 3.61 | Q21: 3.67 | R21: 3.72
A22: PLAQUES TUBULAIRES 534 | B22: 534+ | C22: 2.699 | D22: 7.51 | E22: 7.64 | F22: 7.78 | G22: 7.93 | H22: 8.07 | I22: 8.21 | J22: 8.34 | K22: 8.47 | L22: 8.6 | M22: 8.74 | N22: 8.87 | O22: 9.01 | P22: 9.14 | Q22: 9.28 | R22: 9.43 | S22: 300
A23: PLAQUES 534 internes | B23: 534-int | C23: 2.42 | D23: 5.88 | E23: 6 | F23: 6.12 | G23: 6.25 | H23: 6.38 | I23: 6.5 | J23: 6.63 | K23: 6.73 | L23: 6.84 | M23: 6.94 | N23: 7.05 | O23: 7.16 | P23: 7.27 | Q23: 7.38 | R23: 7.49 | S23: 200
A24: PLAQUES 534 externes | B24: 534-ext | C24: 1.58 | D24: 3.76 | E24: 3.85 | F24: 3.94 | G24: 4.02 | H24: 4.1 | I24: 4.18 | J24: 4.26 | K24: 4.33 | L24: 4.4 | M24: 4.46 | N24: 4.53 | O24: 4.6 | P24: 4.67 | Q24: 4.74 | R24: 4.82
C26: Preise sind gültig bis 30/06/2022

Sheet FP230130
K1: LME
E2: Société Nouvelle des Accumulateurs | J2: =K2+3 -> 16 | K2: 13
E4: Route de sousse km 6 2033 Megrine-Tunisie Tel : [+216] 71 433-233 Fax : [+216] 71 433-424
E5: Capital 10.500.000 DT MF : 1027384 F/A/M/000 RC : B2478702007 Mail : bat.nour@nour.com.tn
E6: Web: www.batteriesnour.com
E7: Banque Domiciliataire : STB bank IBAN : TN59 1010 6045 2315 2787 8897 SWIFT : STBKTNTTXXX
C11: Megrine le : 12/09/2023
C12: Batteriedienst Hempe | L12: Typ | M12: Gewicht | N12: QUANTITY
C13: Weimarische Str. 128, 99625 Großneuhausen, Germany | K13: PLAQUES 204+ | L13: 204+ | M13: 1.16
C14: USt-Id-Nr: DE 815903643 | K14: PLAQUES 204- | L14: 204- | M14: 0.97
C15: Steuernummer : 151/230/26214 | K15: PLAQUES OGI+ | L15: OGI+ | M15: 0.48205973 | N15: 500
C16: Email : sabrina@batteriedienst-hempe.de / info@nour-batteries.de | K16: PLAQUES OGI- | L16: OGI- | M16: 0.48
C17: Tél : 00491714020578 | K17: PLAQUES TUBULAIRES 274 | L17: 274+ | M17: 1.48
K18: PLAQUES 274 internes | L18: 274 int | M18: 1.27
C19: FACTURE PROFORMA N° FP230130 | K19: PLAQUES 274 externes | L19: 274-ext | M19: 0.82
K20: PLAQUES TUBULAIRES 289 | L20: 289+ | M20: 1.6 | N20: 300
C21: Réf | D21: Désignation | F21: Quantité pce | G21: Poids (tonne) | H21: P.U en EURO | I21: P.T en EURO | K21: PLAQUES 289 internes | L21: 289-int | M21: 1.345
H22: EXW | I22: EXW | K22: PLAQUES 289 externes | L22: 289-ext | M22: 0.87
C23: P001 | D23: PLAQUES 204+ | F23: =+N13 -> 0 | G23: =+F23*'Tarif (2)'!C3/1000 -> 0 | H23: =+VLOOKUP(D23,'Tarif (2)'!A:R,'FP230130'!$J$2,FALSE) -> 3.92 | I23: =H23*F23 -> 0 | K23: PLAQUES TUBULAIRES 315 | L23: 315+ | M23: 2.01
C24: P002 | D24: PLAQUES 204- | F24: =+N14 -> 0 | G24: =+F24*'Tarif (2)'!C4/1000 -> 0 | H24: =+VLOOKUP(D24,'Tarif (2)'!A:R,'FP230130'!$J$2,FALSE) -> 2.91 | I24: =H24*F24 -> 0 | K24: PLAQUES 315 internes | L24: 315-int | M24: 1.495 | N24: 200
C25: P003 | D25: PLAQUES OGI+ | F25: =+N15 -> 500 | G25: =+F25*'Tarif (2)'!C5/1000 -> 0.24102986 | H25: =+VLOOKUP(D25,'Tarif (2)'!A:R,'FP230130'!$J$2,FALSE) -> 1.41 | I25: =H25*F25 -> 705 | K25: PLAQUES 315 externes | L25: 315-ext | M25: 1.1
C26: P004 | D26: PLAQUES OGI- | F26: =+N16 -> 0 | G26: =+F26*'Tarif (2)'!C6/1000 -> 0 | H26: =+VLOOKUP(D26,'Tarif (2)'!A:R,'FP230130'!$J$2,FALSE) -> 1.41 | I26: =H26*F26 -> 0 | K26: PLAQUES TUBULAIRES 399 | L26: 399+ | M26: 2.18
C27: P005 | D27: PLAQUES TUBULAIRES 274 | F27: =+N17 -> 0 | G27: =+F27*'Tarif (2)'!C7/1000 -> 0 | H27: =+VLOOKUP(D27,'Tarif (2)'!A:R,'FP230130'!$J$2,FALSE) -> 5.02 | I27: =H27*F27 -> 0 | K27: PLAQUES 399 internes | L27: 399-int | M27: 1.81
C28: P006 | D28: PLAQUES 274 internes | F28: =+N18 -> 0 | G28: =+F28*'Tarif (2)'!C8/1000 -> 0 | H28: =+VLOOKUP(D28,'Tarif (2)'!A:R,'FP230130'!$J$2,FALSE) -> 3.77 | I28: =H28*F28 -> 0 | K28: PLAQUES 399 externes | L28: 399-ext | M28: 1.14
C29: P007 | D29: PLAQUES 274 externes | F29: =+N19 -> 0 | G29: =+F29*'Tarif (2)'!C9/1000 -> 0 | H29: =+VLOOKUP(D29,'Tarif (2)'!A:R,'FP230130'!$J$2,FALSE) -> 2.43 | I29: =H29*F29 -> 0 | K29: PLAQUES TUBULAIRES 429 | L29: 429+ | M29: 2.32
C30: P008 | D30: PLAQUES TUBULAIRES 289 | F30: =+N20 -> 300 | G30: =+F30*'Tarif (2)'!C10/1000 -> 0.48 | H30: =+VLOOKUP(D30,'Tarif (2)'!A:R,'FP230130'!$J$2,FALSE) -> 5.41 | I30: =H30*F30 -> 1623 | K30: PLAQUES 429 internes | L30: 429-int | M30: 1.99
C31: P009 | D31: PLAQUES 289 internes | F31: =+N21 -> 0 | G31: =+F31*'Tarif (2)'!C11/1000 -> 0 | H31: =+VLOOKUP(D31,'Tarif (2)'!A:R,'FP230130'!$J$2,FALSE) -> 4.01 | I31: =H31*F31 -> 0 | K31: PLAQUES 429 externes | L31: 429-ext | M31: 1.22
C32: P010 | D32: PLAQUES 289 externes | F32: =+N22 -> 0 | G32: =+F32*'Tarif (2)'!C12/1000 -> 0 | H32: =+VLOOKUP(D32,'Tarif (2)'!A:R,'FP230130'!$J$2,FALSE) -> 2.57 | I32: =H32*F32 -> 0 | K32: PLAQUES TUBULAIRES 534 | L32: 534+ | M32: 2.699
C33: P011 | D33: PLAQUES TUBULAIRES 315 | F33: =+N23 -> 0 | G33: =+F33*'Tarif (2)'!C13/1000 -> 0 | H33: =+VLOOKUP(D33,'Tarif (2)'!A:R,'FP230130'!$J$2,FALSE) -> 6.73 | I33: =H33*F33 -> 0 | K33: PLAQUES 534 internes | L33: 534-int | M33: 2.42
C34: P012 | D34: PLAQUES 315 internes | F34: =+N24 -> 200 | G34: =+F34*'Tarif (2)'!C14/1000 -> 0.299 | H34: =+VLOOKUP(D34,'Tarif (2)'!A:R,'FP230130'!$J$2,FALSE) -> 4.47 | I34: =H34*F34 -> 894 | K34: PLAQUES 534 externes | L34: 534-ext | M34: 1.58
C35: P013 | D35: PLAQUES 315 externes | F35: =+N25 -> 0 | G35: =+F35*'Tarif (2)'!C15/1000 -> 0 | H35: =+VLOOKUP(D35,'Tarif (2)'!A:R,'FP230130'!$J$2,FALSE) -> 3.24 | I35: =H35*F35 -> 0 | K35: GRILLE | L35: GRILLE | N35: 0.3
C36: P014 | D36: PLAQUES TUBULAIRES 399 | F36: =+N26 -> 0 | G36: =+F36*'Tarif (2)'!C16/1000 -> 0 | H36: =+VLOOKUP(D36,'Tarif (2)'!A:R,'FP230130'!$J$2,FALSE) -> 7.32 | I36: =H36*F36 -> 0
C37: P015 | D37: PLAQUES 399 internes | F37: =+N27 -> 0 | G37: =+F37*'Tarif (2)'!C17/1000 -> 0 | H37: =+VLOOKUP(D37,'Tarif (2)'!A:R,'FP230130'!$J$2,FALSE) -> 5.42
C38: P016 | D38: PLAQUES 399 externes | F38: =+N28 -> 0 | G38: =+F38*'Tarif (2)'!C18/1000 -> 0 | H38: =+VLOOKUP(D38,'Tarif (2)'!A:R,'FP230130'!$J$2,FALSE) -> 3.36
C39: P017 | D39: PLAQUES TUBULAIRES 429 | F39: =+N29 -> 0 | G39: =+F39*'Tarif (2)'!C19/1000 -> 0 | H39: =+VLOOKUP(D39,'Tarif (2)'!A:R,'FP230130'!$J$2,FALSE) -> 7.83
C40: P018 | D40: PLAQUES 429 internes | F40: =+N30 -> 0 | G40: =+F40*'Tarif (2)'!C20/1000 -> 0 | H40: =+VLOOKUP(D40,'Tarif (2)'!A:R,'FP230130'!$J$2,FALSE) -> 5.96
C41: P019 | D41: PLAQUES 429 externes | F41: =+N31 -> 0 | G41: =+F41*'Tarif (2)'!C21/1000 -> 0 | H41: =+VLOOKUP(D41,'Tarif (2)'!A:R,'FP230130'!$J$2,FALSE) -> 3.61
C42: P020 | D42: PLAQUES TUBULAIRES 534 | F42: =+N32 -> 0 | G42: =+F42*'Tarif (2)'!C22/1000 -> 0 | H42: =+VLOOKUP(D42,'Tarif (2)'!A:R,'FP230130'!$J$2,FALSE) -> 9.14 | I42: =H42*F42 -> 0
C43: P021 | D43: PLAQUES 534 internes | F43: =+N33 -> 0 | G43: =+F43*'Tarif (2)'!C23/1000 -> 0 | H43: =+VLOOKUP(D43,'Tarif (2)'!A:R,'FP230130'!$J$2,FALSE) -> 7.27 | I43: =H43*F43 -> 0
C44: P022 | D44: PLAQUES 534 externes | F44: =+N34 -> 0 | G44: =+F44*'Tarif (2)'!C24/1000 -> 0 | H44: =+VLOOKUP(D44,'Tarif (2)'!A:R,'FP230130'!$J$2,FALSE) -> 4.67 | I44: =H44*F44 -> 0
...

Sheet FN230071
E2: Société Nouvelle des Accumulateurs
E4: Route de sousse km 6 2033 Megrine-Tunisie Tel : [+216] 71 433-233 Fax : [+216] 71 433-424
E5: Capital 10.500.000 DT MF : 1027384 F/A/M/000 RC : B2478702007 Mail : bat.nour@nour.com.tn
E6: Web: www.batteriesnour.com
E7: Banque Domiciliataire : STB bank IBAN : TN59 1010 6045 2315 2787 8897 SWIFT : STBKTNTTXXX
C11: =#REF! -> #REF!
C12: Batteriedienst Hempe
C13: Weimarische Str. 128, 99625 Großneuhausen, Germany
C14: USt-Id-Nr: DE 815903643
C15: Steuernummer : 151/230/26214
C16: Email : sabrina@batteriedienst-hempe.de / info@nour-batteries.de
C17: Tél : 00491714020578
C19: FACTURE N° FN230071
C21: Réf | D21: Désignation | F21: Quantité pce | G21: Poids (tonne) | H21: P.U en EURO | I21: P.T en EURO | J21: plomb | K21: 0.5 | L21: poids en T
H22: EXW | I22: EXW | J22: OGI+/- | K22: 3400 | L22: quantité
C23: 1 | D23: =#REF! -> #REF! | F23: =#REF! -> #REF! | G23: =F23*2.4/1000 -> #REF! | H23: ='FP230130'!H23 -> 3.92 | I23: =F23*H23 -> #REF! | J23: Coef | K23: =K21/K22*1000 -> 0.14705882 | L23: Calculé
C24: =+C23+1 -> 2 | D24: =#REF! -> #REF! | F24: =#REF! -> #REF! | G24: =F24*2.4/1000 -> #REF! | H24: 5.262 | I24: =F24*H24 -> #REF! | J24: Tot Fact | K24: =VLOOKUP(C39,'FP230130'!C23:I49,7,FALSE) -> 3927 | L24: Tot PROF REELLE
C25: =+C24+1 -> 3 | D25: =#REF! -> #REF! | F25: =#REF! -> #REF! | G25: =F25*2.4/1000 -> #REF! | H25: ='FP230130'!H25 -> 1.41 | I25: =F25*H25 -> #REF! | J25: Tot OGI | K25: ='FP230130'!I30+'FP230130'!I29 -> 1623 | L25: TOT OGI+/-
C26: 1 | D26: =#REF! -> #REF! | F26: =#REF! -> #REF! | G26: =F26*L43/1000 -> #REF! | H26: ='FP230130'!H26 -> 1.41 | I26: =F26*H26 -> #REF! | J26: DIF | K26: ='FP230130'!I45-(SUM(I23:I28)-SUM('FP230130'!I23:I28)) -> #REF! | L26: Tot Plomb-ajustements
C27: =+C26+1 -> 2 | D27: =#REF! -> #REF! | F27: =#REF! -> #REF! | G27: =F27*L42/1000 -> #REF! | H27: ='FP230130'!H27 -> 5.02 | I27: =F27*H27 -> #REF! | J27: Unit AJUST | K27: =K26/K22 -> #REF! | L27: Ajouter au PU OGI+/-
C28: =+C27+1 -> 3 | D28: =#REF! -> #REF! | F28: =#REF! -> #REF! | G28: =F28*2.4/1000 -> #REF! | H28: ='FP230130'!H28 -> 3.77 | I28: =F28*H28 -> #REF!
C29: =+C28+1 -> 4 | D29: =#REF! -> #REF! | F29: =#REF! -> #REF! | G29: =F29*0.33/1000 -> #REF! | H29: 1.72 | I29: =F29*H29 -> #REF! | J29: Ajustement Poids | K29: =K21/#REF! -> #REF! | L29: = poids réel+qtépce*K$29
C30: 4 | D30: =#REF! -> #REF! | F30: =#REF! -> #REF! | G30: =F30*0.33/1000 -> #REF! | H30: 1.71 | I30: =F30*H30 -> #REF! | N30: 3624
C31: =+C30+1 -> 5 | D31: =#REF! -> #REF! | F31: =#REF! -> #REF! | G31: =#REF! -> #REF! | H31: ='FP230130'!H31 -> 4.01 | I31: =F31*H31 -> #REF! | K31: =G23+(F23*K$29) -> #REF!
C32: 10 | D32: =#REF! -> #REF! | F32: =#REF! -> #REF! | G32: =#REF! -> #REF! | H32: ='FP230130'!H32 -> 2.57 | I32: =F32*H32 -> #REF! | K32: =G24+(F24*K$29) -> #REF!
C33: =#REF! -> #REF! | D33: =#REF! -> #REF! | F33: =#REF! -> #REF! | G33: =#REF! -> #REF! | H33: ='FP230130'!H33 -> 6.73 | I33: =F33*H33 -> #REF! | K33: =G25+(F25*K$29) -> #REF!
C34: =#REF! -> #REF! | D34: =#REF! -> #REF! | F34: =#REF! -> #REF! | G34: =#REF! -> #REF! | H34: ='FP230130'!H34 -> 4.47 | I34: =F34*H34 -> #REF! | K34: =G26+(F26*K$29) -> #REF!
C35: =#REF! -> #REF! | D35: =#REF! -> #REF! | F35: =#REF! -> #REF! | G35: =#REF! -> #REF! | H35: ='FP230130'!H35 -> 3.24 | I35: =F35*H35 -> #REF! | J35: =300/0.6 -> 500 | K35: =G27+(F27*K$29) -> #REF!
C36: =#REF! -> #REF! | D36: =#REF! -> #REF! | F36: =#REF! -> #REF! | G36: =#REF! -> #REF! | H36: ='FP230130'!H36 -> 7.32 | I36: =F36*H36 -> #REF! | J36: =0.6/300 -> 0.002 | K36: =G28+(F28*K$29) -> #REF!
C37: =#REF! -> #REF! | D37: =#REF! -> #REF! | F37: =#REF! -> #REF! | G37: =#REF! -> #REF! | H37: ='FP230130'!H42 -> 9.14 | I37: =F37*H37 -> #REF! | K37: =G29+(F29*K$29) -> #REF!
C38: =#REF! -> #REF! | D38: =#REF! -> #REF! | F38: =#REF! -> #REF! | G38: =#REF! -> #REF! | H38: ='FP230130'!H43 -> 7.27 | I38: =F38*H38 -> #REF! | K38: =G30+(F30*K$29) -> #REF!
C39: Totaux | F39: =SUM(F23:F38) -> #REF! | G39: =SUM(G23:G38) -> #REF! | I39: =SUM(I23:I38) -> #REF! | J39: =G23/F23*1000 -> #REF! | K39: =G31+(F31*K$29) -> #REF! | M39: 2.4
C40: * Arrêtée la présente facture à la somme de : | J40: =G24/F24*1000 -> #REF! | K40: =G32+(F32*K$29) -> #REF! | M40: 2.4
C41: =#REF! -> #REF! | J41: =G25/F25*1000 -> #REF! | K41: =G33+(F33*K$29) -> #REF! | M41: 1.6666667
C42: =#REF! -> #REF! | J42: =G26/F26*1000 -> #REF! | K42: =G34+(F34*K$29) -> #REF! | L42: 2.4 | M42: 3
C43: =#REF! -> #REF! | J43: =G27/F27*1000 -> #REF! | K43: =G35+(F35*K$29) -> #REF! | L43: 3.27 | M43: 2.8
C44: =#REF! -> #REF! | J44: =G28/F28*1000 -> #REF! | K44: =G36+(F36*K$29) -> #REF! | M44: 2
C45: =#REF! -> #REF! | J45: =G29/F29*1000 -> #REF! | K45: =G37+(F37*K$29) -> #REF! | M45: 330
C46: =#REF! -> #REF! | J46: =G30/F30*1000 -> #REF! | K46: =G38+(F38*K$29) -> #REF! | M46: 330
C47: =#REF! -> #REF! | K47: =G39+(F39*K$29) -> #REF!
...

Sheet FP230094
E2: Société Nouvelle des Accumulateurs
E4: Route de sousse km 6 2033 Megrine-Tunisie Tel : [+216] 71 433-233 Fax : [+216] 71 433-424
E5: Capital 10.500.000 DT MF : 1027384 F/A/M/000 RC : B2478702007 Mail : bat.nour@nour.com.tn
E6: Web: www.batteriesnour.com
E7: Banque Domiciliataire : STB bank IBAN : TN59 1010 6045 2315 2787 8897 SWIFT : STBKTNTTXXX
C11: Megrine le : | P11: =0.125 -> 0.125
C12: Batteriedienst Hempe | P12: 0.125
C13: Weimarische Str. 128, 99625 Großneuhausen, Germany | P13: 0.125
C14: USt-Id-Nr: DE 815903643 | P14: 0.125
C15: Steuernummer : 151/230/26214 | P15: 0.125
C16: Email : sabrina@batteriedienst-hempe.de / info@nour-batteries.de | P16: 0.125
C17: Tél : 00491714020578 | P17: 0.125
P18: 0.125
C19: FACTURE N° FP230 | P19: 0.125
P20: 0.125
C21: Réf | D21: Désignation | F21: Quantité pce | G21: Poids (tonne) | H21: P.U en EURO | I21: P.T en EURO | P21: 0.125
H22: EXW | I22: EXW | P22: 0.125
C23: 1 | D23: PLAQUES TUBULAIRES 399 | F23: 600 | G23: 1.308 | H23: 7.32 | I23: =H23*F23 -> 4392
C24: 2 | D24: PLAQUES 399 internes | F24: 400 | G24: 0.724 | H24: 5.42 | I24: =H24*F24 -> 2168
C25: 3 | D25: PLAQUES 399 externes | F25: 100 | G25: 0.114 | H25: 3.36 | I25: =H25*F25 -> 336
C26: 4 | D26: PLAQUES TUBULAIRES 534 | F26: 300 | G26: 0.8097 | H26: 9.14 | I26: =H26*F26 -> 2742
C27: 5 | D27: PLAQUES 534 internes | F27: 200 | G27: 0.484 | H27: 7.27 | I27: =H27*F27 -> 1454
C28: 6 | D28: PLAQUES 534 externes | G28: 0 | H28: 4.53 | I28: =H28*F28 -> 0
C29: 7 | D29: PLAQUES OGI+ | G29: 0 | H29: 1.37 | I29: =H29*F29 -> 0
C30: 6 | D30: PLAQUES OGI- | F30: 500 | G30: 0.24 | H30: 1.41 | I30: =H30*F30 -> 705
C31: 8 | D31: PLAQUES 204+ | G31: 0 | H31: 3.81 | I31: =H31*F31 -> 0
C32: 9 | D32: PLAQUES 204- | G32: 0 | H32: 2.82 | I32: =H32*F32 -> 0
C33: 10 | D33: PLAQUES TUBULAIRES 274 | G33: 0 | H33: 4.87 | I33: =H33*F33 -> 0 | K33: =300/2400 -> 0.125 | N33: 1.37
C34: 11 | D34: PLAQUES 274 internes | G34: 0 | H34: 3.65 | I34: =H34*F34 -> 0 | N34: 1.41
C35: 12 | D35: PLAQUES 274 externes | G35: 0 | H35: 2.35 | I35: =H35*F35 -> 0 | N35: =N34+N33 -> 2.78
C36: =+C35+1 -> 13 | D36: PLAQUES TUBULAIRES 315 | G36: 0 | H36: 6.53 | I36: =H36*F36 -> 0
C37: =+C36+1 -> 14 | D37: PLAQUES 315 internes | G37: 0 | H37: 4.375 | I37: =H37*F37 -> 0
C38: =+C37+1 -> 15 | D38: PLAQUES 315 externes | G38: 0 | H38: 3.14 | I38: =H38*F38 -> 0
C39: 9 | D39: PLAQUES TUBULAIRES 274 | G39: 0 | H39: 4.87 | I39: =H39*F39 -> 0
C40: 10 | D40: PLAQUES 274 internes | G40: 0 | H40: 3.65 | I40: =H40*F40 -> 0
C41: 11 | D41: PLAQUES 274 externes | G41: 0 | H41: 2.35 | I41: =H41*F41 -> 0
C42: 13 | D42: GRILLE | G42: 0 | H42: 2350 | I42: =H42*G42 -> 0
C44: Totaux | F44: =SUM(F23:F43) -> 2100 | G44: =SUM(G23:G43) -> 3.6797 | I44: =SUM(I23:I43) -> 11797 | K44: ='FP230130'!$I$46 -> 3927 | L44: 705 | M44: =L$44/F23 -> 1.175
C45: * Arrêtée la présente facture à la somme de : | M45: =L$44/F24 -> 1.7625
C46: Onze mille sept cent quatre vingt dix sept euros | M46: =L$44/F25 -> 7.05
...

Sheet PLD
E2: Societe Nouvelle des Accumulateurs NOUR
E3: Address: Route de sousse km 6, 2033 Megrine, Tunis
E4: Tel : [+216] 71 433-233 Fax : [+216] 71 433-424
E5: Capital 12.000.000 DT MF : 1027384 F/A/M/000 RC : B2478702007
E6: Bank Details : STB bank / IBAN : TN59 1010 6045 2315 2787 8897 / SWIFT : STBKTNTTXXX
D9: Date:
D10: Client:
D11: ='FN230071'!C12 -> Batteriedienst Hempe
D12: ='FN230071'!C13 -> Weimarische Str. 128, 99625 Großneuhausen, Germany
D13: ='FN230071'!C14 -> USt-Id-Nr: DE 815903643
D14: ='FN230071'!C15 -> Steuernummer : 151/230/26214
D15: ='FN230071'!C16 -> Email : sabrina@batteriedienst-hempe.de / info@nour-batteries.de
D16: ='FN230071'!C17 -> Tél : 00491714020578
D18: LISTE DE COLISAGE
D19: RELATIVE A LA FACTURE: FN230
D21: PALETTE Numéro | E21: Désignation | F21: Quantité | I21: Palette N°01
D22: 1 | E22: PLAQUES 399 internes | F22: 400 | I22: Type | J22: Quantité
E23: PLAQUES 399 externes | F23: 100
E24: PLAQUES TUBULAIRES 399 | F24: 100
E25: PLAQUES OGI- | F25: 500
D26: 2 | E26: PLAQUES TUBULAIRES 534 | F26: 300
E27: PLAQUES 534 internes | F27: 200
D28: 3 | E28: PLAQUES TUBULAIRES 399 | F28: 500 | I28: 534 TUB | J28: 250
D29: TOTAL | F29: =+SUM(F22:F28) -> 2100 | I29: Type | J29: Quantité
D32: * Mode de livraison: EXW | I32: 399 TUB | J32: 400
D33: * Nombre de Palettes : 03 | I33: 399 IN | J33: 350
D34: =+CONCATENATE('FP230094'!C50," ",'FP230094'!E50," KGS") -> * Poids net : 3680 KGS
D35: =+CONCATENATE('FP230094'!C51," ",'FP230094'!E51," KGS") -> * Poids Brut : 3755 KGS

Sheet Calcul D
E2: Société Nouvelle des Accumulateurs
E4: Route de sousse km 6 2033 Megrine-Tunisie Tel : [+216] 71 433-233 Fax : [+216] 71 433-424
E5: Capital 10.500.000 DT MF : 1027384 F/A/M/000 RC : B2478702007 Mail : bat.nour@nour.com.tn
E6: Web: www.batteriesnour.com
E7: Banque Domiciliataire : STB bank IBAN : TN59 1010 6045 2315 2787 8897 SWIFT : STBKTNTTXXX
C11: Megrine le : | E11: 44810
C12: Batteriedienst Hempe
C13: Weimarische Str. 128, 99625 Großneuhausen, Germany
C14: USt-Id-Nr: DE 815903643
C15: Steuernummer : 151/230/26214
C16: Email : sabrina@batteriedienst-hempe.de / info@nour-batteries.de
C17: Tél : 00491714020578
C19: FACTURE N° FN220062
C21: Réf | D21: Désignation | F21: Quantité pce | G21: Poids (tonne) | H21: P.U en EURO | I21: P.T en EURO | J21: plomb | K21: 0.3 | L21: poids en T
H22: EXW | I22: EXW | J22: OGI+/- | K22: 1600 | L22: quantité | N22: ='FP230130'!I46/'FP230130'!F46 -> 3.9258223 | O22: ='FP230130'!#REF! -> #REF! | P22: ='FP230130'!#REF! -> #REF!
C23: 1 | D23: PLAQUES TUBULAIRES 399 | F23: ='FP230130'!F23 -> 0 | G23: =+F23*2.23/1000 -> 0 | H23: ='FP230130'!H23+0.4 -> 4.32 | I23: =F23*H23 -> 0 | J23: Coef | K23: =K21/K22*1000 -> 0.1875 | L23: Calculé | O23: =N22-P22 -> #REF!
C24: =+C23+1 -> 2 | D24: PLAQUES 399 internes | F24: ='FP230130'!F24 -> 0 | G24: =+F24*1.81/1000 -> 0 | H24: ='FP230130'!H24+0.4 -> 3.31 | I24: =F24*H24 -> 0 | J24: Tot Fact | K24: =VLOOKUP(C33,'FP230130'!C23:I49,7,FALSE) -> 3927 | L24: Tot PROF REELLE
C25: =+C24+1 -> 3 | D25: PLAQUES 399 externes | F25: ='FP230130'!F25 -> 500 | G25: =+F25*1.2/1000 -> 0.6 | H25: ='FP230130'!H25+0.4 -> 1.81 | I25: =F25*H25 -> 905 | J25: Tot OGI | K25: ='FP230130'!I30+'FP230130'!I29 -> 1623 | L25: TOT OGI+/-
C26: =+C25+1 -> 4 | D26: PLAQUES TUBULAIRES 534 | F26: ='FP230130'!F26 -> 0 | G26: =+F26*2.72/1000 -> 0 | H26: ='FP230130'!H26+0.4 -> 1.81 | I26: =F26*H26 -> 0 | J26: DIF | K26: ='FP230130'!I45-(SUM(I23:I28)-SUM('FP230130'!I23:I28)) -> 505 | L26: Tot Plomb-ajustements
C27: =+C26+1 -> 5 | D27: PLAQUES 534 internes | F27: ='FP230130'!F27 -> 0 | G27: =+F27*2.43/1000 -> 0 | H27: ='FP230130'!H27+0.4 -> 5.42 | I27: =F27*H27 -> 0 | J27: Unit AJUST | K27: =K26/K22 -> 0.315625 | L27: Ajouter au PU OGI+/-
C28: =+C27+1 -> 6 | D28: PLAQUES 534 externes | F28: ='FP230130'!F28 -> 0 | G28: =+F28*1.61/1000 -> 0 | H28: ='FP230130'!H28+0.4 -> 4.17 | I28: =F28*H28 -> 0
C29: =+C28+1 -> 7 | D29: PLAQUES OGI+ | F29: ='FP230130'!F29 -> 0 | G29: =+F29*(0.484+K23)/1000 -> 0 | H29: ='FP230130'!H29+0.4 -> 2.83 | I29: =F29*H29 -> 0
C30: 8 | D30: PLAQUES OGI- | F30: ='FP230130'!F30 -> 300 | G30: =+F30*(0.49+K23)/1000 -> 0.20325 | H30: ='FP230130'!H30+0.4 -> 5.81 | I30: =F30*H30 -> 1743
C33: Totaux | F33: =SUM(F23:F32) -> 800 | G33: =SUM(G23:G32) -> 0.80325 | I33: =SUM(I23:I32) -> 2648
C34: * Arrêtée la présente facture à la somme de :
C35: Vingt et un mille huit cent soixante neuf euros 49 centimes.
C36: * Mode de livraison: EXW
C37: * Mode de paiement : Virement avant Expédition
C38: * Nombre de Palettes : 04
C39: * Poids net : 7436 KGS
C40: * Poids Brut : 7516 KGS
C41: * Produit d'origine tunisienne
