Workbook

Sheet SNA 01-2018
B1: STB THAMEUR | C1: STB MEGRINE | D1: BTK | G1: MEG EURO | I1: MEG $
A2: SOLDE 31/12/2017 | B2: -1091.385 | C2: -2708598.4 | D2: 21951.634 | E2: =SUM(B2:D2) -> -2687738.2 | G2: 417021.86 | I2: 2124.54
A3: RECETTE | B3: =SUM(B4:B12) -> 10000 | C3: =SUM(C4:C12) -> 1950000 | D3: =SUM(D4:D12) -> 0 | E3: =SUM(B3:D3) -> 1960000 | G3: =SUM(G4:G12) -> 122000 | I3: =SUM(I4:I12) -> 0
A4: SND CHEQUE | B4: 10000 | C4: 1950000 | E4: =SUM(B4:D4) -> 1960000
A5: SND TRAITE | E5: =SUM(B5:D5) -> 0
A6: INTERETESCOMPTE TRAITE | E6: =SUM(B6:D6) -> 0
A7: BATTERIEDENIEST | E7: =SUM(B7:D7) -> 0
A8: ERRAFIK EL DAYEM | E8: =SUM(B8:D8) -> 0 | G8: 122000
A9: COTE D'IVOIR | E9: =SUM(B9:D9) -> 0
A10: MED ENERGY | E10: =SUM(B10:D10) -> 0
A11: NOUR GERMANY | E11: =SUM(B11:D11) -> 0
A12: VIREMENT RECU | E12: =SUM(B12:D12) -> 0
A13: AUTRES RECETTE | B13: =SUM(B14:B21) -> 0 | C13: =SUM(C14:C21) -> 427102.6 | D13: =SUM(D14:D21) -> 0 | E13: =SUM(B13:D13) -> 427102.6 | G13: =SUM(G14:G21) -> 0 | I13: =SUM(I14:I21) -> 0
A14: AUGMENTATION CAPITAL | E14: =SUM(B14:D14) -> 0
A15: DEBLOCAGE CMT | E15: =SUM(B15:D15) -> 0
A16: BLOCAGE | C16: -72897.4 | E16: =SUM(B16:D16) -> -72897.4
A17: BILLET DE TRESORERIE | E17: =SUM(B17:D17) -> 0
A18: PLACEMENT | C18: 500000 | E18: =SUM(B18:D18) -> 500000
A19: RESTITUTION TVA | E19: =SUM(B19:D19) -> 0
A20: VENTE DOLLARS | E20: =SUM(B20:D20) -> 0
A21: VENTE EURO | E21: =SUM(B21:D21) -> 0
A22: ENGAGEMENT BANCAIRE | B22: =SUM(B23:B43) -> -2921.181 | C22: =SUM(C23:C43) -> -306989.52 | D22: =SUM(D23:D43) -> -21930.277 | E22: =SUM(B22:D22) -> -331840.98 | G22: =SUM(G23:G43) -> 0 | I22: =SUM(I23:I43) -> 0
A23: CMT 1000 | E23: =SUM(B23:D23) -> 0
A24: CMT 1000 1 | C24: -71428.571 | E24: =SUM(B24:D24) -> -71428.571
A25: CMT 1150 | E25: =SUM(B25:D25) -> 0
A26: CMT 1250 | E26: =SUM(B26:D26) -> 0
A27: CMT 2418 | C27: -152000.28 | E27: =SUM(B27:D27) -> -152000.28
A28: CMT 2500 | E28: =SUM(B28:D28) -> 0
A29: CMT 350 | E29: =SUM(B29:D29) -> 0
A30: CMT 500 | E30: =SUM(B30:D30) -> 0
A31: CMT BTK | D31: =-10722-1625.716 -> -12347.716 | E31: =SUM(B31:D31) -> -12347.716
A32: CREDIT DE GESTION | E32: =SUM(B32:D32) -> 0
A33: INTERET CMT 1000 | C33: -17515.565 | E33: =SUM(B33:D33) -> -17515.565
A34: INTERET CMT 1000 1 | C34: -2820.968 | E34: =SUM(B34:D34) -> -2820.968
A35: INTERET CMT 1150 | C35: -20142.9 | E35: =SUM(B35:D35) -> -20142.9
A36: INTERET CMT 1250 | E36: =SUM(B36:D36) -> 0
A37: INTERET CMT 2418 | C37: -14565.571 | E37: =SUM(B37:D37) -> -14565.571
A38: INTERET CMT 2500 | E38: =SUM(B38:D38) -> 0
A39: INTERET CMT 350 | C39: -6130.448 | E39: =SUM(B39:D39) -> -6130.448
A40: INTERET CMT 500 | C40: -17515.564 | E40: =SUM(B40:D40) -> -17515.564
...

Sheet SNA 02-2018
B1: STB THAMEUR | C1: STB MEGRINE | D1: BTK | G1: MEG EURO | I1: MEG $
A2: SOLDE 31/01/2018 | B2: ='SNA 01-2018'!B365 -> 4424.805 | C2: ='SNA 01-2018'!C365 -> -2698755.6 | D2: ='SNA 01-2018'!D365 -> -7.14 | E2: =SUM(B2:D2) -> -2694337.9 | G2: ='SNA 01-2018'!G365 -> 503575.88 | I2: ='SNA 01-2018'!I365 -> 2124.54
A3: RECETTE | B3: =SUM(B4:B12) -> 0 | C3: =SUM(C4:C12) -> 1550000 | D3: =SUM(D4:D12) -> 10000 | E3: =SUM(B3:D3) -> 1560000 | G3: =SUM(G4:G12) -> 70000 | I3: =SUM(I4:I12) -> 0
A4: SND CHEQUE | C4: 1550000 | D4: 10000 | E4: =SUM(B4:D4) -> 1560000
A5: SND TRAITE | E5: =SUM(B5:D5) -> 0
A6: INTERETESCOMPTE TRAITE | E6: =SUM(B6:D6) -> 0
A7: BATTERIEDENIEST | E7: =SUM(B7:D7) -> 0
A8: ERRAFIK EL DAYEM | E8: =SUM(B8:D8) -> 0 | G8: 70000
A9: COTE D'IVOIR | E9: =SUM(B9:D9) -> 0
A10: MED ENERGY | E10: =SUM(B10:D10) -> 0
A11: NOUR GERMANY | E11: =SUM(B11:D11) -> 0
A12: VIREMENT RECU | E12: =SUM(B12:D12) -> 0
A13: AUTRES RECETTE | B13: =SUM(B14:B21) -> 0 | C13: =SUM(C14:C21) -> 0 | D13: =SUM(D14:D21) -> 0 | E13: =SUM(B13:D13) -> 0 | G13: =SUM(G14:G21) -> 0 | I13: =SUM(I14:I21) -> 0
A14: AUGMENTATION CAPITAL | E14: =SUM(B14:D14) -> 0
A15: DEBLOCAGE CMT | E15: =SUM(B15:D15) -> 0
A16: BLOCAGE | E16: =SUM(B16:D16) -> 0
A17: BILLET DE TRESORERIE | E17: =SUM(B17:D17) -> 0
A18: PLACEMENT | E18: =SUM(B18:D18) -> 0
A19: RESTITUTION TVA | E19: =SUM(B19:D19) -> 0
A20: VENTE DOLLARS | E20: =SUM(B20:D20) -> 0
A21: VENTE EURO | E21: =SUM(B21:D21) -> 0
A22: ENGAGEMENT BANCAIRE | B22: =SUM(B23:B43) -> -2921.181 | C22: =SUM(C23:C43) -> -25583.657 | D22: =SUM(D23:D43) -> -9058.984 | E22: =SUM(B22:D22) -> -37563.822 | G22: =SUM(G23:G43) -> 0 | I22: =SUM(I23:I43) -> 0
A23: CMT 1000 | E23: =SUM(B23:D23) -> 0
A24: CMT 1000 1 | E24: =SUM(B24:D24) -> 0
A25: CMT 1150 | E25: =SUM(B25:D25) -> 0
A26: CMT 1250 | E26: =SUM(B26:D26) -> 0
A27: CMT 2418 | C27: -20714.004 | E27: =SUM(B27:D27) -> -20714.004
A28: CMT 2500 | E28: =SUM(B28:D28) -> 0
A29: CMT 350 | E29: =SUM(B29:D29) -> 0
A30: CMT 500 | E30: =SUM(B30:D30) -> 0
A31: CMT BTK | D31: -9058.984 | E31: =SUM(B31:D31) -> -9058.984
A32: CREDIT DE GESTION | E32: =SUM(B32:D32) -> 0
A33: INTERET CMT 1000 | E33: =SUM(B33:D33) -> 0
A34: INTERET CMT 1000 1 | E34: =SUM(B34:D34) -> 0
A35: INTERET CMT 1150 | E35: =SUM(B35:D35) -> 0
A36: INTERET CMT 1250 | E36: =SUM(B36:D36) -> 0
A37: INTERET CMT 2418 | E37: =SUM(B37:D37) -> 0
A38: INTERET CMT 2500 | E38: =SUM(B38:D38) -> 0
A39: INTERET CMT 350 | E39: =SUM(B39:D39) -> 0
A40: INTERET CMT 500 | E40: =SUM(B40:D40) -> 0
...

Sheet SNA 03-2018
B1: STB THAMEUR | C1: STB MEGRINE | D1: BTK | G1: MEG EURO | I1: MEG $
A2: SOLDE 28/02/2018 | B2: ='SNA 02-2018'!B365 -> 1501.482 | C2: ='SNA 02-2018'!C365 -> -3030011.5 | D2: ='SNA 02-2018'!D365 -> -7.14 | E2: =SUM(B2:D2) -> -3028517.2 | G2: ='SNA 02-2018'!G365 -> 336088.57 | I2: ='SNA 02-2018'!I365 -> 2124.54
A3: RECETTE | B3: =SUM(B4:B12) -> 21328.709 | C3: =SUM(C4:C12) -> 1440000 | D3: =SUM(D4:D12) -> 99296.339 | E3: =SUM(B3:D3) -> 1560625 | G3: =SUM(G4:G12) -> 210000 | I3: =SUM(I4:I12) -> 0
A4: SND CHEQUE | C4: 1440000 | E4: =SUM(B4:D4) -> 1440000
A5: SND TRAITE | D5: 100000 | E5: =SUM(B5:D5) -> 100000
A6: INTERETESCOMPTE TRAITE | D6: -703.661 | E6: =SUM(B6:D6) -> -703.661
A7: BATTERIEDENIEST | E7: =SUM(B7:D7) -> 0
A8: ERRAFIK EL DAYEM | E8: =SUM(B8:D8) -> 0 | G8: 210000
A9: COTE D'IVOIR | E9: =SUM(B9:D9) -> 0
A10: MED ENERGY | E10: =SUM(B10:D10) -> 0
A11: NOUR GERMANY | E11: =SUM(B11:D11) -> 0
A12: VIREMENT RECU | B12: 21328.709 | E12: =SUM(B12:D12) -> 21328.709
A13: AUTRES RECETTE | B13: =SUM(B14:B21) -> 0 | C13: =SUM(C14:C21) -> 53022.691 | D13: =SUM(D14:D21) -> 0 | E13: =SUM(B13:D13) -> 53022.691 | G13: =SUM(G14:G21) -> 0 | I13: =SUM(I14:I21) -> 0
A14: AUGMENTATION CAPITAL | E14: =SUM(B14:D14) -> 0
A15: DEBLOCAGE CMT | E15: =SUM(B15:D15) -> 0
A16: BLOCAGE | C16: 53022.691 | E16: =SUM(B16:D16) -> 53022.691
A17: BILLET DE TRESORERIE | E17: =SUM(B17:D17) -> 0
A18: PLACEMENT | E18: =SUM(B18:D18) -> 0
A19: RESTITUTION TVA | E19: =SUM(B19:D19) -> 0
A20: VENTE DOLLARS | E20: =SUM(B20:D20) -> 0
A21: VENTE EURO | E21: =SUM(B21:D21) -> 0
A22: ENGAGEMENT BANCAIRE | B22: =SUM(B23:B43) -> -2921.181 | C22: =SUM(C23:C43) -> -4869.653 | D22: =SUM(D23:D43) -> -95601.014 | E22: =SUM(B22:D22) -> -103391.85 | G22: =SUM(G23:G43) -> 0 | I22: =SUM(I23:I43) -> 0
A23: CMT 1000 | E23: =SUM(B23:D23) -> 0
A24: CMT 1000 1 | E24: =SUM(B24:D24) -> 0
A25: CMT 1150 | E25: =SUM(B25:D25) -> 0
A26: CMT 1250 | E26: =SUM(B26:D26) -> 0
A27: CMT 2418 | E27: =SUM(B27:D27) -> 0
A28: CMT 2500 | E28: =SUM(B28:D28) -> 0
A29: CMT 350 | E29: =SUM(B29:D29) -> 0
A30: CMT 500 | E30: =SUM(B30:D30) -> 0
A31: CMT BTK | D31: -95601.014 | E31: =SUM(B31:D31) -> -95601.014
A32: CREDIT DE GESTION | E32: =SUM(B32:D32) -> 0
A33: INTERET CMT 1000 | E33: =SUM(B33:D33) -> 0
A34: INTERET CMT 1000 1 | E34: =SUM(B34:D34) -> 0
A35: INTERET CMT 1150 | E35: =SUM(B35:D35) -> 0
A36: INTERET CMT 1250 | E36: =SUM(B36:D36) -> 0
A37: INTERET CMT 2418 | E37: =SUM(B37:D37) -> 0
A38: INTERET CMT 2500 | E38: =SUM(B38:D38) -> 0
A39: INTERET CMT 350 | E39: =SUM(B39:D39) -> 0
A40: INTERET CMT 500 | E40: =SUM(B40:D40) -> 0
...

Sheet SNA 04-2018
B1: STB THAMEUR | C1: STB MEGRINE | D1: BTK | G1: MEG EURO | I1: MEG $
A2: SOLDE 31/03/2018 | B2: ='SNA 03-2018'!B365 -> 19857.124 | C2: ='SNA 03-2018'!C365 -> -7334342.9 | D2: ='SNA 03-2018'!D365 -> 3573.109 | E2: =SUM(B2:D2) -> -7310912.7 | G2: ='SNA 03-2018'!G365 -> 405827.82 | I2: ='SNA 03-2018'!I365 -> 2124.54
A3: RECETTE | B3: =SUM(B4:B12) -> 0 | C3: =SUM(C4:C12) -> 1792521.5 | D3: =SUM(D4:D12) -> 0 | E3: =SUM(B3:D3) -> 1792521.5 | G3: =SUM(G4:G12) -> 9960 | I3: =SUM(I4:I12) -> 0
A4: SND CHEQUE | C4: 1350000 | E4: =SUM(B4:D4) -> 1350000
A5: SND TRAITE | C5: 450000 | E5: =SUM(B5:D5) -> 450000
A6: INTERET ESCOMPTE TRAITE | C6: -7478.459 | E6: =SUM(B6:D6) -> -7478.459
A7: BATTERIEDENIEST | E7: =SUM(B7:D7) -> 0
A8: ERRAFIK EL DAYEM | E8: =SUM(B8:D8) -> 0
A9: COTE D'IVOIR | E9: =SUM(B9:D9) -> 0
A10: MED ENERGY | E10: =SUM(B10:D10) -> 0 | G10: 9960
A11: NOUR GERMANY | E11: =SUM(B11:D11) -> 0
A12: VIREMENT RECU | E12: =SUM(B12:D12) -> 0
A13: AUTRES RECETTE | B13: =SUM(B14:B21) -> 0 | C13: =SUM(C14:C21) -> 2961833.7 | D13: =SUM(D14:D21) -> 0 | E13: =SUM(B13:D13) -> 2961833.7 | G13: =SUM(G14:G21) -> 0 | I13: =SUM(I14:I21) -> 0
A14: AUGMENTATION CAPITAL | E14: =SUM(B14:D14) -> 0
A15: DEBLOCAGE CMT | C15: 2500000 | E15: =SUM(B15:D15) -> 2500000
A16: BLOCAGE | C16: -30000 | E16: =SUM(B16:D16) -> -30000
A17: BILLET DE TRESORERIE | C17: 491833.7 | E17: =SUM(B17:D17) -> 491833.7
A18: PLACEMENT | E18: =SUM(B18:D18) -> 0
A19: RESTITUTION TVA | E19: =SUM(B19:D19) -> 0
A20: VENTE DOLLARS | E20: =SUM(B20:D20) -> 0
A21: VENTE EURO | E21: =SUM(B21:D21) -> 0
A22: ENGAGEMENT BANCAIRE | B22: =SUM(B23:B43) -> -2921.181 | C22: =SUM(C23:C43) -> -91655.208 | D22: =SUM(D23:D43) -> 0 | E22: =SUM(B22:D22) -> -94576.389 | G22: =SUM(G23:G43) -> 0 | I22: =SUM(I23:I43) -> 0
A23: CMT 1000 | E23: =SUM(B23:D23) -> 0
A24: CMT 1000 1 | E24: =SUM(B24:D24) -> 0
A25: CMT 1150 | E25: =SUM(B25:D25) -> 0
A26: CMT 1250 | E26: =SUM(B26:D26) -> 0
A27: CMT 2418 | E27: =SUM(B27:D27) -> 0
A28: CMT 2500 | E28: =SUM(B28:D28) -> 0
A29: CMT 350 | E29: =SUM(B29:D29) -> 0
A30: CMT 500 | E30: =SUM(B30:D30) -> 0
A31: CMT BTK | E31: =SUM(B31:D31) -> 0
A32: CREDIT DE GESTION | E32: =SUM(B32:D32) -> 0
A33: INTERET CMT 1000 | E33: =SUM(B33:D33) -> 0
A34: INTERET CMT 1000 1 | E34: =SUM(B34:D34) -> 0
... A41: INTERET CMT BTK | E41: =SUM(B41:D41) -> 0
A42: INTERET CREDIT DE GESTION | C42: -86785.555 | E42: =SUM(B42:D42) -> -86785.555
A43: LEASING | B43: -2921.181 | C43: -4869.653 | E43: =SUM(B43:D43) -> -7790.834
A44: FRAIS BANQUE | B44: =SUM(B45:B81) -> -44.171 | C44: =SUM(C45:C81) -> -104471.69 | D44: =SUM(D45:D81) -> -14.28 | E44: =SUM(B44:D44) -> -104530.14 | G44: =SUM(G45:G81) -> -50 | I44: =SUM(I45:I81) -> 0
A45: AFFRANCHISSEMENT | C45: -7 | E45: =SUM(B45:D45) -> -7
A46: AGIOS DEBITEURS | B46: -27.45 | C46: -100683.46 | E46: =SUM(B46:D46) -> -100710.91
...

Sheet SNA 05-2018
B1: STB THAMEUR | C1: STB MEGRINE | D1: BTK | G1: MEG EURO | I1: MEG $
A2: SOLDE 30/04/2018 | B2: ='SNA 04-2018'!B365 -> 16891.772 | C2: ='SNA 04-2018'!C365 -> -4632752 | D2: ='SNA 04-2018'!D365 -> 3558.829 | E2: =SUM(B2:D2) -> -4612301.4 | G2: ='SNA 04-2018'!G365 -> 357740.19 | I2: ='SNA 04-2018'!I365 -> 2124.54
A3: RECETTE | B3: =SUM(B4:B12) -> 9117 | C3: =SUM(C4:C12) -> 1250000 | D3: =SUM(D4:D12) -> 0 | E3: =SUM(B3:D3) -> 1259117 | G3: =SUM(G4:G12) -> 317500 | I3: =SUM(I4:I12) -> 0
A4: SND CHEQUE | C4: 1250000 | E4: =SUM(B4:D4) -> 1250000
A5: SND TRAITE | E5: =SUM(B5:D5) -> 0
A6: INTERETESCOMPTE TRAITE | E6: =SUM(B6:D6) -> 0
A7: BATTERIEDENIEST | E7: =SUM(B7:D7) -> 0
A8: ERRAFIK EL DAYEM | E8: =SUM(B8:D8) -> 0 | G8: 317500
A9: COTE D'IVOIR | E9: =SUM(B9:D9) -> 0
A10: MED ENERGY | E10: =SUM(B10:D10) -> 0
A11: NOUR GERMANY | E11: =SUM(B11:D11) -> 0
A12: VIREMENT RECU | B12: 9117 | E12: =SUM(B12:D12) -> 9117
A13: AUTRES RECETTE | B13: =SUM(B14:B21) -> 0 | C13: =SUM(C14:C21) -> -27504.027 | D13: =SUM(D14:D21) -> 0 | E13: =SUM(B13:D13) -> -27504.027 | G13: =SUM(G14:G21) -> 1626.02 | I13: =SUM(I14:I21) -> -1977.68
A14: AUGMENTATION CAPITAL | E14: =SUM(B14:D14) -> 0
A15: DEBLOCAGE CMT | E15: =SUM(B15:D15) -> 0
A16: BLOCAGE | C16: -27504.027 | E16: =SUM(B16:D16) -> -27504.027
A17: BILLET DE TRESORERIE | E17: =SUM(B17:D17) -> 0
A18: PLACEMENT | E18: =SUM(B18:D18) -> 0
A19: RESTITUTION TVA | E19: =SUM(B19:D19) -> 0
A20: VENTE DOLLARS | E20: =SUM(B20:D20) -> 0 | G20: 1626.02 | I20: -1977.68
A21: VENTE EURO | E21: =SUM(B21:D21) -> 0
A22: ENGAGEMENT BANCAIRE | B22: =SUM(B23:B43) -> -2034.793 | C22: =SUM(C23:C43) -> -7937.618 | D22: =SUM(D23:D43) -> 0 | E22: =SUM(B22:D22) -> -9972.411 | G22: =SUM(G23:G43) -> 0 | I22: =SUM(I23:I43) -> 0
A23: CMT 1000 | E23: =SUM(B23:D23) -> 0
A24: CMT 1000 1 | E24: =SUM(B24:D24) -> 0
A25: CMT 1150 | E25: =SUM(B25:D25) -> 0
A26: CMT 1250 | E26: =SUM(B26:D26) -> 0
A27: CMT 2418 | E27: =SUM(B27:D27) -> 0
A28: CMT 2500 | E28: =SUM(B28:D28) -> 0
A29: CMT 350 | E29: =SUM(B29:D29) -> 0
A30: CMT 500 | E30: =SUM(B30:D30) -> 0
A31: CMT BTK | E31: =SUM(B31:D31) -> 0
A32: CREDIT DE GESTION | E32: =SUM(B32:D32) -> 0
A33: INTERET CMT 1000 | E33: =SUM(B33:D33) -> 0
A34: INTERET CMT 1000 1 | E34: =SUM(B34:D34) -> 0
... A42: INTERET CREDIT DE GESTION | E42: =SUM(B42:D42) -> 0
A43: LEASING | B43: -2034.793 | C43: -7937.618 | E43: =SUM(B43:D43) -> -9972.411
A44: FRAIS BANQUE | B44: =SUM(B45:B81) -> -160.532 | C44: =SUM(C45:C81) -> -6651.945 | D44: =SUM(D45:D81) -> -7.14 | E44: =SUM(B44:D44) -> -6819.617 | G44: =SUM(G45:G81) -> -1345 | I44: =SUM(I45:I81) -> 0
A45: AFFRANCHISSEMENT | B45: -2.5 | C45: -4.5 | E45: =SUM(B45:D45) -> -7
A46: AGIOS DEBITEURS | E46: =SUM(B46:D46) -> 0
A47: COMMISION OBLIGATION | C47: -57.338 | E47: =SUM(B47:D47) -> -57.338
...

Sheet SNA 06-2018
B1: STB THAMEUR | C1: STB MEGRINE | D1: BTK | G1: MEG EURO | I1: MEG $
A2: SOLDE 31/05/2018 | B2: ='SNA 05-2018'!B365 -> 23813.447 | C2: ='SNA 05-2018'!C365 -> -5232629.1 | D2: ='SNA 05-2018'!D365 -> 3551.689 | E2: =SUM(B2:D2) -> -5205263.9 | G2: ='SNA 05-2018'!G365 -> 51834.48 | I2: ='SNA 05-2018'!I365 -> 146.86
A3: RECETTE | B3: =SUM(B4:B12) -> 21575 | C3: =SUM(C4:C12) -> 1840636.9 | D3: =SUM(D4:D12) -> 0 | E3: =SUM(B3:D3) -> 1862211.9 | G3: =SUM(G4:G12) -> 237257.2 | I3: =SUM(I4:I12) -> 0
A4: SND CHEQUE | B4: 15000 | C4: 1350000 | E4: =SUM(B4:D4) -> 1365000
A5: SND TRAITE | E5: =SUM(B5:D5) -> 0
A6: INTERETESCOMPTE TRAITE | E6: =SUM(B6:D6) -> 0
A7: BATTERIEDENIEST | E7: =SUM(B7:D7) -> 0
A8: ERRAFIK EL DAYEM | C8: 490636.9 | E8: =SUM(B8:D8) -> 490636.9 | G8: 218000
A9: COTE D'IVOIR | E9: =SUM(B9:D9) -> 0
A10: MED ENERGY | E10: =SUM(B10:D10) -> 0 | G10: 9266.92
A11: NOUR GERMANY | E11: =SUM(B11:D11) -> 0 | G11: 9990.28
A12: VIREMENT RECU | B12: 6575 | E12: =SUM(B12:D12) -> 6575
A13: AUTRES RECETTE | B13: =SUM(B14:B21) -> 0 | C13: =SUM(C14:C21) -> 814503.3 | D13: =SUM(D14:D21) -> 0 | E13: =SUM(B13:D13) -> 814503.3 | G13: =SUM(G14:G21) -> 0 | I13: =SUM(I14:I21) -> 0
A14: AUGMENTATION CAPITAL | E14: =SUM(B14:D14) -> 0
A15: DEBLOCAGE CMT | E15: =SUM(B15:D15) -> 0
A16: BLOCAGE | C16: -26921.894 | E16: =SUM(B16:D16) -> -26921.894
A17: BILLET DE TRESORERIE | C17: -9115.035 | E17: =SUM(B17:D17) -> -9115.035
A18: PLACEMENT | E18: =SUM(B18:D18) -> 0
A19: RESTITUTION TVA | C19: 850540.23 | E19: =SUM(B19:D19) -> 850540.23
A20: VENTE DOLLARS | E20: =SUM(B20:D20) -> 0
A21: VENTE EURO | E21: =SUM(B21:D21) -> 0
A22: ENGAGEMENT BANCAIRE | B22: =SUM(B23:B43) -> -2034.793 | C22: =SUM(C23:C43) -> -321320.82 | D22: =SUM(D23:D43) -> 0 | E22: =SUM(B22:D22) -> -323355.61 | G22: =SUM(G23:G43) -> 0 | I22: =SUM(I23:I43) -> 0
A23: CMT 1000 | C23: -83333.333 | E23: =SUM(B23:D23) -> -83333.333
A24: CMT 1000 1 | E24: =SUM(B24:D24) -> 0
A25: CMT 1150 | C25: -95833.333 | E25: =SUM(B25:D25) -> -95833.333
A26: CMT 1250 | E26: =SUM(B26:D26) -> 0
A27: CMT 2418 | E27: =SUM(B27:D27) -> 0
A28: CMT 2500 | E28: =SUM(B28:D28) -> 0
A29: CMT 350 | E29: =SUM(B29:D29) -> 0
A30: CMT 500 | E30: =SUM(B30:D30) -> 0
A31: CMT BTK | E31: =SUM(B31:D31) -> 0
A32: CREDIT DE GESTION | E32: =SUM(B32:D32) -> 0
A33: INTERET CMT 1000 | C33: -17655 | E33: =SUM(B33:D33) -> -17655
A34: INTERET CMT 1000 1 | E34: =SUM(B34:D34) -> 0
A35: INTERET CMT 1150 | C35: -20303.25 | E35: =SUM(B35:D35) -> -20303.25
A36: INTERET CMT 1250 | E36: =SUM(B36:D36) -> 0
A37: INTERET CMT 2418 | E37: =SUM(B37:D37) -> 0
A38: INTERET CMT 2500 | E38: =SUM(B38:D38) -> 0
A39: INTERET CMT 350 | E39: =SUM(B39:D39) -> 0
A40: INTERET CMT 500 | E40: =SUM(B40:D40) -> 0
...

Sheet SNA 07-2018
B1: STB THAMEUR | C1: STB MEGRINE | D1: BTK | G1: MEG EURO | I1: MEG $
A2: SOLDE 30/06/2018 | B2: ='SNA 06-2018'!B365 -> 16142.251 | C2: ='SNA 06-2018'!C365 -> -4174399.8 | D2: ='SNA 06-2018'!D365 -> 3527.889 | E2: =SUM(B2:D2) -> -4154729.6 | G2: ='SNA 06-2018'!G365 -> 17725.17 | I2: ='SNA 06-2018'!I365 -> 146.86
A3: RECETTE | B3: =SUM(B4:B12) -> 0 | C3: =SUM(C4:C12) -> 1341985.3 | D3: =SUM(D4:D12) -> 110000 | E3: =SUM(B3:D3) -> 1451985.3 | G3: =SUM(G4:G12) -> 70000 | I3: =SUM(I4:I12) -> 0
A4: SND CHEQUE | C4: 900000 | D4: 110000 | E4: =SUM(B4:D4) -> 1010000
A5: SND TRAITE | C5: 450000 | E5: =SUM(B5:D5) -> 450000
A6: INTERETESCOMPTE TRAITE | C6: -8014.708 | E6: =SUM(B6:D6) -> -8014.708
A7: BATTERIEDENIEST | E7: =SUM(B7:D7) -> 0 | G7: 70000
A8: ERRAFIK EL DAYEM | E8: =SUM(B8:D8) -> 0
A9: COTE D'IVOIR | E9: =SUM(B9:D9) -> 0
A10: MED ENERGY | E10: =SUM(B10:D10) -> 0
A11: NOUR GERMANY | E11: =SUM(B11:D11) -> 0
A12: VIREMENT RECU | E12: =SUM(B12:D12) -> 0
A13: AUTRES RECETTE | B13: =SUM(B14:B21) -> 0 | C13: =SUM(C14:C21) -> 1252879 | D13: =SUM(D14:D21) -> 0 | E13: =SUM(B13:D13) -> 1252879 | G13: =SUM(G14:G21) -> 0 | I13: =SUM(I14:I21) -> 0
A14: AUGMENTATION CAPITAL | E14: =SUM(B14:D14) -> 0
A15: DEBLOCAGE CMT | C15: 1250000 | E15: =SUM(B15:D15) -> 1250000
A16: BLOCAGE | C16: 2879.027 | E16: =SUM(B16:D16) -> 2879.027
A17: BILLET DE TRESORERIE | E17: =SUM(B17:D17) -> 0
A18: PLACEMENT | E18: =SUM(B18:D18) -> 0
A19: RESTITUTION TVA | E19: =SUM(B19:D19) -> 0
A20: VENTE DOLLARS | E20: =SUM(B20:D20) -> 0
A21: VENTE EURO | E21: =SUM(B21:D21) -> 0
A22: ENGAGEMENT BANCAIRE | B22: =SUM(B23:B43) -> -2034.793 | C22: =SUM(C23:C43) -> -281839.4 | D22: =SUM(D23:D43) -> -112431.1 | E22: =SUM(B22:D22) -> -396305.29 | G22: =SUM(G23:G43) -> 0 | I22: =SUM(I23:I43) -> 0
A23: CMT 1000 | E23: =SUM(B23:D23) -> 0
A24: CMT 1000 1 | C24: -71428.577 | E24: =SUM(B24:D24) -> -71428.577
A25: CMT 1150 | E25: =SUM(B25:D25) -> 0
A26: CMT 1250 | E26: =SUM(B26:D26) -> 0
A27: CMT 2418 | E27: =SUM(B27:D27) -> 0
A28: CMT 2500 | E28: =SUM(B28:D28) -> 0
A29: CMT 350 | C29: -29166.667 | E29: =SUM(B29:D29) -> -29166.667
A30: CMT 500 | C30: -83333.334 | E30: =SUM(B30:D30) -> -83333.334
A31: CMT BTK | D31: -106285.71 | E31: =SUM(B31:D31) -> -106285.71
A32: CREDIT DE GESTION | E32: =SUM(B32:D32) -> 0
A33: INTERET CMT 1000 | C33: -18035.694 | E33: =SUM(B33:D33) -> -18035.694
A34: INTERET CMT 1000 1 | C34: -3011.413 | E34: =SUM(B34:D34) -> -3011.413
A35: INTERET CMT 1150 | C35: -20741.049 | E35: =SUM(B35:D35) -> -20741.049
A36: INTERET CMT 1250 | E36: =SUM(B36:D36) -> 0
A37: INTERET CMT 2418 | E37: =SUM(B37:D37) -> 0
A38: INTERET CMT 2500 | E38: =SUM(B38:D38) -> 0
A39: INTERET CMT 350 | C39: -12491.743 | E39: =SUM(B39:D39) -> -12491.743
A40: INTERET CMT 500 | C40: -35690.694 | E40: =SUM(B40:D40) -> -35690.694
...

Sheet SNA 08-2018
B1: STB THAMEUR | C1: STB MEGRINE | D1: BTK | G1: MEG EURO | I1: MEG $
A2: SOLDE 31/07/2018 | B2: ='SNA 07-2018'!B365 -> 14076.28 | C2: ='SNA 07-2018'!C365 -> -3301911.5 | D2: ='SNA 07-2018'!D365 -> 953.187 | E2: =SUM(B2:D2) -> -3286882.1 | G2: ='SNA 07-2018'!G365 -> 1444.13 | I2: ='SNA 07-2018'!I365 -> 146.86
A3: RECETTE | B3: =SUM(B4:B12) -> 13672 | C3: =SUM(C4:C12) -> 1748845.1 | D3: =SUM(D4:D12) -> 0 | E3: =SUM(B3:D3) -> 1762517.1 | G3: =SUM(G4:G12) -> 199168.87 | I3: =SUM(I4:I12) -> 0
A4: SND CHEQUE | C4: 1738700 | E4: =SUM(B4:D4) -> 1738700
A5: SND TRAITE | E5: =SUM(B5:D5) -> 0
A6: INTERETESCOMPTE TRAITE | E6: =SUM(B6:D6) -> 0
A7: BATTERIEDENIEST | E7: =SUM(B7:D7) -> 0
A8: ERRAFIK EL DAYEM | E8: =SUM(B8:D8) -> 0 | G8: 54980
A9: COTE D'IVOIR | E9: =SUM(B9:D9) -> 0
A10: MED ENERGY | E10: =SUM(B10:D10) -> 0
A11: NOUR GERMANY | E11: =SUM(B11:D11) -> 0 | G11: 144188.87
A12: VIREMENT RECU | B12: 13672 | C12: 10145.131 | E12: =SUM(B12:D12) -> 23817.131
A13: AUTRES RECETTE | B13: =SUM(B14:B21) -> 0 | C13: =SUM(C14:C21) -> 0 | D13: =SUM(D14:D21) -> 0 | E13: =SUM(B13:D13) -> 0 | G13: =SUM(G14:G21) -> 0 | I13: =SUM(I14:I21) -> 0
A14: AUGMENTATION CAPITAL | E14: =SUM(B14:D14) -> 0
A15: DEBLOCAGE CMT | E15: =SUM(B15:D15) -> 0
A16: MARGE DE GARANTIE | E16: =SUM(B16:D16) -> 0
A17: BILLET DE TRESORERIE | E17: =SUM(B17:D17) -> 0
A18: PLACEMENT | E18: =SUM(B18:D18) -> 0
A19: RESTITUTION TVA | E19: =SUM(B19:D19) -> 0
A20: VENTE DOLLARS | E20: =SUM(B20:D20) -> 0
A21: VENTE EURO | E21: =SUM(B21:D21) -> 0
A22: ENGAGEMENT BANCAIRE | B22: =SUM(B23:B43) -> -2034.793 | C22: =SUM(C23:C43) -> -7940.233 | D22: =SUM(D23:D43) -> 0 | E22: =SUM(B22:D22) -> -9975.026 | G22: =SUM(G23:G43) -> 0 | I22: =SUM(I23:I43) -> 0
A23: CMT 1000 | E23: =SUM(B23:D23) -> 0
A24: CMT 1000 1 | E24: =SUM(B24:D24) -> 0
A25: CMT 1150 | E25: =SUM(B25:D25) -> 0
A26: CMT 1250 | E26: =SUM(B26:D26) -> 0
A27: CMT 2418 | E27: =SUM(B27:D27) -> 0
A28: CMT 2500 | E28: =SUM(B28:D28) -> 0
A29: CMT 350 | E29: =SUM(B29:D29) -> 0
A30: CMT 500 | E30: =SUM(B30:D30) -> 0
A31: CMT BTK | E31: =SUM(B31:D31) -> 0
A32: CREDIT DE GESTION | E32: =SUM(B32:D32) -> 0
A33: INTERET CMT 1000 | E33: =SUM(B33:D33) -> 0
A34: INTERET CMT 1000 1 | E34: =SUM(B34:D34) -> 0
... A42: INTERET CREDIT DE GESTION | E42: =SUM(B42:D42) -> 0
A43: LEASING | B43: -2034.793 | C43: -7940.233 | E43: =SUM(B43:D43) -> -9975.026
A44: FRAIS BANQUE | B44: =SUM(B45:B81) -> -48.1 | C44: =SUM(C45:C81) -> -2128.75 | D44: =SUM(D45:D81) -> -7.14 | E44: =SUM(B44:D44) -> -2183.99 | G44: =SUM(G45:G81) -> -25 | I44: =SUM(I45:I81) -> 0
A45: AFFRANCHISSEMENT | B45: -0.5 | C45: -15.5 | E45: =SUM(B45:D45) -> -16
A46: AGIOS DEBITEURS | E46: =SUM(B46:D46) -> 0
A47: COMMISION OBLIGATION | C47: -118.844 | E47: =SUM(B47:D47) -> -118.844
...

Sheet SNA 09-2018
B1: STB THAMEUR | C1: STB MEGRINE | D1: BTK | G1: MEG EURO | I1: MEG $
A2: SOLDE 31/08/2018 | B2: ='SNA 08-2018'!B365 -> 25665.387 | C2: ='SNA 08-2018'!C365 -> -3311032.9 | D2: ='SNA 08-2018'!D365 -> 946.047 | E2: =SUM(B2:D2) -> -3284421.5 | G2: ='SNA 08-2018'!G365 -> 14591.99 | I2: ='SNA 08-2018'!I365 -> 146.86
A3: RECETTE | B3: =SUM(B4:B12) -> 0 | C3: =SUM(C4:C12) -> 2591112.5 | D3: =SUM(D4:D12) -> 0 | E3: =SUM(B3:D3) -> 2591112.5 | G3: =SUM(G4:G12) -> 109524.5 | I3: =SUM(I4:I12) -> 0
A4: SND CHEQUE | C4: 2296000 | E4: =SUM(B4:D4) -> 2296000
A5: SND TRAITE | C5: 300000 | E5: =SUM(B5:D5) -> 300000
A6: INTERETESCOMPTE TRAITE | C6: -4887.5 | E6: =SUM(B6:D6) -> -4887.5
A7: BATTERIEDENIEST | E7: =SUM(B7:D7) -> 0
A8: ERRAFIK EL DAYEM | E8: =SUM(B8:D8) -> 0 | G8: 49985
A9: COTE D'IVOIR | E9: =SUM(B9:D9) -> 0
A10: MED ENERGY | E10: =SUM(B10:D10) -> 0
A11: NOUR GERMANY | E11: =SUM(B11:D11) -> 0 | G11: 59539.5
A12: VIREMENT RECU | E12: =SUM(B12:D12) -> 0
A13: AUTRES RECETTE | B13: =SUM(B14:B21) -> 0 | C13: =SUM(C14:C21) -> -500000 | D13: =SUM(D14:D21) -> 0 | E13: =SUM(B13:D13) -> -500000 | G13: =SUM(G14:G21) -> 0 | I13: =SUM(I14:I21) -> 0
A14: AUGMENTATION CAPITAL | E14: =SUM(B14:D14) -> 0
A15: DEBLOCAGE CMT | E15: =SUM(B15:D15) -> 0
A16: MARGE DE GARANTIE | E16: =SUM(B16:D16) -> 0
A17: BILLET DE TRESORERIE | C17: -500000 | E17: =SUM(B17:D17) -> -500000
A18: PLACEMENT | E18: =SUM(B18:D18) -> 0
A19: RESTITUTION TVA | E19: =SUM(B19:D19) -> 0
A20: VENTE DOLLARS | E20: =SUM(B20:D20) -> 0
A21: VENTE EURO | E21: =SUM(B21:D21) -> 0
A22: ENGAGEMENT BANCAIRE | B22: =SUM(B23:B43) -> -2034.793 | C22: =SUM(C23:C43) -> -375050.74 | D22: =SUM(D23:D43) -> 0 | E22: =SUM(B22:D22) -> -377085.54 | G22: =SUM(G23:G43) -> 0 | I22: =SUM(I23:I43) -> 0
A23: CMT 1000 | E23: =SUM(B23:D23) -> 0
A24: CMT 1000 1 | E24: =SUM(B24:D24) -> 0
A25: CMT 1150 | E25: =SUM(B25:D25) -> 0
A26: CMT 1250 | E26: =SUM(B26:D26) -> 0
A27: CMT 2418 | C27: -172714.29 | E27: =SUM(B27:D27) -> -172714.29
A28: CMT 2500 | E28: =SUM(B28:D28) -> 0
A29: CMT 350 | E29: =SUM(B29:D29) -> 0
A30: CMT 500 | E30: =SUM(B30:D30) -> 0
A31: CMT BTK | E31: =SUM(B31:D31) -> 0
A32: CREDIT DE GESTION | E32: =SUM(B32:D32) -> 0
A33: INTERET CMT 1000 | E33: =SUM(B33:D33) -> 0
A34: INTERET CMT 1000 1 | E34: =SUM(B34:D34) -> 0
A35: INTERET CMT 1150 | E35: =SUM(B35:D35) -> 0
A36: INTERET CMT 1250 | E36: =SUM(B36:D36) -> 0
A37: INTERET CMT 2418 | C37: -9552.059 | E37: =SUM(B37:D37) -> -9552.059
A38: INTERET CMT 2500 | C38: -67083.75 | E38: =SUM(B38:D38) -> -67083.75
A39: INTERET CMT 350 | E39: =SUM(B39:D39) -> 0
A40: INTERET CMT 500 | E40: =SUM(B40:D40) -> 0
...

Sheet SNA 10-2018
B1: STB THAMEUR | C1: STB MEGRINE | D1: BTK | G1: MEG EURO | I1: MEG $
A2: SOLDE 30/09/2017 | B2: ='SNA 09-2018'!B365 -> 23629.166 | C2: ='SNA 09-2018'!C365 -> -2864200.5 | D2: ='SNA 09-2018'!D365 -> 946.047 | E2: =SUM(B2:D2) -> -2839625.3 | G2: ='SNA 09-2018'!G365 -> 71006.11 | I2: ='SNA 09-2018'!I365 -> 146.86
A3: RECETTE | B3: =SUM(B4:B12) -> 0 | C3: =SUM(C4:C12) -> 2073000 | D3: =SUM(D4:D12) -> 0 | E3: =SUM(B3:D3) -> 2073000 | G3: =SUM(G4:G12) -> 340511.63 | I3: =SUM(I4:I12) -> 0
A4: SND CHEQUE | C4: 2073000 | E4: =SUM(B4:D4) -> 2073000
A5: SND TRAITE | E5: =SUM(B5:D5) -> 0
A6: INTERETESCOMPTE TRAITE | E6: =SUM(B6:D6) -> 0
A7: BATTERIEDENIEST | E7: =SUM(B7:D7) -> 0
A8: ERRAFIK EL DAYEM | E8: =SUM(B8:D8) -> 0 | G8: 249000
A9: COTE D'IVOIR | E9: =SUM(B9:D9) -> 0 | G9: 41511.63
A10: MED ENERGY | E10: =SUM(B10:D10) -> 0
A11: NOUR GERMANY | E11: =SUM(B11:D11) -> 0 | G11: 50000
A12: VIREMENT RECU | E12: =SUM(B12:D12) -> 0
A13: AUTRES RECETTE | B13: =SUM(B14:B21) -> 0 | C13: =SUM(C14:C21) -> 0 | D13: =SUM(D14:D21) -> 0 | E13: =SUM(B13:D13) -> 0 | G13: =SUM(G14:G21) -> 0 | I13: =SUM(I14:I21) -> 0
A14: AUGMENTATION CAPITAL | E14: =SUM(B14:D14) -> 0
A15: DEBLOCAGE CMT | E15: =SUM(B15:D15) -> 0
A16: MARGE DE GARANTIE | E16: =SUM(B16:D16) -> 0
A17: BILLET DE TRESORERIE | E17: =SUM(B17:D17) -> 0
A18: PLACEMENT | E18: =SUM(B18:D18) -> 0
A19: RESTITUTION TVA | E19: =SUM(B19:D19) -> 0
A20: VENTE DOLLARS | E20: =SUM(B20:D20) -> 0
A21: VENTE EURO | E21: =SUM(B21:D21) -> 0
A22: ENGAGEMENT BANCAIRE | B22: =SUM(B23:B43) -> -2034.793 | C22: =SUM(C23:C43) -> -7940.233 | D22: =SUM(D23:D43) -> 0 | E22: =SUM(B22:D22) -> -9975.026 | G22: =SUM(G23:G43) -> 0 | I22: =SUM(I23:I43) -> 0
A23: CMT 1000 | E23: =SUM(B23:D23) -> 0
A24: CMT 1000 1 | E24: =SUM(B24:D24) -> 0
A25: CMT 1150 | E25: =SUM(B25:D25) -> 0
A26: CMT 1250 | E26: =SUM(B26:D26) -> 0
A27: CMT 2418 | E27: =SUM(B27:D27) -> 0
A28: CMT 2500 | E28: =SUM(B28:D28) -> 0
A29: CMT 350 | E29: =SUM(B29:D29) -> 0
A30: CMT 500 | E30: =SUM(B30:D30) -> 0
A31: CMT BTK | E31: =SUM(B31:D31) -> 0
A32: CREDIT DE GESTION | E32: =SUM(B32:D32) -> 0
A33: INTERET CMT 1000 | E33: =SUM(B33:D33) -> 0
A34: INTERET CMT 1000 1 | E34: =SUM(B34:D34) -> 0
... A42: INTERET CREDIT DE GESTION | E42: =SUM(B42:D42) -> 0
A43: LEASING | B43: -2034.793 | C43: -7940.233 | E43: =SUM(B43:D43) -> -9975.026
A44: FRAIS BANQUE | B44: =SUM(B45:B81) -> -72.828 | C44: =SUM(C45:C81) -> -107196.54 | D44: =SUM(D45:D81) -> 0 | E44: =SUM(B44:D44) -> -107269.37 | G44: =SUM(G45:G81) -> 0 | I44: =SUM(I45:I81) -> 0
A45: AFFRANCHISSEMENT | C45: -22.5 | E45: =SUM(B45:D45) -> -22.5
A46: AGIOS DEBITEURS | B46: -29.75 | C46: -102985.46 | E46: =SUM(B46:D46) -> -103015.21
A47: COMMISION OBLIGATION | C47: -234.412 | E47: =SUM(B47:D47) -> -234.412
...

Sheet SNA 11-2018
B1: STB THAMEUR | C1: STB MEGRINE | D1: BTK | G1: MEG EURO | I1: MEG $
A2: SOLDE 31/10/2018 | B2: ='SNA 10-2018'!B365 -> 521.545 | C2: ='SNA 10-2018'!C365 -> -2888059 | D2: ='SNA 10-2018'!D365 -> 946.047 | E2: =SUM(B2:D2) -> -2886591.4 | G2: ='SNA 10-2018'!G365 -> 61530.63 | I2: ='SNA 10-2018'!I365 -> 146.86
A3: RECETTE | B3: =SUM(B4:B12) -> 13619.83 | C3: =SUM(C4:C12) -> 2548734.5 | D3: =SUM(D4:D12) -> 0 | E3: =SUM(B3:D3) -> 2562354.3 | G3: =SUM(G4:G12) -> 89467.16 | I3: =SUM(I4:I12) -> 0
A4: SND CHEQUE | C4: 1958000 | E4: =SUM(B4:D4) -> 1958000
A5: SND TRAITE | C5: 600000 | E5: =SUM(B5:D5) -> 600000
A6: INTERETESCOMPTE TRAITE | C6: -9265.5 | E6: =SUM(B6:D6) -> -9265.5
A7: BATTERIEDENIEST | E7: =SUM(B7:D7) -> 0
A8: ERRAFIK EL DAYEM | E8: =SUM(B8:D8) -> 0 | G8: 40836
A9: COTE D'IVOIR | E9: =SUM(B9:D9) -> 0
A10: MED ENERGY | E10: =SUM(B10:D10) -> 0
A11: NOUR GERMANY | E11: =SUM(B11:D11) -> 0 | G11: 48631.16
A12: VIREMENT RECU | B12: 13619.83 | E12: =SUM(B12:D12) -> 13619.83
A13: AUTRES RECETTE | B13: =SUM(B14:B21) -> 0 | C13: =SUM(C14:C21) -> -1000 | D13: =SUM(D14:D21) -> 0 | E13: =SUM(B13:D13) -> -1000 | G13: =SUM(G14:G21) -> 0 | I13: =SUM(I14:I21) -> 0
A14: AUGMENTATION CAPITAL | E14: =SUM(B14:D14) -> 0
A15: DEBLOCAGE CMT | E15: =SUM(B15:D15) -> 0
A16: MARGE DE GARANTIE | C16: -1000 | E16: =SUM(B16:D16) -> -1000
A17: BILLET DE TRESORERIE | E17: =SUM(B17:D17) -> 0
A18: PLACEMENT | E18: =SUM(B18:D18) -> 0
A19: RESTITUTION TVA | E19: =SUM(B19:D19) -> 0
A20: VENTE DOLLARS | E20: =SUM(B20:D20) -> 0
A21: VENTE EURO | E21: =SUM(B21:D21) -> 0
A22: ENGAGEMENT BANCAIRE | B22: =SUM(B23:B43) -> -2034.793 | C22: =SUM(C23:C43) -> -468356.62 | D22: =SUM(D23:D43) -> 0 | E22: =SUM(B22:D22) -> -470391.42 | G22: =SUM(G23:G43) -> 0 | I22: =SUM(I23:I43) -> 0
A23: CMT 1000 | C23: -83333.333 | E23: =SUM(B23:D23) -> -83333.333
A24: CMT 1000 1 | E24: =SUM(B24:D24) -> 0
A25: CMT 1150 | C25: -95833.333 | E25: =SUM(B25:D25) -> -95833.333
A26: CMT 1250 | E26: =SUM(B26:D26) -> 0
A27: CMT 2418 | E27: =SUM(B27:D27) -> 0
A28: CMT 2500 | E28: =SUM(B28:D28) -> 0
A29: CMT 350 | C29: -29166.667 | E29: =SUM(B29:D29) -> -29166.667
A30: CMT 500 | C30: -83333.334 | E30: =SUM(B30:D30) -> -83333.334
A31: CMT BTK | E31: =SUM(B31:D31) -> 0
A32: CREDIT DE GESTION | E32: =SUM(B32:D32) -> 0
A33: INTERET CMT 1000 | C33: -19850.278 | E33: =SUM(B33:D33) -> -19850.278
A34: INTERET CMT 1000 1 | E34: =SUM(B34:D34) -> 0
A35: INTERET CMT 1150 | C35: -22827.819 | E35: =SUM(B35:D35) -> -22827.819
A36: INTERET CMT 1250 | C36: -38489.861 | E36: =SUM(B36:D36) -> -38489.861
A37: INTERET CMT 2418 | E37: =SUM(B37:D37) -> 0
A38: INTERET CMT 2500 | C38: -60783.889 | E38: =SUM(B38:D38) -> -60783.889
A39: INTERET CMT 350 | C39: -6947.597 | E39: =SUM(B39:D39) -> -6947.597
A40: INTERET CMT 500 | C40: -19850.278 | E40: =SUM(B40:D40) -> -19850.278
...

Sheet SNA 12-2018
B1: STB THAMEUR | C1: STB MEGRINE | D1: BTK | G1: MEG EURO | I1: MEG $
A2: SOLDE 30/11/2018 | B2: ='SNA 11-2018'!B365 -> 12103.25 | C2: ='SNA 11-2018'!C365 -> -2986130.9 | D2: ='SNA 11-2018'!D365 -> 946.047 | E2: =SUM(B2:D2) -> -2973081.6 | G2: ='SNA 11-2018'!G365 -> 68971.64 | I2: ='SNA 11-2018'!I365 -> 146.86
A3: RECETTE | B3: =SUM(B4:B12) -> 0 | C3: =SUM(C4:C12) -> 0 | D3: =SUM(D4:D12) -> 0 | E3: =SUM(B3:D3) -> 0 | G3: =SUM(G4:G12) -> 0 | I3: =SUM(I4:I12) -> 0
A4: SND CHEQUE | E4: =SUM(B4:D4) -> 0
A5: SND TRAITE | E5: =SUM(B5:D5) -> 0
A6: INTERETESCOMPTE TRAITE | E6: =SUM(B6:D6) -> 0
A7: BATTERIEDENIEST | E7: =SUM(B7:D7) -> 0
A8: ERRAFIK EL DAYEM | E8: =SUM(B8:D8) -> 0
A9: COTE D'IVOIR | E9: =SUM(B9:D9) -> 0
A10: MED ENERGY | E10: =SUM(B10:D10) -> 0
A11: NOUR GERMANY | E11: =SUM(B11:D11) -> 0
A12: VIREMENT RECU | E12: =SUM(B12:D12) -> 0
A13: AUTRES RECETTE | B13: =SUM(B14:B21) -> 0 | C13: =SUM(C14:C21) -> 0 | D13: =SUM(D14:D21) -> 0 | E13: =SUM(B13:D13) -> 0 | G13: =SUM(G14:G21) -> 0 | I13: =SUM(I14:I21) -> 0
A14: AUGMENTATION CAPITAL | E14: =SUM(B14:D14) -> 0
A15: DEBLOCAGE CMT | E15: =SUM(B15:D15) -> 0
A16: MARGE DE GARANTIE | E16: =SUM(B16:D16) -> 0
A17: BILLET DE TRESORERIE | E17: =SUM(B17:D17) -> 0
A18: PLACEMENT | E18: =SUM(B18:D18) -> 0
A19: RESTITUTION TVA | E19: =SUM(B19:D19) -> 0
A20: VENTE DOLLARS | E20: =SUM(B20:D20) -> 0
A21: VENTE EURO | E21: =SUM(B21:D21) -> 0
A22: ENGAGEMENT BANCAIRE | B22: =SUM(B23:B43) -> 0 | C22: =SUM(C23:C43) -> 0 | D22: =SUM(D23:D43) -> 0 | E22: =SUM(B22:D22) -> 0 | G22: =SUM(G23:G43) -> 0 | I22: =SUM(I23:I43) -> 0
A23: CMT 1000 | E23: =SUM(B23:D23) -> 0
A24: CMT 1000 1 | E24: =SUM(B24:D24) -> 0
A25: CMT 1150 | E25: =SUM(B25:D25) -> 0
A26: CMT 1250 | E26: =SUM(B26:D26) -> 0
A27: CMT 2418 | E27: =SUM(B27:D27) -> 0
A28: CMT 2500 | E28: =SUM(B28:D28) -> 0
A29: CMT 350 | E29: =SUM(B29:D29) -> 0
A30: CMT 500 | E30: =SUM(B30:D30) -> 0
A31: CMT BTK | E31: =SUM(B31:D31) -> 0
A32: CREDIT DE GESTION | E32: =SUM(B32:D32) -> 0
A33: INTERET CMT 1000 | E33: =SUM(B33:D33) -> 0
A34: INTERET CMT 1000 1 | E34: =SUM(B34:D34) -> 0
... A43: LEASING | E43: =SUM(B43:D43) -> 0
A44: FRAIS BANQUE | B44: =SUM(B45:B81) -> 0 | C44: =SUM(C45:C81) -> 0 | D44: =SUM(D45:D81) -> 0 | E44: =SUM(B44:D44) -> 0 | G44: =SUM(G45:G81) -> 0 | I44: =SUM(I45:I81) -> 0
A45: AFFRANCHISSEMENT | E45: =SUM(B45:D45) -> 0
A46: AGIOS DEBITEURS | E46: =SUM(B46:D46) -> 0
A47: COMMISION OBLIGATION | E47: =SUM(B47:D47) -> 0
A48: COMMISSION / VERS CHQ | E48: =SUM(B48:D48) -> 0
...

Sheet SNA 2018
B1: STB THAMEUR | C1: STB MEGRINE | D1: BTK | G1: MEG EURO | I1: MEG $
A2: SOLDE 31/12/2017 | B2: ='SNA 01-2018'!B2 -> -1091.385 | C2: ='SNA 01-2018'!C2 -> -2708598.4 | D2: ='SNA 01-2018'!D2 -> 21951.634 | E2: =SUM(B2:D2) -> -2687738.2 | G2: ='SNA 01-2018'!G2 -> 417021.86 | I2: ='SNA 01-2018'!I2 -> 2124.54
A3: RECETTE | B3: =SUM(B4:B12) -> 89312.539 | C3: =SUM(C4:C12) -> 20126836 | D3: =SUM(D4:D12) -> 219296.34 | E3: =SUM(B3:D3) -> 20435445 | G3: =SUM(G4:G12) -> 1775389.4 | I3: =SUM(I4:I12) -> 0
A4: SND CHEQUE | B4: ='SNA 01-2018'!B4+'SNA 02-2018'!B4+'SNA 03-2018'!B4+'SNA 04-2018'!B4+'SNA 05-2018'!B4+'SNA 06-2018'!B4+'SNA 07-2018'!B4+'SNA 08-2018'!B4+'SNA 09-2018'!B4+'SNA 10-2018'!B4+'SNA 11-2018'!B4+'SNA 12-2018'!B4 -> 25000 | C4: ='SNA 01-2018'!C4+'SNA 02-2018'!C4+'SNA 03-2018'!C4+'SNA 04-2018'!C4+'SNA 05-2018'!C4+'SNA 06-2018'!C4+'SNA 07-2018'!C4+'SNA 08-2018'!C4+'SNA 09-2018'!C4+'SNA 10-2018'!C4+'SNA 11-2018'!C4+'SNA 12-2018'!C4 -> 17855700 | D4: ='SNA 01-2018'!D4+'SNA 02-2018'!D4+'SNA 03-2018'!D4+'SNA 04-2018'!D4+'SNA 05-2018'!D4+'SNA 06-2018'!D4+'SNA 07-2018'!D4+'SNA 08-2018'!D4+'SNA 09-2018'!D4+'SNA 10-2018'!D4+'SNA 11-2018'!D4+'SNA 12-2018'!D4 -> 120000 | E4: =SUM(B4:D4) -> 18000700 | G4: ='SNA 01-2018'!G4+'SNA 02-2018'!G4+'SNA 03-2018'!G4+'SNA 04-2018'!G4+'SNA 05-2018'!G4+'SNA 06-2018'!G4+'SNA 07-2018'!G4+'SNA 08-2018'!G4+'SNA 09-2018'!G4+'SNA 10-2018'!G4+'SNA 11-2018'!G4+'SNA 12-2018'!G4 -> 0 | I4: ='SNA 01-2018'!I4+'SNA 02-2018'!I4+'SNA 03-2018'!I4+'SNA 04-2018'!I4+'SNA 05-2018'!I4+'SNA 06-2018'!I4+'SNA 07-2018'!I4+'SNA 08-2018'!I4+'SNA 09-2018'!I4+'SNA 10-2018'!I4+'SNA 11-2018'!I4+'SNA 12-2018'!I4 -> 0
A5: SND TRAITE | B5: ='SNA 01-2018'!B5+'SNA 02-2018'!B5+'SNA 03-2018'!B5+'SNA 04-2018'!B5+'SNA 05-2018'!B5+'SNA 06-2018'!B5+'SNA 07-2018'!B5+'SNA 08-2018'!B5+'SNA 09-2018'!B5+'SNA 10-2018'!B5+'SNA 11-2018'!B5+'SNA 12-2018'!B5 -> 0 | C5: ='SNA 01-2018'!C5+'SNA 02-2018'!C5+'SNA 03-2018'!C5+'SNA 04-2018'!C5+'SNA 05-2018'!C5+'SNA 06-2018'!C5+'SNA 07-2018'!C5+'SNA 08-2018'!C5+'SNA 09-2018'!C5+'SNA 10-2018'!C5+'SNA 11-2018'!C5+'SNA 12-2018'!C5 -> 1800000 | D5: ='SNA 01-2018'!D5+'SNA 02-2018'!D5+'SNA 03-2018'!D5+'SNA 04-2018'!D5+'SNA 05-2018'!D5+'SNA 06-2018'!D5+'SNA 07-2018'!D5+'SNA 08-2018'!D5+'SNA 09-2018'!D5+'SNA 10-2018'!D5+'SNA 11-2018'!D5+'SNA 12-2018'!D5 -> 100000 | E5: =SUM(B5:D5) -> 1900000 | G5: ='SNA 01-2018'!G5+'SNA 02-2018'!G5+'SNA 03-2018'!G5+'SNA 04-2018'!G5+'SNA 05-2018'!G5+'SNA 06-2018'!G5+'SNA 07-2018'!G5+'SNA 08-2018'!G5+'SNA 09-2018'!G5+'SNA 10-2018'!G5+'SNA 11-2018'!G5+'SNA 12-2018'!G5 -> 0 | I5: ='SNA 01-2018'!I5+'SNA 02-2018'!I5+'SNA 03-2018'!I5+'SNA 04-2018'!I5+'SNA 05-2018'!I5+'SNA 06-2018'!I5+'SNA 07-2018'!I5+'SNA 08-2018'!I5+'SNA 09-2018'!I5+'SNA 10-2018'!I5+'SNA 11-2018'!I5+'SNA 12-2018'!I5 -> 0
A6: INTERET ESCOMPTE TRAITE | B6: ='SNA 01-2018'!B6+'SNA 02-2018'!B6+'SNA 03-2018'!B6+'SNA 04-2018'!B6+'SNA 05-2018'!B6+'SNA 06-2018'!B6+'SNA 07-2018'!B6+'SNA 08-2018'!B6+'SNA 09-2018'!B6+'SNA 10-2018'!B6+'SNA 11-2018'!B6+'SNA 12-2018'!B6 -> 0 | C6: ='SNA 01-2018'!C6+'SNA 02-2018'!C6+'SNA 03-2018'!C6+'SNA 04-2018'!C6+'SNA 05-2018'!C6+'SNA 06-2018'!C6+'SNA 07-2018'!C6+'SNA 08-2018'!C6+'SNA 09-2018'!C6+'SNA 10-2018'!C6+'SNA 11-2018'!C6+'SNA 12-2018'!C6 -> -29646.167 | D6: ='SNA 01-2018'!D6+'SNA 02-2018'!D6+'SNA 03-2018'!D6+'SNA 04-2018'!D6+'SNA 05-2018'!D6+'SNA 06-2018'!D6+'SNA 07-2018'!D6+'SNA 08-2018'!D6+'SNA 09-2018'!D6+'SNA 10-2018'!D6+'SNA 11-2018'!D6+'SNA 12-2018'!D6 -> -703.661 | E6: =SUM(B6:D6) -> -30349.828 | G6: ='SNA 01-2018'!G6+'SNA 02-2018'!G6+'SNA 03-2018'!G6+'SNA 04-2018'!G6+'SNA 05-2018'!G6+'SNA 06-2018'!G6+'SNA 07-2018'!G6+'SNA 08-2018'!G6+'SNA 09-2018'!G6+'SNA 10-2018'!G6+'SNA 11-2018'!G6+'SNA 12-2018'!G6 -> 0 | I6: ='SNA 01-2018'!I6+'SNA 02-2018'!I6+'SNA 03-2018'!I6+'SNA 04-2018'!I6+'SNA 05-2018'!I6+'SNA 06-2018'!I6+'SNA 07-2018'!I6+'SNA 08-2018'!I6+'SNA 09-2018'!I6+'SNA 10-2018'!I6+'SNA 11-2018'!I6+'SNA 12-2018'!I6 -> 0
A7: BATTERIEDENIEST | B7: ='SNA 01-2018'!B7+'SNA 02-2018'!B7+'SNA 03-2018'!B7+'SNA 04-2018'!B7+'SNA 05-2018'!B7+'SNA 06-2018'!B7+'SNA 07-2018'!B7+'SNA 08-2018'!B7+'SNA 09-2018'!B7+'SNA 10-2018'!B7+'SNA 11-2018'!B7+'SNA 12-2018'!B7 -> 0 | C7: ='SNA 01-2018'!C7+'SNA 02-2018'!C7+'SNA 03-2018'!C7+'SNA 04-2018'!C7+'SNA 05-2018'!C7+'SNA 06-2018'!C7+'SNA 07-2018'!C7+'SNA 08-2018'!C7+'SNA 09-2018'!C7+'SNA 10-2018'!C7+'SNA 11-2018'!C7+'SNA 12-2018'!C7 -> 0 | D7: ='SNA 01-2018'!D7+'SNA 02-2018'!D7+'SNA 03-2018'!D7+'SNA 04-2018'!D7+'SNA 05-2018'!D7+'SNA 06-2018'!D7+'SNA 07-2018'!D7+'SNA 08-2018'!D7+'SNA 09-2018'!D7+'SNA 10-2018'!D7+'SNA 11-2018'!D7+'SNA 12-2018'!D7 -> 0 | E7: =SUM(B7:D7) -> 0 | G7: ='SNA 01-2018'!G7+'SNA 02-2018'!G7+'SNA 03-2018'!G7+'SNA 04-2018'!G7+'SNA 05-2018'!G7+'SNA 06-2018'!G7+'SNA 07-2018'!G7+'SNA 08-2018'!G7+'SNA 09-2018'!G7+'SNA 10-2018'!G7+'SNA 11-2018'!G7+'SNA 12-2018'!G7 -> 70000 | I7: ='SNA 01-2018'!I7+'SNA 02-2018'!I7+'SNA 03-2018'!I7+'SNA 04-2018'!I7+'SNA 05-2018'!I7+'SNA 06-2018'!I7+'SNA 07-2018'!I7+'SNA 08-2018'!I7+'SNA 09-2018'!I7+'SNA 10-2018'!I7+'SNA 11-2018'!I7+'SNA 12-2018'!I7 -> 0
A8: ERRAFIK EL DAYEM | B8: ='SNA 01-2018'!B8+'SNA 02-2018'!B8+'SNA 03-2018'!B8+'SNA 04-2018'!B8+'SNA 05-2018'!B8+'SNA 06-2018'!B8+'SNA 07-2018'!B8+'SNA 08-2018'!B8+'SNA 09-2018'!B8+'SNA 10-2018'!B8+'SNA 11-2018'!B8+'SNA 12-2018'!B8 -> 0 | C8: ='SNA 01-2018'!C8+'SNA 02-2018'!C8+'SNA 03-2018'!C8+'SNA 04-2018'!C8+'SNA 05-2018'!C8+'SNA 06-2018'!C8+'SNA 07-2018'!C8+'SNA 08-2018'!C8+'SNA 09-2018'!C8+'SNA 10-2018'!C8+'SNA 11-2018'!C8+'SNA 12-2018'!C8 -> 490636.9 | D8: ='SNA 01-2018'!D8+'SNA 02-2018'!D8+'SNA 03-2018'!D8+'SNA 04-2018'!D8+'SNA 05-2018'!D8+'SNA 06-2018'!D8+'SNA 07-2018'!D8+'SNA 08-2018'!D8+'SNA 09-2018'!D8+'SNA 10-2018'!D8+'SNA 11-2018'!D8+'SNA 12-2018'!D8 -> 0 | E8: =SUM(B8:D8) -> 490636.9 | G8: ='SNA 01-2018'!G8+'SNA 02-2018'!G8+'SNA 03-2018'!G8+'SNA 04-2018'!G8+'SNA 05-2018'!G8+'SNA 06-2018'!G8+'SNA 07-2018'!G8+'SNA 08-2018'!G8+'SNA 09-2018'!G8+'SNA 10-2018'!G8+'SNA 11-2018'!G8+'SNA 12-2018'!G8 -> 1332301 | I8: ='SNA 01-2018'!I8+'SNA 02-2018'!I8+'SNA 03-2018'!I8+'SNA 04-2018'!I8+'SNA 05-2018'!I8+'SNA 06-2018'!I8+'SNA 07-2018'!I8+'SNA 08-2018'!I8+'SNA 09-2018'!I8+'SNA 10-2018'!I8+'SNA 11-2018'!I8+'SNA 12-2018'!I8 -> 0
A9: COTE D'IVOIR | B9: ='SNA 01-2018'!B9+'SNA 02-2018'!B9+'SNA 03-2018'!B9+'SNA 04-2018'!B9+'SNA 05-2018'!B9+'SNA 06-2018'!B9+'SNA 07-2018'!B9+'SNA 08-2018'!B9+'SNA 09-2018'!B9+'SNA 10-2018'!B9+'SNA 11-2018'!B9+'SNA 12-2018'!B9 -> 0 | C9: ='SNA 01-2018'!C9+'SNA 02-2018'!C9+'SNA 03-2018'!C9+'SNA 04-2018'!C9+'SNA 05-2018'!C9+'SNA 06-2018'!C9+'SNA 07-2018'!C9+'SNA 08-2018'!C9+'SNA 09-2018'!C9+'SNA 10-2018'!C9+'SNA 11-2018'!C9+'SNA 12-2018'!C9 -> 0 | D9: ='SNA 01-2018'!D9+'SNA 02-2018'!D9+'SNA 03-2018'!D9+'SNA 04-2018'!D9+'SNA 05-2018'!D9+'SNA 06-2018'!D9+'SNA 07-2018'!D9+'SNA 08-2018'!D9+'SNA 09-2018'!D9+'SNA 10-2018'!D9+'SNA 11-2018'!D9+'SNA 12-2018'!D9 -> 0 | E9: =SUM(B9:D9) -> 0 | G9: ='SNA 01-2018'!G9+'SNA 02-2018'!G9+'SNA 03-2018'!G9+'SNA 04-2018'!G9+'SNA 05-2018'!G9+'SNA 06-2018'!G9+'SNA 07-2018'!G9+'SNA 08-2018'!G9+'SNA 09-2018'!G9+'SNA 10-2018'!G9+'SNA 11-2018'!G9+'SNA 12-2018'!G9 -> 41511.63 | I9: ='SNA 01-2018'!I9+'SNA 02-2018'!I9+'SNA 03-2018'!I9+'SNA 04-2018'!I9+'SNA 05-2018'!I9+'SNA 06-2018'!I9+'SNA 07-2018'!I9+'SNA 08-2018'!I9+'SNA 09-2018'!I9+'SNA 10-2018'!I9+'SNA 11-2018'!I9+'SNA 12-2018'!I9 -> 0
A10: MED ENERGY | B10: ='SNA 01-2018'!B10+'SNA 02-2018'!B10+'SNA 03-2018'!B10+'SNA 04-2018'!B10+'SNA 05-2018'!B10+'SNA 06-2018'!B10+'SNA 07-2018'!B10+'SNA 08-2018'!B10+'SNA 09-2018'!B10+'SNA 10-2018'!B10+'SNA 11-2018'!B10+'SNA 12-2018'!B10 -> 0 | C10: ='SNA 01-2018'!C10+'SNA 02-2018'!C10+'SNA 03-2018'!C10+'SNA 04-2018'!C10+'SNA 05-2018'!C10+'SNA 06-2018'!C10+'SNA 07-2018'!C10+'SNA 08-2018'!C10+'SNA 09-2018'!C10+'SNA 10-2018'!C10+'SNA 11-2018'!C10+'SNA 12-2018'!C10 -> 0 | D10: ='SNA 01-2018'!D10+'SNA 02-2018'!D10+'SNA 03-2018'!D10+'SNA 04-2018'!D10+'SNA 05-2018'!D10+'SNA 06-2018'!D10+'SNA 07-2018'!D10+'SNA 08-2018'!D10+'SNA 09-2018'!D10+'SNA 10-2018'!D10+'SNA 11-2018'!D10+'SNA 12-2018'!D10 -> 0 | E10: =SUM(B10:D10) -> 0 | G10: ='SNA 01-2018'!G10+'SNA 02-2018'!G10+'SNA 03-2018'!G10+'SNA 04-2018'!G10+'SNA 05-2018'!G10+'SNA 06-2018'!G10+'SNA 07-2018'!G10+'SNA 08-2018'!G10+'SNA 09-2018'!G10+'SNA 10-2018'!G10+'SNA 11-2018'!G10+'SNA 12-2018'!G10 -> 19226.92 | I10: ='SNA 01-2018'!I10+'SNA 02-2018'!I10+'SNA 03-2018'!I10+'SNA 04-2018'!I10+'SNA 05-2018'!I10+'SNA 06-2018'!I10+'SNA 07-2018'!I10+'SNA 08-2018'!I10+'SNA 09-2018'!I10+'SNA 10-2018'!I10+'SNA 11-2018'!I10+'SNA 12-2018'!I10 -> 0
A11: NOUR GERMANY | B11: ='SNA 01-2018'!B11+'SNA 02-2018'!B11+'SNA 03-2018'!B11+'SNA 04-2018'!B11+'SNA 05-2018'!B11+'SNA 06-2018'!B11+'SNA 07-2018'!B11+'SNA 08-2018'!B11+'SNA 09-2018'!B11+'SNA 10-2018'!B11+'SNA 11-2018'!B11+'SNA 12-2018'!B11 -> 0 | C11: ='SNA 01-2018'!C11+'SNA 02-2018'!C11+'SNA 03-2018'!C11+'SNA 04-2018'!C11+'SNA 05-2018'!C11+'SNA 06-2018'!C11+'SNA 07-2018'!C11+'SNA 08-2018'!C11+'SNA 09-2018'!C11+'SNA 10-2018'!C11+'SNA 11-2018'!C11+'SNA 12-2018'!C11 -> 0 | D11: ='SNA 01-2018'!D11+'SNA 02-2018'!D11+'SNA 03-2018'!D11+'SNA 04-2018'!D11+'SNA 05-2018'!D11+'SNA 06-2018'!D11+'SNA 07-2018'!D11+'SNA 08-2018'!D11+'SNA 09-2018'!D11+'SNA 10-2018'!D11+'SNA 11-2018'!D11+'SNA 12-2018'!D11 -> 0 | E11: =SUM(B11:D11) -> 0 | G11: ='SNA 01-2018'!G11+'SNA 02-2018'!G11+'SNA 03-2018'!G11+'SNA 04-2018'!G11+'SNA 05-2018'!G11+'SNA 06-2018'!G11+'SNA 07-2018'!G11+'SNA 08-2018'!G11+'SNA 09-2018'!G11+'SNA 10-2018'!G11+'SNA 11-2018'!G11+'SNA 12-2018'!G11 -> 312349.81 | I11: ='SNA 01-2018'!I11+'SNA 02-2018'!I11+'SNA 03-2018'!I11+'SNA 04-2018'!I11+'SNA 05-2018'!I11+'SNA 06-2018'!I11+'SNA 07-2018'!I11+'SNA 08-2018'!I11+'SNA 09-2018'!I11+'SNA 10-2018'!I11+'SNA 11-2018'!I11+'SNA 12-2018'!I11 -> 0
A12: VIREMENT RECU | B12: ='SNA 01-2018'!B12+'SNA 02-2018'!B12+'SNA 03-2018'!B12+'SNA 04-2018'!B12+'SNA 05-2018'!B12+'SNA 06-2018'!B12+'SNA 07-2018'!B12+'SNA 08-2018'!B12+'SNA 09-2018'!B12+'SNA 10-2018'!B12+'SNA 11-2018'!B12+'SNA 12-2018'!B12 -> 64312.539 | C12: ='SNA 01-2018'!C12+'SNA 02-2018'!C12+'SNA 03-2018'!C12+'SNA 04-2018'!C12+'SNA 05-2018'!C12+'SNA 06-2018'!C12+'SNA 07-2018'!C12+'SNA 08-2018'!C12+'SNA 09-2018'!C12+'SNA 10-2018'!C12+'SNA 11-2018'!C12+'SNA 12-2018'!C12 -> 10145.131 | D12: ='SNA 01-2018'!D12+'SNA 02-2018'!D12+'SNA 03-2018'!D12+'SNA 04-2018'!D12+'SNA 05-2018'!D12+'SNA 06-2018'!D12+'SNA 07-2018'!D12+'SNA 08-2018'!D12+'SNA 09-2018'!D12+'SNA 10-2018'!D12+'SNA 11-2018'!D12+'SNA 12-2018'!D12 -> 0 | E12: =SUM(B12:D12) -> 74457.67 | G12: ='SNA 01-2018'!G12+'SNA 02-2018'!G12+'SNA 03-2018'!G12+'SNA 04-2018'!G12+'SNA 05-2018'!G12+'SNA 06-2018'!G12+'SNA 07-2018'!G12+'SNA 08-2018'!G12+'SNA 09-2018'!G12+'SNA 10-2018'!G12+'SNA 11-2018'!G12+'SNA 12-2018'!G12 -> 0 | I12: ='SNA 01-2018'!I12+'SNA 02-2018'!I12+'SNA 03-2018'!I12+'SNA 04-2018'!I12+'SNA 05-2018'!I12+'SNA 06-2018'!I12+'SNA 07-2018'!I12+'SNA 08-2018'!I12+'SNA 09-2018'!I12+'SNA 10-2018'!I12+'SNA 11-2018'!I12+'SNA 12-2018'!I12 -> 0
A13: AUTRES RECETTE | B13: =SUM(B14:B21) -> 0 | C13: =SUM(C14:C21) -> 4980837.3 | D13: =SUM(D14:D21) -> 0 | E13: =SUM(B13:D13) -> 4980837.3 | G13: =SUM(G14:G21) -> 1626.02 | I13: =SUM(I14:I21) -> -1977.68
A14: AUGMENTATION CAPITAL | B14: ='SNA 01-2018'!B14+'SNA 02-2018'!B14+'SNA 03-2018'!B14+'SNA 04-2018'!B14+'SNA 05-2018'!B14+'SNA 06-2018'!B14+'SNA 07-2018'!B14+'SNA 08-2018'!B14+'SNA 09-2018'!B14+'SNA 10-2018'!B14+'SNA 11-2018'!B14+'SNA 12-2018'!B14 -> 0 | C14: ='SNA 01-2018'!C14+'SNA 02-2018'!C14+'SNA 03-2018'!C14+'SNA 04-2018'!C14+'SNA 05-2018'!C14+'SNA 06-2018'!C14+'SNA 07-2018'!C14+'SNA 08-2018'!C14+'SNA 09-2018'!C14+'SNA 10-2018'!C14+'SNA 11-2018'!C14+'SNA 12-2018'!C14 -> 0 | D14: ='SNA 01-2018'!D14+'SNA 02-2018'!D14+'SNA 03-2018'!D14+'SNA 04-2018'!D14+'SNA 05-2018'!D14+'SNA 06-2018'!D14+'SNA 07-2018'!D14+'SNA 08-2018'!D14+'SNA 09-2018'!D14+'SNA 10-2018'!D14+'SNA 11-2018'!D14+'SNA 12-2018'!D14 -> 0 | E14: =SUM(B14:D14) -> 0 | G14: ='SNA 01-2018'!G14+'SNA 02-2018'!G14+'SNA 03-2018'!G14+'SNA 04-2018'!G14+'SNA 05-2018'!G14+'SNA 06-2018'!G14+'SNA 07-2018'!G14+'SNA 08-2018'!G14+'SNA 09-2018'!G14+'SNA 10-2018'!G14+'SNA 11-2018'!G14+'SNA 12-2018'!G14 -> 0 | I14: ='SNA 01-2018'!I14+'SNA 02-2018'!I14+'SNA 03-2018'!I14+'SNA 04-2018'!I14+'SNA 05-2018'!I14+'SNA 06-2018'!I14+'SNA 07-2018'!I14+'SNA 08-2018'!I14+'SNA 09-2018'!I14+'SNA 10-2018'!I14+'SNA 11-2018'!I14+'SNA 12-2018'!I14 -> 0
A15: DEBLOCAGE CMT | B15: ='SNA 01-2018'!B15+'SNA 02-2018'!B15+'SNA 03-2018'!B15+'SNA 04-2018'!B15+'SNA 05-2018'!B15+'SNA 06-2018'!B15+'SNA 07-2018'!B15+'SNA 08-2018'!B15+'SNA 09-2018'!B15+'SNA 10-2018'!B15+'SNA 11-2018'!B15+'SNA 12-2018'!B15 -> 0 | C15: ='SNA 01-2018'!C15+'SNA 02-2018'!C15+'SNA 03-2018'!C15+'SNA 04-2018'!C15+'SNA 05-2018'!C15+'SNA 06-2018'!C15+'SNA 07-2018'!C15+'SNA 08-2018'!C15+'SNA 09-2018'!C15+'SNA 10-2018'!C15+'SNA 11-2018'!C15+'SNA 12-2018'!C15 -> 3750000 | D15: ='SNA 01-2018'!D15+'SNA 02-2018'!D15+'SNA 03-2018'!D15+'SNA 04-2018'!D15+'SNA 05-2018'!D15+'SNA 06-2018'!D15+'SNA 07-2018'!D15+'SNA 08-2018'!D15+'SNA 09-2018'!D15+'SNA 10-2018'!D15+'SNA 11-2018'!D15+'SNA 12-2018'!D15 -> 0 | E15: =SUM(B15:D15) -> 3750000 | G15: ='SNA 01-2018'!G15+'SNA 02-2018'!G15+'SNA 03-2018'!G15+'SNA 04-2018'!G15+'SNA 05-2018'!G15+'SNA 06-2018'!G15+'SNA 07-2018'!G15+'SNA 08-2018'!G15+'SNA 09-2018'!G15+'SNA 10-2018'!G15+'SNA 11-2018'!G15+'SNA 12-2018'!G15 -> 0 | I15: ='SNA 01-2018'!I15+'SNA 02-2018'!I15+'SNA 03-2018'!I15+'SNA 04-2018'!I15+'SNA 05-2018'!I15+'SNA 06-2018'!I15+'SNA 07-2018'!I15+'SNA 08-2018'!I15+'SNA 09-2018'!I15+'SNA 10-2018'!I15+'SNA 11-2018'!I15+'SNA 12-2018'!I15 -> 0
A16: BLOCAGE | B16: ='SNA 01-2018'!B16+'SNA 02-2018'!B16+'SNA 03-2018'!B16+'SNA 04-2018'!B16+'SNA 05-2018'!B16+'SNA 06-2018'!B16+'SNA 07-2018'!B16+'SNA 08-2018'!B16+'SNA 09-2018'!B16+'SNA 10-2018'!B16+'SNA 11-2018'!B16+'SNA 12-2018'!B16 -> 0 | C16: ='SNA 01-2018'!C16+'SNA 02-2018'!C16+'SNA 03-2018'!C16+'SNA 04-2018'!C16+'SNA 05-2018'!C16+'SNA 06-2018'!C16+'SNA 07-2018'!C16+'SNA 08-2018'!C16+'SNA 09-2018'!C16+'SNA 10-2018'!C16+'SNA 11-2018'!C16+'SNA 12-2018'!C16 -> -102421.6 | D16: ='SNA 01-2018'!D16+'SNA 02-2018'!D16+'SNA 03-2018'!D16+'SNA 04-2018'!D16+'SNA 05-2018'!D16+'SNA 06-2018'!D16+'SNA 07-2018'!D16+'SNA 08-2018'!D16+'SNA 09-2018'!D16+'SNA 10-2018'!D16+'SNA 11-2018'!D16+'SNA 12-2018'!D16 -> 0 | E16: =SUM(B16:D16) -> -102421.6 | G16: ='SNA 01-2018'!G16+'SNA 02-2018'!G16+'SNA 03-2018'!G16+'SNA 04-2018'!G16+'SNA 05-2018'!G16+'SNA 06-2018'!G16+'SNA 07-2018'!G16+'SNA 08-2018'!G16+'SNA 09-2018'!G16+'SNA 10-2018'!G16+'SNA 11-2018'!G16+'SNA 12-2018'!G16 -> 0 | I16: ='SNA 01-2018'!I16+'SNA 02-2018'!I16+'SNA 03-2018'!I16+'SNA 04-2018'!I16+'SNA 05-2018'!I16+'SNA 06-2018'!I16+'SNA 07-2018'!I16+'SNA 08-2018'!I16+'SNA 09-2018'!I16+'SNA 10-2018'!I16+'SNA 11-2018'!I16+'SNA 12-2018'!I16 -> 0
A17: BILLET DE TRESORERIE | B17: ='SNA 01-2018'!B17+'SNA 02-2018'!B17+'SNA 03-2018'!B17+'SNA 04-2018'!B17+'SNA 05-2018'!B17+'SNA 06-2018'!B17+'SNA 07-2018'!B17+'SNA 08-2018'!B17+'SNA 09-2018'!B17+'SNA 10-2018'!B17+'SNA 11-2018'!B17+'SNA 12-2018'!B17 -> 0 | C17: ='SNA 01-2018'!C17+'SNA 02-2018'!C17+'SNA 03-2018'!C17+'SNA 04-2018'!C17+'SNA 05-2018'!C17+'SNA 06-2018'!C17+'SNA 07-2018'!C17+'SNA 08-2018'!C17+'SNA 09-2018'!C17+'SNA 10-2018'!C17+'SNA 11-2018'!C17+'SNA 12-2018'!C17 -> -17281.339 | D17: ='SNA 01-2018'!D17+'SNA 02-2018'!D17+'SNA 03-2018'!D17+'SNA 04-2018'!D17+'SNA 05-2018'!D17+'SNA 06-2018'!D17+'SNA 07-2018'!D17+'SNA 08-2018'!D17+'SNA 09-2018'!D17+'SNA 10-2018'!D17+'SNA 11-2018'!D17+'SNA 12-2018'!D17 -> 0 | E17: =SUM(B17:D17) -> -17281.339 | G17: ='SNA 01-2018'!G17+'SNA 02-2018'!G17+'SNA 03-2018'!G17+'SNA 04-2018'!G17+'SNA 05-2018'!G17+'SNA 06-2018'!G17+'SNA 07-2018'!G17+'SNA 08-2018'!G17+'SNA 09-2018'!G17+'SNA 10-2018'!G17+'SNA 11-2018'!G17+'SNA 12-2018'!G17 -> 0 | I17: ='SNA 01-2018'!I17+'SNA 02-2018'!I17+'SNA 03-2018'!I17+'SNA 04-2018'!I17+'SNA 05-2018'!I17+'SNA 06-2018'!I17+'SNA 07-2018'!I17+'SNA 08-2018'!I17+'SNA 09-2018'!I17+'SNA 10-2018'!I17+'SNA 11-2018'!I17+'SNA 12-2018'!I17 -> 0
A18: PLACEMENT | B18: ='SNA 01-2018'!B18+'SNA 02-2018'!B18+'SNA 03-2018'!B18+'SNA 04-2018'!B18+'SNA 05-2018'!B18+'SNA 06-2018'!B18+'SNA 07-2018'!B18+'SNA 08-2018'!B18+'SNA 09-2018'!B18+'SNA 10-2018'!B18+'SNA 11-2018'!B18+'SNA 12-2018'!B18 -> 0 | C18: ='SNA 01-2018'!C18+'SNA 02-2018'!C18+'SNA 03-2018'!C18+'SNA 04-2018'!C18+'SNA 05-2018'!C18+'SNA 06-2018'!C18+'SNA 07-2018'!C18+'SNA 08-2018'!C18+'SNA 09-2018'!C18+'SNA 10-2018'!C18+'SNA 11-2018'!C18+'SNA 12-2018'!C18 -> 500000 | D18: ='SNA 01-2018'!D18+'SNA 02-2018'!D18+'SNA 03-2018'!D18+'SNA 04-2018'!D18+'SNA 05-2018'!D18+'SNA 06-2018'!D18+'SNA 07-2018'!D18+'SNA 08-2018'!D18+'SNA 09-2018'!D18+'SNA 10-2018'!D18+'SNA 11-2018'!D18+'SNA 12-2018'!D18 -> 0 | E18: =SUM(B18:D18) -> 500000 | G18: ='SNA 01-2018'!G18+'SNA 02-2018'!G18+'SNA 03-2018'!G18+'SNA 04-2018'!G18+'SNA 05-2018'!G18+'SNA 06-2018'!G18+'SNA 07-2018'!G18+'SNA 08-2018'!G18+'SNA 09-2018'!G18+'SNA 10-2018'!G18+'SNA 11-2018'!G18+'SNA 12-2018'!G18 -> 0 | I18: ='SNA 01-2018'!I18+'SNA 02-2018'!I18+'SNA 03-2018'!I18+'SNA 04-2018'!I18+'SNA 05-2018'!I18+'SNA 06-2018'!I18+'SNA 07-2018'!I18+'SNA 08-2018'!I18+'SNA 09-2018'!I18+'SNA 10-2018'!I18+'SNA 11-2018'!I18+'SNA 12-2018'!I18 -> 0
A19: RESTITUTION TVA | B19: ='SNA 01-2018'!B19+'SNA 02-2018'!B19+'SNA 03-2018'!B19+'SNA 04-2018'!B19+'SNA 05-2018'!B19+'SNA 06-2018'!B19+'SNA 07-2018'!B19+'SNA 08-2018'!B19+'SNA 09-2018'!B19+'SNA 10-2018'!B19+'SNA 11-2018'!B19+'SNA 12-2018'!B19 -> 0 | C19: ='SNA 01-2018'!C19+'SNA 02-2018'!C19+'SNA 03-2018'!C19+'SNA 04-2018'!C19+'SNA 05-2018'!C19+'SNA 06-2018'!C19+'SNA 07-2018'!C19+'SNA 08-2018'!C19+'SNA 09-2018'!C19+'SNA 10-2018'!C19+'SNA 11-2018'!C19+'SNA 12-2018'!C19 -> 850540.23 | D19: ='SNA 01-2018'!D19+'SNA 02-2018'!D19+'SNA 03-2018'!D19+'SNA 04-2018'!D19+'SNA 05-2018'!D19+'SNA 06-2018'!D19+'SNA 07-2018'!D19+'SNA 08-2018'!D19+'SNA 09-2018'!D19+'SNA 10-2018'!D19+'SNA 11-2018'!D19+'SNA 12-2018'!D19 -> 0 | E19: =SUM(B19:D19) -> 850540.23 | G19: ='SNA 01-2018'!G19+'SNA 02-2018'!G19+'SNA 03-2018'!G19+'SNA 04-2018'!G19+'SNA 05-2018'!G19+'SNA 06-2018'!G19+'SNA 07-2018'!G19+'SNA 08-2018'!G19+'SNA 09-2018'!G19+'SNA 10-2018'!G19+'SNA 11-2018'!G19+'SNA 12-2018'!G19 -> 0 | I19: ='SNA 01-2018'!I19+'SNA 02-2018'!I19+'SNA 03-2018'!I19+'SNA 04-2018'!I19+'SNA 05-2018'!I19+'SNA 06-2018'!I19+'SNA 07-2018'!I19+'SNA 08-2018'!I19+'SNA 09-2018'!I19+'SNA 10-2018'!I19+'SNA 11-2018'!I19+'SNA 12-2018'!I19 -> 0
A20: VENTE DOLLARS | B20: ='SNA 01-2018'!B20+'SNA 02-2018'!B20+'SNA 03-2018'!B20+'SNA 04-2018'!B20+'SNA 05-2018'!B20+'SNA 06-2018'!B20+'SNA 07-2018'!B20+'SNA 08-2018'!B20+'SNA 09-2018'!B20+'SNA 10-2018'!B20+'SNA 11-2018'!B20+'SNA 12-2018'!B20 -> 0 | C20: ='SNA 01-2018'!C20+'SNA 02-2018'!C20+'SNA 03-2018'!C20+'SNA 04-2018'!C20+'SNA 05-2018'!C20+'SNA 06-2018'!C20+'SNA 07-2018'!C20+'SNA 08-2018'!C20+'SNA 09-2018'!C20+'SNA 10-2018'!C20+'SNA 11-2018'!C20+'SNA 12-2018'!C20 -> 0 | D20: ='SNA 01-2018'!D20+'SNA 02-2018'!D20+'SNA 03-2018'!D20+'SNA 04-2018'!D20+'SNA 05-2018'!D20+'SNA 06-2018'!D20+'SNA 07-2018'!D20+'SNA 08-2018'!D20+'SNA 09-2018'!D20+'SNA 10-2018'!D20+'SNA 11-2018'!D20+'SNA 12-2018'!D20 -> 0 | E20: =SUM(B20:D20) -> 0 | G20: ='SNA 01-2018'!G20+'SNA 02-2018'!G20+'SNA 03-2018'!G20+'SNA 04-2018'!G20+'SNA 05-2018'!G20+'SNA 06-2018'!G20+'SNA 07-2018'!G20+'SNA 08-2018'!G20+'SNA 09-2018'!G20+'SNA 10-2018'!G20+'SNA 11-2018'!G20+'SNA 12-2018'!G20 -> 1626.02 | I20: ='SNA 01-2018'!I20+'SNA 02-2018'!I20+'SNA 03-2018'!I20+'SNA 04-2018'!I20+'SNA 05-2018'!I20+'SNA 06-2018'!I20+'SNA 07-2018'!I20+'SNA 08-2018'!I20+'SNA 09-2018'!I20+'SNA 10-2018'!I20+'SNA 11-2018'!I20+'SNA 12-2018'!I20 -> -1977.68
A21: VENTE EURO | B21: ='SNA 01-2018'!B21+'SNA 02-2018'!B21+'SNA 03-2018'!B21+'SNA 04-2018'!B21+'SNA 05-2018'!B21+'SNA 06-2018'!B21+'SNA 07-2018'!B21+'SNA 08-2018'!B21+'SNA 09-2018'!B21+'SNA 10-2018'!B21+'SNA 11-2018'!B21+'SNA 12-2018'!B21 -> 0 | C21: ='SNA 01-2018'!C21+'SNA 02-2018'!C21+'SNA 03-2018'!C21+'SNA 04-2018'!C21+'SNA 05-2018'!C21+'SNA 06-2018'!C21+'SNA 07-2018'!C21+'SNA 08-2018'!C21+'SNA 09-2018'!C21+'SNA 10-2018'!C21+'SNA 11-2018'!C21+'SNA 12-2018'!C21 -> 0 | D21: ='SNA 01-2018'!D21+'SNA 02-2018'!D21+'SNA 03-2018'!D21+'SNA 04-2018'!D21+'SNA 05-2018'!D21+'SNA 06-2018'!D21+'SNA 07-2018'!D21+'SNA 08-2018'!D21+'SNA 09-2018'!D21+'SNA 10-2018'!D21+'SNA 11-2018'!D21+'SNA 12-2018'!D21 -> 0 | E21: =SUM(B21:D21) -> 0 | G21: ='SNA 01-2018'!G21+'SNA 02-2018'!G21+'SNA 03-2018'!G21+'SNA 04-2018'!G21+'SNA 05-2018'!G21+'SNA 06-2018'!G21+'SNA 07-2018'!G21+'SNA 08-2018'!G21+'SNA 09-2018'!G21+'SNA 10-2018'!G21+'SNA 11-2018'!G21+'SNA 12-2018'!G21 -> 0 | I21: ='SNA 01-2018'!I21+'SNA 02-2018'!I21+'SNA 03-2018'!I21+'SNA 04-2018'!I21+'SNA 05-2018'!I21+'SNA 06-2018'!I21+'SNA 07-2018'!I21+'SNA 08-2018'!I21+'SNA 09-2018'!I21+'SNA 10-2018'!I21+'SNA 11-2018'!I21+'SNA 12-2018'!I21 -> 0
A22: ENGAGEMENT BANCAIRE | B22: =SUM(B23:B43) -> -25928.275 | C22: =SUM(C23:C43) -> -1899483.7 | D22: =SUM(D23:D43) -> -239021.37 | E22: =SUM(B22:D22) -> -2164433.4 | G22: =SUM(G23:G43) -> 0 | I22: =SUM(I23:I43) -> 0
A23: CMT 1000 | B23: ='SNA 01-2018'!B23+'SNA 02-2018'!B23+'SNA 03-2018'!B23+'SNA 04-2018'!B23+'SNA 05-2018'!B23+'SNA 06-2018'!B23+'SNA 07-2018'!B23+'SNA 08-2018'!B23+'SNA 09-2018'!B23+'SNA 10-2018'!B23+'SNA 11-2018'!B23+'SNA 12-2018'!B23 -> 0 | C23: ='SNA 01-2018'!C23+'SNA 02-2018'!C23+'SNA 03-2018'!C23+'SNA 04-2018'!C23+'SNA 05-2018'!C23+'SNA 06-2018'!C23+'SNA 07-2018'!C23+'SNA 08-2018'!C23+'SNA 09-2018'!C23+'SNA 10-2018'!C23+'SNA 11-2018'!C23+'SNA 12-2018'!C23 -> -166666.67 | D23: ='SNA 01-2018'!D23+'SNA 02-2018'!D23+'SNA 03-2018'!D23+'SNA 04-2018'!D23+'SNA 05-2018'!D23+'SNA 06-2018'!D23+'SNA 07-2018'!D23+'SNA 08-2018'!D23+'SNA 09-2018'!D23+'SNA 10-2018'!D23+'SNA 11-2018'!D23+'SNA 12-2018'!D23 -> 0 | E23: =SUM(B23:D23) -> -166666.67 | G23: ='SNA 01-2018'!G23+'SNA 02-2018'!G23+'SNA 03-2018'!G23+'SNA 04-2018'!G23+'SNA 05-2018'!G23+'SNA 06-2018'!G23+'SNA 07-2018'!G23+'SNA 08-2018'!G23+'SNA 09-2018'!G23+'SNA 10-2018'!G23+'SNA 11-2018'!G23+'SNA 12-2018'!G23 -> 0 | I23: ='SNA 01-2018'!I23+'SNA 02-2018'!I23+'SNA 03-2018'!I23+'SNA 04-2018'!I23+'SNA 05-2018'!I23+'SNA 06-2018'!I23+'SNA 07-2018'!I23+'SNA 08-2018'!I23+'SNA 09-2018'!I23+'SNA 10-2018'!I23+'SNA 11-2018'!I23+'SNA 12-2018'!I23 -> 0
A24: CMT 1000 1 | B24: ='SNA 01-2018'!B24+'SNA 02-2018'!B24+'SNA 03-2018'!B24+'SNA 04-2018'!B24+'SNA 05-2018'!B24+'SNA 06-2018'!B24+'SNA 07-2018'!B24+'SNA 08-2018'!B24+'SNA 09-2018'!B24+'SNA 10-2018'!B24+'SNA 11-2018'!B24+'SNA 12-2018'!B24 -> 0 | C24: ='SNA 01-2018'!C24+'SNA 02-2018'!C24+'SNA 03-2018'!C24+'SNA 04-2018'!C24+'SNA 05-2018'!C24+'SNA 06-2018'!C24+'SNA 07-2018'!C24+'SNA 08-2018'!C24+'SNA 09-2018'!C24+'SNA 10-2018'!C24+'SNA 11-2018'!C24+'SNA 12-2018'!C24 -> -142857.15 | D24: ='SNA 01-2018'!D24+'SNA 02-2018'!D24+'SNA 03-2018'!D24+'SNA 04-2018'!D24+'SNA 05-2018'!D24+'SNA 06-2018'!D24+'SNA 07-2018'!D24+'SNA 08-2018'!D24+'SNA 09-2018'!D24+'SNA 10-2018'!D24+'SNA 11-2018'!D24+'SNA 12-2018'!D24 -> 0 | E24: =SUM(B24:D24) -> -142857.15 | G24: ='SNA 01-2018'!G24+'SNA 02-2018'!G24+'SNA 03-2018'!G24+'SNA 04-2018'!G24+'SNA 05-2018'!G24+'SNA 06-2018'!G24+'SNA 07-2018'!G24+'SNA 08-2018'!G24+'SNA 09-2018'!G24+'SNA 10-2018'!G24+'SNA 11-2018'!G24+'SNA 12-2018'!G24 -> 0 | I24: ='SNA 01-2018'!I24+'SNA 02-2018'!I24+'SNA 03-2018'!I24+'SNA 04-2018'!I24+'SNA 05-2018'!I24+'SNA 06-2018'!I24+'SNA 07-2018'!I24+'SNA 08-2018'!I24+'SNA 09-2018'!I24+'SNA 10-2018'!I24+'SNA 11-2018'!I24+'SNA 12-2018'!I24 -> 0
A25: CMT 1150 | B25: ='SNA 01-2018'!B25+'SNA 02-2018'!B25+'SNA 03-2018'!B25+'SNA 04-2018'!B25+'SNA 05-2018'!B25+'SNA 06-2018'!B25+'SNA 07-2018'!B25+'SNA 08-2018'!B25+'SNA 09-2018'!B25+'SNA 10-2018'!B25+'SNA 11-2018'!B25+'SNA 12-2018'!B25 -> 0 | C25: ='SNA 01-2018'!C25+'SNA 02-2018'!C25+'SNA 03-2018'!C25+'SNA 04-2018'!C25+'SNA 05-2018'!C25+'SNA 06-2018'!C25+'SNA 07-2018'!C25+'SNA 08-2018'!C25+'SNA 09-2018'!C25+'SNA 10-2018'!C25+'SNA 11-2018'!C25+'SNA 12-2018'!C25 -> -191666.67 | D25: ='SNA 01-2018'!D25+'SNA 02-2018'!D25+'SNA 03-2018'!D25+'SNA 04-2018'!D25+'SNA 05-2018'!D25+'SNA 06-2018'!D25+'SNA 07-2018'!D25+'SNA 08-2018'!D25+'SNA 09-2018'!D25+'SNA 10-2018'!D25+'SNA 11-2018'!D25+'SNA 12-2018'!D25 -> 0 | E25: =SUM(B25:D25) -> -191666.67 | G25: ='SNA 01-2018'!G25+'SNA 02-2018'!G25+'SNA 03-2018'!G25+'SNA 04-2018'!G25+'SNA 05-2018'!G25+'SNA 06-2018'!G25+'SNA 07-2018'!G25+'SNA 08-2018'!G25+'SNA 09-2018'!G25+'SNA 10-2018'!G25+'SNA 11-2018'!G25+'SNA 12-2018'!G25 -> 0 | I25: ='SNA 01-2018'!I25+'SNA 02-2018'!I25+'SNA 03-2018'!I25+'SNA 04-2018'!I25+'SNA 05-2018'!I25+'SNA 06-2018'!I25+'SNA 07-2018'!I25+'SNA 08-2018'!I25+'SNA 09-2018'!I25+'SNA 10-2018'!I25+'SNA 11-2018'!I25+'SNA 12-2018'!I25 -> 0
A26: CMT 1250 | B26: ='SNA 01-2018'!B26+'SNA 02-2018'!B26+'SNA 03-2018'!B26+'SNA 04-2018'!B26+'SNA 05-2018'!B26+'SNA 06-2018'!B26+'SNA 07-2018'!B26+'SNA 08-2018'!B26+'SNA 09-2018'!B26+'SNA 10-2018'!B26+'SNA 11-2018'!B26+'SNA 12-2018'!B26 -> 0 | C26: ='SNA 01-2018'!C26+'SNA 02-2018'!C26+'SNA 03-2018'!C26+'SNA 04-2018'!C26+'SNA 05-2018'!C26+'SNA 06-2018'!C26+'SNA 07-2018'!C26+'SNA 08-2018'!C26+'SNA 09-2018'!C26+'SNA 10-2018'!C26+'SNA 11-2018'!C26+'SNA 12-2018'!C26 -> 0 | D26: ='SNA 01-2018'!D26+'SNA 02-2018'!D26+'SNA 03-2018'!D26+'SNA 04-2018'!D26+'SNA 05-2018'!D26+'SNA 06-2018'!D26+'SNA 07-2018'!D26+'SNA 08-2018'!D26+'SNA 09-2018'!D26+'SNA 10-2018'!D26+'SNA 11-2018'!D26+'SNA 12-2018'!D26 -> 0 | E26: =SUM(B26:D26) -> 0 | G26: ='SNA 01-2018'!G26+'SNA 02-2018'!G26+'SNA 03-2018'!G26+'SNA 04-2018'!G26+'SNA 05-2018'!G26+'SNA 06-2018'!G26+'SNA 07-2018'!G26+'SNA 08-2018'!G26+'SNA 09-2018'!G26+'SNA 10-2018'!G26+'SNA 11-2018'!G26+'SNA 12-2018'!G26 -> 0 | I26: ='SNA 01-2018'!I26+'SNA 02-2018'!I26+'SNA 03-2018'!I26+'SNA 04-2018'!I26+'SNA 05-2018'!I26+'SNA 06-2018'!I26+'SNA 07-2018'!I26+'SNA 08-2018'!I26+'SNA 09-2018'!I26+'SNA 10-2018'!I26+'SNA 11-2018'!I26+'SNA 12-2018'!I26 -> 0
A27: CMT 2418 | B27: ='SNA 01-2018'!B27+'SNA 02-2018'!B27+'SNA 03-2018'!B27+'SNA 04-2018'!B27+'SNA 05-2018'!B27+'SNA 06-2018'!B27+'SNA 07-2018'!B27+'SNA 08-2018'!B27+'SNA 09-2018'!B27+'SNA 10-2018'!B27+'SNA 11-2018'!B27+'SNA 12-2018'!B27 -> 0 | C27: ='SNA 01-2018'!C27+'SNA 02-2018'!C27+'SNA 03-2018'!C27+'SNA 04-2018'!C27+'SNA 05-2018'!C27+'SNA 06-2018'!C27+'SNA 07-2018'!C27+'SNA 08-2018'!C27+'SNA 09-2018'!C27+'SNA 10-2018'!C27+'SNA 11-2018'!C27+'SNA 12-2018'!C27 -> -345428.57 | D27: ='SNA 01-2018'!D27+'SNA 02-2018'!D27+'SNA 03-2018'!D27+'SNA 04-2018'!D27+'SNA 05-2018'!D27+'SNA 06-2018'!D27+'SNA 07-2018'!D27+'SNA 08-2018'!D27+'SNA 09-2018'!D27+'SNA 10-2018'!D27+'SNA 11-2018'!D27+'SNA 12-2018'!D27 -> 0 | E27: =SUM(B27:D27) -> -345428.57 | G27: ='SNA 01-2018'!G27+'SNA 02-2018'!G27+'SNA 03-2018'!G27+'SNA 04-2018'!G27+'SNA 05-2018'!G27+'SNA 06-2018'!G27+'SNA 07-2018'!G27+'SNA 08-2018'!G27+'SNA 09-2018'!G27+'SNA 10-2018'!G27+'SNA 11-2018'!G27+'SNA 12-2018'!G27 -> 0 | I27: ='SNA 01-2018'!I27+'SNA 02-2018'!I27+'SNA 03-2018'!I27+'SNA 04-2018'!I27+'SNA 05-2018'!I27+'SNA 06-2018'!I27+'SNA 07-2018'!I27+'SNA 08-2018'!I27+'SNA 09-2018'!I27+'SNA 10-2018'!I27+'SNA 11-2018'!I27+'SNA 12-2018'!I27 -> 0
