Workbook

Sheet SNA 01-2019
B1: STB THAMEUR | C1: STB MEGRINE | D1: BTK | G1: MEG EURO | I1: MEG $
A2: SOLDE 31/12/2018 | B2: 212.191 | C2: -2098732.7 | D2: 833.198 | E2: =SUM(B2:D2) -> -2097687.3 | G2: 41937.62 | I2: 146.86
A3: RECETTE | B3: =SUM(B4:B20) -> 0 | C3: =SUM(C4:C20) -> 2178004.4 | D3: =SUM(D4:D20) -> 0 | E3: =SUM(B3:D3) -> 2178004.4 | G3: =SUM(G4:G20) -> 717150.22 | I3: =SUM(I4:I20) -> 0
A4: SND CHEQUE | C4: 1635465.8 | E4: =SUM(B4:D4) -> 1635465.8
A5: SND TRAITE | C5: 500000 | E5: =SUM(B5:D5) -> 500000
A6: INTERET ESCOMPTE TRAITE | C6: -6697.667 | E6: =SUM(B6:D6) -> -6697.667
A7: STA NOUR | C7: 17000 | E7: =SUM(B7:D7) -> 17000
A8: NBI | E8: =SUM(B8:D8) -> 0
A9: TIP | C9: 1241.555 | E9: =SUM(B9:D9) -> 1241.555
A10: FONDERIE HNAYA | E10: =SUM(B10:D10) -> 0
A11: BATTERIEDENIEST | E11: =SUM(B11:D11) -> 0
A12: ERRAFIK EL DAYEM | E12: =SUM(B12:D12) -> 0 | G12: 689204.11
A13: FADI COTE D'IVOIR | E13: =SUM(B13:D13) -> 0
A14: MED ENERGY | E14: =SUM(B14:D14) -> 0
A15: NOUR Allemagne | E15: =SUM(B15:D15) -> 0 | G15: 27946.11
A16: MARIBAT | E16: =SUM(B16:D16) -> 0
A17: SIMTEC MAURITANIE | E17: =SUM(B17:D17) -> 0
A18: SIA ITALY | E18: =SUM(B18:D18) -> 0
A19: VERSEMENT ESPECE | C19: 23500 | E19: =SUM(B19:D19) -> 23500
A20: VIREMENT RECU | C20: 7494.711 | E20: =SUM(B20:D20) -> 7494.711
A21: AUTRES RECETTE | B21: =SUM(B22:B30) -> 0 | C21: =SUM(C22:C30) -> 703000 | D21: =SUM(D22:D30) -> 0 | E21: =SUM(B21:D21) -> 703000 | G21: =SUM(G22:G30) -> -200000 | I21: =SUM(I22:I30) -> 0
A22: AUGMENTATION CAPITAL | E22: =SUM(B22:D22) -> 0
A23: DEBLOCAGE CMT | E23: =SUM(B23:D23) -> 0
A24: BLOCAGE | E24: =SUM(B24:D24) -> 0
A25: BILLET DE TRESORERIE | E25: =SUM(B25:D25) -> 0
A26: PLACEMENT | E26: =SUM(B26:D26) -> 0
A27: RESTITUTION TVA | E27: =SUM(B27:D27) -> 0
A28: VENTE EQUIPEMENT | E28: =SUM(B28:D28) -> 0
A29: VENTE DOLLARS | E29: =SUM(B29:D29) -> 0
A30: VENTE EURO | C30: 703000 | E30: =SUM(B30:D30) -> 703000 | G30: -200000
A31: ENGAGEMENT BANCAIRE | B31: =SUM(B32:B54) -> 0 | C31: =SUM(C32:C54) -> -881045.91 | D31: =SUM(D32:D54) -> 0 | E31: =SUM(B31:D31) -> -881045.91 | G31: =SUM(G32:G54) -> 0 | I31: =SUM(I32:I54) -> 0
A32: CMT 1000 | E32: =SUM(B32:D32) -> 0
A33: CMT 1000 1 | E33: =SUM(B33:D33) -> 0
A34: CMT 1150 | E34: =SUM(B34:D34) -> 0
A35: CMT 1250 | E35: =SUM(B35:D35) -> 0
A36: CMT 2418 | C36: -172714.28 | E36: =SUM(B36:D36) -> -172714.28
A37: CMT 2500 | E37: =SUM(B37:D37) -> 0
A38: CMT 350 | E38: =SUM(B38:D38) -> 0
A39: CMT 500 | E39: =SUM(B39:D39) -> 0
A40: CMT BTK | E40: =SUM(B40:D40) -> 0
...

Sheet SNA 02-2019
B1: STB THAMEUR | C1: STB MEGRINE | D1: BTK | G1: MEG EURO | I1: MEG $
A2: SOLDE 31/01/2019 | B2: ='SNA 01-2019'!B398 -> 182.441 | C2: ='SNA 01-2019'!C398 -> -2135331.9 | D2: ='SNA 01-2019'!D398 -> 833.198 | E2: =SUM(B2:D2) -> -2134316.3 | G2: ='SNA 01-2019'!G398 -> 371487.14 | I2: ='SNA 01-2019'!I398 -> 126.45
A3: RECETTE | B3: =SUM(B4:B20) -> 20000 | C3: =SUM(C4:C20) -> 1537000 | D3: =SUM(D4:D20) -> 0 | E3: =SUM(B3:D3) -> 1557000 | G3: =SUM(G4:G20) -> 57103.2 | I3: =SUM(I4:I20) -> 383886.92
A4: SND CHEQUE | B4: 20000 | C4: 1537000 | E4: =SUM(B4:D4) -> 1557000
A5: SND TRAITE | E5: =SUM(B5:D5) -> 0
A6: INTERET ESCOMPTE TRAITE | E6: =SUM(B6:D6) -> 0
A7: STA NOUR | E7: =SUM(B7:D7) -> 0
A8: NBI | E8: =SUM(B8:D8) -> 0
A9: TIP | E9: =SUM(B9:D9) -> 0
A10: FONDERIE HNAYA | E10: =SUM(B10:D10) -> 0
A11: BATTERIEDENIEST | E11: =SUM(B11:D11) -> 0
A12: ERRAFIK EL DAYEM | E12: =SUM(B12:D12) -> 0 | I12: 383886.92
A13: FADI COTE D'IVOIR | E13: =SUM(B13:D13) -> 0 | G13: 17103.2
A14: MED ENERGY | E14: =SUM(B14:D14) -> 0
A15: NOUR Allemagne | E15: =SUM(B15:D15) -> 0 | G15: 40000
A16: MARIBAT | E16: =SUM(B16:D16) -> 0
A17: SIMTEC MAURITANIE | E17: =SUM(B17:D17) -> 0
A18: SIA ITALY | E18: =SUM(B18:D18) -> 0
A19: VERSEMENT ESPECE | E19: =SUM(B19:D19) -> 0
A20: VIREMENT RECU | E20: =SUM(B20:D20) -> 0
A21: AUTRES RECETTE | B21: =SUM(B22:B30) -> 0 | C21: =SUM(C22:C30) -> 99000 | D21: =SUM(D22:D30) -> 0 | E21: =SUM(B21:D21) -> 99000 | G21: =SUM(G22:G30) -> -300000 | I21: =SUM(I22:I30) -> -380000
A22: AUGMENTATION CAPITAL | E22: =SUM(B22:D22) -> 0
A23: DEBLOCAGE CMT | E23: =SUM(B23:D23) -> 0
A24: BLOCAGE | E24: =SUM(B24:D24) -> 0
A25: BILLET DE TRESORERIE | E25: =SUM(B25:D25) -> 0
A26: PLACEMENT | E26: =SUM(B26:D26) -> 0 | G26: -300000 | I26: -380000
A27: RESTITUTION TVA | E27: =SUM(B27:D27) -> 0
A28: VENTE EQUIPEMENT | C28: 99000 | E28: =SUM(B28:D28) -> 99000
A29: VENTE DOLLARS | E29: =SUM(B29:D29) -> 0
A30: VENTE EURO | E30: =SUM(B30:D30) -> 0
A31: ENGAGEMENT BANCAIRE | B31: =SUM(B32:B54) -> -890.345 | C31: =SUM(C32:C54) -> -7940.233 | D31: =SUM(D32:D54) -> 0 | E31: =SUM(B31:D31) -> -8830.578 | G31: =SUM(G32:G54) -> 0 | I31: =SUM(I32:I54) -> 0
A32: CMT 1000 | E32: =SUM(B32:D32) -> 0
A33: CMT 1000 1 | E33: =SUM(B33:D33) -> 0
A34: CMT 1150 | E34: =SUM(B34:D34) -> 0
A35: CMT 1250 | E35: =SUM(B35:D35) -> 0
A36: CMT 2418 | E36: =SUM(B36:D36) -> 0
A37: CMT 2500 | E37: =SUM(B37:D37) -> 0
A38: CMT 350 | E38: =SUM(B38:D38) -> 0
A39: CMT 500 | E39: =SUM(B39:D39) -> 0
A40: CMT BTK | E40: =SUM(B40:D40) -> 0
...

Sheet SNA 03-2019
B1: STB THAMEUR | C1: STB MEGRINE | D1: BTK | G1: MEG EURO | I1: MEG $
A2: SOLDE 28/02/2019 | B2: ='SNA 02-2019'!B398 -> 19291.025 | C2: ='SNA 02-2019'!C398 -> -2379601.7 | D2: ='SNA 02-2019'!D398 -> 833.198 | E2: =SUM(B2:D2) -> -2359477.4 | G2: ='SNA 02-2019'!G398 -> 93277.66 | I2: ='SNA 02-2019'!I398 -> 4013.37
A3: RECETTE | B3: =SUM(B4:B20) -> 13809.564 | C3: =SUM(C4:C20) -> 2137000 | D3: =SUM(D4:D20) -> 0 | E3: =SUM(B3:D3) -> 2150809.6 | G3: =SUM(G4:G20) -> 43116 | I3: =SUM(I4:I20) -> 0
A4: SND CHEQUE | C4: 2137000 | E4: =SUM(B4:D4) -> 2137000
A5: SND TRAITE | E5: =SUM(B5:D5) -> 0
A6: INTERET ESCOMPTE TRAITE | E6: =SUM(B6:D6) -> 0
A7: STA NOUR | E7: =SUM(B7:D7) -> 0
A8: NBI | E8: =SUM(B8:D8) -> 0
A9: TIP | E9: =SUM(B9:D9) -> 0
A10: FONDERIE HNAYA | E10: =SUM(B10:D10) -> 0
A11: BATTERIEDENIEST | E11: =SUM(B11:D11) -> 0
A12: ERRAFIK EL DAYEM | E12: =SUM(B12:D12) -> 0
A13: FADI COTE D'IVOIR | E13: =SUM(B13:D13) -> 0
A14: MED ENERGY | E14: =SUM(B14:D14) -> 0 | G14: 18116
A15: NOUR Allemagne | E15: =SUM(B15:D15) -> 0 | G15: 10000
A16: MARIBAT | E16: =SUM(B16:D16) -> 0
A17: SIMTEC MAURITANIE | E17: =SUM(B17:D17) -> 0 | G17: 15000
A18: SIA ITALY | E18: =SUM(B18:D18) -> 0
A19: VERSEMENT ESPECE | E19: =SUM(B19:D19) -> 0
A20: VIREMENT RECU | B20: 13809.564 | E20: =SUM(B20:D20) -> 13809.564
A21: AUTRES RECETTE | B21: =SUM(B22:B30) -> 0 | C21: =SUM(C22:C30) -> 0 | D21: =SUM(D22:D30) -> 0 | E21: =SUM(B21:D21) -> 0 | G21: =SUM(G22:G30) -> 0 | I21: =SUM(I22:I30) -> 380510.04
A22: AUGMENTATION CAPITAL | E22: =SUM(B22:D22) -> 0
A23: DEBLOCAGE CMT | E23: =SUM(B23:D23) -> 0
A24: BLOCAGE | E24: =SUM(B24:D24) -> 0
A25: BILLET DE TRESORERIE | E25: =SUM(B25:D25) -> 0
A26: PLACEMENT | E26: =SUM(B26:D26) -> 0 | I26: 380510.04
A27: RESTITUTION TVA | E27: =SUM(B27:D27) -> 0
A28: VENTE EQUIPEMENT | E28: =SUM(B28:D28) -> 0
A29: VENTE DOLLARS | E29: =SUM(B29:D29) -> 0
A30: VENTE EURO | E30: =SUM(B30:D30) -> 0
A31: ENGAGEMENT BANCAIRE | B31: =SUM(B32:B54) -> -890.345 | C31: =SUM(C32:C54) -> -145650.23 | D31: =SUM(D32:D54) -> 0 | E31: =SUM(B31:D31) -> -146540.58 | G31: =SUM(G32:G54) -> 0 | I31: =SUM(I32:I54) -> 0
A32: CMT 1000 | E32: =SUM(B32:D32) -> 0
A33: CMT 1000 1 | E33: =SUM(B33:D33) -> 0
A34: CMT 1150 | E34: =SUM(B34:D34) -> 0
A35: CMT 1250 | E35: =SUM(B35:D35) -> 0
A36: CMT 2418 | E36: =SUM(B36:D36) -> 0
A37: CMT 2500 | E37: =SUM(B37:D37) -> 0
A38: CMT 350 | E38: =SUM(B38:D38) -> 0
A39: CMT 500 | E39: =SUM(B39:D39) -> 0
A40: CMT BTK | E40: =SUM(B40:D40) -> 0
...

Sheet SNA 04-2019
B1: STB THAMEUR | C1: STB MEGRINE | D1: BTK | G1: MEG EURO | I1: MEG $
A2: SOLDE 31/03/2019 | B2: ='SNA 03-2019'!B398 -> 17195.726 | C2: ='SNA 03-2019'!C398 -> -2498650.8 | D2: ='SNA 03-2019'!D398 -> 833.198 | E2: =SUM(B2:D2) -> -2480621.8 | G2: ='SNA 03-2019'!G398 -> 54769.04 | I2: ='SNA 03-2019'!I398 -> 384523.41
A3: RECETTE | B3: =SUM(B4:B20) -> 149170 | C3: =SUM(C4:C20) -> 1354000 | D3: =SUM(D4:D20) -> 0 | E3: =SUM(B3:D3) -> 1503170 | G3: =SUM(G4:G20) -> 185211.85 | I3: =SUM(I4:I20) -> 0
A4: SND CHEQUE | B4: 140000 | C4: 1354000 | E4: =SUM(B4:D4) -> 1494000
A5: SND TRAITE | E5: =SUM(B5:D5) -> 0
A6: INTERET ESCOMPTE TRAITE | E6: =SUM(B6:D6) -> 0
A7: STA NOUR | E7: =SUM(B7:D7) -> 0
A8: NBI | E8: =SUM(B8:D8) -> 0
A9: TIP | E9: =SUM(B9:D9) -> 0
A10: FONDERIE HNAYA | E10: =SUM(B10:D10) -> 0
A11: BATTERIEDENIEST | E11: =SUM(B11:D11) -> 0
A12: ERRAFIK EL DAYEM | E12: =SUM(B12:D12) -> 0 | G12: 100000
A13: FADI COTE D'IVOIR | E13: =SUM(B13:D13) -> 0 | G13: 25211.85
A14: MED ENERGY | E14: =SUM(B14:D14) -> 0
A15: NOUR Allemagne | E15: =SUM(B15:D15) -> 0 | G15: 60000
A16: MARIBAT | E16: =SUM(B16:D16) -> 0
A17: SIMTEC MAURITANIE | E17: =SUM(B17:D17) -> 0
A18: SIA ITALY | E18: =SUM(B18:D18) -> 0
A19: VERSEMENT ESPECE | E19: =SUM(B19:D19) -> 0
A20: VIREMENT RECU | B20: =18880-9710 -> 9170 | E20: =SUM(B20:D20) -> 9170
A21: AUTRES RECETTE | B21: =SUM(B22:B30) -> 0 | C21: =SUM(C22:C30) -> 2671180 | D21: =SUM(D22:D30) -> 0 | E21: =SUM(B21:D21) -> 2671180 | G21: =SUM(G22:G30) -> -149925 | I21: =SUM(I22:I30) -> -375000
A22: AUGMENTATION CAPITAL | E22: =SUM(B22:D22) -> 0
A23: DEBLOCAGE CMT | E23: =SUM(B23:D23) -> 0
A24: BLOCAGE | E24: =SUM(B24:D24) -> 0
A25: BILLET DE TRESORERIE | E25: =SUM(B25:D25) -> 0
A26: PLACEMENT | E26: =SUM(B26:D26) -> 0 | G26: 300075
A27: RESTITUTION TVA | E27: =SUM(B27:D27) -> 0
A28: VENTE EQUIPEMENT | E28: =SUM(B28:D28) -> 0
A29: VENTE DOLLARS | C29: 1140000 | E29: =SUM(B29:D29) -> 1140000 | I29: -375000
A30: VENTE EURO | C30: 1531180 | E30: =SUM(B30:D30) -> 1531180 | G30: -450000
A31: ENGAGEMENT BANCAIRE | B31: =SUM(B32:B54) -> -1780.69 | C31: =SUM(C32:C54) -> -452145.03 | D31: =SUM(D32:D54) -> 0 | E31: =SUM(B31:D31) -> -453925.72 | G31: =SUM(G32:G54) -> 0 | I31: =SUM(I32:I54) -> 0
A32: CMT 1000 | C32: -83333.333 | E32: =SUM(B32:D32) -> -83333.333
A33: CMT 1000 1 | E33: =SUM(B33:D33) -> 0
A34: CMT 1150 | C34: -95833.333 | E34: =SUM(B34:D34) -> -95833.333
A35: CMT 1250 | E35: =SUM(B35:D35) -> 0
A36: CMT 2418 | E36: =SUM(B36:D36) -> 0
A37: CMT 2500 | E37: =SUM(B37:D37) -> 0
A38: CMT 350 | C38: -29166.667 | E38: =SUM(B38:D38) -> -29166.667
A39: CMT 500 | C39: -83333.334 | E39: =SUM(B39:D39) -> -83333.334
A40: CMT BTK | E40: =SUM(B40:D40) -> 0
...

Sheet SNA 05-2019
B1: STB THAMEUR | C1: STB MEGRINE | D1: BTK | G1: MEG EURO | I1: MEG $
A2: SOLDE 30/04/2019 | B2: ='SNA 04-2019'!B398 -> 10442.025 | C2: ='SNA 04-2019'!C398 -> -2979951.1 | D2: ='SNA 04-2019'!D398 -> 833.198 | E2: =SUM(B2:D2) -> -2968675.9 | G2: ='SNA 04-2019'!G398 -> 25552.89 | I2: ='SNA 04-2019'!I398 -> 8901.41
A3: RECETTE | B3: =SUM(B4:B20) -> 60000 | C3: =SUM(C4:C20) -> 2738270.2 | D3: =SUM(D4:D20) -> 0 | E3: =SUM(B3:D3) -> 2798270.2 | G3: =SUM(G4:G20) -> 332779.22 | I3: =SUM(I4:I20) -> 0
A4: SND CHEQUE | B4: 60000 | C4: 2237000 | E4: =SUM(B4:D4) -> 2297000
A5: SND TRAITE | E5: =SUM(B5:D5) -> 0
A6: INTERET ESCOMPTE TRAITE | E6: =SUM(B6:D6) -> 0
A7: STA NOUR | E7: =SUM(B7:D7) -> 0
A8: NBI | E8: =SUM(B8:D8) -> 0
A9: TIP | E9: =SUM(B9:D9) -> 0
A10: FONDERIE HNAYA | E10: =SUM(B10:D10) -> 0
A11: BATTERIEDENIEST | E11: =SUM(B11:D11) -> 0
A12: ERRAFIK EL DAYEM | C12: 499185.25 | E12: =SUM(B12:D12) -> 499185.25 | G12: 306537.84
A13: FADI COTE D'IVOIR | E13: =SUM(B13:D13) -> 0
A14: MED ENERGY | E14: =SUM(B14:D14) -> 0 | G14: 11241.38
A15: NOUR Allemagne | E15: =SUM(B15:D15) -> 0 | G15: 15000
A16: MARIBAT | E16: =SUM(B16:D16) -> 0
A17: SIMTEC MAURITANIE | E17: =SUM(B17:D17) -> 0
A18: SIA ITALY | E18: =SUM(B18:D18) -> 0
A19: VERSEMENT ESPECE | C19: 2085 | E19: =SUM(B19:D19) -> 2085
A20: VIREMENT RECU | E20: =SUM(B20:D20) -> 0
A21: AUTRES RECETTE | B21: =SUM(B22:B30) -> 0 | C21: =SUM(C22:C30) -> 0 | D21: =SUM(D22:D30) -> 0 | E21: =SUM(B21:D21) -> 0 | G21: =SUM(G22:G30) -> -200000 | I21: =SUM(I22:I30) -> 0
A22: AUGMENTATION CAPITAL | E22: =SUM(B22:D22) -> 0
A23: DEBLOCAGE CMT | E23: =SUM(B23:D23) -> 0
A24: BLOCAGE | E24: =SUM(B24:D24) -> 0
A25: BILLET DE TRESORERIE | E25: =SUM(B25:D25) -> 0
A26: PLACEMENT | E26: =SUM(B26:D26) -> 0
A27: RESTITUTION TVA | E27: =SUM(B27:D27) -> 0
A28: VENTE EQUIPEMENT | E28: =SUM(B28:D28) -> 0
A29: VENTE DOLLARS | E29: =SUM(B29:D29) -> 0
A30: VENTE EURO | E30: =SUM(B30:D30) -> 0 | G30: -200000
A31: ENGAGEMENT BANCAIRE | B31: =SUM(B32:B54) -> -890.345 | C31: =SUM(C32:C54) -> -7940.233 | D31: =SUM(D32:D54) -> 0 | E31: =SUM(B31:D31) -> -8830.578 | G31: =SUM(G32:G54) -> 0 | I31: =SUM(I32:I54) -> 0
A32: CMT 1000 | E32: =SUM(B32:D32) -> 0
A33: CMT 1000 1 | E33: =SUM(B33:D33) -> 0
A34: CMT 1150 | E34: =SUM(B34:D34) -> 0
A35: CMT 1250 | E35: =SUM(B35:D35) -> 0
A36: CMT 2418 | E36: =SUM(B36:D36) -> 0
A37: CMT 2500 | E37: =SUM(B37:D37) -> 0
A38: CMT 350 | E38: =SUM(B38:D38) -> 0
A39: CMT 500 | E39: =SUM(B39:D39) -> 0
A40: CMT BTK | E40: =SUM(B40:D40) -> 0
...

Sheet SNA 06-2019
B1: STB THAMEUR | C1: STB MEGRINE | D1: BTK | G1: MEG EURO | I1: MEG $
A2: SOLDE 31/05/2019 | B2: ='SNA 05-2019'!B398 -> 54549.181 | C2: ='SNA 05-2019'!C398 -> -2961184.3 | D2: ='SNA 05-2019'!D398 -> 833.198 | E2: =SUM(B2:D2) -> -2905801.9 | G2: ='SNA 05-2019'!G398 -> 130964.4 | I2: ='SNA 05-2019'!I398 -> 3588.64
A3: RECETTE | B3: =SUM(B4:B20) -> 27049.142 | C3: =SUM(C4:C20) -> 5908205.4 | D3: =SUM(D4:D20) -> 0 | E3: =SUM(B3:D3) -> 5935254.5 | G3: =SUM(G4:G20) -> 218822.42 | I3: =SUM(I4:I20) -> 0
A4: SND CHEQUE | C4: 1716000 | E4: =SUM(B4:D4) -> 1716000
A5: SND TRAITE | E5: =SUM(B5:D5) -> 0
A6: INTERET ESCOMPTE TRAITE | E6: =SUM(B6:D6) -> 0
A7: STA NOUR | C7: 3675308.5 | E7: =SUM(B7:D7) -> 3675308.5
A8: NBI | C8: 458347.2 | E8: =SUM(B8:D8) -> 458347.2
A9: TIP | C9: 34273.2 | E9: =SUM(B9:D9) -> 34273.2
A10: FONDERIE HNAYA | C10: 24276.51 | E10: =SUM(B10:D10) -> 24276.51
A11: BATTERIEDENIEST | E11: =SUM(B11:D11) -> 0
A12: ERRAFIK EL DAYEM | E12: =SUM(B12:D12) -> 0 | G12: 80000
A13: FADI COTE D'IVOIR | E13: =SUM(B13:D13) -> 0
A14: MED ENERGY | E14: =SUM(B14:D14) -> 0 | G14: 5000
A15: NOUR Allemagne | E15: =SUM(B15:D15) -> 0 | G15: 25000
A16: MARIBAT | E16: =SUM(B16:D16) -> 0 | G16: 93883.42
A17: SIMTEC MAURITANIE | E17: =SUM(B17:D17) -> 0
A18: SIA ITALY | E18: =SUM(B18:D18) -> 0 | G18: 14939
A19: VERSEMENT ESPECE | B19: 17445.142 | E19: =SUM(B19:D19) -> 17445.142
A20: VIREMENT RECU | B20: 9604 | E20: =SUM(B20:D20) -> 9604
A21: AUTRES RECETTE | B21: =SUM(B22:B30) -> 0 | C21: =SUM(C22:C30) -> 667000 | D21: =SUM(D22:D30) -> 0 | E21: =SUM(B21:D21) -> 667000 | G21: =SUM(G22:G30) -> -100000 | I21: =SUM(I22:I30) -> 0
A22: AUGMENTATION CAPITAL | E22: =SUM(B22:D22) -> 0
A23: DEBLOCAGE CMT | E23: =SUM(B23:D23) -> 0
A24: BLOCAGE | E24: =SUM(B24:D24) -> 0
A25: BILLET DE TRESORERIE | E25: =SUM(B25:D25) -> 0
A26: PLACEMENT | E26: =SUM(B26:D26) -> 0
A27: RESTITUTION TVA | E27: =SUM(B27:D27) -> 0
A28: VENTE EQUIPEMENT | E28: =SUM(B28:D28) -> 0
A29: VENTE DOLLARS | E29: =SUM(B29:D29) -> 0
A30: VENTE EURO | C30: 667000 | E30: =SUM(B30:D30) -> 667000 | G30: -100000
A31: ENGAGEMENT BANCAIRE | B31: =SUM(B32:B54) -> -890.345 | C31: =SUM(C32:C54) -> -140602.73 | D31: =SUM(D32:D54) -> 0 | E31: =SUM(B31:D31) -> -141493.08 | G31: =SUM(G32:G54) -> 0 | I31: =SUM(I32:I54) -> 0
A32: CMT 1000 | E32: =SUM(B32:D32) -> 0
A33: CMT 1000 1 | E33: =SUM(B33:D33) -> 0
A34: CMT 1150 | E34: =SUM(B34:D34) -> 0
A35: CMT 1250 | E35: =SUM(B35:D35) -> 0
A36: CMT 2418 | E36: =SUM(B36:D36) -> 0
A37: CMT 2500 | E37: =SUM(B37:D37) -> 0
A38: CMT 350 | E38: =SUM(B38:D38) -> 0
A39: CMT 500 | E39: =SUM(B39:D39) -> 0
A40: CMT BTK | E40: =SUM(B40:D40) -> 0
...

Sheet SNA 07-2019
B1: STB THAMEUR | C1: STB MEGRINE | D1: BTK | G1: MEG EURO | I1: MEG $
A2: SOLDE 30/06/2019 | B2: ='SNA 06-2019'!B398 -> 1150.701 | C2: ='SNA 06-2019'!C398 -> -2622929.3 | D2: ='SNA 06-2019'!D398 -> 833.198 | E2: =SUM(B2:D2) -> -2620945.4 | G2: ='SNA 06-2019'!G398 -> 23365.44 | I2: ='SNA 06-2019'!I398 -> 1325.77
A3: RECETTE | B3: =SUM(B4:B20) -> 0 | C3: =SUM(C4:C20) -> 1640920.2 | D3: =SUM(D4:D20) -> 0 | E3: =SUM(B3:D3) -> 1640920.2 | G3: =SUM(G4:G20) -> 207591.25 | I3: =SUM(I4:I20) -> 0
A4: SND CHEQUE | C4: 1640000 | E4: =SUM(B4:D4) -> 1640000
A5: SND TRAITE | E5: =SUM(B5:D5) -> 0
A6: INTERET ESCOMPTE TRAITE | E6: =SUM(B6:D6) -> 0
A7: STA NOUR | E7: =SUM(B7:D7) -> 0
A8: NBI | E8: =SUM(B8:D8) -> 0
A9: TIP | E9: =SUM(B9:D9) -> 0
A10: FONDERIE HNAYA | E10: =SUM(B10:D10) -> 0
A11: BATTERIEDENIEST | E11: =SUM(B11:D11) -> 0
A12: ERRAFIK EL DAYEM | E12: =SUM(B12:D12) -> 0 | G12: 122091.25
A13: FADI COTE D'IVOIR | E13: =SUM(B13:D13) -> 0
A14: MED ENERGY | E14: =SUM(B14:D14) -> 0 | G14: 6500
A15: NOUR Allemagne | E15: =SUM(B15:D15) -> 0 | G15: 34000
A16: MARIBAT | E16: =SUM(B16:D16) -> 0
A17: SIMTEC MAURITANIE | E17: =SUM(B17:D17) -> 0
A18: SIA ITALY | E18: =SUM(B18:D18) -> 0 | G18: 45000
A19: VERSEMENT ESPECE | C19: 920.171 | E19: =SUM(B19:D19) -> 920.171
A20: VIREMENT RECU | E20: =SUM(B20:D20) -> 0
A21: AUTRES RECETTE | B21: =SUM(B22:B30) -> 0 | C21: =SUM(C22:C30) -> 323000 | D21: =SUM(D22:D30) -> 0 | E21: =SUM(B21:D21) -> 323000 | G21: =SUM(G22:G30) -> 0 | I21: =SUM(I22:I30) -> 0
A22: AUGMENTATION CAPITAL | E22: =SUM(B22:D22) -> 0
A23: DEBLOCAGE CMT | E23: =SUM(B23:D23) -> 0
A24: BLOCAGE | E24: =SUM(B24:D24) -> 0
A25: BILLET DE TRESORERIE | E25: =SUM(B25:D25) -> 0
A26: PLACEMENT | E26: =SUM(B26:D26) -> 0
A27: RESTITUTION TVA | E27: =SUM(B27:D27) -> 0
A28: VENTE EQUIPEMENT | E28: =SUM(B28:D28) -> 0
A29: VENTE DOLLARS | E29: =SUM(B29:D29) -> 0
A30: VENTE EURO | C30: 323000 | E30: =SUM(B30:D30) -> 323000
A31: ENGAGEMENT BANCAIRE | B31: =SUM(B32:B54) -> 0 | C31: =SUM(C32:C54) -> -164284.04 | D31: =SUM(D32:D54) -> 0 | E31: =SUM(B31:D31) -> -164284.04 | G31: =SUM(G32:G54) -> 0 | I31: =SUM(I32:I54) -> 0
A32: CMT 1000 | E32: =SUM(B32:D32) -> 0
A33: CMT 1000 1 | E33: =SUM(B33:D33) -> 0
A34: CMT 1150 | E34: =SUM(B34:D34) -> 0
A35: CMT 1250 | E35: =SUM(B35:D35) -> 0
A36: CMT 2418 | E36: =SUM(B36:D36) -> 0
A37: CMT 2500 | E37: =SUM(B37:D37) -> 0
A38: CMT 350 | E38: =SUM(B38:D38) -> 0
A39: CMT 500 | E39: =SUM(B39:D39) -> 0
A40: CMT BTK | E40: =SUM(B40:D40) -> 0
...

Sheet SNA 08-2019
B1: STB THAMEUR | C1: STB MEGRINE | D1: BTK | G1: MEG EURO | I1: MEG $
A2: SOLDE 31/07/2019 | B2: ='SNA 07-2019'!B398 -> 802.001 | C2: ='SNA 07-2019'!C398 -> -3625139.8 | D2: ='SNA 07-2019'!D398 -> 833.198 | E2: =SUM(B2:D2) -> -3623504.6 | G2: ='SNA 07-2019'!G398 -> 162774.56 | I2: ='SNA 07-2019'!I398 -> 3699.41
A3: RECETTE | B3: =SUM(B4:B20) -> 0 | C3: =SUM(C4:C20) -> 1814000 | D3: =SUM(D4:D20) -> 0 | E3: =SUM(B3:D3) -> 1814000 | G3: =SUM(G4:G20) -> 83328.73 | I3: =SUM(I4:I20) -> 0
A4: SND CHEQUE | C4: 1814000 | E4: =SUM(B4:D4) -> 1814000
A5: SND TRAITE | E5: =SUM(B5:D5) -> 0
A6: INTERET ESCOMPTE TRAITE | E6: =SUM(B6:D6) -> 0
A7: STA NOUR | E7: =SUM(B7:D7) -> 0
A8: NBI | E8: =SUM(B8:D8) -> 0
A9: TIP | E9: =SUM(B9:D9) -> 0
A10: FONDERIE HNAYA | E10: =SUM(B10:D10) -> 0
A11: BATTERIEDENIEST | E11: =SUM(B11:D11) -> 0
A12: ERRAFIK EL DAYEM | E12: =SUM(B12:D12) -> 0
A13: FADI COTE D'IVOIR | E13: =SUM(B13:D13) -> 0 | G13: 12780.53
A14: MED ENERGY | E14: =SUM(B14:D14) -> 0
A15: NOUR Allemagne | E15: =SUM(B15:D15) -> 0 | G15: 16764.99
A16: MARIBAT | E16: =SUM(B16:D16) -> 0
A17: SIMTEC MAURITANIE | E17: =SUM(B17:D17) -> 0
A18: SIA ITALY | E18: =SUM(B18:D18) -> 0 | G18: 53783.21
A19: VERSEMENT ESPECE | E19: =SUM(B19:D19) -> 0
A20: VIREMENT RECU | E20: =SUM(B20:D20) -> 0
A21: AUTRES RECETTE | B21: =SUM(B22:B30) -> 0 | C21: =SUM(C22:C30) -> 318000 | D21: =SUM(D22:D30) -> 0 | E21: =SUM(B21:D21) -> 318000 | G21: =SUM(G22:G30) -> -100000 | I21: =SUM(I22:I30) -> 0
A22: AUGMENTATION CAPITAL | E22: =SUM(B22:D22) -> 0
A23: DEBLOCAGE CMT | E23: =SUM(B23:D23) -> 0
A24: BLOCAGE | E24: =SUM(B24:D24) -> 0
A25: BILLET DE TRESORERIE | E25: =SUM(B25:D25) -> 0
A26: PLACEMENT | E26: =SUM(B26:D26) -> 0
A27: RESTITUTION TVA | E27: =SUM(B27:D27) -> 0
A28: VENTE EQUIPEMENT | E28: =SUM(B28:D28) -> 0
A29: VENTE DOLLARS | E29: =SUM(B29:D29) -> 0
A30: VENTE EURO | C30: 318000 | E30: =SUM(B30:D30) -> 318000 | G30: -100000
A31: ENGAGEMENT BANCAIRE | B31: =SUM(B32:B54) -> 0 | C31: =SUM(C32:C54) -> -7940.233 | D31: =SUM(D32:D54) -> 0 | E31: =SUM(B31:D31) -> -7940.233 | G31: =SUM(G32:G54) -> 0 | I31: =SUM(I32:I54) -> 0
A32: CMT 1000 | E32: =SUM(B32:D32) -> 0
A33: CMT 1000 1 | E33: =SUM(B33:D33) -> 0
A34: CMT 1150 | E34: =SUM(B34:D34) -> 0
A35: CMT 1250 | E35: =SUM(B35:D35) -> 0
A36: CMT 2418 | E36: =SUM(B36:D36) -> 0
A37: CMT 2500 | E37: =SUM(B37:D37) -> 0
A38: CMT 350 | E38: =SUM(B38:D38) -> 0
A39: CMT 500 | E39: =SUM(B39:D39) -> 0
A40: CMT BTK | E40: =SUM(B40:D40) -> 0
...

Sheet SNA 09-2019
B1: STB THAMEUR | C1: STB MEGRINE | D1: BTK | G1: MEG EURO | I1: MEG $
A2: SOLDE 31/08/2019 | B2: ='SNA 08-2019'!B398 -> 802.001 | C2: ='SNA 08-2019'!C398 -> -3318955.4 | D2: ='SNA 08-2019'!D398 -> 833.198 | E2: =SUM(B2:D2) -> -3317320.2 | G2: ='SNA 08-2019'!G398 -> 26481.9 | I2: ='SNA 08-2019'!I398 -> 3699.41
A3: RECETTE | B3: =SUM(B4:B20) -> 0 | C3: =SUM(C4:C20) -> 2647000 | D3: =SUM(D4:D20) -> 0 | E3: =SUM(B3:D3) -> 2647000 | G3: =SUM(G4:G20) -> 237480.82 | I3: =SUM(I4:I20) -> 0
A4: SND CHEQUE | C4: 2647000 | E4: =SUM(B4:D4) -> 2647000
A5: SND TRAITE | E5: =SUM(B5:D5) -> 0
A6: INTERET ESCOMPTE TRAITE | E6: =SUM(B6:D6) -> 0
A7: STA NOUR | E7: =SUM(B7:D7) -> 0
A8: NBI | E8: =SUM(B8:D8) -> 0
A9: TIP | E9: =SUM(B9:D9) -> 0
A10: FONDERIE HNAYA | E10: =SUM(B10:D10) -> 0
A11: BATTERIEDENIEST | E11: =SUM(B11:D11) -> 0
A12: ERRAFIK EL DAYEM | E12: =SUM(B12:D12) -> 0 | G12: 88000
A13: FADI COTE D'IVOIR | E13: =SUM(B13:D13) -> 0
A14: MED ENERGY | E14: =SUM(B14:D14) -> 0
A15: NOUR Allemagne | E15: =SUM(B15:D15) -> 0 | G15: 39000
A16: MARIBAT | E16: =SUM(B16:D16) -> 0 | G16: 85480.82
A17: SIMTEC MAURITANIE | E17: =SUM(B17:D17) -> 0
A18: SIA ITALY | E18: =SUM(B18:D18) -> 0 | G18: 25000
A19: VERSEMENT ESPECE | E19: =SUM(B19:D19) -> 0
A20: VIREMENT RECU | E20: =SUM(B20:D20) -> 0
A21: AUTRES RECETTE | B21: =SUM(B22:B30) -> 0 | C21: =SUM(C22:C30) -> -5036.603 | D21: =SUM(D22:D30) -> 0 | E21: =SUM(B21:D21) -> -5036.603 | G21: =SUM(G22:G31) -> 0 | I21: =SUM(I22:I30) -> 0
A22: AUGMENTATION CAPITAL | E22: =SUM(B22:D22) -> 0
A23: DEBLOCAGE CMT | E23: =SUM(B23:D23) -> 0
A24: BLOCAGE | C24: -5036.603 | E24: =SUM(B24:D24) -> -5036.603
A25: BILLET DE TRESORERIE | E25: =SUM(B25:D25) -> 0
A26: PLACEMENT | E26: =SUM(B26:D26) -> 0
A27: RESTITUTION TVA | E27: =SUM(B27:D27) -> 0
A28: VENTE EQUIPEMENT | E28: =SUM(B28:D28) -> 0
A29: VENTE DOLLARS | E29: =SUM(B29:D29) -> 0
A30: VENTE EURO | E30: =SUM(B30:D30) -> 0
A31: ENGAGEMENT BANCAIRE | B31: =SUM(B32:B54) -> 0 | C31: =SUM(C32:C54) -> -496798.15 | D31: =SUM(D32:D54) -> 0 | E31: =SUM(B31:D31) -> -496798.15 | G31: =SUM(G32:G54) -> 0 | I31: =SUM(I32:I54) -> 0
A32: CMT 1000 | C32: -83333.333 | E32: =SUM(B32:D32) -> -83333.333
A33: CMT 1000 1 | E33: =SUM(B33:D33) -> 0
A34: CMT 1150 | C34: -95833.333 | E34: =SUM(B34:D34) -> -95833.333
A35: CMT 1250 | E35: =SUM(B35:D35) -> 0
A36: CMT 2418 | E36: =SUM(B36:D36) -> 0
A37: CMT 2500 | E37: =SUM(B37:D37) -> 0
A38: CMT 350 | C38: -29166.667 | E38: =SUM(B38:D38) -> -29166.667
A39: CMT 500 | C39: -83333.334 | E39: =SUM(B39:D39) -> -83333.334
A40: CMT BTK | E40: =SUM(B40:D40) -> 0
...

Sheet SNA 10-2019
B1: STB THAMEUR | C1: STB MEGRINE | D1: BTK | G1: MEG EURO | I1: MEG $
A2: SOLDE 30/09/2019 | B2: ='SNA 09-2019'!B398 -> 802.001 | C2: ='SNA 09-2019'!C398 -> -3545977.7 | D2: ='SNA 09-2019'!D398 -> 833.198 | E2: =SUM(B2:D2) -> -3544342.5 | G2: ='SNA 09-2019'!G398 -> 101434.67 | I2: ='SNA 09-2019'!I398 -> 3699.41
A3: RECETTE | B3: =SUM(B4:B20) -> 12000 | C3: =SUM(C4:C20) -> 2575085 | D3: =SUM(D4:D20) -> 0 | E3: =SUM(B3:D3) -> 2587085 | G3: =SUM(G4:G20) -> 503225.19 | I3: =SUM(I4:I20) -> 0
A4: SND CHEQUE | B4: 12000 | C4: 2575085 | E4: =SUM(B4:D4) -> 2587085
A5: SND TRAITE | E5: =SUM(B5:D5) -> 0
A6: INTERET ESCOMPTE TRAITE | E6: =SUM(B6:D6) -> 0
A7: STA NOUR | E7: =SUM(B7:D7) -> 0
A8: NBI | E8: =SUM(B8:D8) -> 0
A9: TIP | E9: =SUM(B9:D9) -> 0
A10: FONDERIE HNAYA | E10: =SUM(B10:D10) -> 0
A11: BATTERIEDENIEST | E11: =SUM(B11:D11) -> 0
A12: ERRAFIK EL DAYEM | E12: =SUM(B12:D12) -> 0 | G12: 326364.58
A13: FADI COTE D'IVOIR | E13: =SUM(B13:D13) -> 0
A14: MED ENERGY | E14: =SUM(B14:D14) -> 0
A15: NOUR Allemagne | E15: =SUM(B15:D15) -> 0 | G15: 15000
A16: MARIBAT | E16: =SUM(B16:D16) -> 0 | G16: 96945.61
A17: SIMTEC MAURITANIE | E17: =SUM(B17:D17) -> 0
A18: SIA ITALY | E18: =SUM(B18:D18) -> 0 | G18: 64915
A19: VERSEMENT ESPECE | E19: =SUM(B19:D19) -> 0
A20: VIREMENT RECU | E20: =SUM(B20:D20) -> 0
A21: AUTRES RECETTE | B21: =SUM(B22:B30) -> 0 | C21: =SUM(C22:C30) -> 0 | D21: =SUM(D22:D30) -> 0 | E21: =SUM(B21:D21) -> 0 | G21: =SUM(G22:G30) -> 0 | I21: =SUM(I22:I30) -> 0
A22: AUGMENTATION CAPITAL | E22: =SUM(B22:D22) -> 0
A23: DEBLOCAGE CMT | E23: =SUM(B23:D23) -> 0
A24: BLOCAGE | E24: =SUM(B24:D24) -> 0
A25: BILLET DE TRESORERIE | E25: =SUM(B25:D25) -> 0
A26: PLACEMENT | E26: =SUM(B26:D26) -> 0
A27: RESTITUTION TVA | E27: =SUM(B27:D27) -> 0
A28: VENTE EQUIPEMENT | E28: =SUM(B28:D28) -> 0
A29: VENTE DOLLARS | E29: =SUM(B29:D29) -> 0
A30: VENTE EURO | E30: =SUM(B30:D30) -> 0
A31: ENGAGEMENT BANCAIRE | B31: =SUM(B32:B54) -> 0 | C31: =SUM(C32:C54) -> -312844.82 | D31: =SUM(D32:D54) -> 0 | E31: =SUM(B31:D31) -> -312844.82 | G31: =SUM(G32:G54) -> 0 | I31: =SUM(I32:I54) -> 0
A32: CMT 1000 | E32: =SUM(B32:D32) -> 0
A33: CMT 1000 1 | E33: =SUM(B33:D33) -> 0
A34: CMT 1150 | E34: =SUM(B34:D34) -> 0
A35: CMT 1250 | E35: =SUM(B35:D35) -> 0
A36: CMT 2418 | E36: =SUM(B36:D36) -> 0
A37: CMT 2500 | C37: -208333.33 | E37: =SUM(B37:D37) -> -208333.33
A38: CMT 350 | E38: =SUM(B38:D38) -> 0
A39: CMT 500 | E39: =SUM(B39:D39) -> 0
A40: CMT BTK | E40: =SUM(B40:D40) -> 0
...

Sheet SNA 11-2019
B1: STB THAMEUR | C1: STB MEGRINE | D1: BTK | G1: MEG EURO | I1: MEG $
A2: SOLDE 31/10/2019 | B2: ='SNA 10-2019'!B398 -> 7026.134 | C2: ='SNA 10-2019'!C398 -> -4071080.9 | D2: ='SNA 10-2019'!D398 -> 833.198 | E2: =SUM(B2:D2) -> -4063221.6 | G2: ='SNA 10-2019'!G398 -> 318697.18 | I2: ='SNA 10-2019'!I398 -> 3699.41
A3: RECETTE | B3: =SUM(B4:B20) -> 0 | C3: =SUM(C4:C20) -> 0 | D3: =SUM(D4:D20) -> 0 | E3: =SUM(B3:D3) -> 0 | G3: =SUM(G4:G20) -> 0 | I3: =SUM(I4:I20) -> 0
A4: SND CHEQUE | E4: =SUM(B4:D4) -> 0
A5: SND TRAITE | E5: =SUM(B5:D5) -> 0
A6: INTERET ESCOMPTE TRAITE | E6: =SUM(B6:D6) -> 0
A7: STA NOUR | E7: =SUM(B7:D7) -> 0
A8: NBI | E8: =SUM(B8:D8) -> 0
A9: TIP | E9: =SUM(B9:D9) -> 0
A10: FONDERIE HNAYA | E10: =SUM(B10:D10) -> 0
A11: BATTERIEDENIEST | E11: =SUM(B11:D11) -> 0
A12: ERRAFIK EL DAYEM | E12: =SUM(B12:D12) -> 0
A13: FADI COTE D'IVOIR | E13: =SUM(B13:D13) -> 0
A14: MED ENERGY | E14: =SUM(B14:D14) -> 0
A15: NOUR Allemagne | E15: =SUM(B15:D15) -> 0
... A20: VIREMENT RECU | E20: =SUM(B20:D20) -> 0
A21: AUTRES RECETTE | B21: =SUM(B22:B30) -> 0 | C21: =SUM(C22:C30) -> 0 | D21: =SUM(D22:D30) -> 0 | E21: =SUM(B21:D21) -> 0 | G21: =SUM(G22:G30) -> 0 | I21: =SUM(I22:I30) -> 0
A22: AUGMENTATION CAPITAL | E22: =SUM(B22:D22) -> 0
A23: DEBLOCAGE CMT | E23: =SUM(B23:D23) -> 0
A24: BLOCAGE | E24: =SUM(B24:D24) -> 0
A25: BILLET DE TRESORERIE | E25: =SUM(B25:D25) -> 0
A26: PLACEMENT | E26: =SUM(B26:D26) -> 0
A27: RESTITUTION TVA | E27: =SUM(B27:D27) -> 0
A28: VENTE EQUIPEMENT | E28: =SUM(B28:D28) -> 0
A29: VENTE DOLLARS | E29: =SUM(B29:D29) -> 0
A30: VENTE EURO | E30: =SUM(B30:D30) -> 0
A31: ENGAGEMENT BANCAIRE | B31: =SUM(B32:B54) -> 0 | C31: =SUM(C32:C54) -> 0 | D31: =SUM(D32:D54) -> 0 | E31: =SUM(B31:D31) -> 0 | G31: =SUM(G32:G54) -> 0 | I31: =SUM(I32:I54) -> 0
A32: CMT 1000 | E32: =SUM(B32:D32) -> 0
A33: CMT 1000 1 | E33: =SUM(B33:D33) -> 0
A34: CMT 1150 | E34: =SUM(B34:D34) -> 0
A35: CMT 1250 | E35: =SUM(B35:D35) -> 0
A36: CMT 2418 | E36: =SUM(B36:D36) -> 0
A37: CMT 2500 | E37: =SUM(B37:D37) -> 0
A38: CMT 350 | E38: =SUM(B38:D38) -> 0
A39: CMT 500 | E39: =SUM(B39:D39) -> 0
A40: CMT BTK | E40: =SUM(B40:D40) -> 0
A41: CREDIT DE GESTION | E41: =SUM(B41:D41) -> 0
A42: INTERET CMT 1000 | E42: =SUM(B42:D42) -> 0
A43: INTERET CMT 1000 1 | E43: =SUM(B43:D43) -> 0
... A54: LEASING | E54: =SUM(B54:D54) -> 0
...

Sheet SNA 12-2019
B1: STB THAMEUR | C1: STB MEGRINE | D1: BTK | G1: MEG EURO | I1: MEG $
A2: SOLDE 30/11/2019 | B2: ='SNA 11-2019'!B398 -> 7026.134 | C2: ='SNA 11-2019'!C398 -> -4071080.9 | D2: ='SNA 11-2019'!D398 -> 833.198 | E2: =SUM(B2:D2) -> -4063221.6 | G2: ='SNA 11-2019'!G398 -> 318697.18 | I2: ='SNA 11-2019'!I398 -> 3699.41
A3: RECETTE | B3: =SUM(B4:B20) -> 0 | C3: =SUM(C4:C20) -> 0 | D3: =SUM(D4:D20) -> 0 | E3: =SUM(B3:D3) -> 0 | G3: =SUM(G4:G20) -> 0 | I3: =SUM(I4:I20) -> 0
A4: SND CHEQUE | E4: =SUM(B4:D4) -> 0
A5: SND TRAITE | E5: =SUM(B5:D5) -> 0
A6: INTERET ESCOMPTE TRAITE | E6: =SUM(B6:D6) -> 0
A7: STA NOUR | E7: =SUM(B7:D7) -> 0
A8: NBI | E8: =SUM(B8:D8) -> 0
A9: TIP | E9: =SUM(B9:D9) -> 0
A10: FONDERIE HNAYA | E10: =SUM(B10:D10) -> 0
A11: BATTERIEDENIEST | E11: =SUM(B11:D11) -> 0
A12: ERRAFIK EL DAYEM | E12: =SUM(B12:D12) -> 0
A13: FADI COTE D'IVOIR | E13: =SUM(B13:D13) -> 0
A14: MED ENERGY | E14: =SUM(B14:D14) -> 0
A15: NOUR Allemagne | E15: =SUM(B15:D15) -> 0
... A20: VIREMENT RECU | E20: =SUM(B20:D20) -> 0
A21: AUTRES RECETTE | B21: =SUM(B22:B30) -> 0 | C21: =SUM(C22:C30) -> 0 | D21: =SUM(D22:D30) -> 0 | E21: =SUM(B21:D21) -> 0 | G21: =SUM(G22:G30) -> 0 | I21: =SUM(I22:I30) -> 0
A22: AUGMENTATION CAPITAL | E22: =SUM(B22:D22) -> 0
A23: DEBLOCAGE CMT | E23: =SUM(B23:D23) -> 0
A24: BLOCAGE | E24: =SUM(B24:D24) -> 0
A25: BILLET DE TRESORERIE | E25: =SUM(B25:D25) -> 0
A26: PLACEMENT | E26: =SUM(B26:D26) -> 0
A27: RESTITUTION TVA | E27: =SUM(B27:D27) -> 0
A28: VENTE EQUIPEMENT | E28: =SUM(B28:D28) -> 0
A29: VENTE DOLLARS | E29: =SUM(B29:D29) -> 0
A30: VENTE EURO | E30: =SUM(B30:D30) -> 0
A31: ENGAGEMENT BANCAIRE | B31: =SUM(B32:B54) -> 0 | C31: =SUM(C32:C54) -> 0 | D31: =SUM(D32:D54) -> 0 | E31: =SUM(B31:D31) -> 0 | G31: =SUM(G32:G54) -> 0 | I31: =SUM(I32:I54) -> 0
A32: CMT 1000 | E32: =SUM(B32:D32) -> 0
A33: CMT 1000 1 | E33: =SUM(B33:D33) -> 0
A34: CMT 1150 | E34: =SUM(B34:D34) -> 0
A35: CMT 1250 | E35: =SUM(B35:D35) -> 0
A36: CMT 2418 | E36: =SUM(B36:D36) -> 0
A37: CMT 2500 | E37: =SUM(B37:D37) -> 0
A38: CMT 350 | E38: =SUM(B38:D38) -> 0
A39: CMT 500 | E39: =SUM(B39:D39) -> 0
A40: CMT BTK | E40: =SUM(B40:D40) -> 0
A41: CREDIT DE GESTION | E41: =SUM(B41:D41) -> 0
A42: INTERET CMT 1000 | E42: =SUM(B42:D42) -> 0
A43: INTERET CMT 1000 1 | E43: =SUM(B43:D43) -> 0
... A54: LEASING | E54: =SUM(B54:D54) -> 0
...

Sheet SNA 2019
B1: STB THAMEUR | C1: STB MEGRINE | D1: BTK | G1: MEG EURO | I1: MEG $
A2: SOLDE 31/12/2018 | B2: ='SNA 01-2019'!B2 -> 212.191 | C2: ='SNA 01-2019'!C2 -> -2098732.7 | D2: ='SNA 01-2019'!D2 -> 833.198 | E2: =SUM(B2:D2) -> -2097687.3 | G2: ='SNA 01-2019'!G2 -> 41937.62 | I2: ='SNA 01-2019'!I2 -> 146.86
A3: RECETTE | B3: =SUM(B4:B20) -> 282028.71 | C3: =SUM(C4:C20) -> 24529485 | D3: =SUM(D4:D20) -> 0 | E3: =SUM(B3:D3) -> 24811514 | G3: =SUM(G4:G20) -> 2585808.9 | I3: =SUM(I4:I20) -> 383886.92
A4: SND CHEQUE | B4: ='SNA 01-2019'!B4+'SNA 02-2019'!B4+'SNA 03-2019'!B4+'SNA 04-2019'!B4+'SNA 05-2019'!B4+'SNA 06-2019'!B4+'SNA 07-2019'!B4+'SNA 08-2019'!B4+'SNA 09-2019'!B4+'SNA 10-2019'!B4+'SNA 11-2019'!B4+'SNA 12-2019'!B4 -> 232000 | C4: ='SNA 01-2019'!C4+'SNA 02-2019'!C4+'SNA 03-2019'!C4+'SNA 04-2019'!C4+'SNA 05-2019'!C4+'SNA 06-2019'!C4+'SNA 07-2019'!C4+'SNA 08-2019'!C4+'SNA 09-2019'!C4+'SNA 10-2019'!C4+'SNA 11-2019'!C4+'SNA 12-2019'!C4 -> 19292551 | D4: ='SNA 01-2019'!D4+'SNA 02-2019'!D4+'SNA 03-2019'!D4+'SNA 04-2019'!D4+'SNA 05-2019'!D4+'SNA 06-2019'!D4+'SNA 07-2019'!D4+'SNA 08-2019'!D4+'SNA 09-2019'!D4+'SNA 10-2019'!D4+'SNA 11-2019'!D4+'SNA 12-2019'!D4 -> 0 | E4: =SUM(B4:D4) -> 19524551 | G4: ='SNA 01-2019'!G4+'SNA 02-2019'!G4+'SNA 03-2019'!G4+'SNA 04-2019'!G4+'SNA 05-2019'!G4+'SNA 06-2019'!G4+'SNA 07-2019'!G4+'SNA 08-2019'!G4+'SNA 09-2019'!G4+'SNA 10-2019'!G4+'SNA 11-2019'!G4+'SNA 12-2019'!G4 -> 0 | I4: ='SNA 01-2019'!I4+'SNA 02-2019'!I4+'SNA 03-2019'!I4+'SNA 04-2019'!I4+'SNA 05-2019'!I4+'SNA 06-2019'!I4+'SNA 07-2019'!I4+'SNA 08-2019'!I4+'SNA 09-2019'!I4+'SNA 10-2019'!I4+'SNA 11-2019'!I4+'SNA 12-2019'!I4 -> 0
A5: SND TRAITE | B5: ='SNA 01-2019'!B5+'SNA 02-2019'!B5+'SNA 03-2019'!B5+'SNA 04-2019'!B5+'SNA 05-2019'!B5+'SNA 06-2019'!B5+'SNA 07-2019'!B5+'SNA 08-2019'!B5+'SNA 09-2019'!B5+'SNA 10-2019'!B5+'SNA 11-2019'!B5+'SNA 12-2019'!B5 -> 0 | C5: ='SNA 01-2019'!C5+'SNA 02-2019'!C5+'SNA 03-2019'!C5+'SNA 04-2019'!C5+'SNA 05-2019'!C5+'SNA 06-2019'!C5+'SNA 07-2019'!C5+'SNA 08-2019'!C5+'SNA 09-2019'!C5+'SNA 10-2019'!C5+'SNA 11-2019'!C5+'SNA 12-2019'!C5 -> 500000 | D5: ='SNA 01-2019'!D5+'SNA 02-2019'!D5+'SNA 03-2019'!D5+'SNA 04-2019'!D5+'SNA 05-2019'!D5+'SNA 06-2019'!D5+'SNA 07-2019'!D5+'SNA 08-2019'!D5+'SNA 09-2019'!D5+'SNA 10-2019'!D5+'SNA 11-2019'!D5+'SNA 12-2019'!D5 -> 0 | E5: =SUM(B5:D5) -> 500000 | G5: ='SNA 01-2019'!G5+'SNA 02-2019'!G5+'SNA 03-2019'!G5+'SNA 04-2019'!G5+'SNA 05-2019'!G5+'SNA 06-2019'!G5+'SNA 07-2019'!G5+'SNA 08-2019'!G5+'SNA 09-2019'!G5+'SNA 10-2019'!G5+'SNA 11-2019'!G5+'SNA 12-2019'!G5 -> 0 | I5: ='SNA 01-2019'!I5+'SNA 02-2019'!I5+'SNA 03-2019'!I5+'SNA 04-2019'!I5+'SNA 05-2019'!I5+'SNA 06-2019'!I5+'SNA 07-2019'!I5+'SNA 08-2019'!I5+'SNA 09-2019'!I5+'SNA 10-2019'!I5+'SNA 11-2019'!I5+'SNA 12-2019'!I5 -> 0
A6: INTERET ESCOMPTE TRAITE | B6: ='SNA 01-2019'!B6+'SNA 02-2019'!B6+'SNA 03-2019'!B6+'SNA 04-2019'!B6+'SNA 05-2019'!B6+'SNA 06-2019'!B6+'SNA 07-2019'!B6+'SNA 08-2019'!B6+'SNA 09-2019'!B6+'SNA 10-2019'!B6+'SNA 11-2019'!B6+'SNA 12-2019'!B6 -> 0 | C6: ='SNA 01-2019'!C6+'SNA 02-2019'!C6+'SNA 03-2019'!C6+'SNA 04-2019'!C6+'SNA 05-2019'!C6+'SNA 06-2019'!C6+'SNA 07-2019'!C6+'SNA 08-2019'!C6+'SNA 09-2019'!C6+'SNA 10-2019'!C6+'SNA 11-2019'!C6+'SNA 12-2019'!C6 -> -6697.667 | D6: ='SNA 01-2019'!D6+'SNA 02-2019'!D6+'SNA 03-2019'!D6+'SNA 04-2019'!D6+'SNA 05-2019'!D6+'SNA 06-2019'!D6+'SNA 07-2019'!D6+'SNA 08-2019'!D6+'SNA 09-2019'!D6+'SNA 10-2019'!D6+'SNA 11-2019'!D6+'SNA 12-2019'!D6 -> 0 | E6: =SUM(B6:D6) -> -6697.667 | G6: ='SNA 01-2019'!G6+'SNA 02-2019'!G6+'SNA 03-2019'!G6+'SNA 04-2019'!G6+'SNA 05-2019'!G6+'SNA 06-2019'!G6+'SNA 07-2019'!G6+'SNA 08-2019'!G6+'SNA 09-2019'!G6+'SNA 10-2019'!G6+'SNA 11-2019'!G6+'SNA 12-2019'!G6 -> 0 | I6: ='SNA 01-2019'!I6+'SNA 02-2019'!I6+'SNA 03-2019'!I6+'SNA 04-2019'!I6+'SNA 05-2019'!I6+'SNA 06-2019'!I6+'SNA 07-2019'!I6+'SNA 08-2019'!I6+'SNA 09-2019'!I6+'SNA 10-2019'!I6+'SNA 11-2019'!I6+'SNA 12-2019'!I6 -> 0
A7: STA NOUR | B7: ='SNA 01-2019'!B7+'SNA 02-2019'!B7+'SNA 03-2019'!B7+'SNA 04-2019'!B7+'SNA 05-2019'!B7+'SNA 06-2019'!B7+'SNA 07-2019'!B7+'SNA 08-2019'!B7+'SNA 09-2019'!B7+'SNA 10-2019'!B7+'SNA 11-2019'!B7+'SNA 12-2019'!B7 -> 0 | C7: ='SNA 01-2019'!C7+'SNA 02-2019'!C7+'SNA 03-2019'!C7+'SNA 04-2019'!C7+'SNA 05-2019'!C7+'SNA 06-2019'!C7+'SNA 07-2019'!C7+'SNA 08-2019'!C7+'SNA 09-2019'!C7+'SNA 10-2019'!C7+'SNA 11-2019'!C7+'SNA 12-2019'!C7 -> 3692308.5 | D7: ='SNA 01-2019'!D7+'SNA 02-2019'!D7+'SNA 03-2019'!D7+'SNA 04-2019'!D7+'SNA 05-2019'!D7+'SNA 06-2019'!D7+'SNA 07-2019'!D7+'SNA 08-2019'!D7+'SNA 09-2019'!D7+'SNA 10-2019'!D7+'SNA 11-2019'!D7+'SNA 12-2019'!D7 -> 0 | E7: =SUM(B7:D7) -> 3692308.5 | G7: ='SNA 01-2019'!G7+'SNA 02-2019'!G7+'SNA 03-2019'!G7+'SNA 04-2019'!G7+'SNA 05-2019'!G7+'SNA 06-2019'!G7+'SNA 07-2019'!G7+'SNA 08-2019'!G7+'SNA 09-2019'!G7+'SNA 10-2019'!G7+'SNA 11-2019'!G7+'SNA 12-2019'!G7 -> 0 | I7: ='SNA 01-2019'!I7+'SNA 02-2019'!I7+'SNA 03-2019'!I7+'SNA 04-2019'!I7+'SNA 05-2019'!I7+'SNA 06-2019'!I7+'SNA 07-2019'!I7+'SNA 08-2019'!I7+'SNA 09-2019'!I7+'SNA 10-2019'!I7+'SNA 11-2019'!I7+'SNA 12-2019'!I7 -> 0
A8: NBI | B8: ='SNA 01-2019'!B8+'SNA 02-2019'!B8+'SNA 03-2019'!B8+'SNA 04-2019'!B8+'SNA 05-2019'!B8+'SNA 06-2019'!B8+'SNA 07-2019'!B8+'SNA 08-2019'!B8+'SNA 09-2019'!B8+'SNA 10-2019'!B8+'SNA 11-2019'!B8+'SNA 12-2019'!B8 -> 0 | C8: ='SNA 01-2019'!C8+'SNA 02-2019'!C8+'SNA 03-2019'!C8+'SNA 04-2019'!C8+'SNA 05-2019'!C8+'SNA 06-2019'!C8+'SNA 07-2019'!C8+'SNA 08-2019'!C8+'SNA 09-2019'!C8+'SNA 10-2019'!C8+'SNA 11-2019'!C8+'SNA 12-2019'!C8 -> 458347.2 | D8: ='SNA 01-2019'!D8+'SNA 02-2019'!D8+'SNA 03-2019'!D8+'SNA 04-2019'!D8+'SNA 05-2019'!D8+'SNA 06-2019'!D8+'SNA 07-2019'!D8+'SNA 08-2019'!D8+'SNA 09-2019'!D8+'SNA 10-2019'!D8+'SNA 11-2019'!D8+'SNA 12-2019'!D8 -> 0 | E8: =SUM(B8:D8) -> 458347.2 | G8: ='SNA 01-2019'!G8+'SNA 02-2019'!G8+'SNA 03-2019'!G8+'SNA 04-2019'!G8+'SNA 05-2019'!G8+'SNA 06-2019'!G8+'SNA 07-2019'!G8+'SNA 08-2019'!G8+'SNA 09-2019'!G8+'SNA 10-2019'!G8+'SNA 11-2019'!G8+'SNA 12-2019'!G8 -> 0 | I8: ='SNA 01-2019'!I8+'SNA 02-2019'!I8+'SNA 03-2019'!I8+'SNA 04-2019'!I8+'SNA 05-2019'!I8+'SNA 06-2019'!I8+'SNA 07-2019'!I8+'SNA 08-2019'!I8+'SNA 09-2019'!I8+'SNA 10-2019'!I8+'SNA 11-2019'!I8+'SNA 12-2019'!I8 -> 0
A9: TIP | B9: ='SNA 01-2019'!B9+'SNA 02-2019'!B9+'SNA 03-2019'!B9+'SNA 04-2019'!B9+'SNA 05-2019'!B9+'SNA 06-2019'!B9+'SNA 07-2019'!B9+'SNA 08-2019'!B9+'SNA 09-2019'!B9+'SNA 10-2019'!B9+'SNA 11-2019'!B9+'SNA 12-2019'!B9 -> 0 | C9: ='SNA 01-2019'!C9+'SNA 02-2019'!C9+'SNA 03-2019'!C9+'SNA 04-2019'!C9+'SNA 05-2019'!C9+'SNA 06-2019'!C9+'SNA 07-2019'!C9+'SNA 08-2019'!C9+'SNA 09-2019'!C9+'SNA 10-2019'!C9+'SNA 11-2019'!C9+'SNA 12-2019'!C9 -> 35514.755 | D9: ='SNA 01-2019'!D9+'SNA 02-2019'!D9+'SNA 03-2019'!D9+'SNA 04-2019'!D9+'SNA 05-2019'!D9+'SNA 06-2019'!D9+'SNA 07-2019'!D9+'SNA 08-2019'!D9+'SNA 09-2019'!D9+'SNA 10-2019'!D9+'SNA 11-2019'!D9+'SNA 12-2019'!D9 -> 0 | E9: =SUM(B9:D9) -> 35514.755 | G9: ='SNA 01-2019'!G9+'SNA 02-2019'!G9+'SNA 03-2019'!G9+'SNA 04-2019'!G9+'SNA 05-2019'!G9+'SNA 06-2019'!G9+'SNA 07-2019'!G9+'SNA 08-2019'!G9+'SNA 09-2019'!G9+'SNA 10-2019'!G9+'SNA 11-2019'!G9+'SNA 12-2019'!G9 -> 0 | I9: ='SNA 01-2019'!I9+'SNA 02-2019'!I9+'SNA 03-2019'!I9+'SNA 04-2019'!I9+'SNA 05-2019'!I9+'SNA 06-2019'!I9+'SNA 07-2019'!I9+'SNA 08-2019'!I9+'SNA 09-2019'!I9+'SNA 10-2019'!I9+'SNA 11-2019'!I9+'SNA 12-2019'!I9 -> 0
A10: FONDERIE HNAYA | B10: ='SNA 01-2019'!B10+'SNA 02-2019'!B10+'SNA 03-2019'!B10+'SNA 04-2019'!B10+'SNA 05-2019'!B10+'SNA 06-2019'!B10+'SNA 07-2019'!B10+'SNA 08-2019'!B10+'SNA 09-2019'!B10+'SNA 10-2019'!B10+'SNA 11-2019'!B10+'SNA 12-2019'!B10 -> 0 | C10: ='SNA 01-2019'!C10+'SNA 02-2019'!C10+'SNA 03-2019'!C10+'SNA 04-2019'!C10+'SNA 05-2019'!C10+'SNA 06-2019'!C10+'SNA 07-2019'!C10+'SNA 08-2019'!C10+'SNA 09-2019'!C10+'SNA 10-2019'!C10+'SNA 11-2019'!C10+'SNA 12-2019'!C10 -> 24276.51 | D10: ='SNA 01-2019'!D10+'SNA 02-2019'!D10+'SNA 03-2019'!D10+'SNA 04-2019'!D10+'SNA 05-2019'!D10+'SNA 06-2019'!D10+'SNA 07-2019'!D10+'SNA 08-2019'!D10+'SNA 09-2019'!D10+'SNA 10-2019'!D10+'SNA 11-2019'!D10+'SNA 12-2019'!D10 -> 0 | E10: =SUM(B10:D10) -> 24276.51 | G10: ='SNA 01-2019'!G10+'SNA 02-2019'!G10+'SNA 03-2019'!G10+'SNA 04-2019'!G10+'SNA 05-2019'!G10+'SNA 06-2019'!G10+'SNA 07-2019'!G10+'SNA 08-2019'!G10+'SNA 09-2019'!G10+'SNA 10-2019'!G10+'SNA 11-2019'!G10+'SNA 12-2019'!G10 -> 0 | I10: ='SNA 01-2019'!I10+'SNA 02-2019'!I10+'SNA 03-2019'!I10+'SNA 04-2019'!I10+'SNA 05-2019'!I10+'SNA 06-2019'!I10+'SNA 07-2019'!I10+'SNA 08-2019'!I10+'SNA 09-2019'!I10+'SNA 10-2019'!I10+'SNA 11-2019'!I10+'SNA 12-2019'!I10 -> 0
A11: BATTERIEDENIEST | B11: ='SNA 01-2019'!B11+'SNA 02-2019'!B11+'SNA 03-2019'!B11+'SNA 04-2019'!B11+'SNA 05-2019'!B11+'SNA 06-2019'!B11+'SNA 07-2019'!B11+'SNA 08-2019'!B11+'SNA 09-2019'!B11+'SNA 10-2019'!B11+'SNA 11-2019'!B11+'SNA 12-2019'!B11 -> 0 | C11: ='SNA 01-2019'!C11+'SNA 02-2019'!C11+'SNA 03-2019'!C11+'SNA 04-2019'!C11+'SNA 05-2019'!C11+'SNA 06-2019'!C11+'SNA 07-2019'!C11+'SNA 08-2019'!C11+'SNA 09-2019'!C11+'SNA 10-2019'!C11+'SNA 11-2019'!C11+'SNA 12-2019'!C11 -> 0 | D11: ='SNA 01-2019'!D11+'SNA 02-2019'!D11+'SNA 03-2019'!D11+'SNA 04-2019'!D11+'SNA 05-2019'!D11+'SNA 06-2019'!D11+'SNA 07-2019'!D11+'SNA 08-2019'!D11+'SNA 09-2019'!D11+'SNA 10-2019'!D11+'SNA 11-2019'!D11+'SNA 12-2019'!D11 -> 0 | E11: =SUM(B11:D11) -> 0 | G11: ='SNA 01-2019'!G11+'SNA 02-2019'!G11+'SNA 03-2019'!G11+'SNA 04-2019'!G11+'SNA 05-2019'!G11+'SNA 06-2019'!G11+'SNA 07-2019'!G11+'SNA 08-2019'!G11+'SNA 09-2019'!G11+'SNA 10-2019'!G11+'SNA 11-2019'!G11+'SNA 12-2019'!G11 -> 0 | I11: ='SNA 01-2019'!I11+'SNA 02-2019'!I11+'SNA 03-2019'!I11+'SNA 04-2019'!I11+'SNA 05-2019'!I11+'SNA 06-2019'!I11+'SNA 07-2019'!I11+'SNA 08-2019'!I11+'SNA 09-2019'!I11+'SNA 10-2019'!I11+'SNA 11-2019'!I11+'SNA 12-2019'!I11 -> 0
A12: ERRAFIK EL DAYEM | B12: ='SNA 01-2019'!B12+'SNA 02-2019'!B12+'SNA 03-2019'!B12+'SNA 04-2019'!B12+'SNA 05-2019'!B12+'SNA 06-2019'!B12+'SNA 07-2019'!B12+'SNA 08-2019'!B12+'SNA 09-2019'!B12+'SNA 10-2019'!B12+'SNA 11-2019'!B12+'SNA 12-2019'!B12 -> 0 | C12: ='SNA 01-2019'!C12+'SNA 02-2019'!C12+'SNA 03-2019'!C12+'SNA 04-2019'!C12+'SNA 05-2019'!C12+'SNA 06-2019'!C12+'SNA 07-2019'!C12+'SNA 08-2019'!C12+'SNA 09-2019'!C12+'SNA 10-2019'!C12+'SNA 11-2019'!C12+'SNA 12-2019'!C12 -> 499185.25 | D12: ='SNA 01-2019'!D12+'SNA 02-2019'!D12+'SNA 03-2019'!D12+'SNA 04-2019'!D12+'SNA 05-2019'!D12+'SNA 06-2019'!D12+'SNA 07-2019'!D12+'SNA 08-2019'!D12+'SNA 09-2019'!D12+'SNA 10-2019'!D12+'SNA 11-2019'!D12+'SNA 12-2019'!D12 -> 0 | E12: =SUM(B12:D12) -> 499185.25 | G12: ='SNA 01-2019'!G12+'SNA 02-2019'!G12+'SNA 03-2019'!G12+'SNA 04-2019'!G12+'SNA 05-2019'!G12+'SNA 06-2019'!G12+'SNA 07-2019'!G12+'SNA 08-2019'!G12+'SNA 09-2019'!G12+'SNA 10-2019'!G12+'SNA 11-2019'!G12+'SNA 12-2019'!G12 -> 1712197.8 | I12: ='SNA 01-2019'!I12+'SNA 02-2019'!I12+'SNA 03-2019'!I12+'SNA 04-2019'!I12+'SNA 05-2019'!I12+'SNA 06-2019'!I12+'SNA 07-2019'!I12+'SNA 08-2019'!I12+'SNA 09-2019'!I12+'SNA 10-2019'!I12+'SNA 11-2019'!I12+'SNA 12-2019'!I12 -> 383886.92
A13: FADI COTE D'IVOIR | B13: ='SNA 01-2019'!B13+'SNA 02-2019'!B13+'SNA 03-2019'!B13+'SNA 04-2019'!B13+'SNA 05-2019'!B13+'SNA 06-2019'!B13+'SNA 07-2019'!B13+'SNA 08-2019'!B13+'SNA 09-2019'!B13+'SNA 10-2019'!B13+'SNA 11-2019'!B13+'SNA 12-2019'!B13 -> 0 | C13: ='SNA 01-2019'!C13+'SNA 02-2019'!C13+'SNA 03-2019'!C13+'SNA 04-2019'!C13+'SNA 05-2019'!C13+'SNA 06-2019'!C13+'SNA 07-2019'!C13+'SNA 08-2019'!C13+'SNA 09-2019'!C13+'SNA 10-2019'!C13+'SNA 11-2019'!C13+'SNA 12-2019'!C13 -> 0 | D13: ='SNA 01-2019'!D13+'SNA 02-2019'!D13+'SNA 03-2019'!D13+'SNA 04-2019'!D13+'SNA 05-2019'!D13+'SNA 06-2019'!D13+'SNA 07-2019'!D13+'SNA 08-2019'!D13+'SNA 09-2019'!D13+'SNA 10-2019'!D13+'SNA 11-2019'!D13+'SNA 12-2019'!D13 -> 0 | E13: =SUM(B13:D13) -> 0 | G13: ='SNA 01-2019'!G13+'SNA 02-2019'!G13+'SNA 03-2019'!G13+'SNA 04-2019'!G13+'SNA 05-2019'!G13+'SNA 06-2019'!G13+'SNA 07-2019'!G13+'SNA 08-2019'!G13+'SNA 09-2019'!G13+'SNA 10-2019'!G13+'SNA 11-2019'!G13+'SNA 12-2019'!G13 -> 55095.58 | I13: ='SNA 01-2019'!I13+'SNA 02-2019'!I13+'SNA 03-2019'!I13+'SNA 04-2019'!I13+'SNA 05-2019'!I13+'SNA 06-2019'!I13+'SNA 07-2019'!I13+'SNA 08-2019'!I13+'SNA 09-2019'!I13+'SNA 10-2019'!I13+'SNA 11-2019'!I13+'SNA 12-2019'!I13 -> 0
A14: MED ENERGY | B14: ='SNA 01-2019'!B14+'SNA 02-2019'!B14+'SNA 03-2019'!B14+'SNA 04-2019'!B14+'SNA 05-2019'!B14+'SNA 06-2019'!B14+'SNA 07-2019'!B14+'SNA 08-2019'!B14+'SNA 09-2019'!B14+'SNA 10-2019'!B14+'SNA 11-2019'!B14+'SNA 12-2019'!B14 -> 0 | C14: ='SNA 01-2019'!C14+'SNA 02-2019'!C14+'SNA 03-2019'!C14+'SNA 04-2019'!C14+'SNA 05-2019'!C14+'SNA 06-2019'!C14+'SNA 07-2019'!C14+'SNA 08-2019'!C14+'SNA 09-2019'!C14+'SNA 10-2019'!C14+'SNA 11-2019'!C14+'SNA 12-2019'!C14 -> 0 | D14: ='SNA 01-2019'!D14+'SNA 02-2019'!D14+'SNA 03-2019'!D14+'SNA 04-2019'!D14+'SNA 05-2019'!D14+'SNA 06-2019'!D14+'SNA 07-2019'!D14+'SNA 08-2019'!D14+'SNA 09-2019'!D14+'SNA 10-2019'!D14+'SNA 11-2019'!D14+'SNA 12-2019'!D14 -> 0 | E14: =SUM(B14:D14) -> 0 | G14: ='SNA 01-2019'!G14+'SNA 02-2019'!G14+'SNA 03-2019'!G14+'SNA 04-2019'!G14+'SNA 05-2019'!G14+'SNA 06-2019'!G14+'SNA 07-2019'!G14+'SNA 08-2019'!G14+'SNA 09-2019'!G14+'SNA 10-2019'!G14+'SNA 11-2019'!G14+'SNA 12-2019'!G14 -> 40857.38 | I14: ='SNA 01-2019'!I14+'SNA 02-2019'!I14+'SNA 03-2019'!I14+'SNA 04-2019'!I14+'SNA 05-2019'!I14+'SNA 06-2019'!I14+'SNA 07-2019'!I14+'SNA 08-2019'!I14+'SNA 09-2019'!I14+'SNA 10-2019'!I14+'SNA 11-2019'!I14+'SNA 12-2019'!I14 -> 0
A15: NOUR Allemagne | B15: ='SNA 01-2019'!B15+'SNA 02-2019'!B15+'SNA 03-2019'!B15+'SNA 04-2019'!B15+'SNA 05-2019'!B15+'SNA 06-2019'!B15+'SNA 07-2019'!B15+'SNA 08-2019'!B15+'SNA 09-2019'!B15+'SNA 10-2019'!B15+'SNA 11-2019'!B15+'SNA 12-2019'!B15 -> 0 | C15: ='SNA 01-2019'!C15+'SNA 02-2019'!C15+'SNA 03-2019'!C15+'SNA 04-2019'!C15+'SNA 05-2019'!C15+'SNA 06-2019'!C15+'SNA 07-2019'!C15+'SNA 08-2019'!C15+'SNA 09-2019'!C15+'SNA 10-2019'!C15+'SNA 11-2019'!C15+'SNA 12-2019'!C15 -> 0 | D15: ='SNA 01-2019'!D15+'SNA 02-2019'!D15+'SNA 03-2019'!D15+'SNA 04-2019'!D15+'SNA 05-2019'!D15+'SNA 06-2019'!D15+'SNA 07-2019'!D15+'SNA 08-2019'!D15+'SNA 09-2019'!D15+'SNA 10-2019'!D15+'SNA 11-2019'!D15+'SNA 12-2019'!D15 -> 0 | E15: =SUM(B15:D15) -> 0 | G15: ='SNA 01-2019'!G15+'SNA 02-2019'!G15+'SNA 03-2019'!G15+'SNA 04-2019'!G15+'SNA 05-2019'!G15+'SNA 06-2019'!G15+'SNA 07-2019'!G15+'SNA 08-2019'!G15+'SNA 09-2019'!G15+'SNA 10-2019'!G15+'SNA 11-2019'!G15+'SNA 12-2019'!G15 -> 282711.1 | I15: ='SNA 01-2019'!I15+'SNA 02-2019'!I15+'SNA 03-2019'!I15+'SNA 04-2019'!I15+'SNA 05-2019'!I15+'SNA 06-2019'!I15+'SNA 07-2019'!I15+'SNA 08-2019'!I15+'SNA 09-2019'!I15+'SNA 10-2019'!I15+'SNA 11-2019'!I15+'SNA 12-2019'!I15 -> 0
... A20: VIREMENT RECU | B20: ='SNA 01-2019'!B20+'SNA 02-2019'!B20+'SNA 03-2019'!B20+'SNA 04-2019'!B20+'SNA 05-2019'!B20+'SNA 06-2019'!B20+'SNA 07-2019'!B20+'SNA 08-2019'!B20+'SNA 09-2019'!B20+'SNA 10-2019'!B20+'SNA 11-2019'!B20+'SNA 12-2019'!B20 -> 32583.564 | C20: ='SNA 01-2019'!C20+'SNA 02-2019'!C20+'SNA 03-2019'!C20+'SNA 04-2019'!C20+'SNA 05-2019'!C20+'SNA 06-2019'!C20+'SNA 07-2019'!C20+'SNA 08-2019'!C20+'SNA 09-2019'!C20+'SNA 10-2019'!C20+'SNA 11-2019'!C20+'SNA 12-2019'!C20 -> 7494.711 | D20: ='SNA 01-2019'!D20+'SNA 02-2019'!D20+'SNA 03-2019'!D20+'SNA 04-2019'!D20+'SNA 05-2019'!D20+'SNA 06-2019'!D20+'SNA 07-2019'!D20+'SNA 08-2019'!D20+'SNA 09-2019'!D20+'SNA 10-2019'!D20+'SNA 11-2019'!D20+'SNA 12-2019'!D20 -> 0 | E20: =SUM(B20:D20) -> 40078.275 | G20: ='SNA 01-2019'!G20+'SNA 02-2019'!G20+'SNA 03-2019'!G20+'SNA 04-2019'!G20+'SNA 05-2019'!G20+'SNA 06-2019'!G20+'SNA 07-2019'!G20+'SNA 08-2019'!G20+'SNA 09-2019'!G20+'SNA 10-2019'!G20+'SNA 11-2019'!G20+'SNA 12-2019'!G20 -> 0 | I20: ='SNA 01-2019'!I20+'SNA 02-2019'!I20+'SNA 03-2019'!I20+'SNA 04-2019'!I20+'SNA 05-2019'!I20+'SNA 06-2019'!I20+'SNA 07-2019'!I20+'SNA 08-2019'!I20+'SNA 09-2019'!I20+'SNA 10-2019'!I20+'SNA 11-2019'!I20+'SNA 12-2019'!I20 -> 0
A21: AUTRES RECETTE | B21: =SUM(B22:B30) -> 0 | C21: =SUM(C22:C30) -> 4776143.4 | D21: =SUM(D22:D30) -> 0 | E21: =SUM(B21:D21) -> 4776143.4 | G21: =SUM(G22:G30) -> -1049925 | I21: =SUM(I22:I30) -> -374489.96
A22: AUGMENTATION CAPITAL | B22: ='SNA 01-2019'!B22+'SNA 02-2019'!B22+'SNA 03-2019'!B22+'SNA 04-2019'!B22+'SNA 05-2019'!B22+'SNA 06-2019'!B22+'SNA 07-2019'!B22+'SNA 08-2019'!B22+'SNA 09-2019'!B22+'SNA 10-2019'!B22+'SNA 11-2019'!B22+'SNA 12-2019'!B22 -> 0 | C22: ='SNA 01-2019'!C22+'SNA 02-2019'!C22+'SNA 03-2019'!C22+'SNA 04-2019'!C22+'SNA 05-2019'!C22+'SNA 06-2019'!C22+'SNA 07-2019'!C22+'SNA 08-2019'!C22+'SNA 09-2019'!C22+'SNA 10-2019'!C22+'SNA 11-2019'!C22+'SNA 12-2019'!C22 -> 0 | D22: ='SNA 01-2019'!D22+'SNA 02-2019'!D22+'SNA 03-2019'!D22+'SNA 04-2019'!D22+'SNA 05-2019'!D22+'SNA 06-2019'!D22+'SNA 07-2019'!D22+'SNA 08-2019'!D22+'SNA 09-2019'!D22+'SNA 10-2019'!D22+'SNA 11-2019'!D22+'SNA 12-2019'!D22 -> 0 | E22: =SUM(B22:D22) -> 0 | G22: ='SNA 01-2019'!G22+'SNA 02-2019'!G22+'SNA 03-2019'!G22+'SNA 04-2019'!G22+'SNA 05-2019'!G22+'SNA 06-2019'!G22+'SNA 07-2019'!G22+'SNA 08-2019'!G22+'SNA 09-2019'!G22+'SNA 10-2019'!G22+'SNA 11-2019'!G22+'SNA 12-2019'!G22 -> 0 | I22: ='SNA 01-2019'!I22+'SNA 02-2019'!I22+'SNA 03-2019'!I22+'SNA 04-2019'!I22+'SNA 05-2019'!I22+'SNA 06-2019'!I22+'SNA 07-2019'!I22+'SNA 08-2019'!I22+'SNA 09-2019'!I22+'SNA 10-2019'!I22+'SNA 11-2019'!I22+'SNA 12-2019'!I22 -> 0
A23: DEBLOCAGE CMT | B23: ='SNA 01-2019'!B23+'SNA 02-2019'!B23+'SNA 03-2019'!B23+'SNA 04-2019'!B23+'SNA 05-2019'!B23+'SNA 06-2019'!B23+'SNA 07-2019'!B23+'SNA 08-2019'!B23+'SNA 09-2019'!B23+'SNA 10-2019'!B23+'SNA 11-2019'!B23+'SNA 12-2019'!B23 -> 0 | C23: ='SNA 01-2019'!C23+'SNA 02-2019'!C23+'SNA 03-2019'!C23+'SNA 04-2019'!C23+'SNA 05-2019'!C23+'SNA 06-2019'!C23+'SNA 07-2019'!C23+'SNA 08-2019'!C23+'SNA 09-2019'!C23+'SNA 10-2019'!C23+'SNA 11-2019'!C23+'SNA 12-2019'!C23 -> 0 | D23: ='SNA 01-2019'!D23+'SNA 02-2019'!D23+'SNA 03-2019'!D23+'SNA 04-2019'!D23+'SNA 05-2019'!D23+'SNA 06-2019'!D23+'SNA 07-2019'!D23+'SNA 08-2019'!D23+'SNA 09-2019'!D23+'SNA 10-2019'!D23+'SNA 11-2019'!D23+'SNA 12-2019'!D23 -> 0 | E23: =SUM(B23:D23) -> 0 | G23: ='SNA 01-2019'!G23+'SNA 02-2019'!G23+'SNA 03-2019'!G23+'SNA 04-2019'!G23+'SNA 05-2019'!G23+'SNA 06-2019'!G23+'SNA 07-2019'!G23+'SNA 08-2019'!G23+'SNA 09-2019'!G23+'SNA 10-2019'!G23+'SNA 11-2019'!G23+'SNA 12-2019'!G23 -> 0 | I23: ='SNA 01-2019'!I23+'SNA 02-2019'!I23+'SNA 03-2019'!I23+'SNA 04-2019'!I23+'SNA 05-2019'!I23+'SNA 06-2019'!I23+'SNA 07-2019'!I23+'SNA 08-2019'!I23+'SNA 09-2019'!I23+'SNA 10-2019'!I23+'SNA 11-2019'!I23+'SNA 12-2019'!I23 -> 0
A24: BLOCAGE | B24: ='SNA 01-2019'!B24+'SNA 02-2019'!B24+'SNA 03-2019'!B24+'SNA 04-2019'!B24+'SNA 05-2019'!B24+'SNA 06-2019'!B24+'SNA 07-2019'!B24+'SNA 08-2019'!B24+'SNA 09-2019'!B24+'SNA 10-2019'!B24+'SNA 11-2019'!B24+'SNA 12-2019'!B24 -> 0 | C24: ='SNA 01-2019'!C24+'SNA 02-2019'!C24+'SNA 03-2019'!C24+'SNA 04-2019'!C24+'SNA 05-2019'!C24+'SNA 06-2019'!C24+'SNA 07-2019'!C24+'SNA 08-2019'!C24+'SNA 09-2019'!C24+'SNA 10-2019'!C24+'SNA 11-2019'!C24+'SNA 12-2019'!C24 -> -5036.603 | D24: ='SNA 01-2019'!D24+'SNA 02-2019'!D24+'SNA 03-2019'!D24+'SNA 04-2019'!D24+'SNA 05-2019'!D24+'SNA 06-2019'!D24+'SNA 07-2019'!D24+'SNA 08-2019'!D24+'SNA 09-2019'!D24+'SNA 10-2019'!D24+'SNA 11-2019'!D24+'SNA 12-2019'!D24 -> 0 | E24: =SUM(B24:D24) -> -5036.603 | G24: ='SNA 01-2019'!G24+'SNA 02-2019'!G24+'SNA 03-2019'!G24+'SNA 04-2019'!G24+'SNA 05-2019'!G24+'SNA 06-2019'!G24+'SNA 07-2019'!G24+'SNA 08-2019'!G24+'SNA 09-2019'!G24+'SNA 10-2019'!G24+'SNA 11-2019'!G24+'SNA 12-2019'!G24 -> 0 | I24: ='SNA 01-2019'!I24+'SNA 02-2019'!I24+'SNA 03-2019'!I24+'SNA 04-2019'!I24+'SNA 05-2019'!I24+'SNA 06-2019'!I24+'SNA 07-2019'!I24+'SNA 08-2019'!I24+'SNA 09-2019'!I24+'SNA 10-2019'!I24+'SNA 11-2019'!I24+'SNA 12-2019'!I24 -> 0
A25: BILLET DE TRESORERIE | B25: ='SNA 01-2019'!B25+'SNA 02-2019'!B25+'SNA 03-2019'!B25+'SNA 04-2019'!B25+'SNA 05-2019'!B25+'SNA 06-2019'!B25+'SNA 07-2019'!B25+'SNA 08-2019'!B25+'SNA 09-2019'!B25+'SNA 10-2019'!B25+'SNA 11-2019'!B25+'SNA 12-2019'!B25 -> 0 | C25: ='SNA 01-2019'!C25+'SNA 02-2019'!C25+'SNA 03-2019'!C25+'SNA 04-2019'!C25+'SNA 05-2019'!C25+'SNA 06-2019'!C25+'SNA 07-2019'!C25+'SNA 08-2019'!C25+'SNA 09-2019'!C25+'SNA 10-2019'!C25+'SNA 11-2019'!C25+'SNA 12-2019'!C25 -> 0 | D25: ='SNA 01-2019'!D25+'SNA 02-2019'!D25+'SNA 03-2019'!D25+'SNA 04-2019'!D25+'SNA 05-2019'!D25+'SNA 06-2019'!D25+'SNA 07-2019'!D25+'SNA 08-2019'!D25+'SNA 09-2019'!D25+'SNA 10-2019'!D25+'SNA 11-2019'!D25+'SNA 12-2019'!D25 -> 0 | E25: =SUM(B25:D25) -> 0 | G25: ='SNA 01-2019'!G25+'SNA 02-2019'!G25+'SNA 03-2019'!G25+'SNA 04-2019'!G25+'SNA 05-2019'!G25+'SNA 06-2019'!G25+'SNA 07-2019'!G25+'SNA 08-2019'!G25+'SNA 09-2019'!G25+'SNA 10-2019'!G25+'SNA 11-2019'!G25+'SNA 12-2019'!G25 -> 0 | I25: ='SNA 01-2019'!I25+'SNA 02-2019'!I25+'SNA 03-2019'!I25+'SNA 04-2019'!I25+'SNA 05-2019'!I25+'SNA 06-2019'!I25+'SNA 07-2019'!I25+'SNA 08-2019'!I25+'SNA 09-2019'!I25+'SNA 10-2019'!I25+'SNA 11-2019'!I25+'SNA 12-2019'!I25 -> 0
A26: PLACEMENT | B26: ='SNA 01-2019'!B26+'SNA 02-2019'!B26+'SNA 03-2019'!B26+'SNA 04-2019'!B26+'SNA 05-2019'!B26+'SNA 06-2019'!B26+'SNA 07-2019'!B26+'SNA 08-2019'!B26+'SNA 09-2019'!B26+'SNA 10-2019'!B26+'SNA 11-2019'!B26+'SNA 12-2019'!B26 -> 0 | C26: ='SNA 01-2019'!C26+'SNA 02-2019'!C26+'SNA 03-2019'!C26+'SNA 04-2019'!C26+'SNA 05-2019'!C26+'SNA 06-2019'!C26+'SNA 07-2019'!C26+'SNA 08-2019'!C26+'SNA 09-2019'!C26+'SNA 10-2019'!C26+'SNA 11-2019'!C26+'SNA 12-2019'!C26 -> 0 | D26: ='SNA 01-2019'!D26+'SNA 02-2019'!D26+'SNA 03-2019'!D26+'SNA 04-2019'!D26+'SNA 05-2019'!D26+'SNA 06-2019'!D26+'SNA 07-2019'!D26+'SNA 08-2019'!D26+'SNA 09-2019'!D26+'SNA 10-2019'!D26+'SNA 11-2019'!D26+'SNA 12-2019'!D26 -> 0 | E26: =SUM(B26:D26) -> 0 | G26: ='SNA 01-2019'!G26+'SNA 02-2019'!G26+'SNA 03-2019'!G26+'SNA 04-2019'!G26+'SNA 05-2019'!G26+'SNA 06-2019'!G26+'SNA 07-2019'!G26+'SNA 08-2019'!G26+'SNA 09-2019'!G26+'SNA 10-2019'!G26+'SNA 11-2019'!G26+'SNA 12-2019'!G26 -> 75 | I26: ='SNA 01-2019'!I26+'SNA 02-2019'!I26+'SNA 03-2019'!I26+'SNA 04-2019'!I26+'SNA 05-2019'!I26+'SNA 06-2019'!I26+'SNA 07-2019'!I26+'SNA 08-2019'!I26+'SNA 09-2019'!I26+'SNA 10-2019'!I26+'SNA 11-2019'!I26+'SNA 12-2019'!I26 -> 510.04
A27: RESTITUTION TVA | B27: ='SNA 01-2019'!B27+'SNA 02-2019'!B27+'SNA 03-2019'!B27+'SNA 04-2019'!B27+'SNA 05-2019'!B27+'SNA 06-2019'!B27+'SNA 07-2019'!B27+'SNA 08-2019'!B27+'SNA 09-2019'!B27+'SNA 10-2019'!B27+'SNA 11-2019'!B27+'SNA 12-2019'!B27 -> 0 | C27: ='SNA 01-2019'!C27+'SNA 02-2019'!C27+'SNA 03-2019'!C27+'SNA 04-2019'!C27+'SNA 05-2019'!C27+'SNA 06-2019'!C27+'SNA 07-2019'!C27+'SNA 08-2019'!C27+'SNA 09-2019'!C27+'SNA 10-2019'!C27+'SNA 11-2019'!C27+'SNA 12-2019'!C27 -> 0 | D27: ='SNA 01-2019'!D27+'SNA 02-2019'!D27+'SNA 03-2019'!D27+'SNA 04-2019'!D27+'SNA 05-2019'!D27+'SNA 06-2019'!D27+'SNA 07-2019'!D27+'SNA 08-2019'!D27+'SNA 09-2019'!D27+'SNA 10-2019'!D27+'SNA 11-2019'!D27+'SNA 12-2019'!D27 -> 0 | E27: =SUM(B27:D27) -> 0 | G27: ='SNA 01-2019'!G27+'SNA 02-2019'!G27+'SNA 03-2019'!G27+'SNA 04-2019'!G27+'SNA 05-2019'!G27+'SNA 06-2019'!G27+'SNA 07-2019'!G27+'SNA 08-2019'!G27+'SNA 09-2019'!G27+'SNA 10-2019'!G27+'SNA 11-2019'!G27+'SNA 12-2019'!G27 -> 0 | I27: ='SNA 01-2019'!I27+'SNA 02-2019'!I27+'SNA 03-2019'!I27+'SNA 04-2019'!I27+'SNA 05-2019'!I27+'SNA 06-2019'!I27+'SNA 07-2019'!I27+'SNA 08-2019'!I27+'SNA 09-2019'!I27+'SNA 10-2019'!I27+'SNA 11-2019'!I27+'SNA 12-2019'!I27 -> 0
A28: VENTE EQUIPEMENT | B28: ='SNA 01-2019'!B28+'SNA 02-2019'!B28+'SNA 03-2019'!B28+'SNA 04-2019'!B28+'SNA 05-2019'!B28+'SNA 06-2019'!B28+'SNA 07-2019'!B28+'SNA 08-2019'!B28+'SNA 09-2019'!B28+'SNA 10-2019'!B28+'SNA 11-2019'!B28+'SNA 12-2019'!B28 -> 0 | C28: ='SNA 01-2019'!C28+'SNA 02-2019'!C28+'SNA 03-2019'!C28+'SNA 04-2019'!C28+'SNA 05-2019'!C28+'SNA 06-2019'!C28+'SNA 07-2019'!C28+'SNA 08-2019'!C28+'SNA 09-2019'!C28+'SNA 10-2019'!C28+'SNA 11-2019'!C28+'SNA 12-2019'!C28 -> 99000 | D28: ='SNA 01-2019'!D28+'SNA 02-2019'!D28+'SNA 03-2019'!D28+'SNA 04-2019'!D28+'SNA 05-2019'!D28+'SNA 06-2019'!D28+'SNA 07-2019'!D28+'SNA 08-2019'!D28+'SNA 09-2019'!D28+'SNA 10-2019'!D28+'SNA 11-2019'!D28+'SNA 12-2019'!D28 -> 0 | E28: =SUM(B28:D28) -> 99000 | G28: ='SNA 01-2019'!G28+'SNA 02-2019'!G28+'SNA 03-2019'!G28+'SNA 04-2019'!G28+'SNA 05-2019'!G28+'SNA 06-2019'!G28+'SNA 07-2019'!G28+'SNA 08-2019'!G28+'SNA 09-2019'!G28+'SNA 10-2019'!G28+'SNA 11-2019'!G28+'SNA 12-2019'!G28 -> 0 | I28: ='SNA 01-2019'!I28+'SNA 02-2019'!I28+'SNA 03-2019'!I28+'SNA 04-2019'!I28+'SNA 05-2019'!I28+'SNA 06-2019'!I28+'SNA 07-2019'!I28+'SNA 08-2019'!I28+'SNA 09-2019'!I28+'SNA 10-2019'!I28+'SNA 11-2019'!I28+'SNA 12-2019'!I28 -> 0
A29: VENTE DOLLARS | B29: ='SNA 01-2019'!B29+'SNA 02-2019'!B29+'SNA 03-2019'!B29+'SNA 04-2019'!B29+'SNA 05-2019'!B29+'SNA 06-2019'!B29+'SNA 07-2019'!B29+'SNA 08-2019'!B29+'SNA 09-2019'!B29+'SNA 10-2019'!B29+'SNA 11-2019'!B29+'SNA 12-2019'!B29 -> 0 | C29: ='SNA 01-2019'!C29+'SNA 02-2019'!C29+'SNA 03-2019'!C29+'SNA 04-2019'!C29+'SNA 05-2019'!C29+'SNA 06-2019'!C29+'SNA 07-2019'!C29+'SNA 08-2019'!C29+'SNA 09-2019'!C29+'SNA 10-2019'!C29+'SNA 11-2019'!C29+'SNA 12-2019'!C29 -> 1140000 | D29: ='SNA 01-2019'!D29+'SNA 02-2019'!D29+'SNA 03-2019'!D29+'SNA 04-2019'!D29+'SNA 05-2019'!D29+'SNA 06-2019'!D29+'SNA 07-2019'!D29+'SNA 08-2019'!D29+'SNA 09-2019'!D29+'SNA 10-2019'!D29+'SNA 11-2019'!D29+'SNA 12-2019'!D29 -> 0 | E29: =SUM(B29:D29) -> 1140000 | G29: ='SNA 01-2019'!G29+'SNA 02-2019'!G29+'SNA 03-2019'!G29+'SNA 04-2019'!G29+'SNA 05-2019'!G29+'SNA 06-2019'!G29+'SNA 07-2019'!G29+'SNA 08-2019'!G29+'SNA 09-2019'!G29+'SNA 10-2019'!G29+'SNA 11-2019'!G29+'SNA 12-2019'!G29 -> 0 | I29: ='SNA 01-2019'!I29+'SNA 02-2019'!I29+'SNA 03-2019'!I29+'SNA 04-2019'!I29+'SNA 05-2019'!I29+'SNA 06-2019'!I29+'SNA 07-2019'!I29+'SNA 08-2019'!I29+'SNA 09-2019'!I29+'SNA 10-2019'!I29+'SNA 11-2019'!I29+'SNA 12-2019'!I29 -> -375000
A30: VENTE EURO | B30: ='SNA 01-2019'!B30+'SNA 02-2019'!B30+'SNA 03-2019'!B30+'SNA 04-2019'!B30+'SNA 05-2019'!B30+'SNA 06-2019'!B30+'SNA 07-2019'!B30+'SNA 08-2019'!B30+'SNA 09-2019'!B30+'SNA 10-2019'!B30+'SNA 11-2019'!B30+'SNA 12-2019'!B30 -> 0 | C30: ='SNA 01-2019'!C30+'SNA 02-2019'!C30+'SNA 03-2019'!C30+'SNA 04-2019'!C30+'SNA 05-2019'!C30+'SNA 06-2019'!C30+'SNA 07-2019'!C30+'SNA 08-2019'!C30+'SNA 09-2019'!C30+'SNA 10-2019'!C30+'SNA 11-2019'!C30+'SNA 12-2019'!C30 -> 3542180 | D30: ='SNA 01-2019'!D30+'SNA 02-2019'!D30+'SNA 03-2019'!D30+'SNA 04-2019'!D30+'SNA 05-2019'!D30+'SNA 06-2019'!D30+'SNA 07-2019'!D30+'SNA 08-2019'!D30+'SNA 09-2019'!D30+'SNA 10-2019'!D30+'SNA 11-2019'!D30+'SNA 12-2019'!D30 -> 0 | E30: =SUM(B30:D30) -> 3542180 | G30: ='SNA 01-2019'!G30+'SNA 02-2019'!G30+'SNA 03-2019'!G30+'SNA 04-2019'!G30+'SNA 05-2019'!G30+'SNA 06-2019'!G30+'SNA 07-2019'!G30+'SNA 08-2019'!G30+'SNA 09-2019'!G30+'SNA 10-2019'!G30+'SNA 11-2019'!G30+'SNA 12-2019'!G30 -> -1050000 | I30: ='SNA 01-2019'!I30+'SNA 02-2019'!I30+'SNA 03-2019'!I30+'SNA 04-2019'!I30+'SNA 05-2019'!I30+'SNA 06-2019'!I30+'SNA 07-2019'!I30+'SNA 08-2019'!I30+'SNA 09-2019'!I30+'SNA 10-2019'!I30+'SNA 11-2019'!I30+'SNA 12-2019'!I30 -> 0
A31: ENGAGEMENT BANCAIRE | B31: =SUM(B32:B54) -> -5342.07 | C31: =SUM(C32:C54) -> -2617191.6 | D31: =SUM(D32:D54) -> 0 | E31: =SUM(B31:D31) -> -2622533.7 | G31: =SUM(G32:G54) -> 0 | I31: =SUM(I32:I54) -> 0
A32: CMT 1000 | B32: ='SNA 01-2019'!B32+'SNA 02-2019'!B32+'SNA 03-2019'!B32+'SNA 04-2019'!B32+'SNA 05-2019'!B32+'SNA 06-2019'!B32+'SNA 07-2019'!B32+'SNA 08-2019'!B32+'SNA 09-2019'!B32+'SNA 10-2019'!B32+'SNA 11-2019'!B32+'SNA 12-2019'!B32 -> 0 | C32: ='SNA 01-2019'!C32+'SNA 02-2019'!C32+'SNA 03-2019'!C32+'SNA 04-2019'!C32+'SNA 05-2019'!C32+'SNA 06-2019'!C32+'SNA 07-2019'!C32+'SNA 08-2019'!C32+'SNA 09-2019'!C32+'SNA 10-2019'!C32+'SNA 11-2019'!C32+'SNA 12-2019'!C32 -> -166666.67 | D32: ='SNA 01-2019'!D32+'SNA 02-2019'!D32+'SNA 03-2019'!D32+'SNA 04-2019'!D32+'SNA 05-2019'!D32+'SNA 06-2019'!D32+'SNA 07-2019'!D32+'SNA 08-2019'!D32+'SNA 09-2019'!D32+'SNA 10-2019'!D32+'SNA 11-2019'!D32+'SNA 12-2019'!D32 -> 0 | E32: =SUM(B32:D32) -> -166666.67 | G32: ='SNA 01-2019'!G32+'SNA 02-2019'!G32+'SNA 03-2019'!G32+'SNA 04-2019'!G32+'SNA 05-2019'!G32+'SNA 06-2019'!G32+'SNA 07-2019'!G32+'SNA 08-2019'!G32+'SNA 09-2019'!G32+'SNA 10-2019'!G32+'SNA 11-2019'!G32+'SNA 12-2019'!G32 -> 0 | I32: ='SNA 01-2019'!I32+'SNA 02-2019'!I32+'SNA 03-2019'!I32+'SNA 04-2019'!I32+'SNA 05-2019'!I32+'SNA 06-2019'!I32+'SNA 07-2019'!I32+'SNA 08-2019'!I32+'SNA 09-2019'!I32+'SNA 10-2019'!I32+'SNA 11-2019'!I32+'SNA 12-2019'!I32 -> 0
A33: CMT 1000 1 | B33: ='SNA 01-2019'!B33+'SNA 02-2019'!B33+'SNA 03-2019'!B33+'SNA 04-2019'!B33+'SNA 05-2019'!B33+'SNA 06-2019'!B33+'SNA 07-2019'!B33+'SNA 08-2019'!B33+'SNA 09-2019'!B33+'SNA 10-2019'!B33+'SNA 11-2019'!B33+'SNA 12-2019'!B33 -> 0 | C33: ='SNA 01-2019'!C33+'SNA 02-2019'!C33+'SNA 03-2019'!C33+'SNA 04-2019'!C33+'SNA 05-2019'!C33+'SNA 06-2019'!C33+'SNA 07-2019'!C33+'SNA 08-2019'!C33+'SNA 09-2019'!C33+'SNA 10-2019'!C33+'SNA 11-2019'!C33+'SNA 12-2019'!C33 -> 0 | D33: ='SNA 01-2019'!D33+'SNA 02-2019'!D33+'SNA 03-2019'!D33+'SNA 04-2019'!D33+'SNA 05-2019'!D33+'SNA 06-2019'!D33+'SNA 07-2019'!D33+'SNA 08-2019'!D33+'SNA 09-2019'!D33+'SNA 10-2019'!D33+'SNA 11-2019'!D33+'SNA 12-2019'!D33 -> 0 | E33: =SUM(B33:D33) -> 0 | G33: ='SNA 01-2019'!G33+'SNA 02-2019'!G33+'SNA 03-2019'!G33+'SNA 04-2019'!G33+'SNA 05-2019'!G33+'SNA 06-2019'!G33+'SNA 07-2019'!G33+'SNA 08-2019'!G33+'SNA 09-2019'!G33+'SNA 10-2019'!G33+'SNA 11-2019'!G33+'SNA 12-2019'!G33 -> 0 | I33: ='SNA 01-2019'!I33+'SNA 02-2019'!I33+'SNA 03-2019'!I33+'SNA 04-2019'!I33+'SNA 05-2019'!I33+'SNA 06-2019'!I33+'SNA 07-2019'!I33+'SNA 08-2019'!I33+'SNA 09-2019'!I33+'SNA 10-2019'!I33+'SNA 11-2019'!I33+'SNA 12-2019'!I33 -> 0
