Workbook

Sheet STA 01-2018
B1: STB THAMEUR | C1: STB MEGRINE | F1: MEG EURO | H1: MEG $
A2: SOLDE 31/12/2017 | B2: 3067.875 | C2: -374382.37 | D2: =SUM(B2:C2) -> -371314.49 | F2: 176.05 | H2: 133976.7
A3: RECETTE | B3: =SUM(B4:B12) -> 30000 | C3: =SUM(C4:C12) -> 182003.94 | D3: =SUM(B3:C3) -> 212003.94 | F3: =SUM(F4:F12) -> 0 | H3: =SUM(H4:H12) -> 0
A4: SND CHEQUE | B4: 30000 | C4: 150000 | D4: =SUM(B4:C4) -> 180000
A5: SND TRAITE | D5: =SUM(B5:C5) -> 0
A6: INTERETESCOMPTE TRAITE | D6: =SUM(B6:C6) -> 0
A7: SCIT | D7: =SUM(B7:C7) -> 0
A8: ERRAFIK EL DAYEM | D8: =SUM(B8:C8) -> 0
A9: MARIBAT | D9: =SUM(B9:C9) -> 0
A10: MED ENERGY | D10: =SUM(B10:C10) -> 0
A11: ENERTECH | D11: =SUM(B11:C11) -> 0
A12: VIREMENT RECU | C12: 32003.941 | D12: =SUM(B12:C12) -> 32003.941
A13: AUTRES RECETTE | B13: =SUM(B14:B21) -> 0 | C13: =SUM(C14:C21) -> 0 | D13: =SUM(B13:C13) -> 0 | F13: =SUM(F14:F21) -> 0 | H13: =SUM(H14:H21) -> 0
A14: AUGMENTATION CAPITAL | D14: =SUM(B14:C14) -> 0
A15: DEBLOCAGE CMT | D15: =SUM(B15:C15) -> 0
A16: BLOCAGE | D16: =SUM(B16:C16) -> 0
A17: BILLET DE TRESORERIE | D17: =SUM(B17:C17) -> 0
A18: CCA | D18: =SUM(B18:C18) -> 0
A19: RESTITUTION TVA | D19: =SUM(B19:C19) -> 0
A20: VENTE DOLLARS | D20: =SUM(B20:C20) -> 0
A21: VENTE EURO | D21: =SUM(B21:C21) -> 0
A22: ENGAGEMENT BANCAIRE | B22: =SUM(B23:B26) -> -6106.483 | C22: =SUM(C23:C26) -> 705480.99 | D22: =SUM(B22:C22) -> 699374.51 | F22: =SUM(F23:F26) -> 0 | H22: =SUM(H23:H26) -> 0
A23: CMT MOBILISABLE | C23: -44936.051 | D23: =SUM(B23:C23) -> -44936.051
A24: CREDIT DE GESTION | C24: 760000 | D24: =SUM(B24:C24) -> 760000
A25: INTERET CREDIT DE GESTION | C25: -9582.958 | D25: =SUM(B25:C25) -> -9582.958
A26: LEASING | B26: -6106.483 | D26: =SUM(B26:C26) -> -6106.483
A27: FRAIS BANQUE | B27: =SUM(B28:B64) -> -19354.933 | C27: =SUM(C28:C64) -> -2189.75 | D27: =SUM(B27:C27) -> -21544.683 | F27: =SUM(F28:F64) -> 0 | H27: =SUM(H28:H64) -> 0
A28: AFFRANCHISSEMENT | D28: =SUM(B28:C28) -> 0
A29: AGIOS DEBITEURS | B29: -19352.077 | D29: =SUM(B29:C29) -> -19352.077
A30: COMMISION OBLIGATION | D30: =SUM(B30:C30) -> 0
A31: COMMISSION / VERS CHQ | C31: -2.43 | D31: =SUM(B31:C31) -> -2.43
A32: COMMISSION ADMISSION TEMPORAIRE | C32: -848.055 | D32: =SUM(B32:C32) -> -848.055
A33: COMMISSION CAUTION DEF | C33: -402.9 | D33: =SUM(B33:C33) -> -402.9
A34: COMMISSION CHQ CERTIFIE | D34: =SUM(B34:C34) -> 0
A35: COMMISSION D'ADHESION | C35: -53.55 | D35: =SUM(B35:C35) -> -53.55
A36: COMMISSION DE CHANGE | D36: =SUM(B36:C36) -> 0
A37: COMMISSION DE DOMICILIATION | D37: =SUM(B37:C37) -> 0
A38: COMMISSION DE MODIFICATION | D38: =SUM(B38:C38) -> 0
A39: COMMISSION DE NOTIFICATION | D39: =SUM(B39:C39) -> 0
A40: COMMISSION DE REALISATION L/C IMP | D40: =SUM(B40:C40) -> 0
...

Sheet STA 02-2018
B1: STB THAMEUR | C1: STB MEGRINE | F1: MEG EURO | H1: MEG $
A2: SOLDE 31/01/2018 | B2: ='STA 01-2018'!B279 -> 3998.659 | C2: ='STA 01-2018'!C279 -> 199998.82 | D2: =SUM(B2:C2) -> 203997.47 | F2: ='STA 01-2018'!F279 -> 176.05 | H2: ='STA 01-2018'!H279 -> 4219.97
A3: RECETTE | B3: =SUM(B4:B12) -> 0 | C3: =SUM(C4:C12) -> 185000 | D3: =SUM(B3:C3) -> 185000 | F3: =SUM(F4:F12) -> 0 | H3: =SUM(H4:H12) -> 0
A4: SND CHEQUE | C4: 185000 | D4: =SUM(B4:C4) -> 185000
A5: SND TRAITE | D5: =SUM(B5:C5) -> 0
A6: INTERETESCOMPTE TRAITE | D6: =SUM(B6:C6) -> 0
A7: SCIT | D7: =SUM(B7:C7) -> 0
A8: ERRAFIK EL DAYEM | D8: =SUM(B8:C8) -> 0
A9: MARIBAT | D9: =SUM(B9:C9) -> 0
A10: MED ENERGY | D10: =SUM(B10:C10) -> 0
A11: ENERTECH | D11: =SUM(B11:C11) -> 0
A12: VIREMENT RECU | D12: =SUM(B12:C12) -> 0
A13: AUTRES RECETTE | B13: =SUM(B14:B21) -> 0 | C13: =SUM(C14:C21) -> 7668.814 | D13: =SUM(B13:C13) -> 7668.814 | F13: =SUM(F14:F21) -> 0 | H13: =SUM(H14:H21) -> 0
A14: AUGMENTATION CAPITAL | D14: =SUM(B14:C14) -> 0
A15: DEBLOCAGE CMT | D15: =SUM(B15:C15) -> 0
A16: MARGE DE GARANTIE | D16: =SUM(B16:C16) -> 0
A17: BILLET DE TRESORERIE | D17: =SUM(B17:C17) -> 0
A18: CCA | C18: 7668.814 | D18: =SUM(B18:C18) -> 7668.814
A19: RESTITUTION TVA | D19: =SUM(B19:C19) -> 0
A20: VENTE DOLLARS | D20: =SUM(B20:C20) -> 0
A21: VENTE EURO | D21: =SUM(B21:C21) -> 0
A22: ENGAGEMENT BANCAIRE | B22: =SUM(B23:B26) -> -6106.483 | C22: =SUM(C23:C26) -> -760000 | D22: =SUM(B22:C22) -> -766106.48 | F22: =SUM(F23:F26) -> 0 | H22: =SUM(H23:H26) -> 0
A23: CMT MOBILISABLE | D23: =SUM(B23:C23) -> 0
A24: CREDIT DE GESTION | C24: -760000 | D24: =SUM(B24:C24) -> -760000
A25: INTERET CREDIT DE GESTION | D25: =SUM(B25:C25) -> 0
A26: LEASING | B26: -6106.483 | D26: =SUM(B26:C26) -> -6106.483
A27: FRAIS BANQUE | B27: =SUM(B28:B64) -> -56.406 | C27: =SUM(C28:C64) -> -716.025 | D27: =SUM(B27:C27) -> -772.431 | F27: =SUM(F28:F64) -> 0 | H27: =SUM(H28:H64) -> 0
A28: AFFRANCHISSEMENT | D28: =SUM(B28:C28) -> 0
A29: AGIOS DEBITEURS | D29: =SUM(B29:C29) -> 0
A30: COMMISION OBLIGATION | D30: =SUM(B30:C30) -> 0
A31: COMMISSION / VERS CHQ | C31: -1.572 | D31: =SUM(B31:C31) -> -1.572
A32: COMMISSION ADMISSION TEMPORAIRE | C32: -440.659 | D32: =SUM(B32:C32) -> -440.659
A33: COMMISSION CAUTION DEF | C33: -202.3 | D33: =SUM(B33:C33) -> -202.3
A34: COMMISSION CHQ CERTIFIE | D34: =SUM(B34:C34) -> 0
A35: COMMISSION D'ADHESION | B35: -53.55 | D35: =SUM(B35:C35) -> -53.55
A36: COMMISSION DE CHANGE | D36: =SUM(B36:C36) -> 0
A37: COMMISSION DE DOMICILIATION | D37: =SUM(B37:C37) -> 0
A38: COMMISSION DE MODIFICATION | D38: =SUM(B38:C38) -> 0
A39: COMMISSION DE NOTIFICATION | D39: =SUM(B39:C39) -> 0
A40: COMMISSION DE REALISATION L/C IMP | D40: =SUM(B40:C40) -> 0
...

Sheet STA 03-2018
B1: STB THAMEUR | C1: STB MEGRINE | F1: MEG EURO | H1: MEG $
A2: SOLDE 28/02/2018 | B2: ='STA 02-2018'!B279 -> -5622.53 | C2: ='STA 02-2018'!C279 -> -671334.5 | D2: =SUM(B2:C2) -> -676957.03 | F2: ='STA 02-2018'!F279 -> 176.05 | H2: ='STA 02-2018'!H279 -> 4219.97
A3: RECETTE | B3: =SUM(B4:B12) -> 0 | C3: =SUM(C4:C12) -> 150000 | D3: =SUM(B3:C3) -> 150000 | F3: =SUM(F4:F12) -> 13950.45 | H3: =SUM(H4:H12) -> 0
A4: SND CHEQUE | C4: 150000 | D4: =SUM(B4:C4) -> 150000
A5: SND TRAITE | D5: =SUM(B5:C5) -> 0
A6: INTERETESCOMPTE TRAITE | D6: =SUM(B6:C6) -> 0
A7: SCIT | D7: =SUM(B7:C7) -> 0
A8: ERRAFIK EL DAYEM | D8: =SUM(B8:C8) -> 0
A9: MARIBAT | D9: =SUM(B9:C9) -> 0
A10: MED ENERGY | D10: =SUM(B10:C10) -> 0
A11: ENERTECH | D11: =SUM(B11:C11) -> 0 | F11: 13950.45
A12: VIREMENT RECU | D12: =SUM(B12:C12) -> 0
A13: AUTRES RECETTE | B13: =SUM(B14:B21) -> 0 | C13: =SUM(C14:C21) -> 0 | D13: =SUM(B13:C13) -> 0 | F13: =SUM(F14:F21) -> 0 | H13: =SUM(H14:H21) -> 0
A14: AUGMENTATION CAPITAL | D14: =SUM(B14:C14) -> 0
A15: DEBLOCAGE CMT | D15: =SUM(B15:C15) -> 0
A16: MARGE DE GARANTIE | D16: =SUM(B16:C16) -> 0
A17: BILLET DE TRESORERIE | D17: =SUM(B17:C17) -> 0
A18: CCA | D18: =SUM(B18:C18) -> 0
A19: RESTITUTION TVA | D19: =SUM(B19:C19) -> 0
A20: VENTE DOLLARS | D20: =SUM(B20:C20) -> 0
A21: VENTE EURO | D21: =SUM(B21:C21) -> 0
A22: ENGAGEMENT BANCAIRE | B22: =SUM(B23:B26) -> -6106.483 | C22: =SUM(C23:C26) -> 0 | D22: =SUM(B22:C22) -> -6106.483 | F22: =SUM(F23:F26) -> 0 | H22: =SUM(H23:H26) -> 0
A23: CMT MOBILISABLE | D23: =SUM(B23:C23) -> 0
A24: CREDIT DE GESTION | D24: =SUM(B24:C24) -> 0
A25: INTERET CREDIT DE GESTION | D25: =SUM(B25:C25) -> 0
A26: LEASING | B26: -6106.483 | D26: =SUM(B26:C26) -> -6106.483
A27: FRAIS BANQUE | B27: =SUM(B28:B64) -> -2.856 | C27: =SUM(C28:C64) -> -42.483 | D27: =SUM(B27:C27) -> -45.339 | F27: =SUM(F28:F64) -> 0 | H27: =SUM(H28:H64) -> 0
A28: AFFRANCHISSEMENT | D28: =SUM(B28:C28) -> 0
A29: AGIOS DEBITEURS | D29: =SUM(B29:C29) -> 0
A30: COMMISION OBLIGATION | D30: =SUM(B30:C30) -> 0
A31: COMMISSION / VERS CHQ | C31: -0.81 | D31: =SUM(B31:C31) -> -0.81
A32: COMMISSION ADMISSION TEMPORAIRE | D32: =SUM(B32:C32) -> 0
A33: COMMISSION CAUTION DEF | D33: =SUM(B33:C33) -> 0
A34: COMMISSION CHQ CERTIFIE | D34: =SUM(B34:C34) -> 0
A35: COMMISSION D'ADHESION | D35: =SUM(B35:C35) -> 0
A36: COMMISSION DE CHANGE | D36: =SUM(B36:C36) -> 0
A37: COMMISSION DE DOMICILIATION | C37: -12.5 | D37: =SUM(B37:C37) -> -12.5
A38: COMMISSION DE MODIFICATION | D38: =SUM(B38:C38) -> 0
A39: COMMISSION DE NOTIFICATION | D39: =SUM(B39:C39) -> 0
A40: COMMISSION DE REALISATION L/C IMP | D40: =SUM(B40:C40) -> 0
...

Sheet STA 04-2018
B1: STB THAMEUR | C1: STB MEGRINE | F1: MEG EURO | H1: MEG $
A2: SOLDE 31/03/2018 | B2: ='STA 03-2018'!B279 -> -17240.969 | C2: ='STA 03-2018'!C279 -> -734122.57 | D2: =SUM(B2:C2) -> -751363.54 | F2: ='STA 03-2018'!F279 -> 14126.5 | H2: ='STA 03-2018'!H279 -> 4219.97
A3: RECETTE | B3: =SUM(B4:B12) -> 40000 | C3: =SUM(C4:C12) -> 297549.19 | D3: =SUM(B3:C3) -> 337549.19 | F3: =SUM(F4:F12) -> 0 | H3: =SUM(H4:H12) -> 20607.68
A4: SND CHEQUE | B4: 40000 | C4: 150000 | D4: =SUM(B4:C4) -> 190000
A5: SND TRAITE | C5: 150000 | D5: =SUM(B5:C5) -> 150000
A6: INTERET ESCOMPTE TRAITE | C6: -2450.806 | D6: =SUM(B6:C6) -> -2450.806
A7: SCIT | D7: =SUM(B7:C7) -> 0
A8: ERRAFIK EL DAYEM | D8: =SUM(B8:C8) -> 0
A9: MARIBAT | D9: =SUM(B9:C9) -> 0 | H9: =10364.16+10243.52 -> 20607.68
A10: MED ENERGY | D10: =SUM(B10:C10) -> 0
A11: ENERTECH | D11: =SUM(B11:C11) -> 0
A12: VIREMENT RECU | D12: =SUM(B12:C12) -> 0
A13: AUTRES RECETTE | B13: =SUM(B14:B21) -> 0 | C13: =SUM(C14:C21) -> 0 | D13: =SUM(B13:C13) -> 0 | F13: =SUM(F14:F21) -> 0 | H13: =SUM(H14:H21) -> 0
A14: AUGMENTATION CAPITAL | D14: =SUM(B14:C14) -> 0
A15: DEBLOCAGE CMT | D15: =SUM(B15:C15) -> 0
A16: MARGE DE GARANTIE | D16: =SUM(B16:C16) -> 0
A17: BILLET DE TRESORERIE | D17: =SUM(B17:C17) -> 0
A18: CCA | D18: =SUM(B18:C18) -> 0
A19: RESTITUTION TVA | D19: =SUM(B19:C19) -> 0
A20: VENTE DOLLARS | D20: =SUM(B20:C20) -> 0
A21: VENTE EURO | D21: =SUM(B21:C21) -> 0
A22: ENGAGEMENT BANCAIRE | B22: =SUM(B23:B26) -> -6106.483 | C22: =SUM(C23:C26) -> -58789.251 | D22: =SUM(B22:C22) -> -64895.734 | F22: =SUM(F23:F26) -> 0 | H22: =SUM(H23:H26) -> 0
A23: CMT MOBILISABLE | C23: -43974.94 | D23: =SUM(B23:C23) -> -43974.94
A24: CREDIT DE GESTION | D24: =SUM(B24:C24) -> 0
A25: INTERET CREDIT DE GESTION | C25: -14814.311 | D25: =SUM(B25:C25) -> -14814.311
A26: LEASING | B26: -6106.483 | D26: =SUM(B26:C26) -> -6106.483
A27: FRAIS BANQUE | B27: =SUM(B28:B64) -> -16002.804 | C27: =SUM(C28:C64) -> -2368.456 | D27: =SUM(B27:C27) -> -18371.26 | F27: =SUM(F28:F64) -> 0 | H27: =SUM(H28:H64) -> 0
A28: AFFRANCHISSEMENT | D28: =SUM(B28:C28) -> 0
A29: AGIOS DEBITEURS | B29: -15999.948 | D29: =SUM(B29:C29) -> -15999.948
A30: COMMISION OBLIGATION | D30: =SUM(B30:C30) -> 0
A31: COMMISSION / VERS CHQ | D31: =SUM(B31:C31) -> 0
A32: COMMISSION ADMISSION TEMPORAIRE | C32: -881.318 | D32: =SUM(B32:C32) -> -881.318
A33: COMMISSION CAUTION DEF | C33: -404.6 | D33: =SUM(B33:C33) -> -404.6
A34: COMMISSION CHQ CERTIFIE | D34: =SUM(B34:C34) -> 0
A35: COMMISSION D'ADHESION | D35: =SUM(B35:C35) -> 0
A36: COMMISSION DE CHANGE | D36: =SUM(B36:C36) -> 0
A37: COMMISSION DE DOMICILIATION | D37: =SUM(B37:C37) -> 0
A38: COMMISSION DE MODIFICATION | D38: =SUM(B38:C38) -> 0
A39: COMMISSION DE NOTIFICATION | D39: =SUM(B39:C39) -> 0
A40: COMMISSION DE REALISATION L/C IMP | D40: =SUM(B40:C40) -> 0
...

Sheet STA 05-2018
B1: STB THAMEUR | C1: STB MEGRINE | F1: MEG EURO | H1: MEG $
A2: SOLDE 30/04/2018 | B2: ='STA 04-2018'!B279 -> -4286.356 | C2: ='STA 04-2018'!C279 -> -633463.03 | D2: =SUM(B2:C2) -> -637749.38 | F2: ='STA 04-2018'!F279 -> 21126.5 | H2: ='STA 04-2018'!H279 -> 20827.65
A3: RECETTE | B3: =SUM(B4:B12) -> 20000 | C3: =SUM(C4:C12) -> 200000 | D3: =SUM(B3:C3) -> 220000 | F3: =SUM(F4:F12) -> 0 | H3: =SUM(H4:H12) -> 0
A4: SND CHEQUE | B4: 20000 | C4: 200000 | D4: =SUM(B4:C4) -> 220000
A5: SND TRAITE | D5: =SUM(B5:C5) -> 0
A6: INTERETESCOMPTE TRAITE | D6: =SUM(B6:C6) -> 0
A7: SCIT | D7: =SUM(B7:C7) -> 0
A8: ERRAFIK EL DAYEM | D8: =SUM(B8:C8) -> 0
A9: MARIBAT | D9: =SUM(B9:C9) -> 0
A10: MED ENERGY | D10: =SUM(B10:C10) -> 0
A11: ENERTECH | D11: =SUM(B11:C11) -> 0
A12: VIREMENT RECU | D12: =SUM(B12:C12) -> 0
A13: AUTRES RECETTE | B13: =SUM(B14:B21) -> 0 | C13: =SUM(C14:C21) -> -252.156 | D13: =SUM(B13:C13) -> -252.156 | F13: =SUM(F14:F21) -> 0 | H13: =SUM(H14:H21) -> 0
A14: AUGMENTATION CAPITAL | D14: =SUM(B14:C14) -> 0
A15: DEBLOCAGE CMT | D15: =SUM(B15:C15) -> 0
A16: MARGE DE GARANTIE | C16: -252.156 | D16: =SUM(B16:C16) -> -252.156
A17: BILLET DE TRESORERIE | D17: =SUM(B17:C17) -> 0
A18: CCA | D18: =SUM(B18:C18) -> 0
A19: RESTITUTION TVA | D19: =SUM(B19:C19) -> 0
A20: VENTE DOLLARS | D20: =SUM(B20:C20) -> 0
A21: VENTE EURO | D21: =SUM(B21:C21) -> 0
A22: ENGAGEMENT BANCAIRE | B22: =SUM(B23:B26) -> -5220.095 | C22: =SUM(C23:C26) -> 0 | D22: =SUM(B22:C22) -> -5220.095 | F22: =SUM(F23:F26) -> 0 | H22: =SUM(H23:H26) -> 0
A23: CMT MOBILISABLE | D23: =SUM(B23:C23) -> 0
A24: CREDIT DE GESTION | D24: =SUM(B24:C24) -> 0
A25: INTERET CREDIT DE GESTION | D25: =SUM(B25:C25) -> 0
A26: LEASING | B26: -5220.095 | D26: =SUM(B26:C26) -> -5220.095
A27: FRAIS BANQUE | B27: =SUM(B28:B64) -> -2.142 | C27: =SUM(C28:C64) -> -853.827 | D27: =SUM(B27:C27) -> -855.969 | F27: =SUM(F28:F64) -> 0 | H27: =SUM(H28:H64) -> 0
A28: AFFRANCHISSEMENT | D28: =SUM(B28:C28) -> 0
A29: AGIOS DEBITEURS | D29: =SUM(B29:C29) -> 0
A30: COMMISION OBLIGATION | D30: =SUM(B30:C30) -> 0
A31: COMMISSION / VERS CHQ | C31: -2.43 | D31: =SUM(B31:C31) -> -2.43
A32: COMMISSION ADMISSION TEMPORAIRE | C32: -440.659 | D32: =SUM(B32:C32) -> -440.659
A33: COMMISSION CAUTION DEF | C33: -202.3 | D33: =SUM(B33:C33) -> -202.3
A34: COMMISSION CHQ CERTIFIE | C34: -3.57 | D34: =SUM(B34:C34) -> -3.57
A35: COMMISSION D'ADHESION | D35: =SUM(B35:C35) -> 0
A36: COMMISSION DE CHANGE | D36: =SUM(B36:C36) -> 0
A37: COMMISSION DE DOMICILIATION | D37: =SUM(B37:C37) -> 0
A38: COMMISSION DE MODIFICATION | D38: =SUM(B38:C38) -> 0
A39: COMMISSION DE NOTIFICATION | D39: =SUM(B39:C39) -> 0
A40: COMMISSION DE REALISATION L/C IMP | D40: =SUM(B40:C40) -> 0
...

Sheet STA 06-2018
B1: STB THAMEUR | C1: STB MEGRINE | F1: MEG EURO | H1: MEG $
A2: SOLDE 31/05/2018 | B2: ='STA 05-2018'!B279 -> 3259.507 | C2: ='STA 05-2018'!C279 -> -619806.72 | D2: =SUM(B2:C2) -> -616547.21 | F2: ='STA 05-2018'!F279 -> 21126.5 | H2: ='STA 05-2018'!H279 -> 20827.65
A3: RECETTE | B3: =SUM(B4:B12) -> 15000 | C3: =SUM(C4:C12) -> 150000 | D3: =SUM(B3:C3) -> 165000 | F3: =SUM(F4:F12) -> 0 | H3: =SUM(H4:H12) -> 61492.5
A4: SND CHEQUE | B4: 15000 | C4: 150000 | D4: =SUM(B4:C4) -> 165000
A5: SND TRAITE | D5: =SUM(B5:C5) -> 0
A6: INTERETESCOMPTE TRAITE | D6: =SUM(B6:C6) -> 0
A7: SCIT | D7: =SUM(B7:C7) -> 0
A8: ERRAFIK EL DAYEM | D8: =SUM(B8:C8) -> 0
A9: MARIBAT | D9: =SUM(B9:C9) -> 0 | H9: 61492.5
A10: MED ENERGY | D10: =SUM(B10:C10) -> 0
A11: ENERTECH | D11: =SUM(B11:C11) -> 0
A12: VIREMENT RECU | D12: =SUM(B12:C12) -> 0
A13: AUTRES RECETTE | B13: =SUM(B14:B21) -> 0 | C13: =SUM(C14:C21) -> 0 | D13: =SUM(B13:C13) -> 0 | F13: =SUM(F14:F21) -> 0 | H13: =SUM(H14:H21) -> 0
A14: AUGMENTATION CAPITAL | D14: =SUM(B14:C14) -> 0
A15: DEBLOCAGE CMT | D15: =SUM(B15:C15) -> 0
A16: MARGE DE GARANTIE | D16: =SUM(B16:C16) -> 0
A17: BILLET DE TRESORERIE | D17: =SUM(B17:C17) -> 0
A18: CCA | D18: =SUM(B18:C18) -> 0
A19: RESTITUTION TVA | D19: =SUM(B19:C19) -> 0
A20: VENTE DOLLARS | D20: =SUM(B20:C20) -> 0
A21: VENTE EURO | D21: =SUM(B21:C21) -> 0
A22: ENGAGEMENT BANCAIRE | B22: =SUM(B23:B26) -> -5220.095 | C22: =SUM(C23:C26) -> 0 | D22: =SUM(B22:C22) -> -5220.095 | F22: =SUM(F23:F26) -> 0 | H22: =SUM(H23:H26) -> 0
A23: CMT MOBILISABLE | D23: =SUM(B23:C23) -> 0
A24: CREDIT DE GESTION | D24: =SUM(B24:C24) -> 0
A25: INTERET CREDIT DE GESTION | D25: =SUM(B25:C25) -> 0
A26: LEASING | B26: -5220.095 | D26: =SUM(B26:C26) -> -5220.095
A27: FRAIS BANQUE | B27: =SUM(B28:B64) -> -2.142 | C27: =SUM(C28:C64) -> -237.281 | D27: =SUM(B27:C27) -> -239.423 | F27: =SUM(F28:F64) -> 0 | H27: =SUM(H28:H64) -> 0
A28: AFFRANCHISSEMENT | D28: =SUM(B28:C28) -> 0
A29: AGIOS DEBITEURS | D29: =SUM(B29:C29) -> 0
A30: COMMISION OBLIGATION | D30: =SUM(B30:C30) -> 0
A31: COMMISSION / VERS CHQ | C31: -0.405 | D31: =SUM(B31:C31) -> -0.405
A32: COMMISSION ADMISSION TEMPORAIRE | D32: =SUM(B32:C32) -> 0
A33: COMMISSION CAUTION DEF | D33: =SUM(B33:C33) -> 0
A34: COMMISSION CHQ CERTIFIE | D34: =SUM(B34:C34) -> 0
A35: COMMISSION D'ADHESION | D35: =SUM(B35:C35) -> 0
A36: COMMISSION DE CHANGE | D36: =SUM(B36:C36) -> 0
A37: COMMISSION DE DOMICILIATION | D37: =SUM(B37:C37) -> 0
A38: COMMISSION DE MODIFICATION | D38: =SUM(B38:C38) -> 0
A39: COMMISSION DE NOTIFICATION | D39: =SUM(B39:C39) -> 0
A40: COMMISSION DE REALISATION L/C IMP | D40: =SUM(B40:C40) -> 0
...

Sheet STA 07-2018
B1: STB THAMEUR | C1: STB MEGRINE | F1: MEG EURO | H1: MEG $
A2: SOLDE 30/06/2018 | B2: ='STA 06-2018'!B279 -> 12078.27 | C2: ='STA 06-2018'!C279 -> -557795.39 | D2: =SUM(B2:C2) -> -545717.12 | F2: ='STA 06-2018'!F279 -> 21126.5 | H2: ='STA 06-2018'!H279 -> 82320.15
A3: RECETTE | B3: =SUM(B4:B12) -> 10000 | C3: =SUM(C4:C12) -> 147369.75 | D3: =SUM(B3:C3) -> 157369.75 | F3: =SUM(F4:F12) -> 0 | H3: =SUM(H4:H12) -> 0
A4: SND CHEQUE | B4: 10000 | D4: =SUM(B4:C4) -> 10000
A5: SND TRAITE | C5: 150000 | D5: =SUM(B5:C5) -> 150000
A6: INTERETESCOMPTE TRAITE | C6: -2630.25 | D6: =SUM(B6:C6) -> -2630.25
A7: SCIT | D7: =SUM(B7:C7) -> 0
A8: ERRAFIK EL DAYEM | D8: =SUM(B8:C8) -> 0
A9: MARIBAT | D9: =SUM(B9:C9) -> 0
A10: MED ENERGY | D10: =SUM(B10:C10) -> 0
A11: ENERTECH | D11: =SUM(B11:C11) -> 0
A12: VIREMENT RECU | D12: =SUM(B12:C12) -> 0
A13: AUTRES RECETTE | B13: =SUM(B14:B21) -> 0 | C13: =SUM(C14:C21) -> 252.156 | D13: =SUM(B13:C13) -> 252.156 | F13: =SUM(F14:F21) -> 0 | H13: =SUM(H14:H21) -> 0
A14: AUGMENTATION CAPITAL | D14: =SUM(B14:C14) -> 0
A15: DEBLOCAGE CMT | D15: =SUM(B15:C15) -> 0
A16: MARGE DE GARANTIE | C16: 252.156 | D16: =SUM(B16:C16) -> 252.156
A17: BILLET DE TRESORERIE | D17: =SUM(B17:C17) -> 0
A18: CCA | D18: =SUM(B18:C18) -> 0
A19: RESTITUTION TVA | D19: =SUM(B19:C19) -> 0
A20: VENTE DOLLARS | D20: =SUM(B20:C20) -> 0
A21: VENTE EURO | D21: =SUM(B21:C21) -> 0
A22: ENGAGEMENT BANCAIRE | B22: =SUM(B23:B26) -> -5220.095 | C22: =SUM(C23:C26) -> 0 | D22: =SUM(B22:C22) -> -5220.095 | F22: =SUM(F23:F26) -> 0 | H22: =SUM(H23:H26) -> 0
A23: CMT MOBILISABLE | D23: =SUM(B23:C23) -> 0
A24: CREDIT DE GESTION | D24: =SUM(B24:C24) -> 0
A25: INTERET CREDIT DE GESTION | D25: =SUM(B25:C25) -> 0
A26: LEASING | B26: -5220.095 | D26: =SUM(B26:C26) -> -5220.095
A27: FRAIS BANQUE | B27: =SUM(B28:B64) -> -17271.187 | C27: =SUM(C28:C64) -> -5309.472 | D27: =SUM(B27:C27) -> -22580.659 | F27: =SUM(F28:F64) -> 0 | H27: =SUM(H28:H64) -> 0
A28: AFFRANCHISSEMENT | C28: -2.5 | D28: =SUM(B28:C28) -> -2.5
A29: AGIOS DEBITEURS | B29: =-15719.777-1549.268 -> -17269.045 | D29: =SUM(B29:C29) -> -17269.045
A30: COMMISION OBLIGATION | C30: -91.964 | D30: =SUM(B30:C30) -> -91.964
A31: COMMISSION / VERS CHQ | C31: -2.096 | D31: =SUM(B31:C31) -> -2.096
A32: COMMISSION ADMISSION TEMPORAIRE | C32: -881.316 | D32: =SUM(B32:C32) -> -881.316
A33: COMMISSION CAUTION DEF | C33: -404.6 | D33: =SUM(B33:C33) -> -404.6
A34: COMMISSION CHQ CERTIFIE | C34: -5.95 | D34: =SUM(B34:C34) -> -5.95
A35: COMMISSION D'ADHESION | D35: =SUM(B35:C35) -> 0
A36: COMMISSION DE CHANGE | D36: =SUM(B36:C36) -> 0
A37: COMMISSION DE DOMICILIATION | C37: -4 | D37: =SUM(B37:C37) -> -4
A38: COMMISSION DE MODIFICATION | D38: =SUM(B38:C38) -> 0
A39: COMMISSION DE NOTIFICATION | D39: =SUM(B39:C39) -> 0
A40: COMMISSION DE REALISATION L/C IMP | D40: =SUM(B40:C40) -> 0
...

Sheet STA 08-2018
B1: STB THAMEUR | C1: STB MEGRINE | F1: MEG EURO | H1: MEG $
A2: SOLDE 31/07/2018 | B2: ='STA 07-2018'!B279 -> -1561.512 | C2: ='STA 07-2018'!C279 -> -582683.08 | D2: =SUM(B2:C2) -> -584244.6 | F2: ='STA 07-2018'!F279 -> 126.5 | H2: ='STA 07-2018'!H279 -> 1320.15
A3: RECETTE | B3: =SUM(B4:B12) -> 10000 | C3: =SUM(C4:C12) -> 100000 | D3: =SUM(B3:C3) -> 110000 | F3: =SUM(F4:F12) -> 0 | H3: =SUM(H4:H12) -> 95694.34
A4: SND CHEQUE | B4: 10000 | C4: 100000 | D4: =SUM(B4:C4) -> 110000
A5: SND TRAITE | D5: =SUM(B5:C5) -> 0
A6: INTERETESCOMPTE TRAITE | D6: =SUM(B6:C6) -> 0
A7: SCIT | D7: =SUM(B7:C7) -> 0
A8: ERRAFIK EL DAYEM | D8: =SUM(B8:C8) -> 0
A9: MARIBAT | D9: =SUM(B9:C9) -> 0 | H9: 95694.34
A10: MED ENERGY | D10: =SUM(B10:C10) -> 0
A11: ENERTECH | D11: =SUM(B11:C11) -> 0
A12: VIREMENT RECU | D12: =SUM(B12:C12) -> 0
A13: AUTRES RECETTE | B13: =SUM(B14:B21) -> 0 | C13: =SUM(C14:C21) -> -152381.25 | D13: =SUM(B13:C13) -> -152381.25 | F13: =SUM(F14:F21) -> 0 | H13: =SUM(H14:H21) -> 0
A14: AUGMENTATION CAPITAL | D14: =SUM(B14:C14) -> 0
A15: DEBLOCAGE CMT | D15: =SUM(B15:C15) -> 0
A16: MARGE DE GARANTIE | C16: -152381.25 | D16: =SUM(B16:C16) -> -152381.25
A17: BILLET DE TRESORERIE | D17: =SUM(B17:C17) -> 0
A18: CCA | D18: =SUM(B18:C18) -> 0
A19: RESTITUTION TVA | D19: =SUM(B19:C19) -> 0
A20: VENTE DOLLARS | D20: =SUM(B20:C20) -> 0
A21: VENTE EURO | D21: =SUM(B21:C21) -> 0
A22: ENGAGEMENT BANCAIRE | B22: =SUM(B23:B26) -> -5220.095 | C22: =SUM(C23:C26) -> 0 | D22: =SUM(B22:C22) -> -5220.095 | F22: =SUM(F23:F26) -> 0 | H22: =SUM(H23:H26) -> 0
A23: CMT MOBILISABLE | D23: =SUM(B23:C23) -> 0
A24: CREDIT DE GESTION | D24: =SUM(B24:C24) -> 0
A25: INTERET CREDIT DE GESTION | D25: =SUM(B25:C25) -> 0
A26: LEASING | B26: -5220.095 | D26: =SUM(B26:C26) -> -5220.095
A27: FRAIS BANQUE | B27: =SUM(B28:B64) -> -2.142 | C27: =SUM(C28:C64) -> -860.761 | D27: =SUM(B27:C27) -> -862.903 | F27: =SUM(F28:F64) -> 0 | H27: =SUM(H28:H64) -> 0
A28: AFFRANCHISSEMENT | D28: =SUM(B28:C28) -> 0
A29: AGIOS DEBITEURS | D29: =SUM(B29:C29) -> 0
A30: COMMISION OBLIGATION | C30: -114.035 | D30: =SUM(B30:C30) -> -114.035
A31: COMMISSION / VERS CHQ | C31: -2.286 | D31: =SUM(B31:C31) -> -2.286
A32: COMMISSION ADMISSION TEMPORAIRE | C32: -440.658 | D32: =SUM(B32:C32) -> -440.658
A33: COMMISSION CAUTION DEF | C33: -202.3 | D33: =SUM(B33:C33) -> -202.3
A34: COMMISSION CHQ CERTIFIE | D34: =SUM(B34:C34) -> 0
A35: COMMISSION D'ADHESION | D35: =SUM(B35:C35) -> 0
A36: COMMISSION DE CHANGE | D36: =SUM(B36:C36) -> 0
A37: COMMISSION DE DOMICILIATION | C37: -4 | D37: =SUM(B37:C37) -> -4
A38: COMMISSION DE MODIFICATION | D38: =SUM(B38:C38) -> 0
A39: COMMISSION DE NOTIFICATION | D39: =SUM(B39:C39) -> 0
A40: COMMISSION DE REALISATION L/C IMP | C40: -12 | D40: =SUM(B40:C40) -> -12
...

Sheet STA 09-2018
B1: STB THAMEUR | C1: STB MEGRINE | F1: MEG EURO | H1: MEG $
A2: SOLDE 31/08/2018 | B2: ='STA 08-2018'!B279 -> 1917.651 | C2: ='STA 08-2018'!C279 -> -777783.61 | D2: =SUM(B2:C2) -> -775865.96 | F2: ='STA 08-2018'!F279 -> 126.5 | H2: ='STA 08-2018'!H279 -> 97014.49
A3: RECETTE | B3: =SUM(B4:B12) -> 0 | C3: =SUM(C4:C12) -> 138322.92 | D3: =SUM(B3:C3) -> 138322.92 | F3: =SUM(F4:F12) -> 0 | H3: =SUM(H4:H12) -> 0
A4: SND CHEQUE | C4: 40000 | D4: =SUM(B4:C4) -> 40000
A5: SND TRAITE | C5: 100000 | D5: =SUM(B5:C5) -> 100000
A6: INTERETESCOMPTE TRAITE | C6: -1677.084 | D6: =SUM(B6:C6) -> -1677.084
A7: SCIT | D7: =SUM(B7:C7) -> 0
A8: ERRAFIK EL DAYEM | D8: =SUM(B8:C8) -> 0
A9: MARIBAT | D9: =SUM(B9:C9) -> 0
A10: MED ENERGY | D10: =SUM(B10:C10) -> 0
A11: ENERTECH | D11: =SUM(B11:C11) -> 0
A12: VIREMENT RECU | D12: =SUM(B12:C12) -> 0
A13: AUTRES RECETTE | B13: =SUM(B14:B21) -> 0 | C13: =SUM(C14:C21) -> 0 | D13: =SUM(B13:C13) -> 0 | F13: =SUM(F14:F21) -> 0 | H13: =SUM(H14:H21) -> 0
A14: AUGMENTATION CAPITAL | D14: =SUM(B14:C14) -> 0
A15: DEBLOCAGE CMT | D15: =SUM(B15:C15) -> 0
A16: MARGE DE GARANTIE | D16: =SUM(B16:C16) -> 0
A17: BILLET DE TRESORERIE | D17: =SUM(B17:C17) -> 0
A18: CCA | D18: =SUM(B18:C18) -> 0
A19: RESTITUTION TVA | D19: =SUM(B19:C19) -> 0
A20: VENTE DOLLARS | D20: =SUM(B20:C20) -> 0
A21: VENTE EURO | D21: =SUM(B21:C21) -> 0
A22: ENGAGEMENT BANCAIRE | B22: =SUM(B23:B26) -> -5220.095 | C22: =SUM(C23:C26) -> -200898.89 | D22: =SUM(B22:C22) -> -206118.98 | F22: =SUM(F23:F26) -> 0 | H22: =SUM(H23:H26) -> 0
A23: CMT MOBILISABLE | D23: =SUM(B23:C23) -> 0
A24: CREDIT DE GESTION | C24: -185000 | D24: =SUM(B24:C24) -> -185000
A25: INTERET CREDIT DE GESTION | C25: -15898.889 | D25: =SUM(B25:C25) -> -15898.889
A26: LEASING | B26: -5220.095 | D26: =SUM(B26:C26) -> -5220.095
A27: FRAIS BANQUE | B27: =SUM(B28:B64) -> -2.142 | C27: =SUM(C28:C64) -> -24313.019 | D27: =SUM(B27:C27) -> -24315.161 | F27: =SUM(F28:F64) -> 0 | H27: =SUM(H28:H64) -> 0
A28: AFFRANCHISSEMENT | D28: =SUM(B28:C28) -> 0
A29: AGIOS DEBITEURS | D29: =SUM(B29:C29) -> 0
A30: COMMISION OBLIGATION | D30: =SUM(B30:C30) -> 0
A31: COMMISSION / VERS CHQ | C31: -2.977 | D31: =SUM(B31:C31) -> -2.977
A32: COMMISSION ADMISSION TEMPORAIRE | D32: =SUM(B32:C32) -> 0
A33: COMMISSION CAUTION DEF | D33: =SUM(B33:C33) -> 0
A34: COMMISSION CHQ CERTIFIE | D34: =SUM(B34:C34) -> 0
A35: COMMISSION D'ADHESION | D35: =SUM(B35:C35) -> 0
A36: COMMISSION DE CHANGE | D36: =SUM(B36:C36) -> 0
A37: COMMISSION DE DOMICILIATION | D37: =SUM(B37:C37) -> 0
A38: COMMISSION DE MODIFICATION | D38: =SUM(B38:C38) -> 0
A39: COMMISSION DE NOTIFICATION | D39: =SUM(B39:C39) -> 0
A40: COMMISSION DE REALISATION L/C IMP | D40: =SUM(B40:C40) -> 0
...

Sheet STA 10-2018
B1: STB THAMEUR | C1: STB MEGRINE | F1: MEG EURO | H1: MEG $
A2: SOLDE 30/09/2017 | B2: ='STA 09-2018'!B279 -> -4401.786 | C2: ='STA 09-2018'!C279 -> -925079.14 | D2: =SUM(B2:C2) -> -929480.93 | F2: ='STA 09-2018'!F279 -> 126.5 | H2: ='STA 09-2018'!H279 -> 97014.49
A3: RECETTE | B3: =SUM(B4:B12) -> 40000 | C3: =SUM(C4:C12) -> 100150 | D3: =SUM(B3:C3) -> 140150 | F3: =SUM(F4:F12) -> 0 | H3: =SUM(H4:H12) -> 0
A4: SND CHEQUE | B4: 40000 | C4: 100000 | D4: =SUM(B4:C4) -> 140000
A5: SND TRAITE | D5: =SUM(B5:C5) -> 0
A6: INTERETESCOMPTE TRAITE | D6: =SUM(B6:C6) -> 0
A7: SCIT | D7: =SUM(B7:C7) -> 0
A8: ERRAFIK EL DAYEM | D8: =SUM(B8:C8) -> 0
A9: MARIBAT | D9: =SUM(B9:C9) -> 0
A10: MED ENERGY | D10: =SUM(B10:C10) -> 0
A11: ENERTECH | D11: =SUM(B11:C11) -> 0
A12: VIREMENT RECU | C12: 150 | D12: =SUM(B12:C12) -> 150
A13: AUTRES RECETTE | B13: =SUM(B14:B21) -> 0 | C13: =SUM(C14:C21) -> 152381.25 | D13: =SUM(B13:C13) -> 152381.25 | F13: =SUM(F14:F21) -> 0 | H13: =SUM(H14:H21) -> 0
A14: AUGMENTATION CAPITAL | D14: =SUM(B14:C14) -> 0
A15: DEBLOCAGE CMT | D15: =SUM(B15:C15) -> 0
A16: MARGE DE GARANTIE | C16: 152381.25 | D16: =SUM(B16:C16) -> 152381.25
A17: BILLET DE TRESORERIE | D17: =SUM(B17:C17) -> 0
A18: CCA | D18: =SUM(B18:C18) -> 0
A19: RESTITUTION TVA | D19: =SUM(B19:C19) -> 0
A20: VENTE DOLLARS | D20: =SUM(B20:C20) -> 0
A21: VENTE EURO | D21: =SUM(B21:C21) -> 0
A22: ENGAGEMENT BANCAIRE | B22: =SUM(B23:B26) -> -5220.095 | C22: =SUM(C23:C26) -> 0 | D22: =SUM(B22:C22) -> -5220.095 | F22: =SUM(F23:F26) -> 0 | H22: =SUM(H23:H26) -> 0
A23: CMT MOBILISABLE | D23: =SUM(B23:C23) -> 0
A24: CREDIT DE GESTION | D24: =SUM(B24:C24) -> 0
A25: INTERET CREDIT DE GESTION | D25: =SUM(B25:C25) -> 0
A26: LEASING | B26: -5220.095 | D26: =SUM(B26:C26) -> -5220.095
A27: FRAIS BANQUE | B27: =SUM(B28:B64) -> -22013.151 | C27: =SUM(C28:C64) -> -1532.083 | D27: =SUM(B27:C27) -> -23545.234 | F27: =SUM(F28:F64) -> 0 | H27: =SUM(H28:H64) -> 0
A28: AFFRANCHISSEMENT | D28: =SUM(B28:C28) -> 0
A29: AGIOS DEBITEURS | B29: =-20287.127-1723.525 -> -22010.652 | D29: =SUM(B29:C29) -> -22010.652
A30: COMMISION OBLIGATION | C30: -125.071 | D30: =SUM(B30:C30) -> -125.071
A31: COMMISSION / VERS CHQ | B31: -0.357 | C31: -1.572 | D31: =SUM(B31:C31) -> -1.929
A32: COMMISSION ADMISSION TEMPORAIRE | C32: -881.316 | D32: =SUM(B32:C32) -> -881.316
A33: COMMISSION CAUTION DEF | C33: -404.6 | D33: =SUM(B33:C33) -> -404.6
A34: COMMISSION CHQ CERTIFIE | C34: -5.95 | D34: =SUM(B34:C34) -> -5.95
A35: COMMISSION D'ADHESION | D35: =SUM(B35:C35) -> 0
A36: COMMISSION DE CHANGE | D36: =SUM(B36:C36) -> 0
A37: COMMISSION DE DOMICILIATION | D37: =SUM(B37:C37) -> 0
A38: COMMISSION DE MODIFICATION | D38: =SUM(B38:C38) -> 0
A39: COMMISSION DE NOTIFICATION | D39: =SUM(B39:C39) -> 0
A40: COMMISSION DE REALISATION L/C IMP | D40: =SUM(B40:C40) -> 0
...

Sheet STA 11-2018
B1: STB THAMEUR | C1: STB MEGRINE | F1: MEG EURO | H1: MEG $
A2: SOLDE 31/10/2018 | B2: ='STA 10-2018'!B279 -> 7599.668 | C2: ='STA 10-2018'!C279 -> -880474.31 | D2: =SUM(B2:C2) -> -872874.64 | F2: ='STA 10-2018'!F279 -> 126.5 | H2: ='STA 10-2018'!H279 -> 46275.68
A3: RECETTE | B3: =SUM(B4:B12) -> 0 | C3: =SUM(C4:C12) -> 0 | D3: =SUM(B3:C3) -> 0 | F3: =SUM(F4:F12) -> 0 | H3: =SUM(H4:H12) -> 0
A4: SND CHEQUE | D4: =SUM(B4:C4) -> 0
A5: SND TRAITE | D5: =SUM(B5:C5) -> 0
A6: INTERETESCOMPTE TRAITE | D6: =SUM(B6:C6) -> 0
A7: SCIT | D7: =SUM(B7:C7) -> 0
A8: ERRAFIK EL DAYEM | D8: =SUM(B8:C8) -> 0
A9: MARIBAT | D9: =SUM(B9:C9) -> 0
A10: MED ENERGY | D10: =SUM(B10:C10) -> 0
A11: ENERTECH | D11: =SUM(B11:C11) -> 0
A12: VIREMENT RECU | D12: =SUM(B12:C12) -> 0
A13: AUTRES RECETTE | B13: =SUM(B14:B21) -> 0 | C13: =SUM(C14:C21) -> 0 | D13: =SUM(B13:C13) -> 0 | F13: =SUM(F14:F21) -> 0 | H13: =SUM(H14:H21) -> 0
A14: AUGMENTATION CAPITAL | D14: =SUM(B14:C14) -> 0
A15: DEBLOCAGE CMT | D15: =SUM(B15:C15) -> 0
A16: MARGE DE GARANTIE | D16: =SUM(B16:C16) -> 0
A17: BILLET DE TRESORERIE | D17: =SUM(B17:C17) -> 0
A18: CCA | D18: =SUM(B18:C18) -> 0
A19: RESTITUTION TVA | D19: =SUM(B19:C19) -> 0
A20: VENTE DOLLARS | D20: =SUM(B20:C20) -> 0
A21: VENTE EURO | D21: =SUM(B21:C21) -> 0
A22: ENGAGEMENT BANCAIRE | B22: =SUM(B23:B26) -> -5220.095 | C22: =SUM(C23:C26) -> 0 | D22: =SUM(B22:C22) -> -5220.095 | F22: =SUM(F23:F26) -> 0 | H22: =SUM(H23:H26) -> 0
A23: CMT MOBILISABLE | D23: =SUM(B23:C23) -> 0
A24: CREDIT DE GESTION | D24: =SUM(B24:C24) -> 0
A25: INTERET CREDIT DE GESTION | D25: =SUM(B25:C25) -> 0
A26: LEASING | B26: -5220.095 | D26: =SUM(B26:C26) -> -5220.095
A27: FRAIS BANQUE | B27: =SUM(B28:B64) -> -1.428 | C27: =SUM(C28:C64) -> -1316.917 | D27: =SUM(B27:C27) -> -1318.345 | F27: =SUM(F28:F64) -> 0 | H27: =SUM(H28:H64) -> 0
A28: AFFRANCHISSEMENT | D28: =SUM(B28:C28) -> 0
A29: AGIOS DEBITEURS | D29: =SUM(B29:C29) -> 0
A30: COMMISION OBLIGATION | D30: =SUM(B30:C30) -> 0
A31: COMMISSION / VERS CHQ | C31: -1.048 | D31: =SUM(B31:C31) -> -1.048
A32: COMMISSION ADMISSION TEMPORAIRE | C32: -440.658 | D32: =SUM(B32:C32) -> -440.658
A33: COMMISSION CAUTION DEF | C33: -202.3 | D33: =SUM(B33:C33) -> -202.3
A34: COMMISSION CHQ CERTIFIE | D34: =SUM(B34:C34) -> 0
A35: COMMISSION D'ADHESION | D35: =SUM(B35:C35) -> 0
A36: COMMISSION DE CHANGE | D36: =SUM(B36:C36) -> 0
A37: COMMISSION DE DOMICILIATION | D37: =SUM(B37:C37) -> 0
A38: COMMISSION DE MODIFICATION | D38: =SUM(B38:C38) -> 0
A39: COMMISSION DE NOTIFICATION | D39: =SUM(B39:C39) -> 0
A40: COMMISSION DE REALISATION L/C IMP | D40: =SUM(B40:C40) -> 0
...

Sheet STA 12-2018
B1: STB THAMEUR | C1: STB MEGRINE | F1: MEG EURO | H1: MEG $
A2: SOLDE 30/11/2018 | B2: ='STA 11-2018'!B279 -> 2378.145 | C2: ='STA 11-2018'!C279 -> -1054599.6 | D2: =SUM(B2:C2) -> -1052221.4 | F2: ='STA 11-2018'!F279 -> 126.5 | H2: ='STA 11-2018'!H279 -> 48615.68
A3: RECETTE | B3: =SUM(B4:B12) -> 0 | C3: =SUM(C4:C12) -> 0 | D3: =SUM(B3:C3) -> 0 | F3: =SUM(F4:F12) -> 0 | H3: =SUM(H4:H12) -> 0
A4: SND CHEQUE | D4: =SUM(B4:C4) -> 0
A5: SND TRAITE | D5: =SUM(B5:C5) -> 0
A6: INTERETESCOMPTE TRAITE | D6: =SUM(B6:C6) -> 0
A7: SCIT | D7: =SUM(B7:C7) -> 0
A8: ERRAFIK EL DAYEM | D8: =SUM(B8:C8) -> 0
A9: MARIBAT | D9: =SUM(B9:C9) -> 0
A10: MED ENERGY | D10: =SUM(B10:C10) -> 0
A11: ENERTECH | D11: =SUM(B11:C11) -> 0
A12: VIREMENT RECU | D12: =SUM(B12:C12) -> 0
A13: AUTRES RECETTE | B13: =SUM(B14:B21) -> 0 | C13: =SUM(C14:C21) -> 0 | D13: =SUM(B13:C13) -> 0 | F13: =SUM(F14:F21) -> 0 | H13: =SUM(H14:H21) -> 0
A14: AUGMENTATION CAPITAL | D14: =SUM(B14:C14) -> 0
A15: DEBLOCAGE CMT | D15: =SUM(B15:C15) -> 0
A16: MARGE DE GARANTIE | D16: =SUM(B16:C16) -> 0
A17: BILLET DE TRESORERIE | D17: =SUM(B17:C17) -> 0
A18: CCA | D18: =SUM(B18:C18) -> 0
A19: RESTITUTION TVA | D19: =SUM(B19:C19) -> 0
A20: VENTE DOLLARS | D20: =SUM(B20:C20) -> 0
A21: VENTE EURO | D21: =SUM(B21:C21) -> 0
A22: ENGAGEMENT BANCAIRE | B22: =SUM(B23:B26) -> 0 | C22: =SUM(C23:C26) -> 0 | D22: =SUM(B22:C22) -> 0 | F22: =SUM(F23:F26) -> 0 | H22: =SUM(H23:H26) -> 0
A23: CMT MOBILISABLE | D23: =SUM(B23:C23) -> 0
A24: CREDIT DE GESTION | D24: =SUM(B24:C24) -> 0
A25: INTERET CREDIT DE GESTION | D25: =SUM(B25:C25) -> 0
A26: LEASING | D26: =SUM(B26:C26) -> 0
A27: FRAIS BANQUE | B27: =SUM(B28:B64) -> 0 | C27: =SUM(C28:C64) -> 0 | D27: =SUM(B27:C27) -> 0 | F27: =SUM(F28:F64) -> 0 | H27: =SUM(H28:H64) -> 0
A28: AFFRANCHISSEMENT | D28: =SUM(B28:C28) -> 0
A29: AGIOS DEBITEURS | D29: =SUM(B29:C29) -> 0
A30: COMMISION OBLIGATION | D30: =SUM(B30:C30) -> 0
A31: COMMISSION / VERS CHQ | D31: =SUM(B31:C31) -> 0
A32: COMMISSION ADMISSION TEMPORAIRE | D32: =SUM(B32:C32) -> 0
A33: COMMISSION CAUTION DEF | D33: =SUM(B33:C33) -> 0
A34: COMMISSION CHQ CERTIFIE | D34: =SUM(B34:C34) -> 0
A35: COMMISSION D'ADHESION | D35: =SUM(B35:C35) -> 0
A36: COMMISSION DE CHANGE | D36: =SUM(B36:C36) -> 0
A37: COMMISSION DE DOMICILIATION | D37: =SUM(B37:C37) -> 0
A38: COMMISSION DE MODIFICATION | D38: =SUM(B38:C38) -> 0
A39: COMMISSION DE NOTIFICATION | D39: =SUM(B39:C39) -> 0
... A64: TVA | D64: =SUM(B64:C64) -> 0
...

Sheet STA 2018
B1: STB THAMEUR | C1: STB MEGRINE | F1: MEG EURO | H1: MEG $
A2: SOLDE 31/12/2017 | B2: ='STA 01-2018'!B2 -> 3067.875 | C2: ='STA 01-2018'!C2 -> -374382.37 | D2: =SUM(B2:C2) -> -371314.49 | F2: ='STA 01-2018'!F2 -> 176.05 | H2: ='STA 01-2018'!H2 -> 133976.7
A3: RECETTE | B3: =SUM(B4:B12) -> 165000 | C3: =SUM(C4:C12) -> 1650395.8 | D3: =SUM(B3:C3) -> 1815395.8 | F3: =SUM(F4:F12) -> 13950.45 | H3: =SUM(H4:H12) -> 177794.52
A4: SND CHEQUE | B4: ='STA 01-2018'!B4+'STA 02-2018'!B4+'STA 03-2018'!B4+'STA 04-2018'!B4+'STA 05-2018'!B4+'STA 06-2018'!B4+'STA 07-2018'!B4+'STA 08-2018'!B4+'STA 09-2018'!B4+'STA 10-2018'!B4+'STA 11-2018'!B4+'STA 12-2018'!B4 -> 165000 | C4: ='STA 01-2018'!C4+'STA 02-2018'!C4+'STA 03-2018'!C4+'STA 04-2018'!C4+'STA 05-2018'!C4+'STA 06-2018'!C4+'STA 07-2018'!C4+'STA 08-2018'!C4+'STA 09-2018'!C4+'STA 10-2018'!C4+'STA 11-2018'!C4+'STA 12-2018'!C4 -> 1225000 | D4: =SUM(B4:C4) -> 1390000 | F4: ='STA 01-2018'!F4+'STA 02-2018'!F4+'STA 03-2018'!F4+'STA 04-2018'!F4+'STA 05-2018'!F4+'STA 06-2018'!F4+'STA 07-2018'!F4+'STA 08-2018'!F4+'STA 09-2018'!F4+'STA 10-2018'!F4+'STA 11-2018'!F4+'STA 12-2018'!F4 -> 0 | H4: ='STA 01-2018'!H4+'STA 02-2018'!H4+'STA 03-2018'!H4+'STA 04-2018'!H4+'STA 05-2018'!H4+'STA 06-2018'!H4+'STA 07-2018'!H4+'STA 08-2018'!H4+'STA 09-2018'!H4+'STA 10-2018'!H4+'STA 11-2018'!H4+'STA 12-2018'!H4 -> 0
A5: SND TRAITE | B5: ='STA 01-2018'!B5+'STA 02-2018'!B5+'STA 03-2018'!B5+'STA 04-2018'!B5+'STA 05-2018'!B5+'STA 06-2018'!B5+'STA 07-2018'!B5+'STA 08-2018'!B5+'STA 09-2018'!B5+'STA 10-2018'!B5+'STA 11-2018'!B5+'STA 12-2018'!B5 -> 0 | C5: ='STA 01-2018'!C5+'STA 02-2018'!C5+'STA 03-2018'!C5+'STA 04-2018'!C5+'STA 05-2018'!C5+'STA 06-2018'!C5+'STA 07-2018'!C5+'STA 08-2018'!C5+'STA 09-2018'!C5+'STA 10-2018'!C5+'STA 11-2018'!C5+'STA 12-2018'!C5 -> 400000 | D5: =SUM(B5:C5) -> 400000 | F5: ='STA 01-2018'!F5+'STA 02-2018'!F5+'STA 03-2018'!F5+'STA 04-2018'!F5+'STA 05-2018'!F5+'STA 06-2018'!F5+'STA 07-2018'!F5+'STA 08-2018'!F5+'STA 09-2018'!F5+'STA 10-2018'!F5+'STA 11-2018'!F5+'STA 12-2018'!F5 -> 0 | H5: ='STA 01-2018'!H5+'STA 02-2018'!H5+'STA 03-2018'!H5+'STA 04-2018'!H5+'STA 05-2018'!H5+'STA 06-2018'!H5+'STA 07-2018'!H5+'STA 08-2018'!H5+'STA 09-2018'!H5+'STA 10-2018'!H5+'STA 11-2018'!H5+'STA 12-2018'!H5 -> 0
A6: INTERET ESCOMPTE TRAITE | B6: ='STA 01-2018'!B6+'STA 02-2018'!B6+'STA 03-2018'!B6+'STA 04-2018'!B6+'STA 05-2018'!B6+'STA 06-2018'!B6+'STA 07-2018'!B6+'STA 08-2018'!B6+'STA 09-2018'!B6+'STA 10-2018'!B6+'STA 11-2018'!B6+'STA 12-2018'!B6 -> 0 | C6: ='STA 01-2018'!C6+'STA 02-2018'!C6+'STA 03-2018'!C6+'STA 04-2018'!C6+'STA 05-2018'!C6+'STA 06-2018'!C6+'STA 07-2018'!C6+'STA 08-2018'!C6+'STA 09-2018'!C6+'STA 10-2018'!C6+'STA 11-2018'!C6+'STA 12-2018'!C6 -> -6758.14 | D6: =SUM(B6:C6) -> -6758.14 | F6: ='STA 01-2018'!F6+'STA 02-2018'!F6+'STA 03-2018'!F6+'STA 04-2018'!F6+'STA 05-2018'!F6+'STA 06-2018'!F6+'STA 07-2018'!F6+'STA 08-2018'!F6+'STA 09-2018'!F6+'STA 10-2018'!F6+'STA 11-2018'!F6+'STA 12-2018'!F6 -> 0 | H6: ='STA 01-2018'!H6+'STA 02-2018'!H6+'STA 03-2018'!H6+'STA 04-2018'!H6+'STA 05-2018'!H6+'STA 06-2018'!H6+'STA 07-2018'!H6+'STA 08-2018'!H6+'STA 09-2018'!H6+'STA 10-2018'!H6+'STA 11-2018'!H6+'STA 12-2018'!H6 -> 0
A7: SCIT | B7: ='STA 01-2018'!B7+'STA 02-2018'!B7+'STA 03-2018'!B7+'STA 04-2018'!B7+'STA 05-2018'!B7+'STA 06-2018'!B7+'STA 07-2018'!B7+'STA 08-2018'!B7+'STA 09-2018'!B7+'STA 10-2018'!B7+'STA 11-2018'!B7+'STA 12-2018'!B7 -> 0 | C7: ='STA 01-2018'!C7+'STA 02-2018'!C7+'STA 03-2018'!C7+'STA 04-2018'!C7+'STA 05-2018'!C7+'STA 06-2018'!C7+'STA 07-2018'!C7+'STA 08-2018'!C7+'STA 09-2018'!C7+'STA 10-2018'!C7+'STA 11-2018'!C7+'STA 12-2018'!C7 -> 0 | D7: =SUM(B7:C7) -> 0 | F7: ='STA 01-2018'!F7+'STA 02-2018'!F7+'STA 03-2018'!F7+'STA 04-2018'!F7+'STA 05-2018'!F7+'STA 06-2018'!F7+'STA 07-2018'!F7+'STA 08-2018'!F7+'STA 09-2018'!F7+'STA 10-2018'!F7+'STA 11-2018'!F7+'STA 12-2018'!F7 -> 0 | H7: ='STA 01-2018'!H7+'STA 02-2018'!H7+'STA 03-2018'!H7+'STA 04-2018'!H7+'STA 05-2018'!H7+'STA 06-2018'!H7+'STA 07-2018'!H7+'STA 08-2018'!H7+'STA 09-2018'!H7+'STA 10-2018'!H7+'STA 11-2018'!H7+'STA 12-2018'!H7 -> 0
A8: ERRAFIK EL DAYEM | B8: ='STA 01-2018'!B8+'STA 02-2018'!B8+'STA 03-2018'!B8+'STA 04-2018'!B8+'STA 05-2018'!B8+'STA 06-2018'!B8+'STA 07-2018'!B8+'STA 08-2018'!B8+'STA 09-2018'!B8+'STA 10-2018'!B8+'STA 11-2018'!B8+'STA 12-2018'!B8 -> 0 | C8: ='STA 01-2018'!C8+'STA 02-2018'!C8+'STA 03-2018'!C8+'STA 04-2018'!C8+'STA 05-2018'!C8+'STA 06-2018'!C8+'STA 07-2018'!C8+'STA 08-2018'!C8+'STA 09-2018'!C8+'STA 10-2018'!C8+'STA 11-2018'!C8+'STA 12-2018'!C8 -> 0 | D8: =SUM(B8:C8) -> 0 | F8: ='STA 01-2018'!F8+'STA 02-2018'!F8+'STA 03-2018'!F8+'STA 04-2018'!F8+'STA 05-2018'!F8+'STA 06-2018'!F8+'STA 07-2018'!F8+'STA 08-2018'!F8+'STA 09-2018'!F8+'STA 10-2018'!F8+'STA 11-2018'!F8+'STA 12-2018'!F8 -> 0 | H8: ='STA 01-2018'!H8+'STA 02-2018'!H8+'STA 03-2018'!H8+'STA 04-2018'!H8+'STA 05-2018'!H8+'STA 06-2018'!H8+'STA 07-2018'!H8+'STA 08-2018'!H8+'STA 09-2018'!H8+'STA 10-2018'!H8+'STA 11-2018'!H8+'STA 12-2018'!H8 -> 0
A9: MARIBAT | B9: ='STA 01-2018'!B9+'STA 02-2018'!B9+'STA 03-2018'!B9+'STA 04-2018'!B9+'STA 05-2018'!B9+'STA 06-2018'!B9+'STA 07-2018'!B9+'STA 08-2018'!B9+'STA 09-2018'!B9+'STA 10-2018'!B9+'STA 11-2018'!B9+'STA 12-2018'!B9 -> 0 | C9: ='STA 01-2018'!C9+'STA 02-2018'!C9+'STA 03-2018'!C9+'STA 04-2018'!C9+'STA 05-2018'!C9+'STA 06-2018'!C9+'STA 07-2018'!C9+'STA 08-2018'!C9+'STA 09-2018'!C9+'STA 10-2018'!C9+'STA 11-2018'!C9+'STA 12-2018'!C9 -> 0 | D9: =SUM(B9:C9) -> 0 | F9: ='STA 01-2018'!F9+'STA 02-2018'!F9+'STA 03-2018'!F9+'STA 04-2018'!F9+'STA 05-2018'!F9+'STA 06-2018'!F9+'STA 07-2018'!F9+'STA 08-2018'!F9+'STA 09-2018'!F9+'STA 10-2018'!F9+'STA 11-2018'!F9+'STA 12-2018'!F9 -> 0 | H9: ='STA 01-2018'!H9+'STA 02-2018'!H9+'STA 03-2018'!H9+'STA 04-2018'!H9+'STA 05-2018'!H9+'STA 06-2018'!H9+'STA 07-2018'!H9+'STA 08-2018'!H9+'STA 09-2018'!H9+'STA 10-2018'!H9+'STA 11-2018'!H9+'STA 12-2018'!H9 -> 177794.52
A10: MED ENERGY | B10: ='STA 01-2018'!B10+'STA 02-2018'!B10+'STA 03-2018'!B10+'STA 04-2018'!B10+'STA 05-2018'!B10+'STA 06-2018'!B10+'STA 07-2018'!B10+'STA 08-2018'!B10+'STA 09-2018'!B10+'STA 10-2018'!B10+'STA 11-2018'!B10+'STA 12-2018'!B10 -> 0 | C10: ='STA 01-2018'!C10+'STA 02-2018'!C10+'STA 03-2018'!C10+'STA 04-2018'!C10+'STA 05-2018'!C10+'STA 06-2018'!C10+'STA 07-2018'!C10+'STA 08-2018'!C10+'STA 09-2018'!C10+'STA 10-2018'!C10+'STA 11-2018'!C10+'STA 12-2018'!C10 -> 0 | D10: =SUM(B10:C10) -> 0 | F10: ='STA 01-2018'!F10+'STA 02-2018'!F10+'STA 03-2018'!F10+'STA 04-2018'!F10+'STA 05-2018'!F10+'STA 06-2018'!F10+'STA 07-2018'!F10+'STA 08-2018'!F10+'STA 09-2018'!F10+'STA 10-2018'!F10+'STA 11-2018'!F10+'STA 12-2018'!F10 -> 0 | H10: ='STA 01-2018'!H10+'STA 02-2018'!H10+'STA 03-2018'!H10+'STA 04-2018'!H10+'STA 05-2018'!H10+'STA 06-2018'!H10+'STA 07-2018'!H10+'STA 08-2018'!H10+'STA 09-2018'!H10+'STA 10-2018'!H10+'STA 11-2018'!H10+'STA 12-2018'!H10 -> 0
A11: ENERTECH | B11: ='STA 01-2018'!B11+'STA 02-2018'!B11+'STA 03-2018'!B11+'STA 04-2018'!B11+'STA 05-2018'!B11+'STA 06-2018'!B11+'STA 07-2018'!B11+'STA 08-2018'!B11+'STA 09-2018'!B11+'STA 10-2018'!B11+'STA 11-2018'!B11+'STA 12-2018'!B11 -> 0 | C11: ='STA 01-2018'!C11+'STA 02-2018'!C11+'STA 03-2018'!C11+'STA 04-2018'!C11+'STA 05-2018'!C11+'STA 06-2018'!C11+'STA 07-2018'!C11+'STA 08-2018'!C11+'STA 09-2018'!C11+'STA 10-2018'!C11+'STA 11-2018'!C11+'STA 12-2018'!C11 -> 0 | D11: =SUM(B11:C11) -> 0 | F11: ='STA 01-2018'!F11+'STA 02-2018'!F11+'STA 03-2018'!F11+'STA 04-2018'!F11+'STA 05-2018'!F11+'STA 06-2018'!F11+'STA 07-2018'!F11+'STA 08-2018'!F11+'STA 09-2018'!F11+'STA 10-2018'!F11+'STA 11-2018'!F11+'STA 12-2018'!F11 -> 13950.45 | H11: ='STA 01-2018'!H11+'STA 02-2018'!H11+'STA 03-2018'!H11+'STA 04-2018'!H11+'STA 05-2018'!H11+'STA 06-2018'!H11+'STA 07-2018'!H11+'STA 08-2018'!H11+'STA 09-2018'!H11+'STA 10-2018'!H11+'STA 11-2018'!H11+'STA 12-2018'!H11 -> 0
A12: VIREMENT RECU | B12: ='STA 01-2018'!B12+'STA 02-2018'!B12+'STA 03-2018'!B12+'STA 04-2018'!B12+'STA 05-2018'!B12+'STA 06-2018'!B12+'STA 07-2018'!B12+'STA 08-2018'!B12+'STA 09-2018'!B12+'STA 10-2018'!B12+'STA 11-2018'!B12+'STA 12-2018'!B12 -> 0 | C12: ='STA 01-2018'!C12+'STA 02-2018'!C12+'STA 03-2018'!C12+'STA 04-2018'!C12+'STA 05-2018'!C12+'STA 06-2018'!C12+'STA 07-2018'!C12+'STA 08-2018'!C12+'STA 09-2018'!C12+'STA 10-2018'!C12+'STA 11-2018'!C12+'STA 12-2018'!C12 -> 32153.941 | D12: =SUM(B12:C12) -> 32153.941 | F12: ='STA 01-2018'!F12+'STA 02-2018'!F12+'STA 03-2018'!F12+'STA 04-2018'!F12+'STA 05-2018'!F12+'STA 06-2018'!F12+'STA 07-2018'!F12+'STA 08-2018'!F12+'STA 09-2018'!F12+'STA 10-2018'!F12+'STA 11-2018'!F12+'STA 12-2018'!F12 -> 0 | H12: ='STA 01-2018'!H12+'STA 02-2018'!H12+'STA 03-2018'!H12+'STA 04-2018'!H12+'STA 05-2018'!H12+'STA 06-2018'!H12+'STA 07-2018'!H12+'STA 08-2018'!H12+'STA 09-2018'!H12+'STA 10-2018'!H12+'STA 11-2018'!H12+'STA 12-2018'!H12 -> 0
A13: AUTRES RECETTE | B13: =SUM(B14:B21) -> 0 | C13: =SUM(C14:C21) -> 7668.814 | D13: =SUM(B13:C13) -> 7668.814 | F13: =SUM(F14:F21) -> 0 | H13: =SUM(H14:H21) -> 0
A14: AUGMENTATION CAPITAL | B14: ='STA 01-2018'!B14+'STA 02-2018'!B14+'STA 03-2018'!B14+'STA 04-2018'!B14+'STA 05-2018'!B14+'STA 06-2018'!B14+'STA 07-2018'!B14+'STA 08-2018'!B14+'STA 09-2018'!B14+'STA 10-2018'!B14+'STA 11-2018'!B14+'STA 12-2018'!B14 -> 0 | C14: ='STA 01-2018'!C14+'STA 02-2018'!C14+'STA 03-2018'!C14+'STA 04-2018'!C14+'STA 05-2018'!C14+'STA 06-2018'!C14+'STA 07-2018'!C14+'STA 08-2018'!C14+'STA 09-2018'!C14+'STA 10-2018'!C14+'STA 11-2018'!C14+'STA 12-2018'!C14 -> 0 | D14: =SUM(B14:C14) -> 0 | F14: ='STA 01-2018'!F14+'STA 02-2018'!F14+'STA 03-2018'!F14+'STA 04-2018'!F14+'STA 05-2018'!F14+'STA 06-2018'!F14+'STA 07-2018'!F14+'STA 08-2018'!F14+'STA 09-2018'!F14+'STA 10-2018'!F14+'STA 11-2018'!F14+'STA 12-2018'!F14 -> 0 | H14: ='STA 01-2018'!H14+'STA 02-2018'!H14+'STA 03-2018'!H14+'STA 04-2018'!H14+'STA 05-2018'!H14+'STA 06-2018'!H14+'STA 07-2018'!H14+'STA 08-2018'!H14+'STA 09-2018'!H14+'STA 10-2018'!H14+'STA 11-2018'!H14+'STA 12-2018'!H14 -> 0
A15: DEBLOCAGE CMT | B15: ='STA 01-2018'!B15+'STA 02-2018'!B15+'STA 03-2018'!B15+'STA 04-2018'!B15+'STA 05-2018'!B15+'STA 06-2018'!B15+'STA 07-2018'!B15+'STA 08-2018'!B15+'STA 09-2018'!B15+'STA 10-2018'!B15+'STA 11-2018'!B15+'STA 12-2018'!B15 -> 0 | C15: ='STA 01-2018'!C15+'STA 02-2018'!C15+'STA 03-2018'!C15+'STA 04-2018'!C15+'STA 05-2018'!C15+'STA 06-2018'!C15+'STA 07-2018'!C15+'STA 08-2018'!C15+'STA 09-2018'!C15+'STA 10-2018'!C15+'STA 11-2018'!C15+'STA 12-2018'!C15 -> 0 | D15: =SUM(B15:C15) -> 0 | F15: ='STA 01-2018'!F15+'STA 02-2018'!F15+'STA 03-2018'!F15+'STA 04-2018'!F15+'STA 05-2018'!F15+'STA 06-2018'!F15+'STA 07-2018'!F15+'STA 08-2018'!F15+'STA 09-2018'!F15+'STA 10-2018'!F15+'STA 11-2018'!F15+'STA 12-2018'!F15 -> 0 | H15: ='STA 01-2018'!H15+'STA 02-2018'!H15+'STA 03-2018'!H15+'STA 04-2018'!H15+'STA 05-2018'!H15+'STA 06-2018'!H15+'STA 07-2018'!H15+'STA 08-2018'!H15+'STA 09-2018'!H15+'STA 10-2018'!H15+'STA 11-2018'!H15+'STA 12-2018'!H15 -> 0
A16: MARGE DE GARANTIE | B16: ='STA 01-2018'!B16+'STA 02-2018'!B16+'STA 03-2018'!B16+'STA 04-2018'!B16+'STA 05-2018'!B16+'STA 06-2018'!B16+'STA 07-2018'!B16+'STA 08-2018'!B16+'STA 09-2018'!B16+'STA 10-2018'!B16+'STA 11-2018'!B16+'STA 12-2018'!B16 -> 0 | C16: ='STA 01-2018'!C16+'STA 02-2018'!C16+'STA 03-2018'!C16+'STA 04-2018'!C16+'STA 05-2018'!C16+'STA 06-2018'!C16+'STA 07-2018'!C16+'STA 08-2018'!C16+'STA 09-2018'!C16+'STA 10-2018'!C16+'STA 11-2018'!C16+'STA 12-2018'!C16 -> 0 | D16: =SUM(B16:C16) -> 0 | F16: ='STA 01-2018'!F16+'STA 02-2018'!F16+'STA 03-2018'!F16+'STA 04-2018'!F16+'STA 05-2018'!F16+'STA 06-2018'!F16+'STA 07-2018'!F16+'STA 08-2018'!F16+'STA 09-2018'!F16+'STA 10-2018'!F16+'STA 11-2018'!F16+'STA 12-2018'!F16 -> 0 | H16: ='STA 01-2018'!H16+'STA 02-2018'!H16+'STA 03-2018'!H16+'STA 04-2018'!H16+'STA 05-2018'!H16+'STA 06-2018'!H16+'STA 07-2018'!H16+'STA 08-2018'!H16+'STA 09-2018'!H16+'STA 10-2018'!H16+'STA 11-2018'!H16+'STA 12-2018'!H16 -> 0
A17: BILLET DE TRESORERIE | B17: ='STA 01-2018'!B17+'STA 02-2018'!B17+'STA 03-2018'!B17+'STA 04-2018'!B17+'STA 05-2018'!B17+'STA 06-2018'!B17+'STA 07-2018'!B17+'STA 08-2018'!B17+'STA 09-2018'!B17+'STA 10-2018'!B17+'STA 11-2018'!B17+'STA 12-2018'!B17 -> 0 | C17: ='STA 01-2018'!C17+'STA 02-2018'!C17+'STA 03-2018'!C17+'STA 04-2018'!C17+'STA 05-2018'!C17+'STA 06-2018'!C17+'STA 07-2018'!C17+'STA 08-2018'!C17+'STA 09-2018'!C17+'STA 10-2018'!C17+'STA 11-2018'!C17+'STA 12-2018'!C17 -> 0 | D17: =SUM(B17:C17) -> 0 | F17: ='STA 01-2018'!F17+'STA 02-2018'!F17+'STA 03-2018'!F17+'STA 04-2018'!F17+'STA 05-2018'!F17+'STA 06-2018'!F17+'STA 07-2018'!F17+'STA 08-2018'!F17+'STA 09-2018'!F17+'STA 10-2018'!F17+'STA 11-2018'!F17+'STA 12-2018'!F17 -> 0 | H17: ='STA 01-2018'!H17+'STA 02-2018'!H17+'STA 03-2018'!H17+'STA 04-2018'!H17+'STA 05-2018'!H17+'STA 06-2018'!H17+'STA 07-2018'!H17+'STA 08-2018'!H17+'STA 09-2018'!H17+'STA 10-2018'!H17+'STA 11-2018'!H17+'STA 12-2018'!H17 -> 0
A18: CCA | B18: ='STA 01-2018'!B18+'STA 02-2018'!B18+'STA 03-2018'!B18+'STA 04-2018'!B18+'STA 05-2018'!B18+'STA 06-2018'!B18+'STA 07-2018'!B18+'STA 08-2018'!B18+'STA 09-2018'!B18+'STA 10-2018'!B18+'STA 11-2018'!B18+'STA 12-2018'!B18 -> 0 | C18: ='STA 01-2018'!C18+'STA 02-2018'!C18+'STA 03-2018'!C18+'STA 04-2018'!C18+'STA 05-2018'!C18+'STA 06-2018'!C18+'STA 07-2018'!C18+'STA 08-2018'!C18+'STA 09-2018'!C18+'STA 10-2018'!C18+'STA 11-2018'!C18+'STA 12-2018'!C18 -> 7668.814 | D18: =SUM(B18:C18) -> 7668.814 | F18: ='STA 01-2018'!F18+'STA 02-2018'!F18+'STA 03-2018'!F18+'STA 04-2018'!F18+'STA 05-2018'!F18+'STA 06-2018'!F18+'STA 07-2018'!F18+'STA 08-2018'!F18+'STA 09-2018'!F18+'STA 10-2018'!F18+'STA 11-2018'!F18+'STA 12-2018'!F18 -> 0 | H18: ='STA 01-2018'!H18+'STA 02-2018'!H18+'STA 03-2018'!H18+'STA 04-2018'!H18+'STA 05-2018'!H18+'STA 06-2018'!H18+'STA 07-2018'!H18+'STA 08-2018'!H18+'STA 09-2018'!H18+'STA 10-2018'!H18+'STA 11-2018'!H18+'STA 12-2018'!H18 -> 0
A19: RESTITUTION TVA | B19: ='STA 01-2018'!B19+'STA 02-2018'!B19+'STA 03-2018'!B19+'STA 04-2018'!B19+'STA 05-2018'!B19+'STA 06-2018'!B19+'STA 07-2018'!B19+'STA 08-2018'!B19+'STA 09-2018'!B19+'STA 10-2018'!B19+'STA 11-2018'!B19+'STA 12-2018'!B19 -> 0 | C19: ='STA 01-2018'!C19+'STA 02-2018'!C19+'STA 03-2018'!C19+'STA 04-2018'!C19+'STA 05-2018'!C19+'STA 06-2018'!C19+'STA 07-2018'!C19+'STA 08-2018'!C19+'STA 09-2018'!C19+'STA 10-2018'!C19+'STA 11-2018'!C19+'STA 12-2018'!C19 -> 0 | D19: =SUM(B19:C19) -> 0 | F19: ='STA 01-2018'!F19+'STA 02-2018'!F19+'STA 03-2018'!F19+'STA 04-2018'!F19+'STA 05-2018'!F19+'STA 06-2018'!F19+'STA 07-2018'!F19+'STA 08-2018'!F19+'STA 09-2018'!F19+'STA 10-2018'!F19+'STA 11-2018'!F19+'STA 12-2018'!F19 -> 0 | H19: ='STA 01-2018'!H19+'STA 02-2018'!H19+'STA 03-2018'!H19+'STA 04-2018'!H19+'STA 05-2018'!H19+'STA 06-2018'!H19+'STA 07-2018'!H19+'STA 08-2018'!H19+'STA 09-2018'!H19+'STA 10-2018'!H19+'STA 11-2018'!H19+'STA 12-2018'!H19 -> 0
A20: VENTE DOLLARS | B20: ='STA 01-2018'!B20+'STA 02-2018'!B20+'STA 03-2018'!B20+'STA 04-2018'!B20+'STA 05-2018'!B20+'STA 06-2018'!B20+'STA 07-2018'!B20+'STA 08-2018'!B20+'STA 09-2018'!B20+'STA 10-2018'!B20+'STA 11-2018'!B20+'STA 12-2018'!B20 -> 0 | C20: ='STA 01-2018'!C20+'STA 02-2018'!C20+'STA 03-2018'!C20+'STA 04-2018'!C20+'STA 05-2018'!C20+'STA 06-2018'!C20+'STA 07-2018'!C20+'STA 08-2018'!C20+'STA 09-2018'!C20+'STA 10-2018'!C20+'STA 11-2018'!C20+'STA 12-2018'!C20 -> 0 | D20: =SUM(B20:C20) -> 0 | F20: ='STA 01-2018'!F20+'STA 02-2018'!F20+'STA 03-2018'!F20+'STA 04-2018'!F20+'STA 05-2018'!F20+'STA 06-2018'!F20+'STA 07-2018'!F20+'STA 08-2018'!F20+'STA 09-2018'!F20+'STA 10-2018'!F20+'STA 11-2018'!F20+'STA 12-2018'!F20 -> 0 | H20: ='STA 01-2018'!H20+'STA 02-2018'!H20+'STA 03-2018'!H20+'STA 04-2018'!H20+'STA 05-2018'!H20+'STA 06-2018'!H20+'STA 07-2018'!H20+'STA 08-2018'!H20+'STA 09-2018'!H20+'STA 10-2018'!H20+'STA 11-2018'!H20+'STA 12-2018'!H20 -> 0
A21: VENTE EURO | B21: ='STA 01-2018'!B21+'STA 02-2018'!B21+'STA 03-2018'!B21+'STA 04-2018'!B21+'STA 05-2018'!B21+'STA 06-2018'!B21+'STA 07-2018'!B21+'STA 08-2018'!B21+'STA 09-2018'!B21+'STA 10-2018'!B21+'STA 11-2018'!B21+'STA 12-2018'!B21 -> 0 | C21: ='STA 01-2018'!C21+'STA 02-2018'!C21+'STA 03-2018'!C21+'STA 04-2018'!C21+'STA 05-2018'!C21+'STA 06-2018'!C21+'STA 07-2018'!C21+'STA 08-2018'!C21+'STA 09-2018'!C21+'STA 10-2018'!C21+'STA 11-2018'!C21+'STA 12-2018'!C21 -> 0 | D21: =SUM(B21:C21) -> 0 | F21: ='STA 01-2018'!F21+'STA 02-2018'!F21+'STA 03-2018'!F21+'STA 04-2018'!F21+'STA 05-2018'!F21+'STA 06-2018'!F21+'STA 07-2018'!F21+'STA 08-2018'!F21+'STA 09-2018'!F21+'STA 10-2018'!F21+'STA 11-2018'!F21+'STA 12-2018'!F21 -> 0 | H21: ='STA 01-2018'!H21+'STA 02-2018'!H21+'STA 03-2018'!H21+'STA 04-2018'!H21+'STA 05-2018'!H21+'STA 06-2018'!H21+'STA 07-2018'!H21+'STA 08-2018'!H21+'STA 09-2018'!H21+'STA 10-2018'!H21+'STA 11-2018'!H21+'STA 12-2018'!H21 -> 0
A22: ENGAGEMENT BANCAIRE | B22: =SUM(B23:B26) -> -60966.597 | C22: =SUM(C23:C26) -> -314207.15 | D22: =SUM(B22:C22) -> -375173.75 | F22: =SUM(F23:F26) -> 0 | H22: =SUM(H23:H26) -> 0
A23: CMT MOBILISABLE | B23: ='STA 01-2018'!B23+'STA 02-2018'!B23+'STA 03-2018'!B23+'STA 04-2018'!B23+'STA 05-2018'!B23+'STA 06-2018'!B23+'STA 07-2018'!B23+'STA 08-2018'!B23+'STA 09-2018'!B23+'STA 10-2018'!B23+'STA 11-2018'!B23+'STA 12-2018'!B23 -> 0 | C23: ='STA 01-2018'!C23+'STA 02-2018'!C23+'STA 03-2018'!C23+'STA 04-2018'!C23+'STA 05-2018'!C23+'STA 06-2018'!C23+'STA 07-2018'!C23+'STA 08-2018'!C23+'STA 09-2018'!C23+'STA 10-2018'!C23+'STA 11-2018'!C23+'STA 12-2018'!C23 -> -88910.991 | D23: =SUM(B23:C23) -> -88910.991 | F23: ='STA 01-2018'!F23+'STA 02-2018'!F23+'STA 03-2018'!F23+'STA 04-2018'!F23+'STA 05-2018'!F23+'STA 06-2018'!F23+'STA 07-2018'!F23+'STA 08-2018'!F23+'STA 09-2018'!F23+'STA 10-2018'!F23+'STA 11-2018'!F23+'STA 12-2018'!F23 -> 0 | H23: ='STA 01-2018'!H23+'STA 02-2018'!H23+'STA 03-2018'!H23+'STA 04-2018'!H23+'STA 05-2018'!H23+'STA 06-2018'!H23+'STA 07-2018'!H23+'STA 08-2018'!H23+'STA 09-2018'!H23+'STA 10-2018'!H23+'STA 11-2018'!H23+'STA 12-2018'!H23 -> 0
A24: CREDIT DE GESTION | B24: ='STA 01-2018'!B24+'STA 02-2018'!B24+'STA 03-2018'!B24+'STA 04-2018'!B24+'STA 05-2018'!B24+'STA 06-2018'!B24+'STA 07-2018'!B24+'STA 08-2018'!B24+'STA 09-2018'!B24+'STA 10-2018'!B24+'STA 11-2018'!B24+'STA 12-2018'!B24 -> 0 | C24: ='STA 01-2018'!C24+'STA 02-2018'!C24+'STA 03-2018'!C24+'STA 04-2018'!C24+'STA 05-2018'!C24+'STA 06-2018'!C24+'STA 07-2018'!C24+'STA 08-2018'!C24+'STA 09-2018'!C24+'STA 10-2018'!C24+'STA 11-2018'!C24+'STA 12-2018'!C24 -> -185000 | D24: =SUM(B24:C24) -> -185000 | F24: ='STA 01-2018'!F24+'STA 02-2018'!F24+'STA 03-2018'!F24+'STA 04-2018'!F24+'STA 05-2018'!F24+'STA 06-2018'!F24+'STA 07-2018'!F24+'STA 08-2018'!F24+'STA 09-2018'!F24+'STA 10-2018'!F24+'STA 11-2018'!F24+'STA 12-2018'!F24 -> 0 | H24: ='STA 01-2018'!H24+'STA 02-2018'!H24+'STA 03-2018'!H24+'STA 04-2018'!H24+'STA 05-2018'!H24+'STA 06-2018'!H24+'STA 07-2018'!H24+'STA 08-2018'!H24+'STA 09-2018'!H24+'STA 10-2018'!H24+'STA 11-2018'!H24+'STA 12-2018'!H24 -> 0
A25: INTERET CREDIT DE GESTION | B25: ='STA 01-2018'!B25+'STA 02-2018'!B25+'STA 03-2018'!B25+'STA 04-2018'!B25+'STA 05-2018'!B25+'STA 06-2018'!B25+'STA 07-2018'!B25+'STA 08-2018'!B25+'STA 09-2018'!B25+'STA 10-2018'!B25+'STA 11-2018'!B25+'STA 12-2018'!B25 -> 0 | C25: ='STA 01-2018'!C25+'STA 02-2018'!C25+'STA 03-2018'!C25+'STA 04-2018'!C25+'STA 05-2018'!C25+'STA 06-2018'!C25+'STA 07-2018'!C25+'STA 08-2018'!C25+'STA 09-2018'!C25+'STA 10-2018'!C25+'STA 11-2018'!C25+'STA 12-2018'!C25 -> -40296.158 | D25: =SUM(B25:C25) -> -40296.158 | F25: ='STA 01-2018'!F25+'STA 02-2018'!F25+'STA 03-2018'!F25+'STA 04-2018'!F25+'STA 05-2018'!F25+'STA 06-2018'!F25+'STA 07-2018'!F25+'STA 08-2018'!F25+'STA 09-2018'!F25+'STA 10-2018'!F25+'STA 11-2018'!F25+'STA 12-2018'!F25 -> 0 | H25: ='STA 01-2018'!H25+'STA 02-2018'!H25+'STA 03-2018'!H25+'STA 04-2018'!H25+'STA 05-2018'!H25+'STA 06-2018'!H25+'STA 07-2018'!H25+'STA 08-2018'!H25+'STA 09-2018'!H25+'STA 10-2018'!H25+'STA 11-2018'!H25+'STA 12-2018'!H25 -> 0
A26: LEASING | B26: ='STA 01-2018'!B26+'STA 02-2018'!B26+'STA 03-2018'!B26+'STA 04-2018'!B26+'STA 05-2018'!B26+'STA 06-2018'!B26+'STA 07-2018'!B26+'STA 08-2018'!B26+'STA 09-2018'!B26+'STA 10-2018'!B26+'STA 11-2018'!B26+'STA 12-2018'!B26 -> -60966.597 | C26: ='STA 01-2018'!C26+'STA 02-2018'!C26+'STA 03-2018'!C26+'STA 04-2018'!C26+'STA 05-2018'!C26+'STA 06-2018'!C26+'STA 07-2018'!C26+'STA 08-2018'!C26+'STA 09-2018'!C26+'STA 10-2018'!C26+'STA 11-2018'!C26+'STA 12-2018'!C26 -> 0 | D26: =SUM(B26:C26) -> -60966.597 | F26: ='STA 01-2018'!F26+'STA 02-2018'!F26+'STA 03-2018'!F26+'STA 04-2018'!F26+'STA 05-2018'!F26+'STA 06-2018'!F26+'STA 07-2018'!F26+'STA 08-2018'!F26+'STA 09-2018'!F26+'STA 10-2018'!F26+'STA 11-2018'!F26+'STA 12-2018'!F26 -> 0 | H26: ='STA 01-2018'!H26+'STA 02-2018'!H26+'STA 03-2018'!H26+'STA 04-2018'!H26+'STA 05-2018'!H26+'STA 06-2018'!H26+'STA 07-2018'!H26+'STA 08-2018'!H26+'STA 09-2018'!H26+'STA 10-2018'!H26+'STA 11-2018'!H26+'STA 12-2018'!H26 -> 0
A27: FRAIS BANQUE | B27: =SUM(B28:B64) -> -74711.333 | C27: =SUM(C28:C64) -> -39740.074 | D27: =SUM(B27:C27) -> -114451.41 | F27: =SUM(F28:F64) -> 0 | H27: =SUM(H28:H64) -> 0
A28: AFFRANCHISSEMENT | B28: ='STA 01-2018'!B28+'STA 02-2018'!B28+'STA 03-2018'!B28+'STA 04-2018'!B28+'STA 05-2018'!B28+'STA 06-2018'!B28+'STA 07-2018'!B28+'STA 08-2018'!B28+'STA 09-2018'!B28+'STA 10-2018'!B28+'STA 11-2018'!B28+'STA 12-2018'!B28 -> 0 | C28: ='STA 01-2018'!C28+'STA 02-2018'!C28+'STA 03-2018'!C28+'STA 04-2018'!C28+'STA 05-2018'!C28+'STA 06-2018'!C28+'STA 07-2018'!C28+'STA 08-2018'!C28+'STA 09-2018'!C28+'STA 10-2018'!C28+'STA 11-2018'!C28+'STA 12-2018'!C28 -> -2.5 | D28: =SUM(B28:C28) -> -2.5 | F28: ='STA 01-2018'!F28+'STA 02-2018'!F28+'STA 03-2018'!F28+'STA 04-2018'!F28+'STA 05-2018'!F28+'STA 06-2018'!F28+'STA 07-2018'!F28+'STA 08-2018'!F28+'STA 09-2018'!F28+'STA 10-2018'!F28+'STA 11-2018'!F28+'STA 12-2018'!F28 -> 0 | H28: ='STA 01-2018'!H28+'STA 02-2018'!H28+'STA 03-2018'!H28+'STA 04-2018'!H28+'STA 05-2018'!H28+'STA 06-2018'!H28+'STA 07-2018'!H28+'STA 08-2018'!H28+'STA 09-2018'!H28+'STA 10-2018'!H28+'STA 11-2018'!H28+'STA 12-2018'!H28 -> 0
A29: AGIOS DEBITEURS | B29: ='STA 01-2018'!B29+'STA 02-2018'!B29+'STA 03-2018'!B29+'STA 04-2018'!B29+'STA 05-2018'!B29+'STA 06-2018'!B29+'STA 07-2018'!B29+'STA 08-2018'!B29+'STA 09-2018'!B29+'STA 10-2018'!B29+'STA 11-2018'!B29+'STA 12-2018'!B29 -> -74631.722 | C29: ='STA 01-2018'!C29+'STA 02-2018'!C29+'STA 03-2018'!C29+'STA 04-2018'!C29+'STA 05-2018'!C29+'STA 06-2018'!C29+'STA 07-2018'!C29+'STA 08-2018'!C29+'STA 09-2018'!C29+'STA 10-2018'!C29+'STA 11-2018'!C29+'STA 12-2018'!C29 -> 0 | D29: =SUM(B29:C29) -> -74631.722 | F29: ='STA 01-2018'!F29+'STA 02-2018'!F29+'STA 03-2018'!F29+'STA 04-2018'!F29+'STA 05-2018'!F29+'STA 06-2018'!F29+'STA 07-2018'!F29+'STA 08-2018'!F29+'STA 09-2018'!F29+'STA 10-2018'!F29+'STA 11-2018'!F29+'STA 12-2018'!F29 -> 0 | H29: ='STA 01-2018'!H29+'STA 02-2018'!H29+'STA 03-2018'!H29+'STA 04-2018'!H29+'STA 05-2018'!H29+'STA 06-2018'!H29+'STA 07-2018'!H29+'STA 08-2018'!H29+'STA 09-2018'!H29+'STA 10-2018'!H29+'STA 11-2018'!H29+'STA 12-2018'!H29 -> 0
A30: COMMISION OBLIGATION | B30: ='STA 01-2018'!B30+'STA 02-2018'!B30+'STA 03-2018'!B30+'STA 04-2018'!B30+'STA 05-2018'!B30+'STA 06-2018'!B30+'STA 07-2018'!B30+'STA 08-2018'!B30+'STA 09-2018'!B30+'STA 10-2018'!B30+'STA 11-2018'!B30+'STA 12-2018'!B30 -> 0 | C30: ='STA 01-2018'!C30+'STA 02-2018'!C30+'STA 03-2018'!C30+'STA 04-2018'!C30+'STA 05-2018'!C30+'STA 06-2018'!C30+'STA 07-2018'!C30+'STA 08-2018'!C30+'STA 09-2018'!C30+'STA 10-2018'!C30+'STA 11-2018'!C30+'STA 12-2018'!C30 -> -331.07 | D30: =SUM(B30:C30) -> -331.07 | F30: ='STA 01-2018'!F30+'STA 02-2018'!F30+'STA 03-2018'!F30+'STA 04-2018'!F30+'STA 05-2018'!F30+'STA 06-2018'!F30+'STA 07-2018'!F30+'STA 08-2018'!F30+'STA 09-2018'!F30+'STA 10-2018'!F30+'STA 11-2018'!F30+'STA 12-2018'!F30 -> 0 | H30: ='STA 01-2018'!H30+'STA 02-2018'!H30+'STA 03-2018'!H30+'STA 04-2018'!H30+'STA 05-2018'!H30+'STA 06-2018'!H30+'STA 07-2018'!H30+'STA 08-2018'!H30+'STA 09-2018'!H30+'STA 10-2018'!H30+'STA 11-2018'!H30+'STA 12-2018'!H30 -> 0
A31: COMMISSION / VERS CHQ | B31: ='STA 01-2018'!B31+'STA 02-2018'!B31+'STA 03-2018'!B31+'STA 04-2018'!B31+'STA 05-2018'!B31+'STA 06-2018'!B31+'STA 07-2018'!B31+'STA 08-2018'!B31+'STA 09-2018'!B31+'STA 10-2018'!B31+'STA 11-2018'!B31+'STA 12-2018'!B31 -> -0.357 | C31: ='STA 01-2018'!C31+'STA 02-2018'!C31+'STA 03-2018'!C31+'STA 04-2018'!C31+'STA 05-2018'!C31+'STA 06-2018'!C31+'STA 07-2018'!C31+'STA 08-2018'!C31+'STA 09-2018'!C31+'STA 10-2018'!C31+'STA 11-2018'!C31+'STA 12-2018'!C31 -> -17.626 | D31: =SUM(B31:C31) -> -17.983 | F31: ='STA 01-2018'!F31+'STA 02-2018'!F31+'STA 03-2018'!F31+'STA 04-2018'!F31+'STA 05-2018'!F31+'STA 06-2018'!F31+'STA 07-2018'!F31+'STA 08-2018'!F31+'STA 09-2018'!F31+'STA 10-2018'!F31+'STA 11-2018'!F31+'STA 12-2018'!F31 -> 0 | H31: ='STA 01-2018'!H31+'STA 02-2018'!H31+'STA 03-2018'!H31+'STA 04-2018'!H31+'STA 05-2018'!H31+'STA 06-2018'!H31+'STA 07-2018'!H31+'STA 08-2018'!H31+'STA 09-2018'!H31+'STA 10-2018'!H31+'STA 11-2018'!H31+'STA 12-2018'!H31 -> 0
A32: COMMISSION ADMISSION TEMPORAIRE | B32: ='STA 01-2018'!B32+'STA 02-2018'!B32+'STA 03-2018'!B32+'STA 04-2018'!B32+'STA 05-2018'!B32+'STA 06-2018'!B32+'STA 07-2018'!B32+'STA 08-2018'!B32+'STA 09-2018'!B32+'STA 10-2018'!B32+'STA 11-2018'!B32+'STA 12-2018'!B32 -> 0 | C32: ='STA 01-2018'!C32+'STA 02-2018'!C32+'STA 03-2018'!C32+'STA 04-2018'!C32+'STA 05-2018'!C32+'STA 06-2018'!C32+'STA 07-2018'!C32+'STA 08-2018'!C32+'STA 09-2018'!C32+'STA 10-2018'!C32+'STA 11-2018'!C32+'STA 12-2018'!C32 -> -5254.639 | D32: =SUM(B32:C32) -> -5254.639 | F32: ='STA 01-2018'!F32+'STA 02-2018'!F32+'STA 03-2018'!F32+'STA 04-2018'!F32+'STA 05-2018'!F32+'STA 06-2018'!F32+'STA 07-2018'!F32+'STA 08-2018'!F32+'STA 09-2018'!F32+'STA 10-2018'!F32+'STA 11-2018'!F32+'STA 12-2018'!F32 -> 0 | H32: ='STA 01-2018'!H32+'STA 02-2018'!H32+'STA 03-2018'!H32+'STA 04-2018'!H32+'STA 05-2018'!H32+'STA 06-2018'!H32+'STA 07-2018'!H32+'STA 08-2018'!H32+'STA 09-2018'!H32+'STA 10-2018'!H32+'STA 11-2018'!H32+'STA 12-2018'!H32 -> 0
A33: COMMISSION CAUTION DEF | B33: ='STA 01-2018'!B33+'STA 02-2018'!B33+'STA 03-2018'!B33+'STA 04-2018'!B33+'STA 05-2018'!B33+'STA 06-2018'!B33+'STA 07-2018'!B33+'STA 08-2018'!B33+'STA 09-2018'!B33+'STA 10-2018'!B33+'STA 11-2018'!B33+'STA 12-2018'!B33 -> 0 | C33: ='STA 01-2018'!C33+'STA 02-2018'!C33+'STA 03-2018'!C33+'STA 04-2018'!C33+'STA 05-2018'!C33+'STA 06-2018'!C33+'STA 07-2018'!C33+'STA 08-2018'!C33+'STA 09-2018'!C33+'STA 10-2018'!C33+'STA 11-2018'!C33+'STA 12-2018'!C33 -> -2425.9 | D33: =SUM(B33:C33) -> -2425.9 | F33: ='STA 01-2018'!F33+'STA 02-2018'!F33+'STA 03-2018'!F33+'STA 04-2018'!F33+'STA 05-2018'!F33+'STA 06-2018'!F33+'STA 07-2018'!F33+'STA 08-2018'!F33+'STA 09-2018'!F33+'STA 10-2018'!F33+'STA 11-2018'!F33+'STA 12-2018'!F33 -> 0 | H33: ='STA 01-2018'!H33+'STA 02-2018'!H33+'STA 03-2018'!H33+'STA 04-2018'!H33+'STA 05-2018'!H33+'STA 06-2018'!H33+'STA 07-2018'!H33+'STA 08-2018'!H33+'STA 09-2018'!H33+'STA 10-2018'!H33+'STA 11-2018'!H33+'STA 12-2018'!H33 -> 0
