Workbook

Sheet GROUP
K2: RPvsTP
B3: RPvsTP
B4: Weekly CashFlow Forecast | K4: Weekly CashFlow Forecast
C5: NOUR | D5: SND | E5: NBI | F5: TIP | G5: Total | L5: NOUR | M5: SND | N5: NBI | O5: TIP | P5: Total | U5: Credit Funds | V5: Ending Balance
B6: 01.Overdues.Incomes Operating Activities | C6: 2555.1878 | D6: 1145885.5 | G6: 1148440.6 | K6: 0 | L6: -464514.83 | M6: 1107965 | N6: -1590.2141 | O6: -917.43119 | P6: 640942.49
B7: 02.Overdues.Payments Operating Activities | C7: 372189.16 | D7: 37920.489 | E7: 1590.2141 | F7: 917.43119 | G7: 412617.29 | K7: Week 1
B8: 03.Overdues.Net Cash Flow Operating Activities | C8: -369633.97 | D8: 1107965 | E8: -1590.2141 | F8: -917.43119 | G8: 735823.35 | K8: 01.Incomes Operating Activities | L8: 8882.8594 | M8: 363305.27 | N8: 6119.0999 | P8: 378307.23
B9: 04.Overdues.Incomes Investing Activities | K9: 02.Payments Operating Activities | L9: -288207.43 | M9: -32988.438 | N9: -1548.652 | O9: -900.21957 | P9: -323644.74
B10: 05.Overdues.Payments Investing Activities (CAPEX) | K10: Materials | L10: -157141.89 | P10: -157141.89
B11: 06.Overdues.Net Cash Flow Investing Activities | K11: Other | L11: -8816.6667 | P11: -8816.6667
B12: 07.Overdues.Incomes Financing Activities (Loans, Factoring) | K12: Salaries and Social Securities | L12: -57349.112 | M12: -12923.683 | N12: -1548.652 | O12: -900.21957 | P12: -72721.667 | V12: =S12+T12+U12 -> 0
B13: 08.Overdues.Payments Financing Activities | C13: 94880.862 | G13: 94880.862 | K13: Services | L13: -3008.8144 | M13: -1053.7226 | P13: -4062.537
B14: 09.Overdues.Net Cash Flow Financing Activities | C14: -94880.862 | G14: -94880.862 | K14: Transport | L14: -5489.7869 | M14: -19011.032 | P14: -24500.819
B15: 10.Overdues.Available Funds | K15: Utilities
B16: 11.Overdues.Credit Funds | K16: Electricity | L16: -34088.201 | P16: -34088.201
B17: 12.Overdues Net Cash Flow | C17: -464514.83 | D17: 1107965 | E17: -1590.2141 | F17: -917.43119 | G17: 640942.49 | K17: Gas | L17: -22312.96 | P17: -22312.96
B18: 01.Week1.Incomes Operating Activities | C18: 8882.8594 | D18: 363305.27 | E18: 6119.0999 | G18: 378307.23 | K18: 07.Incomes Financing Activities (Loans, Factoring) | O18: 15427.549 | P18: 15427.549
B19: 02.Week1.Payments Operating Activities | C19: 288207.43 | D19: 32988.438 | E19: 1548.652 | F19: 900.21957 | G19: 323644.74 | K19: 08.Payments Financing Activities | L19: -15266.055 | P19: -15266.055 | V19: =S19+T19+U19 -> 0
B20: 03.Week1.Net Cash Flow Operating Activities | C20: -279324.57 | D20: 330316.83 | E20: 4570.4479 | F20: -900.21957 | G20: 54662.485 | K20: Total Week 1 | L20: -294590.63 | M20: 330316.83 | N20: 4570.4479 | O20: 14527.329 | P20: 54823.979
B21: 04.Week1.Incomes Investing Activities | K21: Week 2
B22: 05.Week1.Payments Investing Activities (CAPEX) | K22: 01.Incomes Operating Activities | M22: 7414.4185 | P22: 7414.4185
B23: 06.Week1.Net Cash Flow Investing Activities | K23: 02.Payments Operating Activities | L23: -196977.73 | M23: -13215.55 | P23: -210193.28
B24: 07.Week1.Incomes Financing Activities (Loans, Factoring) | F24: 15427.549 | G24: 15427.549 | K24: Materials | L24: -159894.52 | P24: -159894.52
B25: 08.Week1.Payments Financing Activities | C25: 15266.055 | G25: 15266.055 | K25: Other | L25: -3501.6838 | P25: -3501.6838
B26: 09.Week1.Net Cash Flow Financing Activities | C26: -15266.055 | F26: 15427.549 | G26: 161.49388 | K26: Services | L26: -28003.211 | M26: -13215.55 | P26: -41218.761 | V26: =S26+T26 -> 0
B27: 10.Week1.Available Funds | K27: Utilities
B28: 11.Week1.Credit Funds | K28: water | L28: -5578.318 | P28: -5578.318
B29: 12.Week1.Net Cash Flow | C29: -294590.63 | D29: 330316.83 | E29: 4570.4479 | F29: 14527.329 | G29: 54823.979 | K29: Total Week 2 | L29: -196977.73 | M29: -5801.1319 | P29: -202778.86
B30: 01.Week2.Incomes Operating Activities | D30: 7414.4185 | G30: 7414.4185 | K30: Week 3
B31: 02.Week2.Payments Operating Activities | C31: 196977.73 | D31: 13215.55 | G31: 210193.28 | K31: 01.Incomes Operating Activities | M31: 23799.111 | P31: 23799.111
B32: 03.Week2.Net Cash Flow Operating Activities | C32: -196977.73 | D32: -5801.1319 | G32: -202778.86 | K32: 02.Payments Operating Activities | L32: -90461.499 | P32: -90461.499 | V32: =S32+T32+U32 -> 0
B33: 04.Week2.Incomes Investing Activities | K33: Materials | L33: -87756.417 | P33: -87756.417
B34: 05.Week2.Payments Investing Activities (CAPEX) | K34: Other | L34: -2527.1043 | P34: -2527.1043
B35: 06.Week2.Net Cash Flow Investing Activities | K35: Services | L35: -177.97859 | P35: -177.97859
B36: 07.Week2.Incomes Financing Activities (Loans, Factoring) | K36: Total Week 3 | L36: -90461.499 | M36: 23799.111 | P36: -66662.388
B37: 08.Week2.Payments Financing Activities | K37: Week 4
B38: 09.Week2.Net Cash Flow Financing Activities | K38: 01.Incomes Operating Activities | L38: 2664.5203 | M38: 48782.964 | P38: 51447.485 | V38: =S38+T38+U38 -> 0
B39: 10.Week2.Available Funds | K39: 02.Payments Operating Activities | L39: -198762.04 | P39: -198762.04
B40: 11.Week2.Credit Funds | K40: Materials | L40: -135872.92 | P40: -135872.92
B41: 12.Week2.Net Cash Flow | C41: -491568.36 | D41: 324515.7 | E41: 4570.4479 | F41: 14527.329 | G41: -147954.88 | K41: Other | L41: -3256.0884 | P41: -3256.0884
...

Sheet All.Entities
B2: BU | C2: All
B3: RPvsTP | D3: W04 | E3: W05 | F3: W06 | G3: W07 | H3: W08 | I3: W09 | J3: W10 | K3: W11
C5: 0 | D5: Week 1 | E5: Week 2 | F5: Week 3 | G5: Week 4 | H5: Week 5 | I5: Week 6 | J5: Week 7 | K5: Week 8 | L5: Total
B6: 01.Incomes Operating Activities | C6: 1148440.6 | D6: 378307.23 | E6: 7414.4185 | F6: 23799.111 | G6: 51447.485 | H6: 144133.51 | I6: 16229.687 | J6: 81527.575 | K6: 18965.952 | L6: 1870265.6
B7: 02.Payments Operating Activities | C7: 412617.29 | D7: 323644.74 | E7: 210193.28 | F7: 90461.499 | G7: 198762.04 | H7: 395660.96 | I7: 80672.922 | J7: 139682.21 | K7: 137205.48 | L7: 1988900.4
B8: 03.Net Cash Flow Operating Activities | C8: 735823.35 | D8: 54662.485 | E8: -202778.86 | F8: -66662.388 | G8: -147314.55 | H8: -251527.45 | I8: -64443.235 | J8: -58154.637 | K8: -118239.53 | L8: -118634.82
B9: 04.Incomes Investing Activities
B10: 05.Payments Investing Activities (CAPEX) | G10: 14915.092 | K10: 14915.092 | L10: 29830.183
B11: 06.Net Cash Flow Investing Activities | G11: -14915.092 | K11: -14915.092 | L11: -29830.183
B12: 07.Incomes Financing Activities (Loans, Factoring) | D12: 15427.549 | L12: 15427.549
B13: 08.Payments Financing Activities | C13: 94880.862 | D13: 15266.055 | J13: 51987.768 | L13: 162134.68
B14: 09.Net Cash Flow Financing Activities | C14: -94880.862 | D14: 161.49388 | J14: -51987.768 | L14: -146707.14
B15: 10.Available Funds
B16: 11.Credit Funds
B17: 12.Week Net Cash Flow | C17: 640942.49 | D17: 54823.979 | E17: -202778.86 | F17: -66662.388 | G17: -162229.64 | H17: -251527.45 | I17: -64443.235 | J17: -110142.41 | K17: -133154.62 | L17: -295172.14
B19: Running Net Cash Flow | D19: =SUM($D$17:D17) -> 54823.979 | E19: =SUM($D$17:E17) -> -147954.88 | F19: =SUM($D$17:F17) -> -214617.27 | G19: =SUM($D$17:G17) -> -376846.91 | H19: =SUM($D$17:H17) -> -628374.36 | I19: =SUM($D$17:I17) -> -692817.6 | J19: =SUM($D$17:J17) -> -802960 | K19: =SUM($D$17:K17) -> -936114.63
B21: BU | C21: All
B22: RPvsTP | D22: W04 | E22: W05 | F22: W06 | G22: W07 | H22: W08 | I22: W09 | J22: W10 | K22: W11
B24: CF
C25: 0 | D25: Week 1 | E25: Week 2 | F25: Week 3 | G25: Week 4 | H25: Week 5 | I25: Week 6 | J25: Week 7 | K25: Week 8 | L25: Total
B26: 01.Incomes Operating Activities | C26: 1148440.6 | D26: 378307.23 | E26: 7414.4185 | F26: 23799.111 | G26: 51447.485 | H26: 144133.51 | I26: 16229.687 | J26: 81527.575 | K26: 18965.952 | L26: 1870265.6
B27: Other | D27: 6119.0999 | L27: 6119.0999
B28: Starter | C28: 1148440.6 | D28: 372188.13 | E28: 7414.4185 | F28: 23799.111 | G28: 51447.485 | H28: 144133.51 | I28: 16229.687 | J28: 81527.575 | K28: 18965.952 | L28: 1864146.5
B29: 02.Payments Operating Activities | C29: -412617.29 | D29: -323644.74 | E29: -210193.28 | F29: -90461.499 | G29: -198762.04 | H29: -395660.96 | I29: -80672.922 | J29: -139682.21 | K29: -137205.48 | L29: -1988900.4
B30: Other | C30: -9174.3119 | D30: -8816.6667 | E30: -3501.6838 | F30: -2527.1043 | G30: -3256.0884 | H30: -11596.353 | I30: -2216.7844 | J30: -2315.808 | K30: -3003.9529 | L30: -46408.753
B31: Materials | C31: -222525.55 | D31: -157141.89 | E31: -159894.52 | F31: -87756.417 | G31: -135872.92 | H31: -194428.88 | I31: -78456.138 | J31: -137217.02 | K31: -74568.502 | L31: -1247861.8
B32: Salaries and Social Securities | C32: -74373.089 | D32: -72721.667 | H32: -74373.089 | L32: -221467.84
B33: Services | C33: -25351.682 | D33: -4062.537 | E33: -41218.761 | F33: -177.97859 | H33: -31011.877 | J33: -149.38838 | L33: -101972.22
B34: Taxes | C34: -73394.495 | H34: -73394.495 | L34: -146788.99
B35: Transport | C35: -7798.1651 | D35: -24500.819 | H35: -10856.269 | L35: -43155.253
B36: Utilities | D36: -56401.161 | E36: -5578.318 | G36: -59633.028 | K36: -59633.028 | L36: -181245.53
B37: 05.Payments Investing Activities (CAPEX) | G37: -14915.092 | K37: -14915.092 | L37: -29830.183
B38: CAPEX | G38: -14915.092 | K38: -14915.092 | L38: -29830.183
B39: 08.Payments Financing Activities | C39: -94880.862 | D39: -15266.055 | J39: -51987.768 | L39: -162134.68
B40: Loans | C40: -94880.862 | D40: -15266.055 | J40: -51987.768 | L40: -162134.68
B41: 07.Incomes Financing Activities (Loans, Factoring) | D41: 15427.549 | L41: 15427.549
B42: Other | D42: 15427.549 | L42: 15427.549
B43: Total | C43: 640942.49 | D43: 54823.979 | E43: -202778.86 | F43: -66662.388 | G43: -162229.64 | H43: -251527.45 | I43: -64443.235 | J43: -110142.41 | K43: -133154.62 | L43: -295172.14

Sheet RESOURCE
D1: FX Rate
D2: EUR/ | E2: TND | F2: 3.23577
D3: EUR/ | E3: USD | F3: 1.11476
C4: Available Funds
C5: NOUR
C6: Bank 1 | D6: Orig.Currency | E6: EUR | F6: Blocked
C7: TND | D7: -2510946.1 | E7: =D7/F2 -> -775996.46
C8: USD | D8: 4.21 | E8: =D8/F3 -> 3.7765977
C9: EUR | D9: 499581.87 | E9: =D9 -> 499581.87
D10: TOTAL EUR | E10: =SUM(E7:E9) -> -276410.81
C11: Bank 1
C12: TND | D12: 181497.24 | E12: =D12/F2 -> 56090.896
C13: EUR | D13: 0 | E13: =D13 -> 0
D14: TOTAL EUR | E14: =SUM(E12:E13) -> 56090.896
C15: Bank 1
C16: TSD | D16: 4368.974 | E16: =D16/1.95583 -> 2233.8209
C17: EUR | D17: 0 | E17: =D17 -> 0
D18: TOTAL EUR | E18: =E16+E17 -> 2233.8209
C19: Bank 1
C20: TSD | D20: 0 | E20: =D20/1.95583 -> 0
C21: EUR | D21: 0 | E21: =D21 -> 0
D22: TOTAL EUR | E22: =E20+E21 -> 0
C23: Bank 1
C24: TSD | D24: 0 | E24: =D24/F2 -> 0
C25: EUR | D25: 0 | E25: =D25 -> 0
D26: TOTAL EUR | E26: =SUM(E24:E25) -> 0
C27: TIP
D28: Orig.Currency | E28: EUR | F28: Blocked
C29: TSD | D29: -3771.83 | E29: =D29/F2 -> -1165.6669
C30: EUR | D30: 0 | E30: =D30 -> 0
D31: TOTAL EUR | E31: =SUM(E29:E30) -> -1165.6669
C32: NBI
D33: Orig.Currency | E33: EUR | F33: Blocked
C34: TSD | D34: 465.449 | E34: =D34/F2 -> 143.8449
C35: EUR | D35: 14.02 | E35: =D35 -> 14.02
D36: TOTAL EUR | E36: =SUM(E34:E35) -> 157.8649
C37: SND
D38: Orig.Currency | E38: EUR | F38: Blocked
C39: TSD | D39: =-123791.629+936.826+184.305+11346.957+34773.345+16991.797+446.657 -> -59111.742 | E39: =D39/4.95 -> -11941.766
C40: EUR | D40: 0 | E40: =D40 -> 0
...

Sheet Incomes.All
K1: 44592
B2: Source.Name | C2: Контрагент | D2: Дата на падеж | E2: Валута | F2: Очакван или докуминтиран разход | G2: Сума във Валута | H2: В евро остатък за плащане | I2: BU | J2: TODAY | K2: Monday | L2: WEEK | M2: GROUP | N2: SUBGROUP | O2: TYPE | P2: RPvsTP | R2: 01.Incomes Operating Activities
B3: Income | C3: NOUR | D3: 44596 | E3: TND | F3: Documented | G3: =62400*0.8 -> 49920 | H3: =+ICF[[#This Row],[Сума във Валута]]/RESOURCE!$F$2 -> 15427.549 | I3: TIP | K3: =$K$1 -> 44592 | L3: =IF(ICF[[#This Row],[Дата на падеж]]<ICF[[#This Row],[Monday]]+7,1, IF(ICF[[#This Row],[Дата на падеж]]<ICF[[#This Row],[Monday]]+14,2, IF(ICF[[#This Row],[Дата на падеж]]<ICF[[#This Row],[Monday]]+21,3, IF(ICF[[#This Row],[Дата на падеж]]<ICF[[#This Row],[Monday]]+28,4, IF(ICF[[#This Row],[Дата на падеж]]<ICF[[#This Row],[Monday]]+35,5, IF(ICF[[#This Row],[Дата на падеж]]<ICF[[#This Row],[Monday]]+42,6, IF(ICF[[#This Row],[Дата на падеж]]<ICF[[#This Row],[Monday]]+49,7, IF(ICF[[#This Row],[Дата на падеж]]<ICF[[#This Row],[Monday]]+56,8,0)))))))) -> 1 | M3: Other | N3: Other | O3: 07.Incomes Financing Activities (Loans, Factoring) | R3: 07.Incomes Financing Activities (Loans, Factoring)
B4: Income | C4: NOUR | D4: 44596 | E4: TND | F4: Documented | G4: =20000*0.99 -> 19800 | H4: =+ICF[[#This Row],[Сума във Валута]]/RESOURCE!$F$2 -> 6119.0999 | I4: NBI | K4: =$K$1 -> 44592 | L4: =IF(ICF[[#This Row],[Дата на падеж]]<ICF[[#This Row],[Monday]]+7,1, IF(ICF[[#This Row],[Дата на падеж]]<ICF[[#This Row],[Monday]]+14,2, IF(ICF[[#This Row],[Дата на падеж]]<ICF[[#This Row],[Monday]]+21,3, IF(ICF[[#This Row],[Дата на падеж]]<ICF[[#This Row],[Monday]]+28,4, IF(ICF[[#This Row],[Дата на падеж]]<ICF[[#This Row],[Monday]]+35,5, IF(ICF[[#This Row],[Дата на падеж]]<ICF[[#This Row],[Monday]]+42,6, IF(ICF[[#This Row],[Дата на падеж]]<ICF[[#This Row],[Monday]]+49,7, IF(ICF[[#This Row],[Дата на падеж]]<ICF[[#This Row],[Monday]]+56,8,0)))))))) -> 1 | M4: Other | N4: Other | O4: 01.Incomes Operating Activities
B5: Income | C5: NOUR | D5: 44607 | E5: TND | F5: Documented | G5: 820000 | H5: =+ICF[[#This Row],[Сума във Валута]]/RESOURCE!$F$2 -> 253417.27 | I5: SNR | K5: =$K$1 -> 44592 | L5: =IF(ICF[[#This Row],[Дата на падеж]]<ICF[[#This Row],[Monday]]+7,1, IF(ICF[[#This Row],[Дата на падеж]]<ICF[[#This Row],[Monday]]+14,2, IF(ICF[[#This Row],[Дата на падеж]]<ICF[[#This Row],[Monday]]+21,3, IF(ICF[[#This Row],[Дата на падеж]]<ICF[[#This Row],[Monday]]+28,4, IF(ICF[[#This Row],[Дата на падеж]]<ICF[[#This Row],[Monday]]+35,5, IF(ICF[[#This Row],[Дата на падеж]]<ICF[[#This Row],[Monday]]+42,6, IF(ICF[[#This Row],[Дата на падеж]]<ICF[[#This Row],[Monday]]+49,7, IF(ICF[[#This Row],[Дата на падеж]]<ICF[[#This Row],[Monday]]+56,8,0)))))))) -> 3 | M5: Other | N5: CAPEX | O5: 08.Incomes Investing Activities | P5: RP
B6: Income | C6: ITUCY | D6: 44550 | E6: TND | F6: Documented | G6: 230.27 | H6: =+ICF[[#This Row],[Сума във Валута]]/RESOURCE!$F$2 -> 71.163896 | I6: SND | K6: =$K$1 -> 44592 | L6: =IF(ICF[[#This Row],[Дата на падеж]]<ICF[[#This Row],[Monday]]+7,1, IF(ICF[[#This Row],[Дата на падеж]]<ICF[[#This Row],[Monday]]+14,2, IF(ICF[[#This Row],[Дата на падеж]]<ICF[[#This Row],[Monday]]+21,3, IF(ICF[[#This Row],[Дата на падеж]]<ICF[[#This Row],[Monday]]+28,4, IF(ICF[[#This Row],[Дата на падеж]]<ICF[[#This Row],[Monday]]+35,5, IF(ICF[[#This Row],[Дата на падеж]]<ICF[[#This Row],[Monday]]+42,6, IF(ICF[[#This Row],[Дата на падеж]]<ICF[[#This Row],[Monday]]+49,7, IF(ICF[[#This Row],[Дата на падеж]]<ICF[[#This Row],[Monday]]+56,8,0)))))))) -> 1 | M6: Starter | N6: Logistic | O6: 01.Incomes Operating Activities
B7: Income | C7: SO CO TEM | D7: 44619 | E7: TND | F7: Documented | G7: 51.314 | H7: =+ICF[[#This Row],[Сума във Валута]]/RESOURCE!$F$2 -> 15.858358 | I7: SND | K7: =$K$1 -> 44592 | L7: =IF(ICF[[#This Row],[Дата на падеж]]<ICF[[#This Row],[Monday]]+7,1, IF(ICF[[#This Row],[Дата на падеж]]<ICF[[#This Row],[Monday]]+14,2, IF(ICF[[#This Row],[Дата на падеж]]<ICF[[#This Row],[Monday]]+21,3, IF(ICF[[#This Row],[Дата на падеж]]<ICF[[#This Row],[Monday]]+28,4, IF(ICF[[#This Row],[Дата на падеж]]<ICF[[#This Row],[Monday]]+35,5, IF(ICF[[#This Row],[Дата на падеж]]<ICF[[#This Row],[Monday]]+42,6, IF(ICF[[#This Row],[Дата на падеж]]<ICF[[#This Row],[Monday]]+49,7, IF(ICF[[#This Row],[Дата на падеж]]<ICF[[#This Row],[Monday]]+56,8,0)))))))) -> 4 | M7: Starter | N7: Logistic | O7: 01.Incomes Operating Activities
B8: Income | C8: SO CO TEM | D8: 44712 | E8: TND | F8: Documented | G8: 2214.808 | H8: =+ICF[[#This Row],[Сума във Валута]]/RESOURCE!$F$2 -> 684.47634 | I8: SND | K8: =$K$1 -> 44592 | L8: =IF(ICF[[#This Row],[Дата на падеж]]<ICF[[#This Row],[Monday]]+7,1, IF(ICF[[#This Row],[Дата на падеж]]<ICF[[#This Row],[Monday]]+14,2, IF(ICF[[#This Row],[Дата на падеж]]<ICF[[#This Row],[Monday]]+21,3, IF(ICF[[#This Row],[Дата на падеж]]<ICF[[#This Row],[Monday]]+28,4, IF(ICF[[#This Row],[Дата на падеж]]<ICF[[#This Row],[Monday]]+35,5, IF(ICF[[#This Row],[Дата на падеж]]<ICF[[#This Row],[Monday]]+42,6, IF(ICF[[#This Row],[Дата на падеж]]<ICF[[#This Row],[Monday]]+49,7, IF(ICF[[#This Row],[Дата на падеж]]<ICF[[#This Row],[Monday]]+56,8,0)))))))) -> 0 | M8: Starter | N8: Logistic | O8: 01.Incomes Operating Activities
B9: Income | C9: SORECOM | D9: 44682 | E9: TND | F9: Documented | G9: 652.108 | H9: =+ICF[[#This Row],[Сума във Валута]]/RESOURCE!$F$2 -> 201.53101 | I9: SND | K9: =$K$1 -> 44592 | L9: =IF(ICF[[#This Row],[Дата на падеж]]<ICF[[#This Row],[Monday]]+7,1, IF(ICF[[#This Row],[Дата на падеж]]<ICF[[#This Row],[Monday]]+14,2, IF(ICF[[#This Row],[Дата на падеж]]<ICF[[#This Row],[Monday]]+21,3, IF(ICF[[#This Row],[Дата на падеж]]<ICF[[#This Row],[Monday]]+28,4, IF(ICF[[#This Row],[Дата на падеж]]<ICF[[#This Row],[Monday]]+35,5, IF(ICF[[#This Row],[Дата на падеж]]<ICF[[#This Row],[Monday]]+42,6, IF(ICF[[#This Row],[Дата на падеж]]<ICF[[#This Row],[Monday]]+49,7, IF(ICF[[#This Row],[Дата на падеж]]<ICF[[#This Row],[Monday]]+56,8,0)))))))) -> 0 | M9: Starter | N9: Logistic | O9: 01.Incomes Operating Activities
B10: Income | C10: SOGEPIA | D10: 44681 | E10: TND | F10: Documented | G10: 548 | H10: =+ICF[[#This Row],[Сума във Валута]]/RESOURCE!$F$2 -> 169.35691 | I10: SND | K10: =$K$1 -> 44592 | L10: =IF(ICF[[#This Row],[Дата на падеж]]<ICF[[#This Row],[Monday]]+7,1, IF(ICF[[#This Row],[Дата на падеж]]<ICF[[#This Row],[Monday]]+14,2, IF(ICF[[#This Row],[Дата на падеж]]<ICF[[#This Row],[Monday]]+21,3, IF(ICF[[#This Row],[Дата на падеж]]<ICF[[#This Row],[Monday]]+28,4, IF(ICF[[#This Row],[Дата на падеж]]<ICF[[#This Row],[Monday]]+35,5, IF(ICF[[#This Row],[Дата на падеж]]<ICF[[#This Row],[Monday]]+42,6, IF(ICF[[#This Row],[Дата на падеж]]<ICF[[#This Row],[Monday]]+49,7, IF(ICF[[#This Row],[Дата на падеж]]<ICF[[#This Row],[Monday]]+56,8,0)))))))) -> 0 | M10: Starter | N10: Logistic | O10: 01.Incomes Operating Activities
B11: Income | C11: SOGEPIA | D11: 44712 | E11: TND | F11: Documented | G11: 1678.993 | H11: =+ICF[[#This Row],[Сума във Валута]]/RESOURCE!$F$2 -> 518.88515 | I11: SND | K11: =$K$1 -> 44592 | L11: =IF(ICF[[#This Row],[Дата на падеж]]<ICF[[#This Row],[Monday]]+7,1, IF(ICF[[#This Row],[Дата на падеж]]<ICF[[#This Row],[Monday]]+14,2, IF(ICF[[#This Row],[Дата на падеж]]<ICF[[#This Row],[Monday]]+21,3, IF(ICF[[#This Row],[Дата на падеж]]<ICF[[#This Row],[Monday]]+28,4, IF(ICF[[#This Row],[Дата на падеж]]<ICF[[#This Row],[Monday]]+35,5, IF(ICF[[#This Row],[Дата на падеж]]<ICF[[#This Row],[Monday]]+42,6, IF(ICF[[#This Row],[Дата на падеж]]<ICF[[#This Row],[Monday]]+49,7, IF(ICF[[#This Row],[Дата на падеж]]<ICF[[#This Row],[Monday]]+56,8,0)))))))) -> 0 | M11: Starter | N11: Logistic | O11: 01.Incomes Operating Activities
B12: Income | C12: ABDELAZIZ B JEMAI SOUISSI | D12: 44499 | E12: TND | F12: Documented | G12: 1291.93 | H12: =+ICF[[#This Row],[Сума във Валута]]/RESOURCE!$F$2 -> 399.26509 | I12: SND | K12: =$K$1 -> 44592 | L12: =IF(ICF[[#This Row],[Дата на падеж]]<ICF[[#This Row],[Monday]]+7,1, IF(ICF[[#This Row],[Дата на падеж]]<ICF[[#This Row],[Monday]]+14,2, IF(ICF[[#This Row],[Дата на падеж]]<ICF[[#This Row],[Monday]]+21,3, IF(ICF[[#This Row],[Дата на падеж]]<ICF[[#This Row],[Monday]]+28,4, IF(ICF[[#This Row],[Дата на падеж]]<ICF[[#This Row],[Monday]]+35,5, IF(ICF[[#This Row],[Дата на падеж]]<ICF[[#This Row],[Monday]]+42,6, IF(ICF[[#This Row],[Дата на падеж]]<ICF[[#This Row],[Monday]]+49,7, IF(ICF[[#This Row],[Дата на падеж]]<ICF[[#This Row],[Monday]]+56,8,0)))))))) -> 1 | M12: Starter | N12: Logistic | O12: 01.Incomes Operating Activities
B13: Income | C13: ABDELBAKI KHEMIRI | D13: 44682 | E13: TND | F13: Documented | G13: 3802.768 | H13: =+ICF[[#This Row],[Сума във Валута]]/RESOURCE!$F$2 -> 1175.2282 | I13: SND | K13: =$K$1 -> 44592 | L13: =IF(ICF[[#This Row],[Дата на падеж]]<ICF[[#This Row],[Monday]]+7,1, IF(ICF[[#This Row],[Дата на падеж]]<ICF[[#This Row],[Monday]]+14,2, IF(ICF[[#This Row],[Дата на падеж]]<ICF[[#This Row],[Monday]]+21,3, IF(ICF[[#This Row],[Дата на падеж]]<ICF[[#This Row],[Monday]]+28,4, IF(ICF[[#This Row],[Дата на падеж]]<ICF[[#This Row],[Monday]]+35,5, IF(ICF[[#This Row],[Дата на падеж]]<ICF[[#This Row],[Monday]]+42,6, IF(ICF[[#This Row],[Дата на падеж]]<ICF[[#This Row],[Monday]]+49,7, IF(ICF[[#This Row],[Дата на падеж]]<ICF[[#This Row],[Monday]]+56,8,0)))))))) -> 0 | M13: Starter | N13: Logistic | O13: 01.Incomes Operating Activities
B14: Income | C14: ABDELKADER B YOUSSEF GHARBI | D14: 44651 | E14: TND | F14: Documented | G14: 56.614 | H14: =+ICF[[#This Row],[Сума във Валута]]/RESOURCE!$F$2 -> 17.496299 | I14: SND | K14: =$K$1 -> 44592 | L14: =IF(ICF[[#This Row],[Дата на падеж]]<ICF[[#This Row],[Monday]]+7,1, IF(ICF[[#This Row],[Дата на падеж]]<ICF[[#This Row],[Monday]]+14,2, IF(ICF[[#This Row],[Дата на падеж]]<ICF[[#This Row],[Monday]]+21,3, IF(ICF[[#This Row],[Дата на падеж]]<ICF[[#This Row],[Monday]]+28,4, IF(ICF[[#This Row],[Дата на падеж]]<ICF[[#This Row],[Monday]]+35,5, IF(ICF[[#This Row],[Дата на падеж]]<ICF[[#This Row],[Monday]]+42,6, IF(ICF[[#This Row],[Дата на падеж]]<ICF[[#This Row],[Monday]]+49,7, IF(ICF[[#This Row],[Дата на падеж]]<ICF[[#This Row],[Monday]]+56,8,0)))))))) -> 0 | M14: Starter | N14: Logistic | O14: 01.Incomes Operating Activities
B15: Income | C15: ABDELKADER MOEZ BEN LAMINE | D15: 44712 | E15: TND | F15: Documented | G15: 1928.024 | H15: =+ICF[[#This Row],[Сума във Валута]]/RESOURCE!$F$2 -> 595.84705 | I15: SND | K15: =$K$1 -> 44592 | L15: =IF(ICF[[#This Row],[Дата на падеж]]<ICF[[#This Row],[Monday]]+7,1, IF(ICF[[#This Row],[Дата на падеж]]<ICF[[#This Row],[Monday]]+14,2, IF(ICF[[#This Row],[Дата на падеж]]<ICF[[#This Row],[Monday]]+21,3, IF(ICF[[#This Row],[Дата на падеж]]<ICF[[#This Row],[Monday]]+28,4, IF(ICF[[#This Row],[Дата на падеж]]<ICF[[#This Row],[Monday]]+35,5, IF(ICF[[#This Row],[Дата на падеж]]<ICF[[#This Row],[Monday]]+42,6, IF(ICF[[#This Row],[Дата на падеж]]<ICF[[#This Row],[Monday]]+49,7, IF(ICF[[#This Row],[Дата на падеж]]<ICF[[#This Row],[Monday]]+56,8,0)))))))) -> 0 | M15: Starter | N15: Logistic | O15: 01.Incomes Operating Activities
B16: Income | C16: ABDELKARIM CHEBBI | D16: 44527 | E16: TND | F16: Documented | G16: -29.09 | H16: =+ICF[[#This Row],[Сума във Валута]]/RESOURCE!$F$2 -> -8.9901322 | I16: SND | K16: =$K$1 -> 44592 | L16: =IF(ICF[[#This Row],[Дата на падеж]]<ICF[[#This Row],[Monday]]+7,1, IF(ICF[[#This Row],[Дата на падеж]]<ICF[[#This Row],[Monday]]+14,2, IF(ICF[[#This Row],[Дата на падеж]]<ICF[[#This Row],[Monday]]+21,3, IF(ICF[[#This Row],[Дата на падеж]]<ICF[[#This Row],[Monday]]+28,4, IF(ICF[[#This Row],[Дата на падеж]]<ICF[[#This Row],[Monday]]+35,5, IF(ICF[[#This Row],[Дата на падеж]]<ICF[[#This Row],[Monday]]+42,6, IF(ICF[[#This Row],[Дата на падеж]]<ICF[[#This Row],[Monday]]+49,7, IF(ICF[[#This Row],[Дата на падеж]]<ICF[[#This Row],[Monday]]+56,8,0)))))))) -> 1 | M16: Starter | N16: Logistic | O16: 01.Incomes Operating Activities
B17: Income | C17: ABDELKARIM CHEBBI | D17: 44681 | E17: TND | F17: Documented | G17: 7090.119 | H17: =+ICF[[#This Row],[Сума във Валута]]/RESOURCE!$F$2 -> 2191.169 | I17: SND | K17: =$K$1 -> 44592 | L17: =IF(ICF[[#This Row],[Дата на падеж]]<ICF[[#This Row],[Monday]]+7,1, IF(ICF[[#This Row],[Дата на падеж]]<ICF[[#This Row],[Monday]]+14,2, IF(ICF[[#This Row],[Дата на падеж]]<ICF[[#This Row],[Monday]]+21,3, IF(ICF[[#This Row],[Дата на падеж]]<ICF[[#This Row],[Monday]]+28,4, IF(ICF[[#This Row],[Дата на падеж]]<ICF[[#This Row],[Monday]]+35,5, IF(ICF[[#This Row],[Дата на падеж]]<ICF[[#This Row],[Monday]]+42,6, IF(ICF[[#This Row],[Дата на падеж]]<ICF[[#This Row],[Monday]]+49,7, IF(ICF[[#This Row],[Дата на падеж]]<ICF[[#This Row],[Monday]]+56,8,0)))))))) -> 0 | M17: Starter | N17: Logistic | O17: 01.Incomes Operating Activities
... B2418: Income | C2418: HATEM BEN MOHAMED BELGITH | D2418: 44682 | E2418: TND | F2418: Documented | G2418: 2936.951 | H2418: =+ICF[[#This Row],[Сума във Валута]]/RESOURCE!$F$2 -> 907.65135 | I2418: SND | K2418: =$K$1 -> 44592 | L2418: =IF(ICF[[#This Row],[Дата на падеж]]<ICF[[#This Row],[Monday]]+7,1, IF(ICF[[#This Row],[Дата на падеж]]<ICF[[#This Row],[Monday]]+14,2, IF(ICF[[#This Row],[Дата на падеж]]<ICF[[#This Row],[Monday]]+21,3, IF(ICF[[#This Row],[Дата на падеж]]<ICF[[#This Row],[Monday]]+28,4, IF(ICF[[#This Row],[Дата на падеж]]<ICF[[#This Row],[Monday]]+35,5, IF(ICF[[#This Row],[Дата на падеж]]<ICF[[#This Row],[Monday]]+42,6, IF(ICF[[#This Row],[Дата на падеж]]<ICF[[#This Row],[Monday]]+49,7, IF(ICF[[#This Row],[Дата на падеж]]<ICF[[#This Row],[Monday]]+56,8,0)))))))) -> 0 | M2418: Starter | N2418: Logistic | O2418: 01.Incomes Operating Activities

Sheet Payments.All
B2: Source.Name | C2: Контрагент | D2: Основание | E2: Допълнително основание | F2: Дата | G2: Дата на падеж | H2: Валута | I2: Очакван или докуминтиран разход | J2: Сума във Валута | K2: В евро остатък за плащане | L2: BU | M2: TODAY | N2: Monday | O2: WEEK | P2: GROUP | Q2: SUBGROUP | R2: TYPE | S2: Week adjusments | T2: RPvsTP | U2: Available Funds | V2: Credit Funds

Sheet Payments.Add
N1: 44592
B2: Source.Name | C2: Контрагент | D2: Основание | E2: Допълнително основание | F2: Дата | G2: Дата на падеж | H2: Валута | I2: Очакван или докуминтиран разход | J2: Сума във Валута | K2: В евро остатък за плащане | L2: BU | M2: TODAY | N2: Monday | O2: WEEK | P2: GROUP | Q2: SUBGROUP | R2: TYPE | S2: RPvsTP | T2: Available Funds | U2: Credit Funds
B3: =Payments_Add[[#This Row],[BU]] -> NOUR | C3: STEG | D3: gaz et électricité | E3: Electricity | F3: 44575 | G3: 44586 | H3: TND | I3: Documented | J3: 111468.42 | K3: 34088.201 | L3: NOUR | N3: =$N$1 -> 44592 | O3: =IF(Payments_Add[[#This Row],[Дата на падеж]]<Payments_Add[[#This Row],[Monday]]+7,1, IF(Payments_Add[[#This Row],[Дата на падеж]]<Payments_Add[[#This Row],[Monday]]+14,2, IF(Payments_Add[[#This Row],[Дата на падеж]]<Payments_Add[[#This Row],[Monday]]+21,3, IF(Payments_Add[[#This Row],[Дата на падеж]]<Payments_Add[[#This Row],[Monday]]+28,4, IF(Payments_Add[[#This Row],[Дата на падеж]]<Payments_Add[[#This Row],[Monday]]+35,5, IF(Payments_Add[[#This Row],[Дата на падеж]]<Payments_Add[[#This Row],[Monday]]+42,6, IF(Payments_Add[[#This Row],[Дата на падеж]]<Payments_Add[[#This Row],[Monday]]+49,7, IF(Payments_Add[[#This Row],[Дата на падеж]]<Payments_Add[[#This Row],[Monday]]+56,8,0)))))))) -> 1 | P3: Utilities | Q3: Electricity | R3: 02.Payments Operating Activities
B4: =Payments_Add[[#This Row],[BU]] -> NOUR | C4: 2RE | D4: PDR | E4: Maintenance | F4: 44512 | G4: 44617 | H4: TND | I4: PLANNED PAIEMENT | J4: 1715.783 | K4: 524.70428 | L4: NOUR | N4: =$N$1 -> 44592 | O4: =IF(Payments_Add[[#This Row],[Дата на падеж]]<Payments_Add[[#This Row],[Monday]]+7,1, IF(Payments_Add[[#This Row],[Дата на падеж]]<Payments_Add[[#This Row],[Monday]]+14,2, IF(Payments_Add[[#This Row],[Дата на падеж]]<Payments_Add[[#This Row],[Monday]]+21,3, IF(Payments_Add[[#This Row],[Дата на падеж]]<Payments_Add[[#This Row],[Monday]]+28,4, IF(Payments_Add[[#This Row],[Дата на падеж]]<Payments_Add[[#This Row],[Monday]]+35,5, IF(Payments_Add[[#This Row],[Дата на падеж]]<Payments_Add[[#This Row],[Monday]]+42,6, IF(Payments_Add[[#This Row],[Дата на падеж]]<Payments_Add[[#This Row],[Monday]]+49,7, IF(Payments_Add[[#This Row],[Дата на падеж]]<Payments_Add[[#This Row],[Monday]]+56,8,0)))))))) -> 4 | P4: Other | Q4: Other | R4: 02.Payments Operating Activities
B5: =Payments_Add[[#This Row],[BU]] -> NOUR | C5: ACCUMA | D5: Bac et couvercle | E5: Primary Materials | F5: 44545 | G5: 44635 | H5: EUR | I5: Documented | J5: 59606.149 | K5: 18228.18 | L5: NOUR | N5: =$N$1 -> 44592 | O5: =IF(Payments_Add[[#This Row],[Дата на падеж]]<Payments_Add[[#This Row],[Monday]]+7,1, IF(Payments_Add[[#This Row],[Дата на падеж]]<Payments_Add[[#This Row],[Monday]]+14,2, IF(Payments_Add[[#This Row],[Дата на падеж]]<Payments_Add[[#This Row],[Monday]]+21,3, IF(Payments_Add[[#This Row],[Дата на падеж]]<Payments_Add[[#This Row],[Monday]]+28,4, IF(Payments_Add[[#This Row],[Дата на падеж]]<Payments_Add[[#This Row],[Monday]]+35,5, IF(Payments_Add[[#This Row],[Дата на падеж]]<Payments_Add[[#This Row],[Monday]]+42,6, IF(Payments_Add[[#This Row],[Дата на падеж]]<Payments_Add[[#This Row],[Monday]]+49,7, IF(Payments_Add[[#This Row],[Дата на падеж]]<Payments_Add[[#This Row],[Monday]]+56,8,0)))))))) -> 7 | P5: Materials | Q5: Primary Materials | R5: 02.Payments Operating Activities
B6: =Payments_Add[[#This Row],[BU]] -> NOUR | C6: ACCUMA | D6: Bac et couvercle | E6: Primary Materials | F6: 44558 | G6: 44648 | H6: EUR | I6: Documented | J6: 122131.43 | K6: 37349.06 | L6: NOUR | N6: =$N$1 -> 44592 | O6: =IF(Payments_Add[[#This Row],[Дата на падеж]]<Payments_Add[[#This Row],[Monday]]+7,1, IF(Payments_Add[[#This Row],[Дата на падеж]]<Payments_Add[[#This Row],[Monday]]+14,2, IF(Payments_Add[[#This Row],[Дата на падеж]]<Payments_Add[[#This Row],[Monday]]+21,3, IF(Payments_Add[[#This Row],[Дата на падеж]]<Payments_Add[[#This Row],[Monday]]+28,4, IF(Payments_Add[[#This Row],[Дата на падеж]]<Payments_Add[[#This Row],[Monday]]+35,5, IF(Payments_Add[[#This Row],[Дата на падеж]]<Payments_Add[[#This Row],[Monday]]+42,6, IF(Payments_Add[[#This Row],[Дата на падеж]]<Payments_Add[[#This Row],[Monday]]+49,7, IF(Payments_Add[[#This Row],[Дата на падеж]]<Payments_Add[[#This Row],[Monday]]+56,8,0)))))))) -> 0 | P6: Materials | Q6: Primary Materials | R6: 02.Payments Operating Activities
B7: =Payments_Add[[#This Row],[BU]] -> NOUR | C7: ACTD | D7: soude caustique | E7: Primary Materials | F7: 44580 | G7: 44635 | H7: TND | I7: PLANNED PAIEMENT | J7: 2945.844 | K7: 900.86972 | L7: NOUR | N7: =$N$1 -> 44592 | O7: =IF(Payments_Add[[#This Row],[Дата на падеж]]<Payments_Add[[#This Row],[Monday]]+7,1, IF(Payments_Add[[#This Row],[Дата на падеж]]<Payments_Add[[#This Row],[Monday]]+14,2, IF(Payments_Add[[#This Row],[Дата на падеж]]<Payments_Add[[#This Row],[Monday]]+21,3, IF(Payments_Add[[#This Row],[Дата на падеж]]<Payments_Add[[#This Row],[Monday]]+28,4, IF(Payments_Add[[#This Row],[Дата на падеж]]<Payments_Add[[#This Row],[Monday]]+35,5, IF(Payments_Add[[#This Row],[Дата на падеж]]<Payments_Add[[#This Row],[Monday]]+42,6, IF(Payments_Add[[#This Row],[Дата на падеж]]<Payments_Add[[#This Row],[Monday]]+49,7, IF(Payments_Add[[#This Row],[Дата на падеж]]<Payments_Add[[#This Row],[Monday]]+56,8,0)))))))) -> 7 | P7: Materials | Q7: Primary Materials | R7: 02.Payments Operating Activities
B8: =Payments_Add[[#This Row],[BU]] -> NOUR | C8: ACTD | D8: soude caustique | E8: Primary Materials | F8: 44571 | G8: 44620 | H8: TND | I8: Documented | J8: 56488.113 | K8: 17274.652 | L8: NOUR | N8: =$N$1 -> 44592 | O8: =IF(Payments_Add[[#This Row],[Дата на падеж]]<Payments_Add[[#This Row],[Monday]]+7,1, IF(Payments_Add[[#This Row],[Дата на падеж]]<Payments_Add[[#This Row],[Monday]]+14,2, IF(Payments_Add[[#This Row],[Дата на падеж]]<Payments_Add[[#This Row],[Monday]]+21,3, IF(Payments_Add[[#This Row],[Дата на падеж]]<Payments_Add[[#This Row],[Monday]]+28,4, IF(Payments_Add[[#This Row],[Дата на падеж]]<Payments_Add[[#This Row],[Monday]]+35,5, IF(Payments_Add[[#This Row],[Дата на падеж]]<Payments_Add[[#This Row],[Monday]]+42,6, IF(Payments_Add[[#This Row],[Дата на падеж]]<Payments_Add[[#This Row],[Monday]]+49,7, IF(Payments_Add[[#This Row],[Дата на падеж]]<Payments_Add[[#This Row],[Monday]]+56,8,0)))))))) -> 5 | P8: Materials | Q8: Primary Materials | R8: 02.Payments Operating Activities
B9: =Payments_Add[[#This Row],[BU]] -> NOUR | C9: ACTD | D9: soude caustique | E9: Primary Materials | F9: 44571 | G9: 44651 | H9: TND | I9: Documented | J9: 56488.113 | K9: 17274.652 | L9: NOUR | N9: =$N$1 -> 44592 | O9: =IF(Payments_Add[[#This Row],[Дата на падеж]]<Payments_Add[[#This Row],[Monday]]+7,1, IF(Payments_Add[[#This Row],[Дата на падеж]]<Payments_Add[[#This Row],[Monday]]+14,2, IF(Payments_Add[[#This Row],[Дата на падеж]]<Payments_Add[[#This Row],[Monday]]+21,3, IF(Payments_Add[[#This Row],[Дата на падеж]]<Payments_Add[[#This Row],[Monday]]+28,4, IF(Payments_Add[[#This Row],[Дата на падеж]]<Payments_Add[[#This Row],[Monday]]+35,5, IF(Payments_Add[[#This Row],[Дата на падеж]]<Payments_Add[[#This Row],[Monday]]+42,6, IF(Payments_Add[[#This Row],[Дата на падеж]]<Payments_Add[[#This Row],[Monday]]+49,7, IF(Payments_Add[[#This Row],[Дата на падеж]]<Payments_Add[[#This Row],[Monday]]+56,8,0)))))))) -> 0 | P9: Materials | Q9: Primary Materials | R9: 02.Payments Operating Activities
B10: =Payments_Add[[#This Row],[BU]] -> NOUR | C10: AIR LIQUIDE | D10: oxygene | E10: Primary Materials | F10: 44593 | G10: 44620 | H10: TND | I10: PLANNED | J10: 2500 | K10: 764.52599 | L10: NOUR | N10: =$N$1 -> 44592 | O10: =IF(Payments_Add[[#This Row],[Дата на падеж]]<Payments_Add[[#This Row],[Monday]]+7,1, IF(Payments_Add[[#This Row],[Дата на падеж]]<Payments_Add[[#This Row],[Monday]]+14,2, IF(Payments_Add[[#This Row],[Дата на падеж]]<Payments_Add[[#This Row],[Monday]]+21,3, IF(Payments_Add[[#This Row],[Дата на падеж]]<Payments_Add[[#This Row],[Monday]]+28,4, IF(Payments_Add[[#This Row],[Дата на падеж]]<Payments_Add[[#This Row],[Monday]]+35,5, IF(Payments_Add[[#This Row],[Дата на падеж]]<Payments_Add[[#This Row],[Monday]]+42,6, IF(Payments_Add[[#This Row],[Дата на падеж]]<Payments_Add[[#This Row],[Monday]]+49,7, IF(Payments_Add[[#This Row],[Дата на падеж]]<Payments_Add[[#This Row],[Monday]]+56,8,0)))))))) -> 5 | P10: Materials | Q10: Primary Materials | R10: 02.Payments Operating Activities
B11: =Payments_Add[[#This Row],[BU]] -> NOUR | C11: AIR LIQUIDE | D11: oxygene | E11: Primary Materials | F11: 44621 | G11: 44651 | H11: TND | I11: PLANNED | J11: 2500 | K11: 764.52599 | L11: NOUR | N11: =$N$1 -> 44592 | O11: 0 | P11: Materials | Q11: Primary Materials | R11: 02.Payments Operating Activities
B12: =Payments_Add[[#This Row],[BU]] -> NOUR | C12: ALPHA FORD | D12: règlement voiture traite avalisée | E12: Domestic | F12: 44470 | G12: 44617 | H12: TND | I12: PAIEMENT | J12: 13365 | K12: 4087.156 | L12: NOUR | N12: =$N$1 -> 44592 | O12: =IF(Payments_Add[[#This Row],[Дата на падеж]]<Payments_Add[[#This Row],[Monday]]+7,1, IF(Payments_Add[[#This Row],[Дата на падеж]]<Payments_Add[[#This Row],[Monday]]+14,2, IF(Payments_Add[[#This Row],[Дата на падеж]]<Payments_Add[[#This Row],[Monday]]+21,3, IF(Payments_Add[[#This Row],[Дата на падеж]]<Payments_Add[[#This Row],[Monday]]+28,4, IF(Payments_Add[[#This Row],[Дата на падеж]]<Payments_Add[[#This Row],[Monday]]+35,5, IF(Payments_Add[[#This Row],[Дата на падеж]]<Payments_Add[[#This Row],[Monday]]+42,6, IF(Payments_Add[[#This Row],[Дата на падеж]]<Payments_Add[[#This Row],[Monday]]+49,7, IF(Payments_Add[[#This Row],[Дата на падеж]]<Payments_Add[[#This Row],[Monday]]+56,8,0)))))))) -> 4 | P12: CAPEX | Q12: Other Equipment and DMA | R12: 05.Payments Investing Activities (CAPEX)
B13: =Payments_Add[[#This Row],[BU]] -> NOUR | C13: ALPHA FORD | D13: règlement voiture traite avalisée | E13: Domestic | F13: 44470 | G13: 44645 | H13: TND | I13: PAIEMENT | J13: 13365 | K13: 4087.156 | L13: NOUR | N13: =$N$1 -> 44592 | O13: =IF(Payments_Add[[#This Row],[Дата на падеж]]<Payments_Add[[#This Row],[Monday]]+7,1, IF(Payments_Add[[#This Row],[Дата на падеж]]<Payments_Add[[#This Row],[Monday]]+14,2, IF(Payments_Add[[#This Row],[Дата на падеж]]<Payments_Add[[#This Row],[Monday]]+21,3, IF(Payments_Add[[#This Row],[Дата на падеж]]<Payments_Add[[#This Row],[Monday]]+28,4, IF(Payments_Add[[#This Row],[Дата на падеж]]<Payments_Add[[#This Row],[Monday]]+35,5, IF(Payments_Add[[#This Row],[Дата на падеж]]<Payments_Add[[#This Row],[Monday]]+42,6, IF(Payments_Add[[#This Row],[Дата на падеж]]<Payments_Add[[#This Row],[Monday]]+49,7, IF(Payments_Add[[#This Row],[Дата на падеж]]<Payments_Add[[#This Row],[Monday]]+56,8,0)))))))) -> 8 | P13: CAPEX | Q13: Other Equipment and DMA | R13: 05.Payments Investing Activities (CAPEX)
B14: =Payments_Add[[#This Row],[BU]] -> SND | C14: ALPHA FORD | D14: règlement voiture traite avalisée | E14: Domestic | F14: 44466 | G14: 44617 | H14: TND | I14: Documented | J14: 35407.35 | K14: 10827.936 | L14: SND | N14: =$N$1 -> 44592 | O14: =IF(Payments_Add[[#This Row],[Дата на падеж]]<Payments_Add[[#This Row],[Monday]]+7,1, IF(Payments_Add[[#This Row],[Дата на падеж]]<Payments_Add[[#This Row],[Monday]]+14,2, IF(Payments_Add[[#This Row],[Дата на падеж]]<Payments_Add[[#This Row],[Monday]]+21,3, IF(Payments_Add[[#This Row],[Дата на падеж]]<Payments_Add[[#This Row],[Monday]]+28,4, IF(Payments_Add[[#This Row],[Дата на падеж]]<Payments_Add[[#This Row],[Monday]]+35,5, IF(Payments_Add[[#This Row],[Дата на падеж]]<Payments_Add[[#This Row],[Monday]]+42,6, IF(Payments_Add[[#This Row],[Дата на падеж]]<Payments_Add[[#This Row],[Monday]]+49,7, IF(Payments_Add[[#This Row],[Дата на падеж]]<Payments_Add[[#This Row],[Monday]]+56,8,0)))))))) -> 4 | P14: CAPEX | Q14: Other Equipment and DMA | R14: 05.Payments Investing Activities (CAPEX)
B15: =Payments_Add[[#This Row],[BU]] -> SND | C15: ALPHA FORD | D15: règlement voiture traite avalisée | E15: Domestic | F15: 44466 | G15: 44645 | H15: TND | I15: Documented | J15: 35407.35 | K15: 10827.936 | L15: SND | N15: =$N$1 -> 44592 | O15: =IF(Payments_Add[[#This Row],[Дата на падеж]]<Payments_Add[[#This Row],[Monday]]+7,1, IF(Payments_Add[[#This Row],[Дата на падеж]]<Payments_Add[[#This Row],[Monday]]+14,2, IF(Payments_Add[[#This Row],[Дата на падеж]]<Payments_Add[[#This Row],[Monday]]+21,3, IF(Payments_Add[[#This Row],[Дата на падеж]]<Payments_Add[[#This Row],[Monday]]+28,4, IF(Payments_Add[[#This Row],[Дата на падеж]]<Payments_Add[[#This Row],[Monday]]+35,5, IF(Payments_Add[[#This Row],[Дата на падеж]]<Payments_Add[[#This Row],[Monday]]+42,6, IF(Payments_Add[[#This Row],[Дата на падеж]]<Payments_Add[[#This Row],[Monday]]+49,7, IF(Payments_Add[[#This Row],[Дата на падеж]]<Payments_Add[[#This Row],[Monday]]+56,8,0)))))))) -> 8 | P15: CAPEX | Q15: Other Equipment and DMA | R15: 05.Payments Investing Activities (CAPEX)
B16: =Payments_Add[[#This Row],[BU]] -> NOUR | C16: Boudrant | D16: PDR | E16: Other | F16: 44580 | G16: 44617 | H16: TND | I16: PAIEMENT | J16: 276.704 | K16: 84.61896 | L16: NOUR | N16: =$N$1 -> 44592 | O16: =IF(Payments_Add[[#This Row],[Дата на падеж]]<Payments_Add[[#This Row],[Monday]]+7,1, IF(Payments_Add[[#This Row],[Дата на падеж]]<Payments_Add[[#This Row],[Monday]]+14,2, IF(Payments_Add[[#This Row],[Дата на падеж]]<Payments_Add[[#This Row],[Monday]]+21,3, IF(Payments_Add[[#This Row],[Дата на падеж]]<Payments_Add[[#This Row],[Monday]]+28,4, IF(Payments_Add[[#This Row],[Дата на падеж]]<Payments_Add[[#This Row],[Monday]]+35,5, IF(Payments_Add[[#This Row],[Дата на падеж]]<Payments_Add[[#This Row],[Monday]]+42,6, IF(Payments_Add[[#This Row],[Дата на падеж]]<Payments_Add[[#This Row],[Monday]]+49,7, IF(Payments_Add[[#This Row],[Дата на падеж]]<Payments_Add[[#This Row],[Monday]]+56,8,0)))))))) -> 4 | P16: Other | Q16: Spare Parts | R16: 02.Payments Operating Activities
B17: =Payments_Add[[#This Row],[BU]] -> NOUR | C17: Boudrant | D17: PDR | E17: Other | F17: 44580 | G17: 44625 | H17: TND | I17: PAIEMENT | J17: 4141.4 | K17: 1266.4832 | L17: NOUR | N17: =$N$1 -> 44592 | O17: =IF(Payments_Add[[#This Row],[Дата на падеж]]<Payments_Add[[#This Row],[Monday]]+7,1, IF(Payments_Add[[#This Row],[Дата на падеж]]<Payments_Add[[#This Row],[Monday]]+14,2, IF(Payments_Add[[#This Row],[Дата на падеж]]<Payments_Add[[#This Row],[Monday]]+21,3, IF(Payments_Add[[#This Row],[Дата на падеж]]<Payments_Add[[#This Row],[Monday]]+28,4, IF(Payments_Add[[#This Row],[Дата на падеж]]<Payments_Add[[#This Row],[Monday]]+35,5, IF(Payments_Add[[#This Row],[Дата на падеж]]<Payments_Add[[#This Row],[Monday]]+42,6, IF(Payments_Add[[#This Row],[Дата на падеж]]<Payments_Add[[#This Row],[Monday]]+49,7, IF(Payments_Add[[#This Row],[Дата на падеж]]<Payments_Add[[#This Row],[Monday]]+56,8,0)))))))) -> 5 | P17: Other | Q17: Spare Parts | R17: 02.Payments Operating Activities
B18: =Payments_Add[[#This Row],[BU]] -> NOUR | C18: CHIMEX | D18: acide | E18: Primary Materials | F18: 44551 | G18: 44593 | H18: TND | I18: Documented | J18: 23593.235 | K18: 7215.0566 | L18: NOUR | N18: =$N$1 -> 44592 | O18: =IF(Payments_Add[[#This Row],[Дата на падеж]]<Payments_Add[[#This Row],[Monday]]+7,1, IF(Payments_Add[[#This Row],[Дата на падеж]]<Payments_Add[[#This Row],[Monday]]+14,2, IF(Payments_Add[[#This Row],[Дата на падеж]]<Payments_Add[[#This Row],[Monday]]+21,3, IF(Payments_Add[[#This Row],[Дата на падеж]]<Payments_Add[[#This Row],[Monday]]+28,4, IF(Payments_Add[[#This Row],[Дата на падеж]]<Payments_Add[[#This Row],[Monday]]+35,5, IF(Payments_Add[[#This Row],[Дата на падеж]]<Payments_Add[[#This Row],[Monday]]+42,6, IF(Payments_Add[[#This Row],[Дата на падеж]]<Payments_Add[[#This Row],[Monday]]+49,7, IF(Payments_Add[[#This Row],[Дата на падеж]]<Payments_Add[[#This Row],[Monday]]+56,8,0)))))))) -> 1 | P18: Materials | Q18: Primary Materials | R18: 02.Payments Operating Activities
B19: =Payments_Add[[#This Row],[BU]] -> NOUR | C19: CHIMEX | D19: acide | E19: Primary Materials | F19: 44561 | G19: 44600 | H19: TND | I19: Documented | J19: 24198.174 | K19: 7400.0532 | L19: NOUR | N19: =$N$1 -> 44592 | O19: =IF(Payments_Add[[#This Row],[Дата на падеж]]<Payments_Add[[#This Row],[Monday]]+7,1, IF(Payments_Add[[#This Row],[Дата на падеж]]<Payments_Add[[#This Row],[Monday]]+14,2, IF(Payments_Add[[#This Row],[Дата на падеж]]<Payments_Add[[#This Row],[Monday]]+21,3, IF(Payments_Add[[#This Row],[Дата на падеж]]<Payments_Add[[#This Row],[Monday]]+28,4, IF(Payments_Add[[#This Row],[Дата на падеж]]<Payments_Add[[#This Row],[Monday]]+35,5, IF(Payments_Add[[#This Row],[Дата на падеж]]<Payments_Add[[#This Row],[Monday]]+42,6, IF(Payments_Add[[#This Row],[Дата на падеж]]<Payments_Add[[#This Row],[Monday]]+49,7, IF(Payments_Add[[#This Row],[Дата на падеж]]<Payments_Add[[#This Row],[Monday]]+56,8,0)))))))) -> 2 | P19: Materials | Q19: Primary Materials | R19: 02.Payments Operating Activities
B20: =Payments_Add[[#This Row],[BU]] -> NOUR | C20: CHIMEX | D20: acide | E20: Primary Materials | F20: 44567 | G20: 44607 | H20: TND | I20: Documented | J20: 25408.053 | K20: 7770.0468 | L20: NOUR | N20: =$N$1 -> 44592 | O20: =IF(Payments_Add[[#This Row],[Дата на падеж]]<Payments_Add[[#This Row],[Monday]]+7,1, IF(Payments_Add[[#This Row],[Дата на падеж]]<Payments_Add[[#This Row],[Monday]]+14,2, IF(Payments_Add[[#This Row],[Дата на падеж]]<Payments_Add[[#This Row],[Monday]]+21,3, IF(Payments_Add[[#This Row],[Дата на падеж]]<Payments_Add[[#This Row],[Monday]]+28,4, IF(Payments_Add[[#This Row],[Дата на падеж]]<Payments_Add[[#This Row],[Monday]]+35,5, IF(Payments_Add[[#This Row],[Дата на падеж]]<Payments_Add[[#This Row],[Monday]]+42,6, IF(Payments_Add[[#This Row],[Дата на падеж]]<Payments_Add[[#This Row],[Monday]]+49,7, IF(Payments_Add[[#This Row],[Дата на падеж]]<Payments_Add[[#This Row],[Monday]]+56,8,0)))))))) -> 3 | P20: Materials | Q20: Primary Materials | R20: 02.Payments Operating Activities
B21: =Payments_Add[[#This Row],[BU]] -> NOUR | C21: CHIMEX | D21: acide | E21: Primary Materials | F21: 44593 | G21: 44614 | H21: TND | I21: PLANNED | J21: 20000 | K21: 6116.208 | L21: NOUR | N21: =$N$1 -> 44592 | O21: =IF(Payments_Add[[#This Row],[Дата на падеж]]<Payments_Add[[#This Row],[Monday]]+7,1, IF(Payments_Add[[#This Row],[Дата на падеж]]<Payments_Add[[#This Row],[Monday]]+14,2, IF(Payments_Add[[#This Row],[Дата на падеж]]<Payments_Add[[#This Row],[Monday]]+21,3, IF(Payments_Add[[#This Row],[Дата на падеж]]<Payments_Add[[#This Row],[Monday]]+28,4, IF(Payments_Add[[#This Row],[Дата на падеж]]<Payments_Add[[#This Row],[Monday]]+35,5, IF(Payments_Add[[#This Row],[Дата на падеж]]<Payments_Add[[#This Row],[Monday]]+42,6, IF(Payments_Add[[#This Row],[Дата на падеж]]<Payments_Add[[#This Row],[Monday]]+49,7, IF(Payments_Add[[#This Row],[Дата на падеж]]<Payments_Add[[#This Row],[Monday]]+56,8,0)))))))) -> 4 | P21: Materials | Q21: Primary Materials | R21: 02.Payments Operating Activities
B22: =Payments_Add[[#This Row],[BU]] -> NOUR | C22: CHIMEX | D22: acide | E22: Primary Materials | F22: 44600 | G22: 44621 | H22: TND | I22: PLANNED | J22: 20000 | K22: 6116.208 | L22: NOUR | N22: =$N$1 -> 44592 | O22: =IF(Payments_Add[[#This Row],[Дата на падеж]]<Payments_Add[[#This Row],[Monday]]+7,1, IF(Payments_Add[[#This Row],[Дата на падеж]]<Payments_Add[[#This Row],[Monday]]+14,2, IF(Payments_Add[[#This Row],[Дата на падеж]]<Payments_Add[[#This Row],[Monday]]+21,3, IF(Payments_Add[[#This Row],[Дата на падеж]]<Payments_Add[[#This Row],[Monday]]+28,4, IF(Payments_Add[[#This Row],[Дата на падеж]]<Payments_Add[[#This Row],[Monday]]+35,5, IF(Payments_Add[[#This Row],[Дата на падеж]]<Payments_Add[[#This Row],[Monday]]+42,6, IF(Payments_Add[[#This Row],[Дата на падеж]]<Payments_Add[[#This Row],[Monday]]+49,7, IF(Payments_Add[[#This Row],[Дата на падеж]]<Payments_Add[[#This Row],[Monday]]+56,8,0)))))))) -> 5 | P22: Materials | Q22: Primary Materials | R22: 02.Payments Operating Activities
B23: =Payments_Add[[#This Row],[BU]] -> NOUR | C23: CHIMEX | D23: acide | E23: Primary Materials | F23: 44607 | G23: 44628 | H23: TND | I23: PLANNED | J23: 20000 | K23: 6116.208 | L23: NOUR | N23: =$N$1 -> 44592 | O23: =IF(Payments_Add[[#This Row],[Дата на падеж]]<Payments_Add[[#This Row],[Monday]]+7,1, IF(Payments_Add[[#This Row],[Дата на падеж]]<Payments_Add[[#This Row],[Monday]]+14,2, IF(Payments_Add[[#This Row],[Дата на падеж]]<Payments_Add[[#This Row],[Monday]]+21,3, IF(Payments_Add[[#This Row],[Дата на падеж]]<Payments_Add[[#This Row],[Monday]]+28,4, IF(Payments_Add[[#This Row],[Дата на падеж]]<Payments_Add[[#This Row],[Monday]]+35,5, IF(Payments_Add[[#This Row],[Дата на падеж]]<Payments_Add[[#This Row],[Monday]]+42,6, IF(Payments_Add[[#This Row],[Дата на падеж]]<Payments_Add[[#This Row],[Monday]]+49,7, IF(Payments_Add[[#This Row],[Дата на падеж]]<Payments_Add[[#This Row],[Monday]]+56,8,0)))))))) -> 6 | P23: Materials | Q23: Primary Materials | R23: 02.Payments Operating Activities
... B33: =Payments_Add[[#This Row],[BU]] -> NOUR | C33: EQUIPEMENT MODERNE HARDWARE | D33: PDR | E33: Other | F33: 44565 | G33: 44645 | H33: TND | I33: PLANNED PAIEMENT | J33: 1301.782 | K33: 398.09847 | L33: NOUR | N33: =$N$1 -> 44592 | O33: =IF(Payments_Add[[#This Row],[Дата на падеж]]<Payments_Add[[#This Row],[Monday]]+7,1, IF(Payments_Add[[#This Row],[Дата на падеж]]<Payments_Add[[#This Row],[Monday]]+14,2, IF(Payments_Add[[#This Row],[Дата на падеж]]<Payments_Add[[#This Row],[Monday]]+21,3, IF(Payments_Add[[#This Row],[Дата на падеж]]<Payments_Add[[#This Row],[Monday]]+28,4, IF(Payments_Add[[#This Row],[Дата на падеж]]<Payments_Add[[#This Row],[Monday]]+35,5, IF(Payments_Add[[#This Row],[Дата на падеж]]<Payments_Add[[#This Row],[Monday]]+42,6, IF(Payments_Add[[#This Row],[Дата на падеж]]<Payments_Add[[#This Row],[Monday]]+49,7, IF(Payments_Add[[#This Row],[Дата на падеж]]<Payments_Add[[#This Row],[Monday]]+56,8,0)))))))) -> 8 | P33: Other | Q33: Spare Parts | R33: 02.Payments Operating Activities
B34: =Payments_Add[[#This Row],[BU]] -> NOUR | C34: Ets LAOUANI | D34: Travaux d'entretien | F34: 44565 | G34: 44612 | H34: TND | I34: PLANNED PAIEMENT | J34: 581.99 | K34: 177.97859 | L34: NOUR | N34: =$N$1 -> 44592 | O34: =IF(Payments_Add[[#This Row],[Дата на падеж]]<Payments_Add[[#This Row],[Monday]]+7,1, IF(Payments_Add[[#This Row],[Дата на падеж]]<Payments_Add[[#This Row],[Monday]]+14,2, IF(Payments_Add[[#This Row],[Дата на падеж]]<Payments_Add[[#This Row],[Monday]]+21,3, IF(Payments_Add[[#This Row],[Дата на падеж]]<Payments_Add[[#This Row],[Monday]]+28,4, IF(Payments_Add[[#This Row],[Дата на падеж]]<Payments_Add[[#This Row],[Monday]]+35,5, IF(Payments_Add[[#This Row],[Дата на падеж]]<Payments_Add[[#This Row],[Monday]]+42,6, IF(Payments_Add[[#This Row],[Дата на падеж]]<Payments_Add[[#This Row],[Monday]]+49,7, IF(Payments_Add[[#This Row],[Дата на падеж]]<Payments_Add[[#This Row],[Monday]]+56,8,0)))))))) -> 3 | P34: Services | Q34: Services | R34: 02.Payments Operating Activities
B35: =Payments_Add[[#This Row],[BU]] -> NOUR | C35: FBI | D35: fourniture de bureau | F35: 44572 | G35: 44602 | H35: TND | I35: PAIEMENT | J35: 193.2 | K35: 59.082569 | L35: NOUR | N35: =$N$1 -> 44592 | O35: =IF(Payments_Add[[#This Row],[Дата на падеж]]<Payments_Add[[#This Row],[Monday]]+7,1, IF(Payments_Add[[#This Row],[Дата на падеж]]<Payments_Add[[#This Row],[Monday]]+14,2, IF(Payments_Add[[#This Row],[Дата на падеж]]<Payments_Add[[#This Row],[Monday]]+21,3, IF(Payments_Add[[#This Row],[Дата на падеж]]<Payments_Add[[#This Row],[Monday]]+28,4, IF(Payments_Add[[#This Row],[Дата на падеж]]<Payments_Add[[#This Row],[Monday]]+35,5, IF(Payments_Add[[#This Row],[Дата на падеж]]<Payments_Add[[#This Row],[Monday]]+42,6, IF(Payments_Add[[#This Row],[Дата на падеж]]<Payments_Add[[#This Row],[Monday]]+49,7, IF(Payments_Add[[#This Row],[Дата на падеж]]<Payments_Add[[#This Row],[Monday]]+56,8,0)))))))) -> 2 | P35: Other | Q35: Other | R35: 02.Payments Operating Activities
B36: =Payments_Add[[#This Row],[BU]] -> NOUR | C36: FBI | D36: fourniture de bureau | F36: 44565 | G36: 44607 | H36: TND | I36: PLANNED PAIEMENT | J36: 1474.828 | K36: 451.01774 | L36: NOUR | N36: =$N$1 -> 44592 | O36: =IF(Payments_Add[[#This Row],[Дата на падеж]]<Payments_Add[[#This Row],[Monday]]+7,1, IF(Payments_Add[[#This Row],[Дата на падеж]]<Payments_Add[[#This Row],[Monday]]+14,2, IF(Payments_Add[[#This Row],[Дата на падеж]]<Payments_Add[[#This Row],[Monday]]+21,3, IF(Payments_Add[[#This Row],[Дата на падеж]]<Payments_Add[[#This Row],[Monday]]+28,4, IF(Payments_Add[[#This Row],[Дата на падеж]]<Payments_Add[[#This Row],[Monday]]+35,5, IF(Payments_Add[[#This Row],[Дата на падеж]]<Payments_Add[[#This Row],[Monday]]+42,6, IF(Payments_Add[[#This Row],[Дата на падеж]]<Payments_Add[[#This Row],[Monday]]+49,7, IF(Payments_Add[[#This Row],[Дата на падеж]]<Payments_Add[[#This Row],[Monday]]+56,8,0)))))))) -> 3 | P36: Other | Q36: Other | R36: 02.Payments Operating Activities
B37: =Payments_Add[[#This Row],[BU]] -> NOUR | C37: FBI | D37: fourniture de bureau | F37: 44574 | G37: 44630 | H37: TND | I37: PLANNED PAIEMENT | J37: 1178.418 | K37: 360.37248 | L37: NOUR | N37: =$N$1 -> 44592 | O37: =IF(Payments_Add[[#This Row],[Дата на падеж]]<Payments_Add[[#This Row],[Monday]]+7,1, IF(Payments_Add[[#This Row],[Дата на падеж]]<Payments_Add[[#This Row],[Monday]]+14,2, IF(Payments_Add[[#This Row],[Дата на падеж]]<Payments_Add[[#This Row],[Monday]]+21,3, IF(Payments_Add[[#This Row],[Дата на падеж]]<Payments_Add[[#This Row],[Monday]]+28,4, IF(Payments_Add[[#This Row],[Дата на падеж]]<Payments_Add[[#This Row],[Monday]]+35,5, IF(Payments_Add[[#This Row],[Дата на падеж]]<Payments_Add[[#This Row],[Monday]]+42,6, IF(Payments_Add[[#This Row],[Дата на падеж]]<Payments_Add[[#This Row],[Monday]]+49,7, IF(Payments_Add[[#This Row],[Дата на падеж]]<Payments_Add[[#This Row],[Monday]]+56,8,0)))))))) -> 6 | P37: Other | Q37: Other | R37: 02.Payments Operating Activities
B38: =Payments_Add[[#This Row],[BU]] -> NOUR | C38: GENERAL INCENDIE | D38: matériel de sécurité | E38: matériel de sécurité | F38: 44496 | G38: 44597 | H38: TND | I38: PAIEMENT | J38: 375.45 | K38: 114.81651 | L38: NOUR | N38: =$N$1 -> 44592 | O38: =IF(Payments_Add[[#This Row],[Дата на падеж]]<Payments_Add[[#This Row],[Monday]]+7,1, IF(Payments_Add[[#This Row],[Дата на падеж]]<Payments_Add[[#This Row],[Monday]]+14,2, IF(Payments_Add[[#This Row],[Дата на падеж]]<Payments_Add[[#This Row],[Monday]]+21,3, IF(Payments_Add[[#This Row],[Дата на падеж]]<Payments_Add[[#This Row],[Monday]]+28,4, IF(Payments_Add[[#This Row],[Дата на падеж]]<Payments_Add[[#This Row],[Monday]]+35,5, IF(Payments_Add[[#This Row],[Дата на падеж]]<Payments_Add[[#This Row],[Monday]]+42,6, IF(Payments_Add[[#This Row],[Дата на падеж]]<Payments_Add[[#This Row],[Monday]]+49,7, IF(Payments_Add[[#This Row],[Дата на падеж]]<Payments_Add[[#This Row],[Monday]]+56,8,0)))))))) -> 1 | P38: Other | Q38: Other | R38: 02.Payments Operating Activities
B39: =Payments_Add[[#This Row],[BU]] -> NOUR | C39: GENERAL INCENDIE | D39: matériel de sécurité | E39: matériel de sécurité | F39: 44532 | G39: 44597 | H39: TND | I39: PAIEMENT | J39: 3301.637 | K39: 1009.6749 | L39: NOUR | N39: =$N$1 -> 44592 | O39: =IF(Payments_Add[[#This Row],[Дата на падеж]]<Payments_Add[[#This Row],[Monday]]+7,1, IF(Payments_Add[[#This Row],[Дата на падеж]]<Payments_Add[[#This Row],[Monday]]+14,2, IF(Payments_Add[[#This Row],[Дата на падеж]]<Payments_Add[[#This Row],[Monday]]+21,3, IF(Payments_Add[[#This Row],[Дата на падеж]]<Payments_Add[[#This Row],[Monday]]+28,4, IF(Payments_Add[[#This Row],[Дата на падеж]]<Payments_Add[[#This Row],[Monday]]+35,5, IF(Payments_Add[[#This Row],[Дата на падеж]]<Payments_Add[[#This Row],[Monday]]+42,6, IF(Payments_Add[[#This Row],[Дата на падеж]]<Payments_Add[[#This Row],[Monday]]+49,7, IF(Payments_Add[[#This Row],[Дата на падеж]]<Payments_Add[[#This Row],[Monday]]+56,8,0)))))))) -> 1 | P39: Other | Q39: Other | R39: 02.Payments Operating Activities
B40: =Payments_Add[[#This Row],[BU]] -> NOUR | C40: GENERAL INCENDIE | D40: matériel de sécurité | E40: matériel de sécurité | F40: 44532 | G40: 44617 | H40: TND | I40: PAIEMENT | J40: 3235.068 | K40: 989.31743 | L40: NOUR | N40: =$N$1 -> 44592 | O40: =IF(Payments_Add[[#This Row],[Дата на падеж]]<Payments_Add[[#This Row],[Monday]]+7,1, IF(Payments_Add[[#This Row],[Дата на падеж]]<Payments_Add[[#This Row],[Monday]]+14,2, IF(Payments_Add[[#This Row],[Дата на падеж]]<Payments_Add[[#This Row],[Monday]]+21,3, IF(Payments_Add[[#This Row],[Дата на падеж]]<Payments_Add[[#This Row],[Monday]]+28,4, IF(Payments_Add[[#This Row],[Дата на падеж]]<Payments_Add[[#This Row],[Monday]]+35,5, IF(Payments_Add[[#This Row],[Дата на падеж]]<Payments_Add[[#This Row],[Monday]]+42,6, IF(Payments_Add[[#This Row],[Дата на падеж]]<Payments_Add[[#This Row],[Monday]]+49,7, IF(Payments_Add[[#This Row],[Дата на падеж]]<Payments_Add[[#This Row],[Monday]]+56,8,0)))))))) -> 4 | P40: Other | Q40: Other | R40: 02.Payments Operating Activities
B41: =Payments_Add[[#This Row],[BU]] -> NOUR | C41: GENERAL INCENDIE | D41: matériel de sécurité | E41: matériel de sécurité | F41: 44532 | G41: 44629 | H41: TND | I41: PAIEMENT | J41: 2238.984 | K41: 684.70459 | L41: NOUR | N41: =$N$1 -> 44592 | O41: =IF(Payments_Add[[#This Row],[Дата на падеж]]<Payments_Add[[#This Row],[Monday]]+7,1, IF(Payments_Add[[#This Row],[Дата на падеж]]<Payments_Add[[#This Row],[Monday]]+14,2, IF(Payments_Add[[#This Row],[Дата на падеж]]<Payments_Add[[#This Row],[Monday]]+21,3, IF(Payments_Add[[#This Row],[Дата на падеж]]<Payments_Add[[#This Row],[Monday]]+28,4, IF(Payments_Add[[#This Row],[Дата на падеж]]<Payments_Add[[#This Row],[Monday]]+35,5, IF(Payments_Add[[#This Row],[Дата на падеж]]<Payments_Add[[#This Row],[Monday]]+42,6, IF(Payments_Add[[#This Row],[Дата на падеж]]<Payments_Add[[#This Row],[Monday]]+49,7, IF(Payments_Add[[#This Row],[Дата на падеж]]<Payments_Add[[#This Row],[Monday]]+56,8,0)))))))) -> 6 | P41: Other | Q41: Other | R41: 02.Payments Operating Activities
B42: =Payments_Add[[#This Row],[BU]] -> NOUR | C42: GENERAL INCENDIE | D42: matériel de sécurité | E42: matériel de sécurité | F42: 44532 | G42: 44635 | H42: TND | I42: PAIEMENT | J42: 1044.391 | K42: 319.38563 | L42: NOUR | N42: =$N$1 -> 44592 | O42: =IF(Payments_Add[[#This Row],[Дата на падеж]]<Payments_Add[[#This Row],[Monday]]+7,1, IF(Payments_Add[[#This Row],[Дата на падеж]]<Payments_Add[[#This Row],[Monday]]+14,2, IF(Payments_Add[[#This Row],[Дата на падеж]]<Payments_Add[[#This Row],[Monday]]+21,3, IF(Payments_Add[[#This Row],[Дата на падеж]]<Payments_Add[[#This Row],[Monday]]+28,4, IF(Payments_Add[[#This Row],[Дата на падеж]]<Payments_Add[[#This Row],[Monday]]+35,5, IF(Payments_Add[[#This Row],[Дата на падеж]]<Payments_Add[[#This Row],[Monday]]+42,6, IF(Payments_Add[[#This Row],[Дата на падеж]]<Payments_Add[[#This Row],[Monday]]+49,7, IF(Payments_Add[[#This Row],[Дата на падеж]]<Payments_Add[[#This Row],[Monday]]+56,8,0)))))))) -> 7 | P42: Other | Q42: Other | R42: 02.Payments Operating Activities
B43: =Payments_Add[[#This Row],[BU]] -> NOUR | C43: GENERAL INCENDIE | D43: matériel de sécurité | E43: matériel de sécurité | F43: 44536 | G43: 44645 | H43: TND | I43: PLANNED PAIEMENT | J43: 2019.274 | K43: 617.51498 | L43: NOUR | N43: =$N$1 -> 44592 | O43: =IF(Payments_Add[[#This Row],[Дата на падеж]]<Payments_Add[[#This Row],[Monday]]+7,1, IF(Payments_Add[[#This Row],[Дата на падеж]]<Payments_Add[[#This Row],[Monday]]+14,2, IF(Payments_Add[[#This Row],[Дата на падеж]]<Payments_Add[[#This Row],[Monday]]+21,3, IF(Payments_Add[[#This Row],[Дата на падеж]]<Payments_Add[[#This Row],[Monday]]+28,4, IF(Payments_Add[[#This Row],[Дата на падеж]]<Payments_Add[[#This Row],[Monday]]+35,5, IF(Payments_Add[[#This Row],[Дата на падеж]]<Payments_Add[[#This Row],[Monday]]+42,6, IF(Payments_Add[[#This Row],[Дата на падеж]]<Payments_Add[[#This Row],[Monday]]+49,7, IF(Payments_Add[[#This Row],[Дата на падеж]]<Payments_Add[[#This Row],[Monday]]+56,8,0)))))))) -> 8 | P43: Other | Q43: Other | R43: 02.Payments Operating Activities
B44: =Payments_Add[[#This Row],[BU]] -> SND | C44: GLOBAL NET | D44: internet | F44: 44576 | G44: 44597 | H44: TND | I44: Documented | J44: 3445.673 | K44: 1053.7226 | L44: SND | N44: =$N$1 -> 44592 | O44: =IF(Payments_Add[[#This Row],[Дата на падеж]]<Payments_Add[[#This Row],[Monday]]+7,1, IF(Payments_Add[[#This Row],[Дата на падеж]]<Payments_Add[[#This Row],[Monday]]+14,2, IF(Payments_Add[[#This Row],[Дата на падеж]]<Payments_Add[[#This Row],[Monday]]+21,3, IF(Payments_Add[[#This Row],[Дата на падеж]]<Payments_Add[[#This Row],[Monday]]+28,4, IF(Payments_Add[[#This Row],[Дата на падеж]]<Payments_Add[[#This Row],[Monday]]+35,5, IF(Payments_Add[[#This Row],[Дата на падеж]]<Payments_Add[[#This Row],[Monday]]+42,6, IF(Payments_Add[[#This Row],[Дата на падеж]]<Payments_Add[[#This Row],[Monday]]+49,7, IF(Payments_Add[[#This Row],[Дата на падеж]]<Payments_Add[[#This Row],[Monday]]+56,8,0)))))))) -> 1 | P44: Services | Q44: Services | R44: 02.Payments Operating Activities
B45: =Payments_Add[[#This Row],[BU]] -> NOUR | C45: GLOBAL NET | D45: internet | F45: 44576 | G45: 44597 | H45: TND | I45: Documented | J45: 3809.843 | K45: 1165.0896 | L45: NOUR | N45: =$N$1 -> 44592 | O45: =IF(Payments_Add[[#This Row],[Дата на падеж]]<Payments_Add[[#This Row],[Monday]]+7,1, IF(Payments_Add[[#This Row],[Дата на падеж]]<Payments_Add[[#This Row],[Monday]]+14,2, IF(Payments_Add[[#This Row],[Дата на падеж]]<Payments_Add[[#This Row],[Monday]]+21,3, IF(Payments_Add[[#This Row],[Дата на падеж]]<Payments_Add[[#This Row],[Monday]]+28,4, IF(Payments_Add[[#This Row],[Дата на падеж]]<Payments_Add[[#This Row],[Monday]]+35,5, IF(Payments_Add[[#This Row],[Дата на падеж]]<Payments_Add[[#This Row],[Monday]]+42,6, IF(Payments_Add[[#This Row],[Дата на падеж]]<Payments_Add[[#This Row],[Monday]]+49,7, IF(Payments_Add[[#This Row],[Дата на падеж]]<Payments_Add[[#This Row],[Monday]]+56,8,0)))))))) -> 1 | P45: Services | Q45: Services | R45: 02.Payments Operating Activities
