Workbook

Sheet Summary Sheet
C1: WEEK | G1: WEEK | K1: WEEK | O1: WEEK | S1: WEEK | W1: WEEK | AA1: WEEK | AE1: WEEK | AI1: WEEK | AM1: WEEK | AQ1: WEEK | AU1: WEEK | AY1: WEEK | BC1: WEEK | BG1: WEEK | BK1: WEEK | BO1: WEEK | BS1: WEEK | BW1: WEEK | CA1: WEEK | CE1: WEEK | CI1: WEEK | CM1: WEEK | CQ1: WEEK | CU1: WEEK | CY1: WEEK | DC1: WEEK | DG1: WEEK | DK1: WEEK | DO1: WEEK | DS1: WEEK
C2: W01_2022 | G2: W02_2022 | K2: W03_2022 | O2: =VLOOKUP(O3,#REF!,3,0) -> #REF! | S2: =VLOOKUP(S3,#REF!,3,0) -> #REF! | W2: =VLOOKUP(W3,#REF!,3,0) -> #REF! | AA2: =VLOOKUP(AA3,#REF!,3,0) -> #REF! | AE2: =VLOOKUP(AE3,#REF!,3,0) -> #REF! | AI2: =VLOOKUP(AI3,#REF!,3,0) -> #REF! | AM2: =VLOOKUP(AM3,#REF!,3,0) -> #REF! | AQ2: =VLOOKUP(AQ3,#REF!,3,0) -> #REF! | AU2: =VLOOKUP(AU3,#REF!,3,0) -> #REF! | AY2: =VLOOKUP(AY3,#REF!,3,0) -> #REF! | BC2: =VLOOKUP(BC3,#REF!,3,0) -> #REF! | BG2: =VLOOKUP(BG3,#REF!,3,0) -> #REF! | BK2: =VLOOKUP(BK3,#REF!,3,0) -> #REF! | BO2: =VLOOKUP(BO3,#REF!,3,0) -> #REF! | BS2: =VLOOKUP(BS3,#REF!,3,0) -> #REF! | BW2: =VLOOKUP(BW3,#REF!,3,0) -> #REF! | CA2: =VLOOKUP(CA3,#REF!,3,0) -> #REF! | CE2: =VLOOKUP(CE3,#REF!,3,0) -> #REF! | CI2: =VLOOKUP(CI3,#REF!,3,0) -> #REF! | CM2: =VLOOKUP(CM3,#REF!,3,0) -> #REF! | CQ2: =VLOOKUP(CQ3,#REF!,3,0) -> #REF! | CU2: =VLOOKUP(CU3,#REF!,3,0) -> #REF! | CY2: =VLOOKUP(CY3,#REF!,3,0) -> #REF! | DC2: =VLOOKUP(DC3,#REF!,3,0) -> #REF! | DG2: =VLOOKUP(DG3,#REF!,3,0) -> #REF! | DK2: =VLOOKUP(DK3,#REF!,3,0) -> #REF! | DO2: =VLOOKUP(DO3,#REF!,3,0) -> #REF! | DS2: =VLOOKUP(DS3,#REF!,3,0) -> #REF!
C3: 44562 | G3: =C4+1 -> 44569 | K3: =G4+1 -> 44576 | O3: =K4+1 -> 44583 | S3: =O4+1 -> 44590 | W3: =S4+1 -> 44597 | AA3: =W4+1 -> 44604 | AE3: =AA4+1 -> 44611 | AI3: =AE4+1 -> 44618 | AM3: =AI4+1 -> 44625 | AQ3: =AM4+1 -> 44632 | AU3: =AQ4+1 -> 44639 | AY3: =AU4+1 -> 44646 | BC3: =AY4+1 -> 44653 | BG3: =BC4+1 -> 44660 | BK3: =BG4+1 -> 44667 | BO3: =BK4+1 -> 44674 | BS3: =BO4+1 -> 44681 | BW3: =BS4+1 -> 44688 | CA3: =BW4+1 -> 44695 | CE3: =CA4+1 -> 44702 | CI3: =CE4+1 -> 44709 | CM3: =CI4+1 -> 44716 | CQ3: =CM4+1 -> 44723 | CU3: =CQ4+1 -> 44730 | CY3: =CU4+1 -> 44737 | DC3: =CY4+1 -> 44744 | DG3: =DC4+1 -> 44751 | DK3: =DG4+1 -> 44758 | DO3: =DK4+1 -> 44765 | DS3: =DO4+1 -> 44772
C4: 44568 | G4: =G3+6 -> 44575 | K4: =K3+6 -> 44582 | O4: =O3+6 -> 44589 | S4: =S3+6 -> 44596 | W4: =W3+6 -> 44603 | AA4: =AA3+6 -> 44610 | AE4: =AE3+6 -> 44617 | AI4: =AI3+6 -> 44624 | AM4: =AM3+6 -> 44631 | AQ4: =AQ3+6 -> 44638 | AU4: =AU3+6 -> 44645 | AY4: =AY3+6 -> 44652 | BC4: =BC3+6 -> 44659 | BG4: =BG3+6 -> 44666 | BK4: =BK3+6 -> 44673 | BO4: =BO3+6 -> 44680 | BS4: =BS3+6 -> 44687 | BW4: =BW3+6 -> 44694 | CA4: =CA3+6 -> 44701 | CE4: =CE3+6 -> 44708 | CI4: =CI3+6 -> 44715 | CM4: =CM3+6 -> 44722 | CQ4: =CQ3+6 -> 44729 | CU4: =CU3+6 -> 44736 | CY4: =CY3+6 -> 44743 | DC4: =DC3+6 -> 44750 | DG4: =DG3+6 -> 44757 | DK4: =DK3+6 -> 44764 | DO4: =DO3+6 -> 44771 | DS4: =DS3+6 -> 44778
C5: RON | D5: USD | E5: EUR | F5: Total EUR | G5: RON | H5: USD | I5: EUR | J5: Total EUR | K5: RON | L5: USD | M5: EUR | N5: Total EUR | O5: RON | P5: USD | Q5: EUR | R5: Total EUR | S5: RON | T5: USD | U5: EUR | V5: Total EUR | W5: RON | X5: USD | Y5: EUR | Z5: Total EUR | AA5: RON | AB5: USD | AC5: EUR | AD5: Total EUR | AE5: RON | AF5: USD | AG5: EUR | AH5: Total EUR | AI5: RON | AJ5: USD | AK5: EUR | AL5: Total EUR | AM5: RON | AN5: USD | AO5: EUR | AP5: Total EUR | AQ5: RON | AR5: USD | AS5: EUR | AT5: Total EUR | AU5: RON | AV5: USD | AW5: EUR | AX5: Total EUR | AY5: RON | AZ5: USD | BA5: EUR | BB5: Total EUR | BC5: RON | BD5: USD | BE5: EUR | BF5: Total EUR | BG5: RON | BH5: USD | BI5: EUR | BJ5: Total EUR | BK5: RON | BL5: USD | BM5: EUR | BN5: Total EUR | BO5: RON | BP5: USD | BQ5: EUR | BR5: Total EUR | BS5: RON | BT5: USD | BU5: EUR | BV5: Total EUR | BW5: RON | BX5: USD | BY5: EUR | BZ5: Total EUR | CA5: RON | CB5: USD | CC5: EUR | CD5: Total EUR | CE5: RON | CF5: USD | CG5: EUR | CH5: Total EUR | CI5: RON | CJ5: USD | CK5: EUR | CL5: Total EUR | CM5: RON | CN5: USD | CO5: EUR | CP5: Total EUR | CQ5: RON | CR5: USD | CS5: EUR | CT5: Total EUR | CU5: RON | CV5: USD | CW5: EUR | CX5: Total EUR | CY5: RON | CZ5: USD | DA5: EUR | DB5: Total EUR | DC5: RON | DD5: USD | DE5: EUR | DF5: Total EUR | DG5: RON | DH5: USD | DI5: EUR | DJ5: Total EUR | DK5: RON | DL5: USD | DM5: EUR | DN5: Total EUR | DO5: RON | DP5: USD | DQ5: EUR | DR5: Total EUR | DS5: RON | DT5: USD | DU5: EUR | DV5: Total EUR
B7: I. Beginning Balance of Cash | C7: 0 | D7: 0 | G7: =+Vertical_Cash_flow!#REF! -> #REF! | H7: =+Vertical_Cash_flow!#REF! -> #REF! | I7: =+Vertical_Cash_flow!#REF! -> #REF! | J7: =+Vertical_Cash_flow!#REF! -> #REF! | K7: =+Vertical_Cash_flow!#REF! -> #REF! | L7: =+Vertical_Cash_flow!#REF! -> #REF! | M7: =+Vertical_Cash_flow!#REF! -> #REF! | N7: =+Vertical_Cash_flow!#REF! -> #REF! | ... BN7: =+Vertical_Cash_flow!#REF! -> #REF! | BO7: =+Vertical_Cash_flow!C17 -> 602723.44 | BP7: =+Vertical_Cash_flow!D17 -> -297580.16 | BQ7: =+Vertical_Cash_flow!G17 -> 2682661.9 | BR7: =+Vertical_Cash_flow!H17 -> 804798.57 | BS7: =+Vertical_Cash_flow!#REF! -> #REF! | BT7: =+Vertical_Cash_flow!#REF! -> #REF! | BU7: =+Vertical_Cash_flow!#REF! -> #REF! | BV7: =+Vertical_Cash_flow!#REF! -> #REF! | BW7: =+Vertical_Cash_flow!#REF! -> #REF! | BX7: =+Vertical_Cash_flow!#REF! -> #REF! | BY7: =+Vertical_Cash_flow!#REF! -> #REF! | BZ7: =+Vertical_Cash_flow!#REF! -> #REF! | ... DV7: =+Vertical_Cash_flow!#REF! -> #REF!
A9: Планиран | B9: Planned Receipts Operatonal Activities | G9: =Vertical_Cash_flow!#REF! -> #REF! | H9: =Vertical_Cash_flow!#REF! -> #REF! | I9: =Vertical_Cash_flow!#REF! -> #REF! | J9: =Vertical_Cash_flow!#REF! -> #REF! | K9: =Vertical_Cash_flow!#REF! -> #REF! | L9: =Vertical_Cash_flow!#REF! -> #REF! | M9: =Vertical_Cash_flow!#REF! -> #REF! | N9: =Vertical_Cash_flow!#REF! -> #REF! | ... BN9: =Vertical_Cash_flow!#REF! -> #REF! | BO9: =Vertical_Cash_flow!C76 -> 745788.58 | BP9: =Vertical_Cash_flow!D76 -> 1270000 | BQ9: =Vertical_Cash_flow!G76 -> 3159059.1 | BR9: =Vertical_Cash_flow!H76 -> 947717.74 | BS9: =Vertical_Cash_flow!#REF! -> #REF! | BT9: =Vertical_Cash_flow!#REF! -> #REF! | BU9: =Vertical_Cash_flow!#REF! -> #REF! | BV9: =Vertical_Cash_flow!#REF! -> #REF! | BW9: =Vertical_Cash_flow!#REF! -> #REF! | BX9: =Vertical_Cash_flow!#REF! -> #REF! | BY9: =Vertical_Cash_flow!#REF! -> #REF! | BZ9: =Vertical_Cash_flow!#REF! -> #REF! | ... DV9: =Vertical_Cash_flow!#REF! -> #REF!
A10: Планиран | B10: Planned Outflows Operational Activities | G10: =-Vertical_Cash_flow!#REF! -> #REF! | H10: =-Vertical_Cash_flow!#REF! -> #REF! | I10: =-Vertical_Cash_flow!#REF! -> #REF! | J10: =-Vertical_Cash_flow!#REF! -> #REF! | K10: =-Vertical_Cash_flow!#REF! -> #REF! | L10: =-Vertical_Cash_flow!#REF! -> #REF! | M10: =-Vertical_Cash_flow!#REF! -> #REF! | N10: =-Vertical_Cash_flow!#REF! -> #REF! | ... BN10: =-Vertical_Cash_flow!#REF! -> #REF! | BO10: =-Vertical_Cash_flow!C122 -> -1345890.6 | BP10: =-Vertical_Cash_flow!D122 -> -1420729 | BQ10: =-Vertical_Cash_flow!G122 -> -4434609.1 | BR10: =-Vertical_Cash_flow!H122 -> -1330382.7 | BS10: =-Vertical_Cash_flow!#REF! -> #REF! | BT10: =-Vertical_Cash_flow!#REF! -> #REF! | BU10: =-Vertical_Cash_flow!#REF! -> #REF! | BV10: =-Vertical_Cash_flow!#REF! -> #REF! | BW10: =-Vertical_Cash_flow!#REF! -> #REF! | BX10: =-Vertical_Cash_flow!#REF! -> #REF! | BY10: =-Vertical_Cash_flow!#REF! -> #REF! | BZ10: =-Vertical_Cash_flow!#REF! -> #REF! | ... DV10: =-Vertical_Cash_flow!#REF! -> #REF!
A11: Планиран | B11: Investment Activities | C11: 0 | D11: 0 | E11: 0 | F11: 0 | G11: =-Vertical_Cash_flow!#REF! -> #REF! | H11: =-Vertical_Cash_flow!#REF! -> #REF! | I11: =-Vertical_Cash_flow!#REF! -> #REF! | J11: =-Vertical_Cash_flow!#REF! -> #REF! | K11: =-Vertical_Cash_flow!#REF! -> #REF! | L11: =-Vertical_Cash_flow!#REF! -> #REF! | M11: =-Vertical_Cash_flow!#REF! -> #REF! | N11: =-Vertical_Cash_flow!#REF! -> #REF! | ... BN11: =-Vertical_Cash_flow!#REF! -> #REF! | BO11: =-Vertical_Cash_flow!C132 -> 0 | BP11: =-Vertical_Cash_flow!D132 -> 0 | BQ11: =-Vertical_Cash_flow!G132 -> 0 | BR11: =-Vertical_Cash_flow!H132 -> 0 | BS11: =-Vertical_Cash_flow!#REF! -> #REF! | BT11: =-Vertical_Cash_flow!#REF! -> #REF! | BU11: =-Vertical_Cash_flow!#REF! -> #REF! | BV11: =-Vertical_Cash_flow!#REF! -> #REF! | BW11: =-Vertical_Cash_flow!#REF! -> #REF! | BX11: =-Vertical_Cash_flow!#REF! -> #REF! | BY11: =-Vertical_Cash_flow!#REF! -> #REF! | BZ11: =-Vertical_Cash_flow!#REF! -> #REF! | ... DV11: =-Vertical_Cash_flow!#REF! -> #REF!
A12: Планиран | B12: Financing Activities | C12: 0 | D12: 0 | E12: 0 | F12: 0 | G12: =Vertical_Cash_flow!#REF! -> #REF! | H12: =Vertical_Cash_flow!#REF! -> #REF! | I12: =Vertical_Cash_flow!#REF! -> #REF! | J12: =Vertical_Cash_flow!#REF! -> #REF! | K12: =Vertical_Cash_flow!#REF! -> #REF! | L12: =Vertical_Cash_flow!#REF! -> #REF! | M12: =Vertical_Cash_flow!#REF! -> #REF! | N12: =Vertical_Cash_flow!#REF! -> #REF! | ... BN12: =Vertical_Cash_flow!#REF! -> #REF! | BO12: =Vertical_Cash_flow!C139 -> 0 | BP12: =Vertical_Cash_flow!D139 -> 8283.7626 | BQ12: =Vertical_Cash_flow!G139 -> 8283.7626 | BR12: =Vertical_Cash_flow!H139 -> 2485.1288 | BS12: =Vertical_Cash_flow!#REF! -> #REF! | BT12: =Vertical_Cash_flow!#REF! -> #REF! | BU12: =Vertical_Cash_flow!#REF! -> #REF! | BV12: =Vertical_Cash_flow!#REF! -> #REF! | BW12: =Vertical_Cash_flow!#REF! -> #REF! | BX12: =Vertical_Cash_flow!#REF! -> #REF! | BY12: =Vertical_Cash_flow!#REF! -> #REF! | BZ12: =Vertical_Cash_flow!#REF! -> #REF! | ... DV12: =Vertical_Cash_flow!#REF! -> #REF!
B14: II. Closing Balance of Cash (Planned) | G14: =SUM(G7:G12) -> #REF! | H14: =SUM(H7:H12) -> #REF! | I14: =SUM(I7:I12) -> #REF! | J14: =SUM(J7:J12) -> #REF! | K14: =SUM(K7:K12) -> #REF! | L14: =SUM(L7:L12) -> #REF! | M14: =SUM(M7:M12) -> #REF! | N14: =SUM(N7:N12) -> #REF! | ... DV14: =SUM(DV7:DV12) -> #REF!
B16: Unutilized Part of Overdraft (if applicable) | F16: 0 | J16: =+(#REF!-#REF!)*1.95583 -> #REF! | N16: =+(#REF!-#REF!)*1.95583 -> #REF! | R16: =+(#REF!-#REF!)*1.95583 -> #REF! | V16: =+(#REF!-#REF!)*1.95583 -> #REF! | Z16: =+(#REF!-#REF!)*1.95583 -> #REF! | AD16: =+(#REF!-#REF!)*1.95583 -> #REF! | AH16: =+(#REF!-#REF!)*1.95583 -> #REF! | AL16: =+(#REF!-#REF!)*1.95583 -> #REF! | AP16: =+(#REF!-#REF!)*1.95583 -> #REF! | AT16: =+(#REF!-#REF!)*1.95583 -> #REF! | AX16: =+(#REF!-#REF!)*1.95583 -> #REF! | BB16: =+(#REF!-#REF!)*1.95583 -> #REF! | BF16: =+(#REF!-#REF!)*1.95583 -> #REF! | BJ16: =+(#REF!-#REF!)*1.95583 -> #REF! | BN16: =+(#REF!-#REF!)*1.95583 -> #REF! | BR16: =+(#REF!-#REF!)*1.95583 -> #REF! | BV16: =+(#REF!-#REF!)*1.95583 -> #REF! | BZ16: =+(#REF!-#REF!)*1.95583 -> #REF! | CD16: =+(#REF!-#REF!)*1.95583 -> #REF! | CH16: =+(#REF!-#REF!)*1.95583 -> #REF! | CL16: =+(#REF!-#REF!)*1.95583 -> #REF! | CP16: =+(#REF!-#REF!)*1.95583 -> #REF! | CT16: =+(#REF!-#REF!)*1.95583 -> #REF! | CX16: =+(#REF!-#REF!)*1.95583 -> #REF! | DB16: =+(#REF!-#REF!)*1.95583 -> #REF! | DF16: =+(#REF!-#REF!)*1.95583 -> #REF! | DJ16: =+(#REF!-#REF!)*1.95583 -> #REF! | DN16: =+(#REF!-#REF!)*1.95583 -> #REF! | DR16: =+(#REF!-#REF!)*1.95583 -> #REF! | DV16: =+(#REF!-#REF!)*1.95583 -> #REF!
B18: To be Covered by Monbat for the week | J18: =IF(J14+J16<0,J14+J16,0) -> #REF! | N18: =IF(N14+N16<0,N14+N16,0) -> #REF! | R18: =IF(R14+R16<0,R14+R16,0) -> #REF! | V18: =IF(V14+V16<0,V14+V16,0) -> #REF! | Z18: =IF(Z14+Z16<0,Z14+Z16,0) -> #REF! | AD18: =IF(AD14+AD16<0,AD14+AD16,0) -> #REF! | AH18: =IF(AH14+AH16<0,AH14+AH16,0) -> #REF! | AL18: =IF(AL14+AL16<0,AL14+AL16,0) -> #REF! | AP18: =IF(AP14+AP16<0,AP14+AP16,0) -> #REF! | AT18: =IF(AT14+AT16<0,AT14+AT16,0) -> #REF! | AX18: =IF(AX14+AX16<0,AX14+AX16,0) -> #REF! | BB18: =IF(BB14+BB16<0,BB14+BB16,0) -> #REF! | BF18: =IF(BF14+BF16<0,BF14+BF16,0) -> #REF! | BJ18: =IF(BJ14+BJ16<0,BJ14+BJ16,0) -> #REF! | BN18: =IF(BN14+BN16<0,BN14+BN16,0) -> #REF! | BR18: =IF(BR14+BR16<0,BR14+BR16,0) -> #REF! | BV18: =IF(BV14+BV16<0,BV14+BV16,0) -> #REF! | BZ18: =IF(BZ14+BZ16<0,BZ14+BZ16,0) -> #REF! | CD18: =IF(CD14+CD16<0,CD14+CD16,0) -> #REF! | CH18: =IF(CH14+CH16<0,CH14+CH16,0) -> #REF! | CL18: =IF(CL14+CL16<0,CL14+CL16,0) -> #REF! | CP18: =IF(CP14+CP16<0,CP14+CP16,0) -> #REF! | CT18: =IF(CT14+CT16<0,CT14+CT16,0) -> #REF! | CX18: =IF(CX14+CX16<0,CX14+CX16,0) -> #REF! | DB18: =IF(DB14+DB16<0,DB14+DB16,0) -> #REF! | DF18: =IF(DF14+DF16<0,DF14+DF16,0) -> #REF! | DJ18: =IF(DJ14+DJ16<0,DJ14+DJ16,0) -> #REF! | DN18: =IF(DN14+DN16<0,DN14+DN16,0) -> #REF! | DR18: =IF(DR14+DR16<0,DR14+DR16,0) -> #REF! | DV18: =IF(DV14+DV16<0,DV14+DV16,0) -> #REF!
B19: To be Covered by Monbat with accumulation | J19: =F19+J18 -> #REF! | N19: =J19+N18 -> #REF! | R19: =N19+R18 -> #REF! | V19: =R19+V18 -> #REF! | Z19: =V19+Z18 -> #REF! | AD19: =Z19+AD18 -> #REF! | AH19: =AD19+AH18 -> #REF! | AL19: =AH19+AL18 -> #REF! | AP19: =AL19+AP18 -> #REF! | AT19: =AP19+AT18 -> #REF! | AX19: =AT19+AX18 -> #REF! | BB19: =AX19+BB18 -> #REF! | BF19: =BB19+BF18 -> #REF! | BJ19: =BF19+BJ18 -> #REF! | BN19: =BJ19+BN18 -> #REF! | BR19: =BN19+BR18 -> #REF! | BV19: =BR19+BV18 -> #REF! | BZ19: =BV19+BZ18 -> #REF! | CD19: =BZ19+CD18 -> #REF! | CH19: =CD19+CH18 -> #REF! | CL19: =CH19+CL18 -> #REF! | CP19: =CL19+CP18 -> #REF! | CT19: =CP19+CT18 -> #REF! | CX19: =CT19+CX18 -> #REF! | DB19: =CX19+DB18 -> #REF! | DF19: =DB19+DF18 -> #REF! | DJ19: =DF19+DJ18 -> #REF! | DN19: =DJ19+DN18 -> #REF! | DR19: =DN19+DR18 -> #REF! | DV19: =DR19+DV18 -> #REF!

Sheet Vertical_Cash_flow
B1: Applicable Exchange rates
B2: 0.3 | C2: Input EUR / TND rate | E2: =1/3.3859 -> 0.29534245 | H2: Dr Cash | N2: Dr Cash | T2: Dr Cash | Z2: Dr Cash | AF2: Dr Cash | AL2: Dr Cash | AR2: Dr Cash | AX2: Dr Cash
B3: 0.33 | C3: Input USD / TND rate | E3: =1/3.092 -> 0.32341527 | H3: Cr Cash | N3: Cr Cash | T3: Cr Cash | Z3: Cr Cash | AF3: Cr Cash | AL3: Cr Cash | AR3: Cr Cash | AX3: Cr Cash
C4: Input GBP / TND rate | E4: =1/3.9203 -> 0.25508252
B7: Fill In manually all cells marked with Orange | C7: Automatically Calculated
B9: NOUR CONSOLIDATED | C9: Planned Data | I9: Planned Data | O9: Planned Data | U9: Planned Data | AA9: Planned Data | AG9: Planned Data | AM9: Planned Data | AS9: Planned Data
B10: Cash Flow Forecast | C10: WEEK | I10: WEEK | O10: WEEK | U10: WEEK | AA10: WEEK | AG10: WEEK | AM10: WEEK | AS10: WEEK
B11: All Amounts Are Showed in EUR | C11: =VLOOKUP(C12,Mapping!$L$1:$M$904,2,0) -> W21_2024 | I11: =VLOOKUP(I12,Mapping!$L$1:$M$1100,2,0) -> W22_2024 | O11: =VLOOKUP(O12,Mapping!$L$1:$M$1100,2,0) -> W23_2024 | U11: =VLOOKUP(U12,Mapping!$L$1:$M$1100,2,0) -> W24_2024 | AA11: =VLOOKUP(AA12,Mapping!$L$1:$M$1100,2,0) -> W25_2024 | AG11: =VLOOKUP(AG12,Mapping!$L$1:$M$1100,2,0) -> W26_2024 | AM11: =VLOOKUP(AM12,Mapping!$L$1:$M$1100,2,0) -> W27_2024 | AS11: =VLOOKUP(AS12,Mapping!$L$1:$M$1100,2,0) -> W28_2024
C12: 45432 | I12: =C13+3 -> 45439 | O12: =I13+3 -> 45446 | U12: =O13+3 -> 45453 | AA12: =U13+3 -> 45460 | AG12: =AA13+3 -> 45467 | AM12: =AG13+3 -> 45474 | AS12: =AM13+3 -> 45481 | AZ12: Total for 8 Weeks
C13: =C12+4 -> 45436 | I13: =I12+4 -> 45443 | O13: =O12+4 -> 45450 | U13: =U12+4 -> 45457 | AA13: =AA12+4 -> 45464 | AG13: =AG12+4 -> 45471 | AM13: =AM12+4 -> 45478 | AS13: =AS12+4 -> 45485
C14: SND | D14: SNA | E14: SNA | F14: SNA | G14: Total | H14: Total EUR | I14: SND | J14: SNA | K14: SNA | L14: SNA | M14: Total | N14: Total EUR | O14: SND | P14: SNA | Q14: SNA | R14: SNA | S14: Total | T14: Total EUR | U14: SND | V14: SNA | W14: SNA | X14: SNA | Y14: Total | Z14: Total EUR | AA14: SND | AB14: SNA | AC14: SNA | AD14: SNA | AE14: Total | AF14: Total EUR | AG14: SND | AH14: SNA | AI14: SNA | AJ14: SNA | AK14: Total | AL14: Total EUR | AM14: SND | AN14: SNA | AO14: SNA | AP14: SNA | AQ14: Total | AR14: Total EUR | AS14: SND | AT14: SNA | AU14: SNA | AV14: SNA | AW14: Total | AX14: Total EUR
B15: =NOW() -> 45441.403 | C15: TND | D15: TND | E15: EUR | F15: USD | G15: TND | H15: Total EUR | I15: TND | J15: TND | K15: EUR | L15: USD | M15: TND | N15: Total EUR | O15: TND | P15: TND | Q15: EUR | R15: USD | S15: TND | T15: Total EUR | U15: TND | V15: TND | W15: EUR | X15: USD | Y15: TND | Z15: Total EUR | AA15: TND | AB15: TND | AC15: EUR | AD15: USD | AE15: TND | AF15: Total EUR | AG15: TND | AH15: TND | AI15: EUR | AJ15: USD | AK15: TND | AL15: Total EUR | AM15: TND | AN15: TND | AO15: EUR | AP15: USD | AQ15: TND | AR15: Total EUR | AS15: TND | AT15: TND | AU15: EUR | AV15: USD | AW15: TND | AX15: Total EUR
B16: Applicable exchange rate | C16: =B2 -> 0.3 | D16: =B2 -> 0.3 | E16: 1 | F16: =B3 -> 0.33 | I16: =C16 -> 0.3 | J16: =D16 -> 0.3 | K16: =E16 -> 1 | L16: =F16 -> 0.33 | O16: =I16 -> 0.3 | P16: =J16 -> 0.3 | Q16: =K16 -> 1 | R16: =L16 -> 0.33 | U16: =O16 -> 0.3 | V16: =P16 -> 0.3 | W16: =Q16 -> 1 | X16: =R16 -> 0.33 | AA16: =U16 -> 0.3 | AB16: =V16 -> 0.3 | AC16: =W16 -> 1 | AD16: =X16 -> 0.33 | AG16: =AA16 -> 0.3 | AH16: =AB16 -> 0.3 | AI16: =AC16 -> 1 | AJ16: =AD16 -> 0.33 | AM16: =AG16 -> 0.3 | AN16: =AH16 -> 0.3 | AO16: =AI16 -> 1 | AP16: =AJ16 -> 0.33 | AS16: =AM16 -> 0.3 | AT16: =AN16 -> 0.3 | AU16: =AO16 -> 1 | AV16: =AP16 -> 0.33
A17: Refer to sheet | B17: I. Beginning Cash Balance (including facility utilization above authorized limit only) | C17: =SUM(C21:C33)-C34 -> 602723.44 | D17: =SUM(D21:D33)-D34 -> -297580.16 | E17: =SUM(E21:E33) -> 712446.72 | F17: =SUM(F21:F33) -> 889.75 | G17: =C17+D17+E17/C16+F17/F16 -> 2682661.9 | H17: =G17*C16 -> 804798.57 | I17: =SUM(I21:I31) -> 2621.426 | J17: =SUM(J21:J31) -> -456592.92 | K17: =SUM(K21:K31) -> 574014.81 | L17: =SUM(L21:L31) -> 889.75 | M17: =I17+J17+K17/I16+L17/L16 -> 1462107.4 | N17: =M17*I16 -> 438632.22 | O17: =SUM(O21:O31) -> 1465.782 | P17: =SUM(P21:P31) -> -211222.95 | Q17: =SUM(Q21:Q31) -> 430143.32 | R17: =SUM(R21:R31) -> 889.75 | S17: =O17+P17+Q17/O16+R17/R16 -> 1226750.1 | T17: =S17*O16 -> 368025.03 | U17: =SUM(U21:U31) -> 2872.623 | V17: =SUM(V21:V31) -> -916120.85 | W17: =SUM(W21:W31) -> 274287.16 | X17: =SUM(X21:X31) -> 889.75 | Y17: =U17+V17+W17/U16+X17/X16 -> 3738.5187 | Z17: =Y17*U16 -> 1121.5556 | AA17: =SUM(AA21:AA31) -> 2386.2266 | AB17: =SUM(AB21:AB31) -> -1101323.1 | AC17: =SUM(AC21:AC31) -> 282628.82 | AD17: =SUM(AD21:AD31) -> 889.75 | AE17: =AA17+AB17+AC17/AA16+AD17/AD16 -> -154144.58 | AF17: =AE17*AA16 -> -46243.374 | AG17: =SUM(AG21:AG31) -> 4219.1906 | AH17: =SUM(AH21:AH31) -> -463197.17 | AI17: =SUM(AI21:AI31) -> 375938.15 | AJ17: =SUM(AJ21:AJ31) -> 889.75 | AK17: =AG17+AH17+AI17/AG16+AJ17/AJ16 -> 796845.4 | AL17: =AK17*AG16 -> 239053.62 | AM17: =SUM(AM21:AM31) -> 1464.8226 | AN17: =SUM(AN21:AN31) -> -1218097.3 | AO17: =SUM(AO21:AO31) -> 704641.88 | AP17: =SUM(AP21:AP31) -> 889.75 | AQ17: =AM17+AN17+AO17/AM16+AP17/AP16 -> 1134870 | AR17: =AQ17*AM16 -> 340461 | AS17: =SUM(AS21:AS31) -> 1961.0586 | AT17: =SUM(AT21:AT31) -> -766116.47 | AU17: =SUM(AU21:AU31) -> 554164.4 | AV17: =SUM(AV21:AV31) -> 889.75 | AW17: =AS17+AT17+AU17/AS16+AV17/AV16 -> 1085755.5 | AX17: =AW17*AS16 -> 325726.64
A19: N/A (Fill in beginning of each week based on available bank balance and facility utilization) | B19: i. Cash balance - petty cash
B20: ii. Cash balance at bank accounts
B21: SND Bank account - STB MEG | I21: =+C172 -> 2621.426 | O21: =I172 -> 1465.782 | U21: =O172 -> 2872.623 | AA21: =U172 -> 2386.2266 | AG21: =AA172 -> 4219.1906 | AM21: =AG172 -> 1464.8226 | AS21: =AM172 -> 1961.0586
B22: SNA Bank account - STB | D22: 12925.084 | J22: =+D153 -> -456592.92 | P22: =J153 -> -211222.95 | V22: =P153 -> -916120.85 | AB22: =V153 -> -1101323.1 | AH22: =AB153 -> -463197.17 | AN22: =AH153 -> -1218097.3 | AT22: =AN153 -> -766116.47
B23: SNA Bank account -STB Zriba | D23: 0
B24: SNA Bank account -QNB | C24: 211312.77 | D24: 26350.048
B25: SNA Bank account -STB MEG | D25: 0
B26: SNA Bank account - EURO MEG | E26: 712441.03 | K26: =E172 -> 574014.81 | Q26: =K172 -> 430143.32 | W26: =Q172 -> 274287.16 | AC26: =W172 -> 282628.82 | AI26: =AC172 -> 375938.15 | AO26: =AI172 -> 704641.88 | AU26: =AO172 -> 554164.4
B27: SNA Bank account - USD MEG | F27: 889.75 | L27: =F172 -> 889.75 | R27: =L172 -> 889.75 | X27: =R172 -> 889.75 | AD27: =X172 -> 889.75 | AJ27: =AD172 -> 889.75 | AP27: =AJ172 -> 889.75 | AV27: =AP172 -> 889.75
B28: SNR Bank account - STB MEG
B29: TIP Bank account - STB MEG | D29: 7497.564
B30: NBI Bank account - STB MEG | D30: 2637.208
B31: NBI Bank account - EURO MEG | E31: 5.69
B33: iii. Bank Facility Balance | C33: -608589.33 | D33: -3346990.1 | E33: 0 | F33: 0 | I33: =+C148 -> -1208691.3 | J33: =+D148 -> -3506002.8 | K33: =E148 -> 0 | L33: =F148 -> 0 | O33: =I148 -> -1209847 | P33: =J148 -> -3260632.9 | Q33: =K148 -> 0 | R33: =L148 -> 0 | U33: =O148 -> -1208440.1 | V33: =P148 -> -3965530.8 | W33: =Q148 -> 0 | X33: =R148 -> 0 | AA33: =U148 -> -1208926.5 | AB33: =V148 -> -4150733 | AC33: =W148 -> 0 | AD33: =X148 -> 0 | AG33: =AA148 -> -1207093.6 | AH33: =AB148 -> -3512607.1 | AI33: =AC148 -> 0 | AJ33: =AD148 -> 0 | AM33: =AG148 -> -1209847.9 | AN33: =AH148 -> -4267507.2 | AO33: =AI148 -> 0 | AP33: =AJ148 -> 0 | AS33: =AM148 -> -1209351.7 | AT33: =AN148 -> -3815526.4 | AU33: =AO148 -> 0 | AV33: =AP148 -> 0
B34: Facility authorization limit | C34: -1000000 | D34: -3000000 | I34: -1000000 | J34: -3000000 | O34: -1000000 | P34: -3000000 | U34: -1000000 | V34: -3000000 | AA34: -1000000 | AB34: -3000000 | AG34: -1000000 | AH34: -3000000 | AM34: -1000000 | AN34: -3000000 | AS34: -1000000 | AT34: -3000000
B36: A.CASH FLOW FROM OPERATIONS
B37: A.1 Cash Inflows
A38: Maturing receivables
B39: i. Receipts form Clients - In progress (EN COURS) | C39: =SUM(C40:C43) -> 87434.754 | D39: =SUM(D40:D43) -> 0 | E39: =SUM(E40:E43) -> 0 | F39: =SUM(F40:F43) -> 0 | G39: =SUM(G40:G43) -> 87434.754 | H39: =SUM(H40:H43) -> 26230.426 | I39: =SUM(I40:I43) -> 0 | J39: =SUM(J40:J43) -> 0 | ... AX39: =SUM(AX40:AX43) -> 0 | AZ39: =SUM(G39,S39,Y39,AE39,AK39,AQ39,AW39,M39) -> 87434.754
B40: Cheque | C40: =SUMIFS('Maturing receivables'!$K:$K,'Maturing receivables'!$S:$S,Vertical_Cash_flow!C$11,'Maturing receivables'!$J:$J,Vertical_Cash_flow!C$15,'Maturing receivables'!$A:$A,Vertical_Cash_flow!$C$14,'Maturing receivables'!$G:$G,Vertical_Cash_flow!$B40,'Maturing receivables'!$F:$F,Vertical_Cash_flow!$B$39) -> 87434.754 | D40: =SUMIFS('Maturing receivables'!$K:$K,'Maturing receivables'!$S:$S,Vertical_Cash_flow!C$11,'Maturing receivables'!$J:$J,Vertical_Cash_flow!D$15,'Maturing receivables'!$A:$A,Vertical_Cash_flow!$D$14,'Maturing receivables'!$G:$G,Vertical_Cash_flow!$B40,'Maturing receivables'!$F:$F,Vertical_Cash_flow!$B$39) -> 0 | E40: =SUMIFS('Maturing receivables'!$K:$K,'Maturing receivables'!$S:$S,Vertical_Cash_flow!C$11,'Maturing receivables'!$J:$J,Vertical_Cash_flow!E$15,'Maturing receivables'!$A:$A,Vertical_Cash_flow!$E$14,'Maturing receivables'!$G:$G,Vertical_Cash_flow!$B40,'Maturing receivables'!$F:$F,Vertical_Cash_flow!$B$39) -> 0 | F40: =SUMIFS('Maturing receivables'!$K:$K,'Maturing receivables'!$S:$S,Vertical_Cash_flow!C$11,'Maturing receivables'!$J:$J,Vertical_Cash_flow!F$15,'Maturing receivables'!$A:$A,Vertical_Cash_flow!$F$14,'Maturing receivables'!$G:$G,Vertical_Cash_flow!$B40,'Maturing receivables'!$F:$F,Vertical_Cash_flow!$B$39) -> 0 | G40: =C40+D40+E40/$C$16+F40/$F$16 -> 87434.754 | H40: =G40*$C$16 -> 26230.426 | I40: =SUMIFS('Maturing receivables'!$K:$K,'Maturing receivables'!$S:$S,Vertical_Cash_flow!I$11,'Maturing receivables'!$J:$J,Vertical_Cash_flow!I$15,'Maturing receivables'!$A:$A,Vertical_Cash_flow!$C$14,'Maturing receivables'!$G:$G,Vertical_Cash_flow!$B40,'Maturing receivables'!$F:$F,Vertical_Cash_flow!$B$39) -> 0 | J40: =SUMIFS('Maturing receivables'!$K:$K,'Maturing receivables'!$S:$S,Vertical_Cash_flow!I$11,'Maturing receivables'!$J:$J,Vertical_Cash_flow!J$15,'Maturing receivables'!$A:$A,Vertical_Cash_flow!$D$14,'Maturing receivables'!$G:$G,Vertical_Cash_flow!$B40,'Maturing receivables'!$F:$F,Vertical_Cash_flow!$B$39) -> 0 | K40: =SUMIFS('Maturing receivables'!$K:$K,'Maturing receivables'!$S:$S,Vertical_Cash_flow!I$11,'Maturing receivables'!$J:$J,Vertical_Cash_flow!K$15,'Maturing receivables'!$A:$A,Vertical_Cash_flow!$E$14,'Maturing receivables'!$G:$G,Vertical_Cash_flow!$B40,'Maturing receivables'!$F:$F,Vertical_Cash_flow!$B$39) -> 0 | L40: =SUMIFS('Maturing receivables'!$K:$K,'Maturing receivables'!$S:$S,Vertical_Cash_flow!I$11,'Maturing receivables'!$J:$J,Vertical_Cash_flow!L$15,'Maturing receivables'!$A:$A,Vertical_Cash_flow!$F$14,'Maturing receivables'!$G:$G,Vertical_Cash_flow!$B40,'Maturing receivables'!$F:$F,Vertical_Cash_flow!$B$39) -> 0 | M40: =I40+J40+K40/$C$16+L40/$F$16 -> 0 | N40: =M40*$C$16 -> 0 | O40: =SUMIFS('Maturing receivables'!$K:$K,'Maturing receivables'!$S:$S,Vertical_Cash_flow!O$11,'Maturing receivables'!$J:$J,Vertical_Cash_flow!O$15,'Maturing receivables'!$A:$A,Vertical_Cash_flow!$C$14,'Maturing receivables'!$G:$G,Vertical_Cash_flow!$B40,'Maturing receivables'!$F:$F,Vertical_Cash_flow!$B$39) -> 0 | P40: =SUMIFS('Maturing receivables'!$K:$K,'Maturing receivables'!$S:$S,Vertical_Cash_flow!O$11,'Maturing receivables'!$J:$J,Vertical_Cash_flow!P$15,'Maturing receivables'!$A:$A,Vertical_Cash_flow!$D$14,'Maturing receivables'!$G:$G,Vertical_Cash_flow!$B40,'Maturing receivables'!$F:$F,Vertical_Cash_flow!$B$39) -> 0 | Q40: =SUMIFS('Maturing receivables'!$K:$K,'Maturing receivables'!$S:$S,Vertical_Cash_flow!O$11,'Maturing receivables'!$J:$J,Vertical_Cash_flow!Q$15,'Maturing receivables'!$A:$A,Vertical_Cash_flow!$E$14,'Maturing receivables'!$G:$G,Vertical_Cash_flow!$B40,'Maturing receivables'!$F:$F,Vertical_Cash_flow!$B$39) -> 0 | R40: =SUMIFS('Maturing receivables'!$K:$K,'Maturing receivables'!$S:$S,Vertical_Cash_flow!O$11,'Maturing receivables'!$J:$J,Vertical_Cash_flow!R$15,'Maturing receivables'!$A:$A,Vertical_Cash_flow!$F$14,'Maturing receivables'!$G:$G,Vertical_Cash_flow!$B40,'Maturing receivables'!$F:$F,Vertical_Cash_flow!$B$39) -> 0 | S40: =O40+P40+Q40/$C$16+R40/$F$16 -> 0 | T40: =S40*$C$16 -> 0 | U40: =SUMIFS('Maturing receivables'!$K:$K,'Maturing receivables'!$S:$S,Vertical_Cash_flow!U$11,'Maturing receivables'!$J:$J,Vertical_Cash_flow!U$15,'Maturing receivables'!$A:$A,Vertical_Cash_flow!$C$14,'Maturing receivables'!$G:$G,Vertical_Cash_flow!$B40,'Maturing receivables'!$F:$F,Vertical_Cash_flow!$B$39) -> 0 | V40: =SUMIFS('Maturing receivables'!$K:$K,'Maturing receivables'!$S:$S,Vertical_Cash_flow!U$11,'Maturing receivables'!$J:$J,Vertical_Cash_flow!V$15,'Maturing receivables'!$A:$A,Vertical_Cash_flow!$D$14,'Maturing receivables'!$G:$G,Vertical_Cash_flow!$B40,'Maturing receivables'!$F:$F,Vertical_Cash_flow!$B$39) -> 0 | W40: =SUMIFS('Maturing receivables'!$K:$K,'Maturing receivables'!$S:$S,Vertical_Cash_flow!U$11,'Maturing receivables'!$J:$J,Vertical_Cash_flow!W$15,'Maturing receivables'!$A:$A,Vertical_Cash_flow!$E$14,'Maturing receivables'!$G:$G,Vertical_Cash_flow!$B40,'Maturing receivables'!$F:$F,Vertical_Cash_flow!$B$39) -> 0 | X40: =SUMIFS('Maturing receivables'!$K:$K,'Maturing receivables'!$S:$S,Vertical_Cash_flow!U$11,'Maturing receivables'!$J:$J,Vertical_Cash_flow!X$15,'Maturing receivables'!$A:$A,Vertical_Cash_flow!$F$14,'Maturing receivables'!$G:$G,Vertical_Cash_flow!$B40,'Maturing receivables'!$F:$F,Vertical_Cash_flow!$B$39) -> 0 | Y40: =U40+V40+W40/$C$16+X40/$F$16 -> 0 | Z40: =Y40*$C$16 -> 0 | AA40: =SUMIFS('Maturing receivables'!$K:$K,'Maturing receivables'!$S:$S,Vertical_Cash_flow!AA$11,'Maturing receivables'!$J:$J,Vertical_Cash_flow!AA$15,'Maturing receivables'!$A:$A,Vertical_Cash_flow!$C$14,'Maturing receivables'!$G:$G,Vertical_Cash_flow!$B40,'Maturing receivables'!$F:$F,Vertical_Cash_flow!$B$39) -> 0 | AB40: =SUMIFS('Maturing receivables'!$K:$K,'Maturing receivables'!$S:$S,Vertical_Cash_flow!AA$11,'Maturing receivables'!$J:$J,Vertical_Cash_flow!AB$15,'Maturing receivables'!$A:$A,Vertical_Cash_flow!$D$14,'Maturing receivables'!$G:$G,Vertical_Cash_flow!$B40,'Maturing receivables'!$F:$F,Vertical_Cash_flow!$B$39) -> 0 | AC40: =SUMIFS('Maturing receivables'!$K:$K,'Maturing receivables'!$S:$S,Vertical_Cash_flow!AA$11,'Maturing receivables'!$J:$J,Vertical_Cash_flow!AC$15,'Maturing receivables'!$A:$A,Vertical_Cash_flow!$E$14,'Maturing receivables'!$G:$G,Vertical_Cash_flow!$B40,'Maturing receivables'!$F:$F,Vertical_Cash_flow!$B$39) -> 0 | AD40: =SUMIFS('Maturing receivables'!$K:$K,'Maturing receivables'!$S:$S,Vertical_Cash_flow!AA$11,'Maturing receivables'!$J:$J,Vertical_Cash_flow!AD$15,'Maturing receivables'!$A:$A,Vertical_Cash_flow!$F$14,'Maturing receivables'!$G:$G,Vertical_Cash_flow!$B40,'Maturing receivables'!$F:$F,Vertical_Cash_flow!$B$39) -> 0 | AE40: =AA40+AB40+AC40/$C$16+AD40/$F$16 -> 0 | AF40: =AE40*$C$16 -> 0 | AG40: =SUMIFS('Maturing receivables'!$K:$K,'Maturing receivables'!$S:$S,Vertical_Cash_flow!AG$11,'Maturing receivables'!$J:$J,Vertical_Cash_flow!AG$15,'Maturing receivables'!$A:$A,Vertical_Cash_flow!$C$14,'Maturing receivables'!$G:$G,Vertical_Cash_flow!$B40,'Maturing receivables'!$F:$F,Vertical_Cash_flow!$B$39) -> 0 | AH40: =SUMIFS('Maturing receivables'!$K:$K,'Maturing receivables'!$S:$S,Vertical_Cash_flow!AG$11,'Maturing receivables'!$J:$J,Vertical_Cash_flow!AH$15,'Maturing receivables'!$A:$A,Vertical_Cash_flow!$D$14,'Maturing receivables'!$G:$G,Vertical_Cash_flow!$B40,'Maturing receivables'!$F:$F,Vertical_Cash_flow!$B$39) -> 0 | AI40: =SUMIFS('Maturing receivables'!$K:$K,'Maturing receivables'!$S:$S,Vertical_Cash_flow!AG$11,'Maturing receivables'!$J:$J,Vertical_Cash_flow!AI$15,'Maturing receivables'!$A:$A,Vertical_Cash_flow!$E$14,'Maturing receivables'!$G:$G,Vertical_Cash_flow!$B40,'Maturing receivables'!$F:$F,Vertical_Cash_flow!$B$39) -> 0 | AJ40: =SUMIFS('Maturing receivables'!$K:$K,'Maturing receivables'!$S:$S,Vertical_Cash_flow!AG$11,'Maturing receivables'!$J:$J,Vertical_Cash_flow!AJ$15,'Maturing receivables'!$A:$A,Vertical_Cash_flow!$F$14,'Maturing receivables'!$G:$G,Vertical_Cash_flow!$B40,'Maturing receivables'!$F:$F,Vertical_Cash_flow!$B$39) -> 0 | AK40: =AG40+AH40+AI40/$C$16+AJ40/$F$16 -> 0 | AL40: =AK40*$C$16 -> 0 | AM40: =SUMIFS('Maturing receivables'!$K:$K,'Maturing receivables'!$S:$S,Vertical_Cash_flow!AM$11,'Maturing receivables'!$J:$J,Vertical_Cash_flow!AM$15,'Maturing receivables'!$A:$A,Vertical_Cash_flow!$C$14,'Maturing receivables'!$G:$G,Vertical_Cash_flow!$B40,'Maturing receivables'!$F:$F,Vertical_Cash_flow!$B$39) -> 0 | AN40: =SUMIFS('Maturing receivables'!$K:$K,'Maturing receivables'!$S:$S,Vertical_Cash_flow!AM$11,'Maturing receivables'!$J:$J,Vertical_Cash_flow!AN$15,'Maturing receivables'!$A:$A,Vertical_Cash_flow!$D$14,'Maturing receivables'!$G:$G,Vertical_Cash_flow!$B40,'Maturing receivables'!$F:$F,Vertical_Cash_flow!$B$39) -> 0 | AO40: =SUMIFS('Maturing receivables'!$K:$K,'Maturing receivables'!$S:$S,Vertical_Cash_flow!AM$11,'Maturing receivables'!$J:$J,Vertical_Cash_flow!AO$15,'Maturing receivables'!$A:$A,Vertical_Cash_flow!$E$14,'Maturing receivables'!$G:$G,Vertical_Cash_flow!$B40,'Maturing receivables'!$F:$F,Vertical_Cash_flow!$B$39) -> 0 | AP40: =SUMIFS('Maturing receivables'!$K:$K,'Maturing receivables'!$S:$S,Vertical_Cash_flow!AM$11,'Maturing receivables'!$J:$J,Vertical_Cash_flow!AP$15,'Maturing receivables'!$A:$A,Vertical_Cash_flow!$F$14,'Maturing receivables'!$G:$G,Vertical_Cash_flow!$B40,'Maturing receivables'!$F:$F,Vertical_Cash_flow!$B$39) -> 0 | AQ40: =AM40+AN40+AO40/$C$16+AP40/$F$16 -> 0 | AR40: =AQ40*$C$16 -> 0 | AS40: =SUMIFS('Maturing receivables'!$K:$K,'Maturing receivables'!$S:$S,Vertical_Cash_flow!AS$11,'Maturing receivables'!$J:$J,Vertical_Cash_flow!AS$15,'Maturing receivables'!$A:$A,Vertical_Cash_flow!$C$14,'Maturing receivables'!$G:$G,Vertical_Cash_flow!$B40,'Maturing receivables'!$F:$F,Vertical_Cash_flow!$B$39) -> 0 | AT40: =SUMIFS('Maturing receivables'!$K:$K,'Maturing receivables'!$S:$S,Vertical_Cash_flow!AS$11,'Maturing receivables'!$J:$J,Vertical_Cash_flow!AT$15,'Maturing receivables'!$A:$A,Vertical_Cash_flow!$D$14,'Maturing receivables'!$G:$G,Vertical_Cash_flow!$B40,'Maturing receivables'!$F:$F,Vertical_Cash_flow!$B$39) -> 0 | AU40: =SUMIFS('Maturing receivables'!$K:$K,'Maturing receivables'!$S:$S,Vertical_Cash_flow!AS$11,'Maturing receivables'!$J:$J,Vertical_Cash_flow!AU$15,'Maturing receivables'!$A:$A,Vertical_Cash_flow!$E$14,'Maturing receivables'!$G:$G,Vertical_Cash_flow!$B40,'Maturing receivables'!$F:$F,Vertical_Cash_flow!$B$39) -> 0 | AV40: =SUMIFS('Maturing receivables'!$K:$K,'Maturing receivables'!$S:$S,Vertical_Cash_flow!AS$11,'Maturing receivables'!$J:$J,Vertical_Cash_flow!AV$15,'Maturing receivables'!$A:$A,Vertical_Cash_flow!$F$14,'Maturing receivables'!$G:$G,Vertical_Cash_flow!$B40,'Maturing receivables'!$F:$F,Vertical_Cash_flow!$B$39) -> 0 | AW40: =AS40+AT40+AU40/$C$16+AV40/$F$16 -> 0 | AX40: =AW40*$C$16 -> 0 | AZ40: =SUM(G40,S40,Y40,AE40,AK40,AQ40,AW40,M40) -> 87434.754
B41: Escompte | C41: =SUMIFS('Maturing receivables'!$K:$K,'Maturing receivables'!$S:$S,Vertical_Cash_flow!C$11,'Maturing receivables'!$J:$J,Vertical_Cash_flow!C$15,'Maturing receivables'!$A:$A,Vertical_Cash_flow!$C$14,'Maturing receivables'!$G:$G,Vertical_Cash_flow!$B41,'Maturing receivables'!$F:$F,Vertical_Cash_flow!$B$39) -> 0 | D41: =SUMIFS('Maturing receivables'!$K:$K,'Maturing receivables'!$S:$S,Vertical_Cash_flow!C$11,'Maturing receivables'!$J:$J,Vertical_Cash_flow!D$15,'Maturing receivables'!$A:$A,Vertical_Cash_flow!$D$14,'Maturing receivables'!$G:$G,Vertical_Cash_flow!$B41,'Maturing receivables'!$F:$F,Vertical_Cash_flow!$B$39) -> 0 | E41: =SUMIFS('Maturing receivables'!$K:$K,'Maturing receivables'!$S:$S,Vertical_Cash_flow!C$11,'Maturing receivables'!$J:$J,Vertical_Cash_flow!E$15,'Maturing receivables'!$A:$A,Vertical_Cash_flow!$E$14,'Maturing receivables'!$G:$G,Vertical_Cash_flow!$B41,'Maturing receivables'!$F:$F,Vertical_Cash_flow!$B$39) -> 0 | F41: =SUMIFS('Maturing receivables'!$K:$K,'Maturing receivables'!$S:$S,Vertical_Cash_flow!C$11,'Maturing receivables'!$J:$J,Vertical_Cash_flow!F$15,'Maturing receivables'!$A:$A,Vertical_Cash_flow!$F$14,'Maturing receivables'!$G:$G,Vertical_Cash_flow!$B41,'Maturing receivables'!$F:$F,Vertical_Cash_flow!$B$39) -> 0 | G41: =C41+D41+E41/$C$16+F41/$F$16 -> 0 | H41: =G41*$C$16 -> 0 | I41: =SUMIFS('Maturing receivables'!$K:$K,'Maturing receivables'!$S:$S,Vertical_Cash_flow!I$11,'Maturing receivables'!$J:$J,Vertical_Cash_flow!I$15,'Maturing receivables'!$A:$A,Vertical_Cash_flow!$C$14,'Maturing receivables'!$G:$G,Vertical_Cash_flow!$B41,'Maturing receivables'!$F:$F,Vertical_Cash_flow!$B$39) -> 0 | J41: =SUMIFS('Maturing receivables'!$K:$K,'Maturing receivables'!$S:$S,Vertical_Cash_flow!I$11,'Maturing receivables'!$J:$J,Vertical_Cash_flow!J$15,'Maturing receivables'!$A:$A,Vertical_Cash_flow!$D$14,'Maturing receivables'!$G:$G,Vertical_Cash_flow!$B41,'Maturing receivables'!$F:$F,Vertical_Cash_flow!$B$39) -> 0 | K41: =SUMIFS('Maturing receivables'!$K:$K,'Maturing receivables'!$S:$S,Vertical_Cash_flow!I$11,'Maturing receivables'!$J:$J,Vertical_Cash_flow!K$15,'Maturing receivables'!$A:$A,Vertical_Cash_flow!$E$14,'Maturing receivables'!$G:$G,Vertical_Cash_flow!$B41,'Maturing receivables'!$F:$F,Vertical_Cash_flow!$B$39) -> 0 | L41: =SUMIFS('Maturing receivables'!$K:$K,'Maturing receivables'!$S:$S,Vertical_Cash_flow!I$11,'Maturing receivables'!$J:$J,Vertical_Cash_flow!L$15,'Maturing receivables'!$A:$A,Vertical_Cash_flow!$F$14,'Maturing receivables'!$G:$G,Vertical_Cash_flow!$B41,'Maturing receivables'!$F:$F,Vertical_Cash_flow!$B$39) -> 0 | M41: =I41+J41+K41/$C$16+L41/$F$16 -> 0 | N41: =M41*$C$16 -> 0 | O41: =SUMIFS('Maturing receivables'!$K:$K,'Maturing receivables'!$S:$S,Vertical_Cash_flow!O$11,'Maturing receivables'!$J:$J,Vertical_Cash_flow!O$15,'Maturing receivables'!$A:$A,Vertical_Cash_flow!$C$14,'Maturing receivables'!$G:$G,Vertical_Cash_flow!$B41,'Maturing receivables'!$F:$F,Vertical_Cash_flow!$B$39) -> 0 | P41: =SUMIFS('Maturing receivables'!$K:$K,'Maturing receivables'!$S:$S,Vertical_Cash_flow!O$11,'Maturing receivables'!$J:$J,Vertical_Cash_flow!P$15,'Maturing receivables'!$A:$A,Vertical_Cash_flow!$D$14,'Maturing receivables'!$G:$G,Vertical_Cash_flow!$B41,'Maturing receivables'!$F:$F,Vertical_Cash_flow!$B$39) -> 0 | Q41: =SUMIFS('Maturing receivables'!$K:$K,'Maturing receivables'!$S:$S,Vertical_Cash_flow!O$11,'Maturing receivables'!$J:$J,Vertical_Cash_flow!Q$15,'Maturing receivables'!$A:$A,Vertical_Cash_flow!$E$14,'Maturing receivables'!$G:$G,Vertical_Cash_flow!$B41,'Maturing receivables'!$F:$F,Vertical_Cash_flow!$B$39) -> 0 | R41: =SUMIFS('Maturing receivables'!$K:$K,'Maturing receivables'!$S:$S,Vertical_Cash_flow!O$11,'Maturing receivables'!$J:$J,Vertical_Cash_flow!R$15,'Maturing receivables'!$A:$A,Vertical_Cash_flow!$F$14,'Maturing receivables'!$G:$G,Vertical_Cash_flow!$B41,'Maturing receivables'!$F:$F,Vertical_Cash_flow!$B$39) -> 0 | S41: =O41+P41+Q41/$C$16+R41/$F$16 -> 0 | T41: =S41*$C$16 -> 0 | U41: =SUMIFS('Maturing receivables'!$K:$K,'Maturing receivables'!$S:$S,Vertical_Cash_flow!U$11,'Maturing receivables'!$J:$J,Vertical_Cash_flow!U$15,'Maturing receivables'!$A:$A,Vertical_Cash_flow!$C$14,'Maturing receivables'!$G:$G,Vertical_Cash_flow!$B41,'Maturing receivables'!$F:$F,Vertical_Cash_flow!$B$39) -> 0 | V41: =SUMIFS('Maturing receivables'!$K:$K,'Maturing receivables'!$S:$S,Vertical_Cash_flow!U$11,'Maturing receivables'!$J:$J,Vertical_Cash_flow!V$15,'Maturing receivables'!$A:$A,Vertical_Cash_flow!$D$14,'Maturing receivables'!$G:$G,Vertical_Cash_flow!$B41,'Maturing receivables'!$F:$F,Vertical_Cash_flow!$B$39) -> 0 | W41: =SUMIFS('Maturing receivables'!$K:$K,'Maturing receivables'!$S:$S,Vertical_Cash_flow!U$11,'Maturing receivables'!$J:$J,Vertical_Cash_flow!W$15,'Maturing receivables'!$A:$A,Vertical_Cash_flow!$E$14,'Maturing receivables'!$G:$G,Vertical_Cash_flow!$B41,'Maturing receivables'!$F:$F,Vertical_Cash_flow!$B$39) -> 0 | X41: =SUMIFS('Maturing receivables'!$K:$K,'Maturing receivables'!$S:$S,Vertical_Cash_flow!U$11,'Maturing receivables'!$J:$J,Vertical_Cash_flow!X$15,'Maturing receivables'!$A:$A,Vertical_Cash_flow!$F$14,'Maturing receivables'!$G:$G,Vertical_Cash_flow!$B41,'Maturing receivables'!$F:$F,Vertical_Cash_flow!$B$39) -> 0 | Y41: =U41+V41+W41/$C$16+X41/$F$16 -> 0 | Z41: =Y41*$C$16 -> 0 | AA41: =SUMIFS('Maturing receivables'!$K:$K,'Maturing receivables'!$S:$S,Vertical_Cash_flow!AA$11,'Maturing receivables'!$J:$J,Vertical_Cash_flow!AA$15,'Maturing receivables'!$A:$A,Vertical_Cash_flow!$C$14,'Maturing receivables'!$G:$G,Vertical_Cash_flow!$B41,'Maturing receivables'!$F:$F,Vertical_Cash_flow!$B$39) -> 0 | AB41: =SUMIFS('Maturing receivables'!$K:$K,'Maturing receivables'!$S:$S,Vertical_Cash_flow!AA$11,'Maturing receivables'!$J:$J,Vertical_Cash_flow!AB$15,'Maturing receivables'!$A:$A,Vertical_Cash_flow!$D$14,'Maturing receivables'!$G:$G,Vertical_Cash_flow!$B41,'Maturing receivables'!$F:$F,Vertical_Cash_flow!$B$39) -> 0 | AC41: =SUMIFS('Maturing receivables'!$K:$K,'Maturing receivables'!$S:$S,Vertical_Cash_flow!AA$11,'Maturing receivables'!$J:$J,Vertical_Cash_flow!AC$15,'Maturing receivables'!$A:$A,Vertical_Cash_flow!$E$14,'Maturing receivables'!$G:$G,Vertical_Cash_flow!$B41,'Maturing receivables'!$F:$F,Vertical_Cash_flow!$B$39) -> 0 | AD41: =SUMIFS('Maturing receivables'!$K:$K,'Maturing receivables'!$S:$S,Vertical_Cash_flow!AA$11,'Maturing receivables'!$J:$J,Vertical_Cash_flow!AD$15,'Maturing receivables'!$A:$A,Vertical_Cash_flow!$F$14,'Maturing receivables'!$G:$G,Vertical_Cash_flow!$B41,'Maturing receivables'!$F:$F,Vertical_Cash_flow!$B$39) -> 0 | AE41: =AA41+AB41+AC41/$C$16+AD41/$F$16 -> 0 | AF41: =AE41*$C$16 -> 0 | AG41: =SUMIFS('Maturing receivables'!$K:$K,'Maturing receivables'!$S:$S,Vertical_Cash_flow!AG$11,'Maturing receivables'!$J:$J,Vertical_Cash_flow!AG$15,'Maturing receivables'!$A:$A,Vertical_Cash_flow!$C$14,'Maturing receivables'!$G:$G,Vertical_Cash_flow!$B41,'Maturing receivables'!$F:$F,Vertical_Cash_flow!$B$39) -> 0 | AH41: =SUMIFS('Maturing receivables'!$K:$K,'Maturing receivables'!$S:$S,Vertical_Cash_flow!AG$11,'Maturing receivables'!$J:$J,Vertical_Cash_flow!AH$15,'Maturing receivables'!$A:$A,Vertical_Cash_flow!$D$14,'Maturing receivables'!$G:$G,Vertical_Cash_flow!$B41,'Maturing receivables'!$F:$F,Vertical_Cash_flow!$B$39) -> 0 | AI41: =SUMIFS('Maturing receivables'!$K:$K,'Maturing receivables'!$S:$S,Vertical_Cash_flow!AG$11,'Maturing receivables'!$J:$J,Vertical_Cash_flow!AI$15,'Maturing receivables'!$A:$A,Vertical_Cash_flow!$E$14,'Maturing receivables'!$G:$G,Vertical_Cash_flow!$B41,'Maturing receivables'!$F:$F,Vertical_Cash_flow!$B$39) -> 0 | AJ41: =SUMIFS('Maturing receivables'!$K:$K,'Maturing receivables'!$S:$S,Vertical_Cash_flow!AG$11,'Maturing receivables'!$J:$J,Vertical_Cash_flow!AJ$15,'Maturing receivables'!$A:$A,Vertical_Cash_flow!$F$14,'Maturing receivables'!$G:$G,Vertical_Cash_flow!$B41,'Maturing receivables'!$F:$F,Vertical_Cash_flow!$B$39) -> 0 | AK41: =AG41+AH41+AI41/$C$16+AJ41/$F$16 -> 0 | AL41: =AK41*$C$16 -> 0 | AM41: =SUMIFS('Maturing receivables'!$K:$K,'Maturing receivables'!$S:$S,Vertical_Cash_flow!AM$11,'Maturing receivables'!$J:$J,Vertical_Cash_flow!AM$15,'Maturing receivables'!$A:$A,Vertical_Cash_flow!$C$14,'Maturing receivables'!$G:$G,Vertical_Cash_flow!$B41,'Maturing receivables'!$F:$F,Vertical_Cash_flow!$B$39) -> 0 | AN41: =SUMIFS('Maturing receivables'!$K:$K,'Maturing receivables'!$S:$S,Vertical_Cash_flow!AM$11,'Maturing receivables'!$J:$J,Vertical_Cash_flow!AN$15,'Maturing receivables'!$A:$A,Vertical_Cash_flow!$D$14,'Maturing receivables'!$G:$G,Vertical_Cash_flow!$B41,'Maturing receivables'!$F:$F,Vertical_Cash_flow!$B$39) -> 0 | AO41: =SUMIFS('Maturing receivables'!$K:$K,'Maturing receivables'!$S:$S,Vertical_Cash_flow!AM$11,'Maturing receivables'!$J:$J,Vertical_Cash_flow!AO$15,'Maturing receivables'!$A:$A,Vertical_Cash_flow!$E$14,'Maturing receivables'!$G:$G,Vertical_Cash_flow!$B41,'Maturing receivables'!$F:$F,Vertical_Cash_flow!$B$39) -> 0 | AP41: =SUMIFS('Maturing receivables'!$K:$K,'Maturing receivables'!$S:$S,Vertical_Cash_flow!AM$11,'Maturing receivables'!$J:$J,Vertical_Cash_flow!AP$15,'Maturing receivables'!$A:$A,Vertical_Cash_flow!$F$14,'Maturing receivables'!$G:$G,Vertical_Cash_flow!$B41,'Maturing receivables'!$F:$F,Vertical_Cash_flow!$B$39) -> 0 | AQ41: =AM41+AN41+AO41/$C$16+AP41/$F$16 -> 0 | AR41: =AQ41*$C$16 -> 0 | AS41: =SUMIFS('Maturing receivables'!$K:$K,'Maturing receivables'!$S:$S,Vertical_Cash_flow!AS$11,'Maturing receivables'!$J:$J,Vertical_Cash_flow!AS$15,'Maturing receivables'!$A:$A,Vertical_Cash_flow!$C$14,'Maturing receivables'!$G:$G,Vertical_Cash_flow!$B41,'Maturing receivables'!$F:$F,Vertical_Cash_flow!$B$39) -> 0 | AT41: =SUMIFS('Maturing receivables'!$K:$K,'Maturing receivables'!$S:$S,Vertical_Cash_flow!AS$11,'Maturing receivables'!$J:$J,Vertical_Cash_flow!AT$15,'Maturing receivables'!$A:$A,Vertical_Cash_flow!$D$14,'Maturing receivables'!$G:$G,Vertical_Cash_flow!$B41,'Maturing receivables'!$F:$F,Vertical_Cash_flow!$B$39) -> 0 | AU41: =SUMIFS('Maturing receivables'!$K:$K,'Maturing receivables'!$S:$S,Vertical_Cash_flow!AS$11,'Maturing receivables'!$J:$J,Vertical_Cash_flow!AU$15,'Maturing receivables'!$A:$A,Vertical_Cash_flow!$E$14,'Maturing receivables'!$G:$G,Vertical_Cash_flow!$B41,'Maturing receivables'!$F:$F,Vertical_Cash_flow!$B$39) -> 0 | AV41: =SUMIFS('Maturing receivables'!$K:$K,'Maturing receivables'!$S:$S,Vertical_Cash_flow!AS$11,'Maturing receivables'!$J:$J,Vertical_Cash_flow!AV$15,'Maturing receivables'!$A:$A,Vertical_Cash_flow!$F$14,'Maturing receivables'!$G:$G,Vertical_Cash_flow!$B41,'Maturing receivables'!$F:$F,Vertical_Cash_flow!$B$39) -> 0 | AW41: =AS41+AT41+AU41/$C$16+AV41/$F$16 -> 0 | AX41: =AW41*$C$16 -> 0 | AZ41: =SUM(G41,S41,Y41,AE41,AK41,AQ41,AW41,M41) -> 0
B42: Espece | C42: =SUMIFS('Maturing receivables'!$K:$K,'Maturing receivables'!$S:$S,Vertical_Cash_flow!C$11,'Maturing receivables'!$J:$J,Vertical_Cash_flow!C$15,'Maturing receivables'!$A:$A,Vertical_Cash_flow!$C$14,'Maturing receivables'!$G:$G,Vertical_Cash_flow!$B42,'Maturing receivables'!$F:$F,Vertical_Cash_flow!$B$39) -> 0 | D42: =SUMIFS('Maturing receivables'!$K:$K,'Maturing receivables'!$S:$S,Vertical_Cash_flow!C$11,'Maturing receivables'!$J:$J,Vertical_Cash_flow!D$15,'Maturing receivables'!$A:$A,Vertical_Cash_flow!$D$14,'Maturing receivables'!$G:$G,Vertical_Cash_flow!$B42,'Maturing receivables'!$F:$F,Vertical_Cash_flow!$B$39) -> 0 | E42: =SUMIFS('Maturing receivables'!$K:$K,'Maturing receivables'!$S:$S,Vertical_Cash_flow!C$11,'Maturing receivables'!$J:$J,Vertical_Cash_flow!E$15,'Maturing receivables'!$A:$A,Vertical_Cash_flow!$E$14,'Maturing receivables'!$G:$G,Vertical_Cash_flow!$B42,'Maturing receivables'!$F:$F,Vertical_Cash_flow!$B$39) -> 0 | F42: =SUMIFS('Maturing receivables'!$K:$K,'Maturing receivables'!$S:$S,Vertical_Cash_flow!C$11,'Maturing receivables'!$J:$J,Vertical_Cash_flow!F$15,'Maturing receivables'!$A:$A,Vertical_Cash_flow!$F$14,'Maturing receivables'!$G:$G,Vertical_Cash_flow!$B42,'Maturing receivables'!$F:$F,Vertical_Cash_flow!$B$39) -> 0 | G42: =C42+D42+E42/$C$16+F42/$F$16 -> 0 | H42: =G42*$C$16 -> 0 | I42: =SUMIFS('Maturing receivables'!$K:$K,'Maturing receivables'!$S:$S,Vertical_Cash_flow!I$11,'Maturing receivables'!$J:$J,Vertical_Cash_flow!I$15,'Maturing receivables'!$A:$A,Vertical_Cash_flow!$C$14,'Maturing receivables'!$G:$G,Vertical_Cash_flow!$B42,'Maturing receivables'!$F:$F,Vertical_Cash_flow!$B$39) -> 0 | J42: =SUMIFS('Maturing receivables'!$K:$K,'Maturing receivables'!$S:$S,Vertical_Cash_flow!I$11,'Maturing receivables'!$J:$J,Vertical_Cash_flow!J$15,'Maturing receivables'!$A:$A,Vertical_Cash_flow!$D$14,'Maturing receivables'!$G:$G,Vertical_Cash_flow!$B42,'Maturing receivables'!$F:$F,Vertical_Cash_flow!$B$39) -> 0 | K42: =SUMIFS('Maturing receivables'!$K:$K,'Maturing receivables'!$S:$S,Vertical_Cash_flow!I$11,'Maturing receivables'!$J:$J,Vertical_Cash_flow!K$15,'Maturing receivables'!$A:$A,Vertical_Cash_flow!$E$14,'Maturing receivables'!$G:$G,Vertical_Cash_flow!$B42,'Maturing receivables'!$F:$F,Vertical_Cash_flow!$B$39) -> 0 | L42: =SUMIFS('Maturing receivables'!$K:$K,'Maturing receivables'!$S:$S,Vertical_Cash_flow!I$11,'Maturing receivables'!$J:$J,Vertical_Cash_flow!L$15,'Maturing receivables'!$A:$A,Vertical_Cash_flow!$F$14,'Maturing receivables'!$G:$G,Vertical_Cash_flow!$B42,'Maturing receivables'!$F:$F,Vertical_Cash_flow!$B$39) -> 0 | M42: =I42+J42+K42/$C$16+L42/$F$16 -> 0 | N42: =M42*$C$16 -> 0 | O42: =SUMIFS('Maturing receivables'!$K:$K,'Maturing receivables'!$S:$S,Vertical_Cash_flow!O$11,'Maturing receivables'!$J:$J,Vertical_Cash_flow!O$15,'Maturing receivables'!$A:$A,Vertical_Cash_flow!$C$14,'Maturing receivables'!$G:$G,Vertical_Cash_flow!$B42,'Maturing receivables'!$F:$F,Vertical_Cash_flow!$B$39) -> 0 | P42: =SUMIFS('Maturing receivables'!$K:$K,'Maturing receivables'!$S:$S,Vertical_Cash_flow!O$11,'Maturing receivables'!$J:$J,Vertical_Cash_flow!P$15,'Maturing receivables'!$A:$A,Vertical_Cash_flow!$D$14,'Maturing receivables'!$G:$G,Vertical_Cash_flow!$B42,'Maturing receivables'!$F:$F,Vertical_Cash_flow!$B$39) -> 0 | Q42: =SUMIFS('Maturing receivables'!$K:$K,'Maturing receivables'!$S:$S,Vertical_Cash_flow!O$11,'Maturing receivables'!$J:$J,Vertical_Cash_flow!Q$15,'Maturing receivables'!$A:$A,Vertical_Cash_flow!$E$14,'Maturing receivables'!$G:$G,Vertical_Cash_flow!$B42,'Maturing receivables'!$F:$F,Vertical_Cash_flow!$B$39) -> 0 | R42: =SUMIFS('Maturing receivables'!$K:$K,'Maturing receivables'!$S:$S,Vertical_Cash_flow!O$11,'Maturing receivables'!$J:$J,Vertical_Cash_flow!R$15,'Maturing receivables'!$A:$A,Vertical_Cash_flow!$F$14,'Maturing receivables'!$G:$G,Vertical_Cash_flow!$B42,'Maturing receivables'!$F:$F,Vertical_Cash_flow!$B$39) -> 0 | S42: =O42+P42+Q42/$C$16+R42/$F$16 -> 0 | T42: =S42*$C$16 -> 0 | U42: =SUMIFS('Maturing receivables'!$K:$K,'Maturing receivables'!$S:$S,Vertical_Cash_flow!U$11,'Maturing receivables'!$J:$J,Vertical_Cash_flow!U$15,'Maturing receivables'!$A:$A,Vertical_Cash_flow!$C$14,'Maturing receivables'!$G:$G,Vertical_Cash_flow!$B42,'Maturing receivables'!$F:$F,Vertical_Cash_flow!$B$39) -> 0 | V42: =SUMIFS('Maturing receivables'!$K:$K,'Maturing receivables'!$S:$S,Vertical_Cash_flow!U$11,'Maturing receivables'!$J:$J,Vertical_Cash_flow!V$15,'Maturing receivables'!$A:$A,Vertical_Cash_flow!$D$14,'Maturing receivables'!$G:$G,Vertical_Cash_flow!$B42,'Maturing receivables'!$F:$F,Vertical_Cash_flow!$B$39) -> 0 | W42: =SUMIFS('Maturing receivables'!$K:$K,'Maturing receivables'!$S:$S,Vertical_Cash_flow!U$11,'Maturing receivables'!$J:$J,Vertical_Cash_flow!W$15,'Maturing receivables'!$A:$A,Vertical_Cash_flow!$E$14,'Maturing receivables'!$G:$G,Vertical_Cash_flow!$B42,'Maturing receivables'!$F:$F,Vertical_Cash_flow!$B$39) -> 0 | X42: =SUMIFS('Maturing receivables'!$K:$K,'Maturing receivables'!$S:$S,Vertical_Cash_flow!U$11,'Maturing receivables'!$J:$J,Vertical_Cash_flow!X$15,'Maturing receivables'!$A:$A,Vertical_Cash_flow!$F$14,'Maturing receivables'!$G:$G,Vertical_Cash_flow!$B42,'Maturing receivables'!$F:$F,Vertical_Cash_flow!$B$39) -> 0 | Y42: =U42+V42+W42/$C$16+X42/$F$16 -> 0 | Z42: =Y42*$C$16 -> 0 | AA42: =SUMIFS('Maturing receivables'!$K:$K,'Maturing receivables'!$S:$S,Vertical_Cash_flow!AA$11,'Maturing receivables'!$J:$J,Vertical_Cash_flow!AA$15,'Maturing receivables'!$A:$A,Vertical_Cash_flow!$C$14,'Maturing receivables'!$G:$G,Vertical_Cash_flow!$B42,'Maturing receivables'!$F:$F,Vertical_Cash_flow!$B$39) -> 0 | AB42: =SUMIFS('Maturing receivables'!$K:$K,'Maturing receivables'!$S:$S,Vertical_Cash_flow!AA$11,'Maturing receivables'!$J:$J,Vertical_Cash_flow!AB$15,'Maturing receivables'!$A:$A,Vertical_Cash_flow!$D$14,'Maturing receivables'!$G:$G,Vertical_Cash_flow!$B42,'Maturing receivables'!$F:$F,Vertical_Cash_flow!$B$39) -> 0 | AC42: =SUMIFS('Maturing receivables'!$K:$K,'Maturing receivables'!$S:$S,Vertical_Cash_flow!AA$11,'Maturing receivables'!$J:$J,Vertical_Cash_flow!AC$15,'Maturing receivables'!$A:$A,Vertical_Cash_flow!$E$14,'Maturing receivables'!$G:$G,Vertical_Cash_flow!$B42,'Maturing receivables'!$F:$F,Vertical_Cash_flow!$B$39) -> 0 | AD42: =SUMIFS('Maturing receivables'!$K:$K,'Maturing receivables'!$S:$S,Vertical_Cash_flow!AA$11,'Maturing receivables'!$J:$J,Vertical_Cash_flow!AD$15,'Maturing receivables'!$A:$A,Vertical_Cash_flow!$F$14,'Maturing receivables'!$G:$G,Vertical_Cash_flow!$B42,'Maturing receivables'!$F:$F,Vertical_Cash_flow!$B$39) -> 0 | AE42: =AA42+AB42+AC42/$C$16+AD42/$F$16 -> 0 | AF42: =AE42*$C$16 -> 0 | AG42: =SUMIFS('Maturing receivables'!$K:$K,'Maturing receivables'!$S:$S,Vertical_Cash_flow!AG$11,'Maturing receivables'!$J:$J,Vertical_Cash_flow!AG$15,'Maturing receivables'!$A:$A,Vertical_Cash_flow!$C$14,'Maturing receivables'!$G:$G,Vertical_Cash_flow!$B42,'Maturing receivables'!$F:$F,Vertical_Cash_flow!$B$39) -> 0 | AH42: =SUMIFS('Maturing receivables'!$K:$K,'Maturing receivables'!$S:$S,Vertical_Cash_flow!AG$11,'Maturing receivables'!$J:$J,Vertical_Cash_flow!AH$15,'Maturing receivables'!$A:$A,Vertical_Cash_flow!$D$14,'Maturing receivables'!$G:$G,Vertical_Cash_flow!$B42,'Maturing receivables'!$F:$F,Vertical_Cash_flow!$B$39) -> 0 | AI42: =SUMIFS('Maturing receivables'!$K:$K,'Maturing receivables'!$S:$S,Vertical_Cash_flow!AG$11,'Maturing receivables'!$J:$J,Vertical_Cash_flow!AI$15,'Maturing receivables'!$A:$A,Vertical_Cash_flow!$E$14,'Maturing receivables'!$G:$G,Vertical_Cash_flow!$B42,'Maturing receivables'!$F:$F,Vertical_Cash_flow!$B$39) -> 0 | AJ42: =SUMIFS('Maturing receivables'!$K:$K,'Maturing receivables'!$S:$S,Vertical_Cash_flow!AG$11,'Maturing receivables'!$J:$J,Vertical_Cash_flow!AJ$15,'Maturing receivables'!$A:$A,Vertical_Cash_flow!$F$14,'Maturing receivables'!$G:$G,Vertical_Cash_flow!$B42,'Maturing receivables'!$F:$F,Vertical_Cash_flow!$B$39) -> 0 | AK42: =AG42+AH42+AI42/$C$16+AJ42/$F$16 -> 0 | AL42: =AK42*$C$16 -> 0 | AM42: =SUMIFS('Maturing receivables'!$K:$K,'Maturing receivables'!$S:$S,Vertical_Cash_flow!AM$11,'Maturing receivables'!$J:$J,Vertical_Cash_flow!AM$15,'Maturing receivables'!$A:$A,Vertical_Cash_flow!$C$14,'Maturing receivables'!$G:$G,Vertical_Cash_flow!$B42,'Maturing receivables'!$F:$F,Vertical_Cash_flow!$B$39) -> 0 | AN42: =SUMIFS('Maturing receivables'!$K:$K,'Maturing receivables'!$S:$S,Vertical_Cash_flow!AM$11,'Maturing receivables'!$J:$J,Vertical_Cash_flow!AN$15,'Maturing receivables'!$A:$A,Vertical_Cash_flow!$D$14,'Maturing receivables'!$G:$G,Vertical_Cash_flow!$B42,'Maturing receivables'!$F:$F,Vertical_Cash_flow!$B$39) -> 0 | AO42: =SUMIFS('Maturing receivables'!$K:$K,'Maturing receivables'!$S:$S,Vertical_Cash_flow!AM$11,'Maturing receivables'!$J:$J,Vertical_Cash_flow!AO$15,'Maturing receivables'!$A:$A,Vertical_Cash_flow!$E$14,'Maturing receivables'!$G:$G,Vertical_Cash_flow!$B42,'Maturing receivables'!$F:$F,Vertical_Cash_flow!$B$39) -> 0 | AP42: =SUMIFS('Maturing receivables'!$K:$K,'Maturing receivables'!$S:$S,Vertical_Cash_flow!AM$11,'Maturing receivables'!$J:$J,Vertical_Cash_flow!AP$15,'Maturing receivables'!$A:$A,Vertical_Cash_flow!$F$14,'Maturing receivables'!$G:$G,Vertical_Cash_flow!$B42,'Maturing receivables'!$F:$F,Vertical_Cash_flow!$B$39) -> 0 | AQ42: =AM42+AN42+AO42/$C$16+AP42/$F$16 -> 0 | AR42: =AQ42*$C$16 -> 0 | AS42: =SUMIFS('Maturing receivables'!$K:$K,'Maturing receivables'!$S:$S,Vertical_Cash_flow!AS$11,'Maturing receivables'!$J:$J,Vertical_Cash_flow!AS$15,'Maturing receivables'!$A:$A,Vertical_Cash_flow!$C$14,'Maturing receivables'!$G:$G,Vertical_Cash_flow!$B42,'Maturing receivables'!$F:$F,Vertical_Cash_flow!$B$39) -> 0 | AT42: =SUMIFS('Maturing receivables'!$K:$K,'Maturing receivables'!$S:$S,Vertical_Cash_flow!AS$11,'Maturing receivables'!$J:$J,Vertical_Cash_flow!AT$15,'Maturing receivables'!$A:$A,Vertical_Cash_flow!$D$14,'Maturing receivables'!$G:$G,Vertical_Cash_flow!$B42,'Maturing receivables'!$F:$F,Vertical_Cash_flow!$B$39) -> 0 | AU42: =SUMIFS('Maturing receivables'!$K:$K,'Maturing receivables'!$S:$S,Vertical_Cash_flow!AS$11,'Maturing receivables'!$J:$J,Vertical_Cash_flow!AU$15,'Maturing receivables'!$A:$A,Vertical_Cash_flow!$E$14,'Maturing receivables'!$G:$G,Vertical_Cash_flow!$B42,'Maturing receivables'!$F:$F,Vertical_Cash_flow!$B$39) -> 0 | AV42: =SUMIFS('Maturing receivables'!$K:$K,'Maturing receivables'!$S:$S,Vertical_Cash_flow!AS$11,'Maturing receivables'!$J:$J,Vertical_Cash_flow!AV$15,'Maturing receivables'!$A:$A,Vertical_Cash_flow!$F$14,'Maturing receivables'!$G:$G,Vertical_Cash_flow!$B42,'Maturing receivables'!$F:$F,Vertical_Cash_flow!$B$39) -> 0 | AW42: =AS42+AT42+AU42/$C$16+AV42/$F$16 -> 0 | AX42: =AW42*$C$16 -> 0 | AZ42: =SUM(G42,S42,Y42,AE42,AK42,AQ42,AW42,M42) -> 0
