Workbook
Name ____DTF1: [1]Paramètres!$B$6
Name ____MF81: #REF!
Name ___DTF1: [1]Paramètres!$B$6
Name ___MF81: #REF!
Name __DAT1: '[4]K10 FA register 30 jun 2003'!#REF!
Name __DAT1: '[4]K10 FA register 30 jun 2003'!#REF!
Name __DAT1: '[4]K10 FA register 30 jun 2003'!#REF!
Name __DAT1: '[4]K10 FA register 30 jun 2003'!#REF!
Name __DAT1: '[4]K10 FA register 30 jun 2003'!#REF!
Name __DAT10: '[4]K10 FA register 30 jun 2003'!#REF!
Name __DAT10: '[4]K10 FA register 30 jun 2003'!#REF!
Name __DAT10: '[4]K10 FA register 30 jun 2003'!#REF!
Name __DAT10: '[4]K10 FA register 30 jun 2003'!#REF!
Name __DAT10: '[4]K10 FA register 30 jun 2003'!#REF!
Name __DAT5: '[4]K10 FA register 30 jun 2003'!#REF!
Name __DAT5: '[4]K10 FA register 30 jun 2003'!#REF!
Name __DAT5: '[4]K10 FA register 30 jun 2003'!#REF!
Name __DAT5: '[4]K10 FA register 30 jun 2003'!#REF!
Name __DAT5: '[4]K10 FA register 30 jun 2003'!#REF!
Name __DTF1: [1]Paramètres!$B$6
Name __MF81: #REF!
Name _1: [5]SATIŞ!$A$1:$S$23
Name _1: [6]SATIŞ!$A$1:$S$23
Name _1: [6]SATIŞ!$A$1:$S$23
Name _1: [7]SATIŞ!$A$1:$S$23
Name _2: [5]SATIŞ!$A$27:$S$47
Name _2: [6]SATIŞ!$A$27:$S$47
Name _2: [6]SATIŞ!$A$27:$S$47
Name _2: [7]SATIŞ!$A$27:$S$47
Name _3: [5]SATIŞ!$A$50:$S$71
Name _3: [6]SATIŞ!$A$50:$S$71
Name _3: [6]SATIŞ!$A$50:$S$71
Name _3: [7]SATIŞ!$A$50:$S$71
Name _4: [5]SATIŞ!$A$75:$S$95
Name _4: [6]SATIŞ!$A$75:$S$95
Name _4: [6]SATIŞ!$A$75:$S$95
Name _4: [7]SATIŞ!$A$75:$S$95
Name _5: [5]SATIŞ!$A$99:$S$114
Name _5: [6]SATIŞ!$A$99:$S$114
Name _5: [6]SATIŞ!$A$99:$S$114
Name _5: [7]SATIŞ!$A$99:$S$114
Name _6: [5]SATIŞ!$A$118:$S$134
Name _6: [6]SATIŞ!$A$118:$S$134
Name _6: [6]SATIŞ!$A$118:$S$134
Name _6: [7]SATIŞ!$A$118:$S$134
Name _DAT1: '[4]K10 FA register 30 jun 2003'!#REF!
Name _DAT1: '[4]K10 FA register 30 jun 2003'!#REF!
Name _DAT1: '[4]K10 FA register 30 jun 2003'!#REF!
Name _DAT1: '[4]K10 FA register 30 jun 2003'!#REF!
Name _DAT1: '[4]K10 FA register 30 jun 2003'!#REF!
Name _DAT1: '[4]K10 FA register 30 jun 2003'!#REF!
Name _DAT1: '[4]K10 FA register 30 jun 2003'!#REF!
Name _DAT1: '[4]K10 FA register 30 jun 2003'!#REF!
Name _DAT1: '[4]K10 FA register 30 jun 2003'!#REF!
Name _DAT1: '[4]K10 FA register 30 jun 2003'!#REF!
Name _DAT10: '[4]K10 FA register 30 jun 2003'!#REF!
Name _DAT10: '[4]K10 FA register 30 jun 2003'!#REF!
Name _DAT10: '[4]K10 FA register 30 jun 2003'!#REF!
Name _DAT10: '[4]K10 FA register 30 jun 2003'!#REF!
Name _DAT10: '[4]K10 FA register 30 jun 2003'!#REF!

Sheet Prior BoD
E2: * FORECAST SBU SPLIT
B3: BoD | H3: Hybrid BP July | L3: Range
O4: Forecast
B5: Ch1 | C5: Re-set BP > table + visualisation | D5: H1 - technical varience <delta>reasons | E5: V1 - original July -100, V2>updated Sep BP 110 | H5: H1 Actual | I5: H2 Plan (Q3-Q4) | J5: Hybrid BP
E6: V2> plot to the BP range (Rock bottom, Base plan, Best can do)
B7: Ch2 | C7: Consoldiated Oper. Perf (current Monbat BoD object) | D7: Match current design Monbat > Rev, EBITDA, Net Profit | E7: YTD N-1, N, Gap Y-Y, BP (Q3 perfornance driven) | G7: REV | H7: 1200 | I7: 1700 | J7: =H7+I7 -> 2900
E8: Drill>quantified values on the key variencies (economical elements) | G8: EBITDA | H8: 450 | I8: 500 | J8: =H8+I8 -> 950 | K8: 700 | L8: 950 | M8: 1200 | O8: 750 | P8: =O8-J8 -> -200
B9: Ch3 | C9: Year END Forecast > consolidated and bt SNA/SND (stupit table) | D9: Actuals YTD Sept+ Q4 Forecast | E9: Rev, EBITDA, Net profit | G9: NP | H9: 350 | I9: 320 | J9: =H9+I9 -> 670
E10: Plot to the BP range (Rock bottom, Base plan, Best can do) | H10: Hybrid BP Sep
B11: Ch 4 | C11: ch2> SNA & SND (stupid table) | D11: Y-Y (NO BP) | H11: H1 Actual
G12: REV | H12: 1100 | I12: =I7 -> 1700 | J12: =H12+I12 -> 2800
B13: Ch5 | C13: Corporate liquidity | G13: EBITDA | H13: 400 | I13: =I8 -> 500 | J13: =H13+I13 -> 900 | O13: =O8-J13 -> -150
C14: WC - consolidated bridge + stratification by SNA & SND - ref. (5,1) | D14: YTD Sep | E14: Highloght text > factors | G14: NP | H14: 300 | I14: =I9 -> 320 | J14: =H14+I14 -> 620
C15: Consoldiated inventory > stratification by elements (ref - excel for categories + ref. 5.6) | D15: YTD Sep, / As a minum inv, split presented in July > compare balances as per Q1, Q2, Q3 | E15: Highloght text > variences
B17: Ch 6 | C17: Financial strenght
C18: Reporting object 6,1+ debt coverage from ref 6,2 | H18: YTD SEP | I18: BP
H19: H1+Q3
G20: EBITDA | J20: D1 -H1 Actuals
B21: ch 7 | C21: Sales Domestic | J21: D2 - Performance
C22: Volume/Revenue performance> period dynamic - new (period bars) | D22: Y-Y, BP
C23: Volume/Revenue Analytics > Regions>Top 10-15 KA to all (ref 4,2) | D23: YTD Sept
C24: Net Price and Discount to Plan (average to be based on the last pricing policy) - ref 4,3) | D24: BP
B26: Ch 8 | C26: Sales Export
C27: Volume/Revenue performance> period dynamic (period bars) | D27: Y-Y, BP
C28: Volume/Revenue Analytics > LoB> to all - (ref.4.3) | D28: YTD Sept | G28: Scenario 1 | H28: YTD (New H1 numbers+ actuals Q3)/BP (old H1 numbers+Q3 BP) | M28: V1 H1 (booking issues)
M29: V2 Q3 Performance (volume, etc)
G31: Scenario 2 | H31: Re-set Hybrid BP | M31: x, y, z (H1 y-y) varience)
H32: BP> adjustment H1 numbers + H2 Numbers)
H33: Actuals > BP (period under reporting) | M33: V1: Q3 Performance (volume, etc)
C36: H1 2022 | J36: 740 | L36: 50
C37: YTD (Q3) 2022 | G37: Decision> | H37: Cons.oper perf | I37: YTD Forecast (Q4)
H38: Scenario 2 | I38: (Actuals YTD SEP + Forecast Q4)

Sheet VISIAL LOB
B2: TOTAL NET CONTRIBUTION STRATIFICATION BY LINE OF BUSINESSES (LOB)
C4: LOB 1 | D4: LoB 2 - EXPORT - Libya | E4: LoB 2 - EXPORT - Europe | F4: LoB 2 - EXPORT - GCC | G4: LoB 3 - Monbat stream | H4: LoB 3 - Monbat stream | I4: LoB 2 - EXPORT - WCA | K4: LoB 2 - EXPORT
B5: LINE OF BUSINESS RANGE (LoB) | C5: DOMESTIC | D5: EXPORT LIBYA | E5: EXPORT BATCAR | F5: EXPORT BIN SHIHON | G5: MONBAT NOUR POWER DIN | H5: MONBAT NOUR Premium JIS | I5: EXPORT WEST & CENTRAL AFRICA | J5: TOTAL | K5: EUROPE
B7: VOLUME (pieces) | C7: 122104 | D7: 39303 | E7: 20000 | F7: 15000 | G7: 52492 | H7: 10000 | I7: 15300 | J7: 274199
B8: Volume Lead Equivalent LE (kg) | C8: 1235603 | D8: 262811.24 | E8: 173410.39 | F8: 110466.63 | G8: 539126.97 | H8: 61465.958 | I8: 150704.04 | J8: 2533588.3
B9: REVENUE | C9: 7040813.8 | D9: 980438.48 | E9: 579844.52 | F9: 412988.01 | G9: 1921848.8 | H9: 237955.12 | I9: 585597.88 | J9: 11759487
B10: COGS | C10: 4115317 | D10: 894015.38 | E10: 564271.27 | F10: 379128.44 | G10: 1735055.9 | H10: 217693.01 | I10: 505498.25 | J10: 8410979.3
B11: STAND-ALONE BATTERY NET CONTRIBUTION | C11: 2925496.8 | D11: 86423.106 | E11: 15573.249 | F11: 33859.576 | G11: 186792.92 | H11: 20262.108 | I11: 80099.627 | J11: 3348507.4
B12: TOTAL NC % | C12: 0.41550549 | D12: 0.088147403 | E12: 0.026857629 | F12: 0.081986825 | G12: 0.097194386 | H12: 0.085150965 | I12: 0.13678265 | J12: 0.28474945
B14: RECYCLING NET CONTRIBUTION | C14: 175539.48 | D14: 35748.137 | E14: 24512.821 | F14: 15487.891 | G14: 77612.636 | H14: 8959.1947 | I14: 21648.614 | J14: 359508.78
B15: RECYCLING NC % | C15: 0.063138287 | D15: 0.060431244 | E15: 0.062883521 | F15: 0.062426364 | G15: 0.064046839 | H15: 0.064329257 | I15: 0.063756152 | J15: 0.063068005
B17: INTEGRATED TOTAL NET CONTRIBUTION | C17: 3101036.3 | D17: 122171.24 | E17: 40086.07 | F17: 49347.467 | G17: 264405.55 | H17: 29221.303 | I17: 101748.24 | J17: 3708016.2
B18: INTEGRATED NET CONTRIBUTION NC % | C18: 0.4404372 | D18: 0.12460878 | E18: 0.069132447 | F18: 0.11948886 | G18: 0.13757875 | H18: 0.12280174 | I18: 0.17375104 | J18: 0.31532126
B19: AVERAGE LEAD EQUIVALENT CONTENT .LE (kg) | C19: 10.119268 | D19: 6.6867985 | E19: 8.6705193 | F19: 7.3644423 | G19: 10.27065 | H19: 6.1465958 | I19: 9.8499372 | J19: 9.2399618
E22: LOB | F22: Business model
F23: Accountability
F24: Segmented reporting
F25: KPIS
B26: Unit Averages
B27: Price | C27: =C9/C7 -> 57.662434 | D27: =D9/D7 -> 24.94564 | E27: =E9/E7 -> 28.992226 | F27: =F9/F7 -> 27.532534 | G27: =G9/G7 -> 36.612224 | H27: =H9/H7 -> 23.795512 | I27: =I9/I7 -> 38.274371
B28: NC | C28: =C11/C7 -> 23.959058 | D28: =D11/D7 -> 2.1988934 | E28: =E11/E7 -> 0.77866244 | F28: =F11/F7 -> 2.2573051 | G28: =G11/G7 -> 3.5585026 | H28: =H11/H7 -> 2.0262108 | I28: =I11/I7 -> 5.2352697
C30: =43000*G28 -> 153015.61

Sheet VISUALS_AGG. Demand
A2: REVENUE STRATIFICATION BY VOLUMES, LOB AND H2 CALENDAR
F4: DATE (Month)
A5: Values | B5: DATE (Year) | C5: MARKET | D5: RANGE | E5: CODE | F5: Jul | G5: Aug | H5: Sep | I5: Oct | J5: Nov | K5: Dec | L5: Grand Total
A6: m_FG_VOLUME | B6: 2022 | C6: Export MG | D6: BATCAR | G6: 4000 | H6: 4000 | I6: 4000 | J6: 4000 | K6: 4000 | L6: 20000
B7: 2022 | C7: Export MG | D7: BIN SHIHON | I7: 5000 | J7: 5000 | K7: 5000 | L7: 15000
B8: 2022 | C8: Export MG | D8: NOUR POWER DIN (kamina lid BG) | G8: 2492 | H8: 10000 | I8: 10000 | J8: 15000 | K8: 15000 | L8: 52492
B9: 2022 | C9: Export MG | D9: NOUR Premium JIS (Akumsan T lid JIS ) | J9: 6000 | K9: 4000 | L9: 10000
B10: 2022 | C10: Domestic | F10: 20075 | G10: 23670 | H10: 21480 | I10: 18925 | J10: 19081 | K10: 18873 | L10: 122104
B11: 2022 | C11: Export Libya | F11: 4947 | G11: 4740 | H11: 7421 | I11: 7417 | J11: 7421 | K11: 7357 | L11: 39303
B12: 2022 | C12: Export WCA | G12: 5300 | J12: 10000 | L12: 15300
B13: 2022 Total | F13: 25022 | G13: 40202 | H13: 42901 | I13: 45342 | J13: 66502 | K13: 54230 | L13: 274199
A14: m_FG_SALES | B14: 2022 | C14: Export MG | D14: BATCAR | G14: 115968.9 | H14: 115968.9 | I14: 115968.9 | J14: 115968.9 | K14: 115968.9 | L14: 579844.52
B15: 2022 | C15: Export MG | D15: BIN SHIHON | I15: 137662.67 | J15: 137662.67 | K15: 137662.67 | L15: 412988.01
B16: 2022 | C16: Export MG | D16: NOUR POWER DIN (kamina lid BG) | G16: 117223.22 | H16: 407999.23 | I16: 403932.96 | J16: 501829.05 | K16: 490864.38 | L16: 1921848.8
B17: 2022 | C17: Export MG | D17: NOUR Premium JIS (Akumsan T lid JIS ) | J17: 142763.86 | K17: 95191.255 | L17: 237955.12
B18: 2022 | C18: Domestic | F18: 1129877 | G18: 1310742.4 | H18: 1232845 | I18: 1099408.3 | J18: 1116813.6 | K18: 1151127.6 | L18: 7040813.8
B19: 2022 | C19: Export Libya | F19: 122311.2 | G19: 118421.35 | H19: 185006.25 | I19: 185268.42 | J19: 185006.25 | K19: 184425.02 | L19: 980438.48
B20: 2022 | C20: Export WCA | G20: 217781.75 | J20: 367816.13 | L20: 585597.88
B21: 2022 Total | F21: 1252188.2 | G21: 1880137.6 | H21: 1941819.3 | I21: 1942241.2 | J21: 2567860.5 | K21: 2175239.8 | L21: 11759487
A22: m_FG_av.PRICE | B22: 2022 | C22: Export MG | D22: BATCAR | G22: 28.992226 | H22: 28.992226 | I22: 28.992226 | J22: 28.992226 | K22: 28.992226 | L22: 28.992226
B23: 2022 | C23: Export MG | D23: BIN SHIHON | I23: 27.532534 | J23: 27.532534 | K23: 27.532534 | L23: 27.532534
B24: 2022 | C24: Export MG | D24: NOUR POWER DIN (kamina lid BG) | G24: 47.039815 | H24: 40.799923 | I24: 40.393296 | J24: 33.45527 | K24: 32.724292 | L24: 36.612224
B25: 2022 | C25: Export MG | D25: NOUR Premium JIS (Akumsan T lid JIS ) | J25: 23.793977 | K25: 23.797814 | L25: 23.795512
B26: 2022 | C26: Domestic | F26: 56.282789 | G26: 55.375682 | H26: 57.395016 | I26: 58.092909 | J26: 58.530142 | K26: 60.993354 | L26: 57.662434
B27: 2022 | C27: Export Libya | F27: 24.724317 | G27: 24.983406 | H27: 24.930097 | I27: 24.978889 | J27: 24.930097 | K27: 25.067965 | L27: 24.94564
B28: 2022 | C28: Export WCA | G28: 41.090896 | J28: 36.781613 | L28: 38.274371
B29: 2022 Total | F29: 50.043489 | G29: 46.767266 | H29: 45.262799 | I29: 42.835368 | J29: 38.613282 | K29: 40.111374 | L29: 42.886687
A31: Total m_FG_VOLUME | F31: 25022 | G31: 40202 | H31: 42901 | I31: 45342 | J31: 66502 | K31: 54230 | L31: 274199
A32: Total m_FG_SALES | F32: 1252188.2 | G32: 1880137.6 | H32: 1941819.3 | I32: 1942241.2 | J32: 2567860.5 | K32: 2175239.8 | L32: 11759487
A33: Total m_FG_av.PRICE | F33: 50.043489 | G33: 46.767266 | H33: 45.262799 | I33: 42.835368 | J33: 38.613282 | K33: 40.111374 | L33: 42.886687

Sheet Current BoD
E2: * FORECAST SBU SPLIT
B3: BoD | H3: Hybrid BP July | L3: Range
O4: Forecast
B5: Ch1 | C5: Re-set BP > table + visualisation | D5: H1 - technical varience <delta>reasons | E5: V1 - original July -100, V2>updated Sep BP 110 | H5: H1 Actual | I5: H2 Plan (Q3-Q4) | J5: Hybrid BP
E6: V2> plot to the BP range (Rock bottom, Base plan, Best can do)
B7: Ch2 | C7: Consoldiated Oper. Perf (current Monbat BoD object) | D7: Match current design Monbat > Rev, EBITDA, Net Profit | E7: YTD N-1, N, Gap Y-Y, BP (Q3 perfornance driven) | G7: REV | H7: 1200 | I7: 1700 | J7: =H7+I7 -> 2900
E8: Drill>quantified values on the key variencies (economical elements) | G8: EBITDA | H8: 450 | I8: 500 | J8: =H8+I8 -> 950 | K8: 700 | L8: 950 | M8: 1200 | O8: 750 | P8: =O8-J8 -> -200
B9: Ch3 | C9: Year END Forecast > consolidated and bt SNA/SND (stupit table) | D9: Actuals YTD Sept+ Q4 Forecast | E9: Rev, EBITDA, Net profit | G9: NP | H9: 350 | I9: 320 | J9: =H9+I9 -> 670
E10: Plot to the BP range (Rock bottom, Base plan, Best can do) | H10: Hybrid BP Sep
B11: Ch 4 | C11: ch2> SNA & SND (stupid table) | D11: Y-Y (NO BP) | H11: H1 Actual
G12: REV | H12: 1100 | I12: =I7 -> 1700 | J12: =H12+I12 -> 2800
B13: Ch5 | C13: Corporate liquidity | G13: EBITDA | H13: 400 | I13: =I8 -> 500 | J13: =H13+I13 -> 900 | O13: =O8-J13 -> -150
C14: WC - consolidated bridge + stratification by SNA & SND - ref. (5,1) | D14: YTD Sep | E14: Highloght text > factors | G14: NP | H14: 300 | I14: =I9 -> 320 | J14: =H14+I14 -> 620
C15: Consoldiated inventory > stratification by elements (ref - excel for categories + ref. 5.6) | D15: YTD Sep, / As a minum inv, split presented in July > compare balances as per Q1, Q2, Q3 | E15: Highloght text > variences
B17: Ch 6 | C17: Financial strenght
C18: Reporting object 6,1+ debt coverage from ref 6,2 | H18: YTD SEP | I18: BP
H19: H1+Q3
G20: EBITDA | J20: D1 -H1 Actuals
B21: ch 7 | C21: Sales Domestic | J21: D2 - Performance
C22: Volume/Revenue performance> period dynamic - new (period bars) | D22: Y-Y, BP
C23: Volume/Revenue Analytics > Regions>Top 10-15 KA to all (ref 4,2) | D23: YTD Sept
C24: Net Price and Discount to Plan (average to be based on the last pricing policy) - ref 4,3) | D24: BP
B26: Ch 8 | C26: Sales Export
C27: Volume/Revenue performance> period dynamic (period bars) | D27: Y-Y, BP
C28: Volume/Revenue Analytics > LoB> to all - (ref.4.3) | D28: YTD Sept | G28: Scenario 1 | H28: YTD (New H1 numbers+ actuals Q3)/BP (old H1 numbers+Q3 BP) | M28: V1 H1 (booking issues)
M29: V2 Q3 Performance (volume, etc)
G31: Scenario 2 | H31: Re-set Hybrid BP | M31: x, y, z (H1 y-y) varience)
H32: BP> adjustment H1 numbers + H2 Numbers)
H33: Actuals > BP (period under reporting) | M33: V1: Q3 Performance (volume, etc)
C36: H1 2022 | J36: 740 | L36: 50
C37: YTD (Q3) 2022 | G37: Decision> | H37: Cons.oper perf | I37: YTD Forecast (Q4)
H38: Scenario 2 | I38: (Actuals YTD SEP + Forecast Q4)

Sheet FY22 Fcst
F2: BP numbers
D3: Revenue
C4: EUR '000 | D4: YTD Sep'22 Act. | E4: Fcst Q4 | F4: BP Q1 23 | G4: FY22 Base Plan | H4: Var to BP | I4: FY21 Act | J4: Var to FY21
C5: SNA | D5: 8852.9892 | E5: 4709.5308 | F5: 13562.52 | N5: =(3.328+3.3378+3.3306)/3 -> 3.3321333
C6: SND | D6: 8888.711 | E6: 3544.9037 | F6: 12433.615 | M6: Q1 23 | N6: =ROUNDDOWN(N5,4) -> 3.3321
C7: Other & Cons. Adj. | D7: -7131.0943 | E7: -2582.6422 | F7: -9713.7365 | M7: Q1 22 | N7: 3.2702
C8: Consolidated | D8: 10610.606 | E8: 5671.7923 | F8: 16282.398 | G8: 17306.681 | H8: -1024.2824 | I8: 13243.298 | J8: 3039.0999
D10: EBITDA
C11: EUR '000 | D11: YTD Sep'22 Act. | E11: Fcst Q4 | F11: BP Q1 23 | G11: FY22 Base Plan | H11: Var to BP | I11: FY21 Act | J11: Var to FY21
C12: SNA | D12: 1506.5014 | E12: 541.77 | F12: 2048.2714
C13: SND | D13: 512.63195 | E13: 537.68752 | F13: 1050.3195
C14: SNR/TIP/NBI | D14: -107.28867 | E14: -65 | F14: -172.28867
C15: Consolidated | D15: 1911.8447 | E15: 1014.4575 | F15: 2926.3022 | G15: 3785.9967 | H15: -859.69457 | I15: 2729.1325 | J15: 197.16968
D16: =D15/D8 -> 0.18018242 | E16: =E15/E8 -> 0.17886013 | F16: =F15/F8 -> 0.17972182

Sheet I.2 Operating Perfor_CONS_YTD
C5: EUR' 000
D6: Cummulative Key Results Bridge
C37: Revenue | J37: =C63 -> 0
D38: Q1 22 | E38: Q1 23 | F38: BP Q1 23 | G38: =IF(G39>0,"Progress to BP Q1 2023","Gap to BP Q1 2023") -> Gap to BP Q1 2023 | H38: =IF(H39>0,"Progress to Actual Q1 2023","Gap to Actual Q1 2023") -> Progress to Actual Q1 2023 | K38: Q1 22 | L38: Q1 23 | M38: BP Q1 23 | N38: Gap to BP Q1 2023 | O38: Progress to Actual Q1 2023
C39: Revenue | D39: =D52 -> 13349.336 | E39: =G52 -> 14222.683 | F39: ='FY22 Fcst'!F8 -> 16282.398 | G39: =E39-F39 -> -2059.7149 | H39: =E39-D39 -> 873.34696 | J39: EBITDA | K39: =D53 -> 2568.9557 | L39: =G53 -> 2223.1905 | M39: =+'FY22 Fcst'!F15 -> 2926.3022 | N39: =L39-M39 -> -703.11166 | O39: =L39-K39 -> -345.76523
C40: Var | E40: =(E39-D39)/D39 -> 0.0654225 | F40: =(E39-F39)/F39 -> -0.12649948 | G40: =G39/F39 -> -0.12649948 | H40: =H39/D39 -> 0.0654225 | I40: =G40+100% -> 0.87350052 | J40: Var | L40: =(L39-K39)/K39 -> -0.13459369 | M40: =(L39-M39)/M39 -> -0.24027309 | N40: =N39/M39 -> -0.24027309 | O40: =O39/K39 -> -0.13459369
E41: =E39-D39 -> 873.34696 | K41: =K39/D39 -> 0.19244071 | L41: =L39/E39 -> 0.15631301 | M41: =M39/F39 -> 0.17972182
C44: TND | D44: =+'FY22 Fcst'!N7 -> 3.2702 | G44: =+'FY22 Fcst'!N6 -> 3.3321
D45: Q1 22 | E45: YTD Dec'22 | F45: BP Q1 23 | G45: Q1 23
C46: Revenue | D46: 43655 | E46: ='YTD Sep Cons. vs PY V2'!D9/1000 -> 34149.174 | G46: ='YTD Q1''23 Cons. vs Q1''22'!I10/1000 -> 47391.403
C47: EBITDA | D47: ='YTD Q1''23 Cons. vs Q1''22'!L18/1000 -> 8400.9991 | E47: ='YTD Sep Cons. vs PY V2'!D17/1000 -> 6153.0808 | G47: ='YTD Q1''23 Cons. vs Q1''22'!I18/1000 -> 7407.8931
C50: EUR | D50: =+D44 -> 3.2702 | E50: 3.3102 | G50: =+G44 -> 3.3321
D51: Q1 22 | E51: YTD Dec'22 | F51: BP Q1 23 | G51: Q1 23
C52: Revenue | D52: =D46/D44 -> 13349.336 | E52: =E46/E50 -> 10316.348 | F52: =('VISUAL P&L'!D9)/1000 -> 6685.3415 | G52: =G46/G44 -> 14222.683
C53: EBITDA | D53: =D47/D44 -> 2568.9557 | E53: =E47/E50 -> 1858.8245 | F53: ='VISUAL P&L'!D25/1000 -> 1436.7225 | G53: =G47/G44 -> 2223.1905
AA71: Net Profit | AB71: =V63 -> 0 | AC71: ='[77]I.2 Operating Perfor_FGOODS_YTD'!R51 -> 0 | AD71: ='[77]I.2 Operating Perfor_RECYCL_YTD'!W38 -> 0 | AE71: =AC71/AG71 -> #DIV/0! | AF71: =AD71/AG71 -> #DIV/0! | AG71: =AC71+AD71 -> 0

Sheet VISUAL P&L
B2: P&L H2 2022
C4: 2022 | E4: H2 2022 TOTAL
C5: Quarter 3 | D5: Quarter 4
B6: BATTERIES BUSINESS SEGMENT | G6: Unit averages
B7: VOLUME (pieces) | C7: 108125 | D7: 166074 | E7: 274199 | G7: 38000 | H7: =+G7+G8+D7 -> 361074
B8: Volume Lead Equivalent LE (kg) | C8: 1031823.8 | D8: 1501764.4 | E8: 2533588.3 | G8: 157000
B9: REVENUE | C9: 5074145.1 | D9: 6685341.5 | E9: 11759487 | G9: =E9/E7 -> 42.886687
B10: COGS | C10: 3418345.5 | D10: 4992633.7 | E10: 8410979.3
B11: TOTAL NET CONTRIBUTION (TNC MARGIN) | C11: 1655799.6 | D11: 1692707.8 | E11: 3348507.4 | F11: =E37/(D25) -> 1.9821232 | G11: =E11/E7 -> 12.211961
B12: TOTAL NC % | C12: 0.3263209 | D12: 0.25319691 | E12: 0.28474945
B14: RECYCLING BUSINESS SEGMENT
B15: VOLUME (MT) | C15: 1116004.9 | D15: 1625052 | E15: 2741057
B16: REVENUE | C16: 2321126.5 | D16: 3379208.9 | E16: 5700335.3
B17: COGS | C17: 2174811.1 | D17: 3166015.5 | E17: 5340826.6
B18: TOTAL NET CONTRIBUTION (NC MARGIN) | C18: 146315.43 | D18: 213193.35 | E18: 359508.78
B19: TOTAL NC % | C19: =C18/C17 -> 0.067277305 | D19: =D18/D17 -> 0.067338062 | E19: =E18/E17 -> 0.067313322
B21: CONSOLIDATED COGS | C21: 3272030.1 | D21: 4779440.4 | E21: 8051470.5
B22: CONSOLIDATED TOTAL NET CONTRIBUTION (TNC) | C22: 1802115 | D22: 1905901.2 | E22: 3708016.2
B23: CONSOLIDARED TNC % | C23: 0.35515638 | D23: 0.28508658 | E23: 0.31532126
B24: OPEX | C24: 469178.69 | D24: 469178.69 | E24: 938357.37 | F24: =(D24+C24)/E37 -> 0.32950707
B25: EBITDA | C25: 1332936.3 | D25: 1436722.5 | E25: 2769658.8 | F25: =1/F24 -> 3.0348363
B26: EBITDA % | C26: =C25/C9 -> 0.2626918 | D26: =D25/D9 -> 0.21490637 | E26: =E25/E9 -> 0.23552549
B28: EBITDA per unit sale (EUR) | E28: =E22/E7 -> 13.523084
B30: H1 2022 CONSOLIDATED EBITDA | E30: 953000
B32: 2022 BUSINESS PLAN/BUDGET SCENARIOS
B34: 2022 BUDGETED EBITDA (BASE PLAN) | E34: =E30+E25 -> 3722658.8
B35: (based on a blended LOB mix (see LoB Sheet), where the volumes for the Monbat stream will act as moderator LoB stream and idealy be directed to incremental increase of the export streams - CWA and Europe
B37: 2022 BUDGETED EBITDA (ROCK BOTTOM) | E37: ='[78]Diferentiating-performance'!$K$6 -> 2847761
B38: A plan, where Monbat volumes are sacrified in order to moderate disruption on the local sourcing market
B40: 2022 BUDGETED EBITDA (BEST CAN DO) | E40: 4000000
B41: A plan that next to the LOB mix of the Base Plan, we manage to lock upside due to the incremental volume increase in export - CWA and Europe (replacing Assad export volumes)
E43: =E34/350000 -> 10.636168
E44: =E43*500000 -> 5318084 | G44: =37*12 -> 444

Sheet 5,6 Inventory stratificatio (2)
B2: =[79]RO_table!B30 -> Inventory Stratification
AN4: Taux de cloture | AO4: FX rate as per Central bank of Tunisia
AO5: 3.282 | AP5: 3.2997 | AQ5: 3.25029 | AR5: 3.21841 | AS5: 3.3102
H6: EUR '000 | I6: Inventory value as at | N6: Evolution Fav/(Unfav) | P6: Evolution Fev/Unfev | AN6: TND '000 | AO6: Inventory value as at | AT6: Evolution Fav/(Unfav)
H7: Inventory segment | I7: Q1'22 | J7: Q2'22 | K7: Q3'22 | L7: Dec'22 | M7: Q1'23 | N7: Dec'22 vs Q3'22 | O7: Dec'22 vs Dec'21 | P7: Q1'23 Vs Q1'22 | Q7: Q2 Vs Dec 21 | R7: Q3 Vs Dec 21 | S7: Q4 Vs Dec 21 | AN7: Inventory segment | AO7: Dec'21 | AP7: Q1'22 | AQ7: Q2'22 | AR7: Q3'22 | AS7: Dec'22 | AT7: Dec'22 vs Q3'22 | AU7: Dec'22 vs Dec'21
H8: Lead Slag | I8: =AO8/$AO$5 -> 599.59344 | J8: =AP8/$AP$5 -> 726.34225 | K8: =AQ8/$AQ$5 -> 937.09386 | L8: =AR8/$AR$5 -> 1085.812 | M8: =AS8/$AS$5 -> 1199.3443 | N8: =+M8-L8 -> 113.53228 | O8: =+M8-I8 -> 599.75086 | P8: =+J8-I8 -> 126.74881 | Q8: =+K8-I8 -> 337.50042 | R8: =+L8-I8 -> 486.21858 | S8: =+M8-I8 -> 599.75086 | V8: linea production | AN8: Lead Slag | AO8: =U53/1000 -> 1967.8657 | AP8: =X56/1000 -> 2396.7115 | AQ8: =AA54/1000 -> 3045.8268 | AR8: =AD56/1000 -> 3494.5883 | AS8: =AG56/1000 -> 3970.0695 | AT8: =AS8-AR8 -> 475.48122 | AU8: =AS8-AO8 -> 2002.2038
H9: Lead Dust | I9: =AO9/$AO$5 -> 272.59076 | J9: =AP9/$AP$5 -> 281.21756 | K9: =AQ9/$AQ$5 -> 354.89076 | L9: =AR9/$AR$5 -> 401.70327 | M9: =AS9/$AS$5 -> 435.62081 | N9: =+M9-L9 -> 33.917547 | O9: =+M9-I9 -> 163.03006 | P9: =+J9-I9 -> 8.6268036 | Q9: =+K9-I9 -> 82.299999 | R9: =+L9-I9 -> 129.11251 | S9: =+M9-I9 -> 163.03006 | AN9: Lead Dust | AO9: =U69/1000 -> 894.64287 | AP9: =X70/1000 -> 927.93359 | AQ9: =AA71/1000 -> 1153.4979 | AR9: =AD76/1000 -> 1292.8458 | AS9: =AG76/1000 -> 1441.992 | AT9: =AS9-AR9 -> 149.14621 | AU9: =AS9-AO9 -> 547.34915
H10: Scrap batteries | I10: =AO10/$AO$5 -> 78.500243 | J10: =AP10/$AP$5 -> 141.42849 | K10: =AQ10/$AQ$5 -> 73.383459 | L10: =AR10/$AR$5 -> 90.204437 | M10: =AS10/$AS$5 -> 82.00531 | N10: =+M10-L10 -> -8.1991263 | O10: =+M10-I10 -> 3.5050669 | P10: =+J10-I10 -> 62.92825 | Q10: =+K10-I10 -> -5.1167842 | R10: =+L10-I10 -> 11.704193 | S10: =+M10-I10 -> 3.5050669 | AN10: Scrap batteries | AO10: =U52/1000 -> 257.6378 | AP10: =SUM(X52:X53)/1000 -> 466.6716 | AQ10: =SUM(AA52:AA53)/1000 -> 238.51752 | AR10: =SUM(AD52:AD53)/1000 -> 290.31486 | AS10: =SUM(AG52:AG53)/1000 -> 271.45398 | AT10: =AS10-AR10 -> -18.860883 | AU10: =AS10-AO10 -> 13.816179
H11: Other Lead-containing RM | I11: =AO11/$AO$5 -> 488.35904 | J11: =AP11/$AP$5 -> 416.2267 | K11: =AQ11/$AQ$5 -> 570.44554 | L11: =AR11/$AR$5 -> 420.79154 | M11: =AS11/$AS$5 -> 438.81471 | N11: =+M11-L11 -> 18.023172 | O11: =+M11-I11 -> -49.544328 | P11: =+J11-I11 -> -72.132338 | Q11: =+K11-I11 -> 82.086501 | R11: =+L11-I11 -> -67.5675 | S11: =+M11-I11 -> -49.544328 | W11: =AP12/1000 -> 5.1647399 | X11: =AQ12/1000 -> 6.2919556 | Y11: =AR12/1000 -> 6.4320286 | Z11: =AS12/1000 -> 7.1360799 | AN11: Other Lead-containing RM | AO11: =AO12-SUM(AO8:AO10) -> 1602.7944 | AP11: =AP12-SUM(AP8:AP10) -> 1373.4232 | AQ11: =AQ12-SUM(AQ8:AQ10) -> 1854.1134 | AR11: =AR12-SUM(AR8:AR10) -> 1354.2797 | AS11: =AS12-SUM(AS8:AS10) -> 1452.5644 | AT11: =AS11-AR11 -> 98.284759 | AU11: =AS11-AO11 -> -150.22991
H12: Total Lead-containing materials | I12: =SUM(I8:I11) -> 1439.0435 | J12: =SUM(J8:J11) -> 1565.215 | K12: =SUM(K8:K11) -> 1935.8136 | L12: =SUM(L8:L11) -> 1998.5113 | M12: =SUM(M8:M11) -> 2155.7851 | N12: =+M12-L12 -> 157.27387 | O12: =+M12-I12 -> 716.74165 | P12: =+J12-I12 -> 126.17153 | Q12: =+K12-I12 -> 496.77013 | R12: =+L12-I12 -> 559.46778 | S12: =+M12-I12 -> 716.74165 | W12: =AP13/1000 -> 1.1667594 | X12: =AQ13/1000 -> 1.438632 | Y12: =AR13/1000 -> 1.2423698 | Z12: =AS13/1000 -> 1.4462617 | AN12: Total Lead-containing materials | AO12: 4722.9407 | AP12: 5164.7399 | AQ12: 6291.9556 | AR12: 6432.0286 | AS12: =+AG85/1000 -> 7136.0799 | AT12: =+AS12-AR12 -> 704.05131 | AU12: =+AS12-AO12 -> 2413.1392
H13: Box & Lid | I13: =AO13/$AO$5 -> 311.94049 | J13: =AP13/$AP$5 -> 353.59561 | K13: =AQ13/$AQ$5 -> 442.6165 | L13: =AR13/$AR$5 -> 386.01976 | M13: =AS13/$AS$5 -> 436.91068 | N13: =+M13-L13 -> 50.890919 | O13: =+M13-I13 -> 124.97019 | P13: =+J13-I13 -> 41.655114 | Q13: =+K13-I13 -> 130.67601 | R13: =+L13-I13 -> 74.079266 | S13: =+M13-I13 -> 124.97019 | V13: for ben shihoon | W13: =AP14/1000 -> 2.1986886 | X13: =AQ14/1000 -> 1.458748 | Y13: =AR14/1000 -> 1.4441749 | Z13: =AS14/1000 -> 1.3984381 | AN13: Box & Lid | AO13: 1023.7887 | AP13: 1166.7594 | AQ13: 1438.632 | AR13: 1242.3698 | AS13: =+J37 -> 1446.2617 | AT13: =AS13-AR13 -> 203.89187 | AU13: =AS13-AO13 -> 422.47303
H14: Consumables | I14: =AO14/$AO$5 -> 340.1221 | J14: =AP14/$AP$5 -> 666.32986 | K14: =AQ14/$AQ$5 -> 448.80548 | L14: =AR14/$AR$5 -> 448.72311 | M14: =AS14/$AS$5 -> 422.46333 | N14: =+M14-L14 -> -26.259775 | O14: =+M14-I14 -> 82.341234 | P14: =+J14-I14 -> 326.20776 | Q14: =+K14-I14 -> 108.68338 | R14: =+L14-I14 -> 108.60101 | S14: =+M14-I14 -> 82.341234 | W14: =AP15/1000 -> 0.11269471 | X14: =AQ15/1000 -> 0.20173354 | Y14: =AR15/1000 -> 0.19295876 | Z14: =AS15/1000 -> 0.70513014 | AN14: Consumables | AO14: 1116.2807 | AP14: 2198.6886 | AQ14: 1458.748 | AR14: 1444.1749 | AS14: =+J40 -> 1398.4381 | AT14: =AS14-AR14 -> -45.736813 | AU14: =AS14-AO14 -> 282.15739
H15: Tin | I15: =AO15/$AO$5 -> 32.794398 | J15: =AP15/$AP$5 -> 34.153016 | K15: =AQ15/$AQ$5 -> 62.066319 | L15: =AR15/$AR$5 -> 59.954684 | M15: =AS15/$AS$5 -> 213.01738 | N15: =+M15-L15 -> 153.0627 | O15: =+M15-I15 -> 180.22298 | P15: =+J15-I15 -> 1.358618 | Q15: =+K15-I15 -> 29.271922 | R15: =+L15-I15 -> 27.160287 | S15: =+M15-I15 -> 180.22298 | V15: Tin purshased | W15: =AP16/1000 -> 0.70534295 | X15: =AQ16/1000 -> 0.74471452 | Y15: =AR16/1000 -> 0.78934529 | Z15: =AS16/1000 -> 0.58363065 | AN15: Tin | AO15: 107.63121 | AP15: 112.69471 | AQ15: 201.73354 | AR15: 192.95876 | AS15: =J42 -> 705.13014 | AT15: =AS15-AR15 -> 512.17138 | AU15: =AS15-AO15 -> 597.49892
H16: Spare parts | I16: =AO16/$AO$5 -> 210.00768 | J16: =AP16/$AP$5 -> 213.75972 | K16: =AQ16/$AQ$5 -> 229.12248 | L16: =AR16/$AR$5 -> 245.2594 | M16: =AS16/$AS$5 -> 176.31281 | N16: =+M16-L16 -> -68.94659 | O16: =+M16-I16 -> -33.694876 | P16: =+J16-I16 -> 3.7520392 | Q16: =+K16-I16 -> 19.114802 | R16: =+L16-I16 -> 35.251714 | S16: =+M16-I16 -> -33.694876 | W16: =AP17/1000 -> 0.31932419 | X16: =AQ17/1000 -> 0.30605785 | Y16: =AR17/1000 -> 0.31130544 | Z16: =AS17/1000 -> 0.38567442 | AN16: Spare parts | AO16: 689.24521 | AP16: 705.34295 | AQ16: 744.71452 | AR16: 789.34529 | AS16: =+J43 -> 583.63065 | AT16: =AS16-AR16 -> -205.71464 | AU16: =AS16-AO16 -> -105.61456
H17: Separator | I17: =AO17/$AO$5 -> 60.113579 | J17: =AP17/$AP$5 -> 96.773703 | K17: =AQ17/$AQ$5 -> 94.163243 | L17: =AR17/$AR$5 -> 96.72647 | M17: =AS17/$AS$5 -> 116.51091 | N17: =+M17-L17 -> 19.784443 | O17: =+M17-I17 -> 56.397334 | P17: =+J17-I17 -> 36.660124 | Q17: =+K17-I17 -> 34.049664 | R17: =+L17-I17 -> 36.612891 | S17: =+M17-I17 -> 56.397334 | W17: =AP18/1000 -> 4.5028099 | X17: =AQ18/1000 -> 4.1498859 | Y17: =AR18/1000 -> 3.9801543 | Z17: =AS18/1000 -> 4.5191351 | AN17: Separator | AO17: 197.29277 | AP17: 319.32419 | AQ17: 306.05785 | AR17: 311.30544 | AS17: =+J46 -> 385.67442 | AT17: =AS17-AR17 -> 74.368986 | AU17: =AS17-AO17 -> 188.38166
H18: Total non-lead materials | I18: =SUM(I13:I17) -> 954.97825 | J18: =SUM(J13:J17) -> 1364.6119 | K18: =SUM(K13:K17) -> 1276.774 | L18: =SUM(L13:L17) -> 1236.6834 | M18: =SUM(M13:M17) -> 1365.2151 | N18: =+M18-L18 -> 128.53169 | O18: =+M18-I18 -> 410.23686 | P18: =+J18-I18 -> 409.63366 | Q18: =+K18-I18 -> 321.79578 | R18: =+L18-I18 -> 281.70517 | S18: =+M18-I18 -> 410.23686 | W18: =AP19/1000 -> 1.0651248 | X18: =AQ19/1000 -> 1.6278324 | Y18: =AR19/1000 -> 1.2485487 | Z18: =AS19/1000 -> 0.99205138 | AN18: Total non-lead materials | AO18: =SUM(AO13:AO17) -> 3134.2386 | AP18: =SUM(AP13:AP17) -> 4502.8099 | AQ18: =SUM(AQ13:AQ17) -> 4149.8859 | AR18: =SUM(AR13:AR17) -> 3980.1543 | AS18: =SUM(AS13:AS17) -> 4519.1351 | AT18: =AS18-AR18 -> 538.98079 | AU18: =AS18-AO18 -> 1384.8964
H19: Plates, grids & strip | I19: =AO19/$AO$5 -> 223.23766 | J19: =AP19/$AP$5 -> 322.79443 | K19: =AQ19/$AQ$5 -> 500.82681 | L19: =AR19/$AR$5 -> 387.93959 | M19: =AS19/$AS$5 -> 299.6953 | N19: =+M19-L19 -> -88.24429 | O19: =+M19-I19 -> 76.457639 | P19: =+J19-I19 -> 99.556774 | Q19: =+K19-I19 -> 277.58915 | R19: =+L19-I19 -> 164.70193 | S19: =+M19-I19 -> 76.457639 | W19: =AP20/1000 -> 0.19999004 | X19: =AQ20/1000 -> 0.12802845 | Y19: =AR20/1000 -> 0.13346332 | Z19: =AS20/1000 -> 0.14950951 | AN19: Plates, grids & strip | AO19: 732.666 | AP19: 1065.1248 | AQ19: 1627.8324 | AR19: 1248.5487 | AS19: =+J41 -> 992.05138 | AT19: =AS19-AR19 -> -256.49727 | AU19: =AS19-AO19 -> 259.38538
H20: Industrial plates | I20: =AO20/$AO$5 -> 75.337584 | J20: =AP20/$AP$5 -> 60.608553 | K20: =AQ20/$AQ$5 -> 39.389854 | L20: =AR20/$AR$5 -> 41.468712 | M20: =AS20/$AS$5 -> 45.166307 | N20: =+M20-L20 -> 3.6975951 | O20: =+M20-I20 -> -30.171277 | P20: =+J20-I20 -> -14.729032 | Q20: =+K20-I20 -> -35.94773 | R20: =+L20-I20 -> -33.868872 | S20: =+M20-I20 -> -30.171277 | W20: =AP21/1000 -> 1.2651148 | X20: =AQ21/1000 -> 1.7558608 | Y20: =AR21/1000 -> 1.382012 | Z20: =AS21/1000 -> 1.1415609 | AN20: Industrial plates | AO20: 247.25795 | AP20: 199.99004 | AQ20: 128.02845 | AR20: 133.46332 | AS20: =+J44 -> 149.50951 | AT20: =AS20-AR20 -> 16.046192 | AU20: =AS20-AO20 -> -97.748441
H21: Total semi-finised goods | I21: =I19+I20 -> 298.57524 | J21: =J19+J20 -> 383.40299 | K21: =K19+K20 -> 540.21666 | L21: =L19+L20 -> 429.4083 | M21: =M19+M20 -> 344.86161 | N21: =+M21-L21 -> -84.546694 | O21: =+M21-I21 -> 46.286362 | P21: =+J21-I21 -> 84.827742 | Q21: =+K21-I21 -> 241.64142 | R21: =+L21-I21 -> 130.83306 | S21: =+M21-I21 -> 46.286362 | W21: =AP22/1000 -> 2.6715682 | X21: =AQ22/1000 -> 2.4584731 | Y21: =AR22/1000 -> 2.3250984 | Z21: =AS22/1000 -> 3.6778851 | AN21: Total semi-finised goods | AO21: =AO19+AO20 -> 979.92395 | AP21: =AP19+AP20 -> 1265.1148 | AQ21: =AQ19+AQ20 -> 1755.8608 | AR21: =AR19+AR20 -> 1382.012 | AS21: =AS19+AS20 -> 1141.5609 | AT21: =AS21-AR21 -> -240.45108 | AU21: =AS21-AO21 -> 161.63694
H22: Formed Battery, incl. SND | I22: =AO22/$AO$5 -> 801.90524 | J22: =AP22/$AP$5 -> 809.63972 | K22: =AQ22/$AQ$5 -> 756.38577 | L22: =AR22/$AR$5 -> 722.43698 | M22: =AS22/$AS$5 -> 1111.0764 | N22: =+M22-L22 -> 388.63941 | O22: =+M22-I22 -> 309.17115 | P22: =+J22-I22 -> 7.7344723 | Q22: =+K22-I22 -> -45.519475 | R22: =+L22-I22 -> -79.468259 | S22: =+M22-I22 -> 309.17115 | V22: ben shihoon/lybia | W22: =AP23/1000 -> 3.2372354 | X22: =AQ23/1000 -> 5.8443186 | Y22: =AR23/1000 -> 3.3076761 | Z22: =AS23/1000 -> 2.6426274 | AN22: Formed Battery, incl. SND | AO22: =SUM(V38:V39)/1000 -> 2631.853 | AP22: =SUM(W38:W39)/1000 -> 2671.5682 | AQ22: =SUM(X38:X39)/1000 -> 2458.4731 | AR22: =SUM(Y38:Y39)/1000 -> 2325.0984 | AS22: =SUM(Z38:Z39)/1000 -> 3677.8851 | AT22: =AS22-AR22 -> 1352.7867 | AU22: =AS22-AO22 -> 1046.0321
H23: Unformed Battery | I23: =AO23/$AO$5 -> 749.27858 | J23: =AP23/$AP$5 -> 981.0696 | K23: =AQ23/$AQ$5 -> 1798.0914 | L23: =AR23/$AR$5 -> 1027.7361 | M23: =AS23/$AS$5 -> 798.32864 | N23: =+M23-L23 -> -229.40746 | O23: =+M23-I23 -> 49.050052 | P23: =+J23-I23 -> 231.79102 | Q23: =+K23-I23 -> 1048.8128 | R23: =+L23-I23 -> 278.45752 | S23: =+M23-I23 -> 49.050052 | W23: =AP24/1000 -> 5.9088035 | X23: =AQ24/1000 -> 8.3027917 | Y23: =AR24/1000 -> 5.6327746 | Z23: =AS24/1000 -> 6.3205125 | AN23: Unformed Battery | AO23: 2459.1323 | AP23: 3237.2354 | AQ23: 5844.3186 | AR23: 3307.6761 | AS23: =+J39 -> 2642.6274 | AT23: =AS23-AR23 -> -665.04869 | AU23: =AS23-AO23 -> 183.49514
H24: Total finished goods - Batteries | I24: =I22+I23 -> 1551.1838 | J24: =J22+J23 -> 1790.7093 | K24: =K22+K23 -> 2554.4772 | L24: =L22+L23 -> 1750.1731 | M24: =M22+M23 -> 1909.405 | N24: =+M24-L24 -> 159.23195 | O24: =+M24-I24 -> 358.22121 | P24: =+J24-I24 -> 239.52549 | Q24: =+K24-I24 -> 1003.2934 | R24: =+L24-I24 -> 198.98926 | S24: =+M24-I24 -> 358.22121 | AN24: Total finished goods - Batteries | AO24: =AO22+AO23 -> 5090.9853 | AP24: =AP22+AP23 -> 5908.8035 | AQ24: =AQ22+AQ23 -> 8302.7917 | AR24: =AR22+AR23 -> 5632.7746 | AS24: =AS22+AS23 -> 6320.5125 | AT24: =AS24-AR24 -> 687.73798 | AU24: =AS24-AO24 -> 1229.5272
H25: Total Inventory | I25: =I12+I18+I21+I24 -> 4243.7808 | J25: =J12+J18+J21+J24 -> 5103.9392 | K25: =K12+K18+K21+K24 -> 6307.2815 | L25: =L12+L18+L21+L24 -> 5414.7761 | M25: =M12+M18+M21+M24 -> 5775.2669 | N25: =+M25-L25 -> 360.49082 | O25: =+M25-I25 -> 1531.4861 | P25: =+P24+P21+P18+P12 -> 860.15841 | Q25: =+Q24+Q21+Q18+Q12 -> 2063.5007 | R25: =+R24+R21+R18+R12 -> 1170.9953 | S25: =+S24+S21+S18+S12 -> 1531.4861 | V25: 1018.3613 | AN25: Total Inventory | AO25: =AO12+AO18+AO21+AO24 -> 13928.089 | AP25: =AP12+AP18+AP21+AP24 -> 16841.468 | AQ25: =AQ12+AQ18+AQ21+AQ24 -> 20500.494 | AR25: =AR12+AR18+AR21+AR24 -> 17426.969 | AS25: =AS12+AS18+AS21+AS24 -> 19117.288 | AT25: =AS25-AR25 -> 1690.319 | AU25: =AS25-AO25 -> 5189.1998
V26: -152.63395
V27: =O25-O8-O9 -> 768.70517
V28: =V27/2 -> 384.35258
I35: sep | J35: dec 22
G36: Raw Materials | K36: Finished Goods | U36: Mapping | V36: 44561 | W36: 44651 | X36: 44742 | Y36: 44834 | Z36: 44926
B37: Dec'21 | C37: Mar'22 | D37: Jun'22 | E37: Sep'22 | F37: Dec'22 | G37: Box & Lid | I37: =Y37/1000 -> 1242.3698 | J37: =Z37/1000 -> 1446.2617 | K37: SKU_20 | L37: 4.664 | O37: BOX AND LID | U37: RM & Other | V37: 1023788.7 | W37: 1166759.4 | X37: 1438632 | Y37: 1242369.8 | Z37: 1446261.7
A38: Lead-containing | B38: =SUMIF($U$37:$U$47,$A$38,V37:V47)/V48 -> 0.33909468 | C38: =SUMIF($U$37:$U$47,$A$38,W37:W47)/W48 -> 0.30666803 | D38: =SUMIF($U$37:$U$47,$A$38,X37:X47)/X48 -> 0.30691727 | E38: =SUMIF($U$37:$U$47,$A$38,Y37:Y47)/Y48 -> 0.36908475 | F38: =SUMIF($U$37:$U$47,$A$38,Z37:Z47)/Z48 -> 0.37327888 | G38: Formed Battery | I38: =Y38/1000 -> 247.54941 | J38: =Z38/1000 -> 1206.11 | K38: SKU_19 | L38: 3.905 | O38: BATTERY | U38: FG | V38: 428881.01 | W38: 845901.17 | X38: 916089.1 | Y38: 247549.41 | Z38: 1206110 | AA38: FG
A39: RM & Other | B39: =SUMIF($U$37:$U$47,$A$39,V37:V47)/V48 -> 0.22503006 | C39: =SUMIF($U$37:$U$47,$A$39,W37:W47)/W48 -> 0.26736445 | D39: =SUMIF($U$37:$U$47,$A$39,X37:X47)/X48 -> 0.20242858 | E39: =SUMIF($U$37:$U$47,$A$39,Y37:Y47)/Y48 -> 0.2283905 | F39: =SUMIF($U$37:$U$47,$A$39,Z37:Z47)/Z48 -> 0.23638996 | G39: UF Battery | I39: =Y40/1000 -> 3307.6761 | J39: =Z40/1000 -> 2642.6274 | K39: SKU_18 | L39: 6.16 | O39: BATTERY - SND | U39: FG | V39: =AJ53 -> 2202972 | W39: =AJ54 -> 1825667 | X39: =AJ55 -> 1542384 | Y39: =AJ56 -> 2077549 | Z39: 2471775.1 | AA39: WIP
A40: WIP | B40: =SUMIF($U$37:$U$47,$A$40,V37:V47)/V48 -> 0.070355953 | C40: =SUMIF($U$37:$U$47,$A$40,W37:W47)/W48 -> 0.075119035 | D40: =SUMIF($U$37:$U$47,$A$40,X37:X47)/X48 -> 0.085649683 | E40: =SUMIF($U$37:$U$47,$A$40,Y37:Y47)/Y48 -> 0.079303058 | F40: =SUMIF($U$37:$U$47,$A$40,Z37:Z47)/Z48 -> 0.059713536 | G40: Consumables | I40: =Y41/1000 -> 1444.1749 | J40: =Z41/1000 -> 1398.4381 | K40: SKU_17 | L40: 1.364 | O40: BATTERY NON FORMED | U40: FG | V40: 2459132.3 | W40: 3237235.4 | X40: 5844318.6 | Y40: 3307676.1 | Z40: 2642627.4 | AA40: RM
A41: FG | B41: =SUMIF($U$37:$U$47,$A$41,V37:V47)/V48 -> 0.36551931 | C41: =SUMIF($U$37:$U$47,$A$41,W37:W47)/W48 -> 0.35084848 | D41: =SUMIF($U$37:$U$47,$A$41,X37:X47)/X48 -> 0.40500447 | E41: =SUMIF($U$37:$U$47,$A$41,Y37:Y47)/Y48 -> 0.32322169 | F41: =SUMIF($U$37:$U$47,$A$41,Z37:Z47)/Z48 -> 0.33061763 | G41: Plates, grids & strip | I41: =Y42/1000 -> 1248.5487 | J41: =Z42/1000 -> 992.05138 | K41: SKU_16 | L41: 5.005 | O41: CONSUMABLE | U41: RM & Other | V41: 1116280.7 | W41: 2198688.6 | X41: 1458748 | Y41: 1444174.9 | Z41: 1398438.1
G42: Tin | I42: =Y43/1000 -> 192.95876 | J42: =Z43/1000 -> 705.13014 | K42: SKU_15 | L42: 7.205 | O42: PLATES AND GRIDS AND BANDES | U42: WIP | V42: 732666 | W42: 1065124.8 | X42: 1627832.4 | Y42: 1248548.7 | Z42: 992051.38
G43: Spare parts | I43: =Y44/1000 -> 789.34529 | J43: =Z44/1000 -> 583.63065 | K43: SKU_14 | L43: 3.586 | O43: TIN | U43: RM & Other | V43: 107631.21 | W43: 112694.71 | X43: 201733.54 | Y43: 192958.76 | Z43: 705130.14
G44: Industrial plates | I44: =Y45/1000 -> 133.46332 | J44: =Z45/1000 -> 149.50951 | K44: SKU_13 | L44: 4.158 | O44: SPARE PART | U44: RM & Other | V44: 689245.21 | W44: 705342.95 | X44: 744714.52 | Y44: 789345.29 | Z44: 583630.65
G45: Lead | I45: =Y46/1000 -> 6432.0286 | J45: =Z46/1000 -> 7136.0799 | K45: SKU_12 | L45: 4.763 | O45: INDUSTRIAL PLATE | U45: WIP | V45: 247257.95 | W45: 199990.04 | X45: 128028.45 | Y45: 133463.32 | Z45: 149509.51
G46: Separator | I46: =Y47/1000 -> 311.30544 | J46: =Z47/1000 -> 385.67442 | K46: SKU_11 | L46: 3.905 | O46: LEAD | U46: Lead-containing | V46: 4722940.7 | W46: 5164739.9 | X46: 6291955.6 | Y46: 6432028.6 | Z46: 7136079.9
K47: SKU_10 | L47: 6.16 | O47: SEPARATEUR | U47: RM & Other | V47: 197292.77 | W47: 319324.19 | X47: 306057.85 | Y47: 311305.44 | Z47: 385674.42
K48: SKU_9 | L48: 1.364 | V48: =SUM(V37:V47) -> 13928089 | W48: =SUM(W37:W47) -> 16841468 | X48: =SUM(X37:X47) -> 20500494 | Y48: =SUM(Y37:Y47) -> 17426969 | Z48: =SUM(Z37:Z47) -> 19117288 | AA48: =+Z48-V48 -> 5189199.8
...

Sheet Analyse marge 
H2: INVENTORY 31/12/2021 | I2: Entrée 2022 | J2: INVENTORY 31/12/2022 | K2: consumed 2022
G3: Plomb doux | H3: 3500 | I3: 2172206 | J3: 4500 | K3: =+H3+I3-J3 -> 2171206
G4: Plomb calcium + | H4: 12225 | I4: 615202 | J4: 27781 | K4: =+H4+I4-J4 -> 599646
G5: Plomb calcium - | H5: 14000 | I5: 600518 | J5: 20500 | K5: =+H5+I5-J5 -> 594018
G6: Plomb calcium CONCENTREE | I6: 45513 | J6: 844 | K6: =+H6+I6-J6 -> 44669
A7: taux d'écart | G7: Plomb 3% SNA 1 | H7: 11074 | I7: 446092 | J7: 9480 | K7: =+H7+I7-J7 -> 447686
G8: Plomb 3% SNA 2 | H8: 18872 | I8: 64374 | J8: 4283 | K8: =+H8+I8-J8 -> 78963
B9: 2022 | C9: 2021 | G9: TOTAL | H9: =+SUM(H3:H8) -> 59671 | I9: =+SUM(I3:I8) -> 3943905 | J9: =+SUM(J3:J8) -> 67388 | K9: =+SUM(K3:K8) -> 3936188
A10: cons° réelle | B10: =+K11/1000 -> 3900.602 | C10: =3327520/1000 -> 3327.52 | J10: SI-SF (WIP) | K10: -35586
A11: cons° theorique | B11: =(2946634.28238762-I20)/1000 -> 2790.9443 | C11: =(2855132.3202-I21)/1000 -> 2811.8323 | K11: =+K9+K10 -> 3900602
A12: Ecart en tonne | B12: =(B10-B11) -> 1109.6577 | C12: =(C10-C11) -> 515.68768 | F12: CONS° theorique
A13: Taux d'écart | B13: =+B12/B10 -> 0.28448371 | C13: =+C12/C10 -> 0.15497658 | D13: =+B13-C13 -> 0.12950712 | E13: Q1 | F13: 699681.52
A14: Ecart K TND | B14: =+(B12-C12)*6.25 -> 3712.3127 | E14: Q2 | F14: 702529.03
E15: Q3 | F15: 753270.25
A16: SI-SF (WIP) | B16: =+B21-B20 -> -35586 | E16: Q4 | F16: =561050+230103.486022296 -> 791153.49
A17: DIFF | B17: =+B12+B16 -> -34476.342 | F17: =+SUM(F13:F16) -> 2946634.3
A18: RATE TW | B18: =+B17/B11 -> -12.352931
A20: SF WIP | B20: =158899+1598 -> 160497 | G20: Ecart batterie 2022 (unité) | H20: 15569 | I20: =+H20*10 -> 155690
A21: SI WIP | B21: 124911 | G21: Ecart batterie 2021 (unité) | H21: 4330 | I21: =+H21*10 -> 43300
B22: =+B20-B21 -> 35586 | H22: =+H20-H21 -> 11239 | I22: =+H22*10 -> 112390
G24: 300000 | H24: =+H22/H21 -> 2.595612 | I24: =+H20*10*2.1 -> 326949
G25: =+H20/G24 -> 0.051896667
A28: ARTICLE | B28: Qté achetée 2021 | C28: VALEUR ACHAT2021 | D28: PMP2021 | E28: Qté achetée 2022 | F28: VALEUR ACHAT 2022 | G28: PMP 2022 | H28: variation | I28: variation en % | J28: variation en montant | K28: STK 31-12-20 | L28: STK 31-12-21 | M28: STK 31-12-22 | N28: VALEUR 31-12-20 | O28: VALEUR 31-12-21 | P28: VALEUR 31-12-22 | Q28: Qté cons° matiere 2021 | R28: Qtécons° matiere 2022 | S28: valeur Totale cons° matiere 2021 | T28: valeur Totale cons° matiere 2022 | U28: PMP CONS° 2021 | V28: PMP CONS° 2022 | W28: Variation PMP CONS° | Z28: Price effect | AA28: méthode 2 | AB28: Quantity effect
A29: ACHAT PLOMB D'OEUVRE | B29: 314931 | C29: 1613877.7 | D29: =+C29/B29 -> 5.1245439 | E29: 745414 | F29: 4351674.7 | G29: =+F29/E29 -> 5.8379299 | H29: =+G29-D29 -> 0.71338607 | I29: =+H29/D29 -> 0.13920967 | J29: =+I29*C29 -> 224667.39 | K29: 78635 | L29: 33471 | M29: 6725 | N29: 358575.6 | O29: 173920.16 | P29: 34309.269 | Q29: =+K29+B29-L29 -> 360095 | R29: =+L29+E29-M29 -> 772160 | S29: =+N29+C29-O29 -> 1798533.2 | T29: =+O29+F29-P29 -> 4491285.6 | U29: =+S29/Q29 -> 4.9946074 | V29: =+T29/R29 -> 5.816522 | W29: =+(V29-U29)/U29 -> 0.16456038 | X29: =R29-Q29 -> 412065 | Y29: =+X29/Q29 -> 1.144323 | Z29: =+S29*W29 -> 295967.31 | AA29: =+Q29*V29-Q29*U29 -> 295967.31 | AB29: =+(R29-Q29)*V29 -> 2396785.1 | AC29: =(V29-U29)*Q29 -> 295967.31 | AD29: =(R29-Q29)*V29 -> 2396785.1 | AE29: =+R29-Q29 -> 412065 | AF29: =+AE29/Q29 -> 1.144323
A30: Achat Dechets Batteries | B30: 4835237 | C30: 11179662 | D30: =+C30/B30 -> 2.312123 | E30: 5375902 | F30: =12187092.494-30000 -> 12157092 | G30: =+F30/E30 -> 2.2614052 | H30: =+G30-D30 -> -0.050717801 | I30: =+H30/D30 -> -0.021935599 | J30: =+I30*C30 -> -245232.59 | K30: 36494 | L30: 117862 | M30: 126493 | N30: 52952.794 | O30: 257637.8 | P30: 271499 | Q30: =+K30+B30-L30 -> 4753869 | R30: =+L30+E30-M30 -> 5367271 | S30: =+N30+C30-O30 -> 10974977 | T30: =+O30+F30-P30 -> 12143231 | U30: =+S30/Q30 -> 2.3086411 | V30: =+T30/R30 -> 2.2624591 | W30: =+(V30-U30)/U30 -> -0.020003971 | X30: =R30-Q30 -> 613402 | Y30: =+X30/Q30 -> 0.12903216 | Z30: =+S30*W30 -> -219543.13 | AA30: =+Q30*V30-Q30*U30 -> -219543.13 | AB30: =+(R30-Q30)*V30 -> 1387797 | AC30: =(V30-U30)*Q30 -> -219543.13 | AE30: =+R30-Q30 -> 613402 | AF30: =+AE30/Q30 -> 0.12903216
A31: ACHAT ANTIMOINE | B31: 500 | C31: 19483.77 | D31: =+C31/B31 -> 38.96754 | E31: 2588 | F31: 126297.71 | G31: =+F31/E31 -> 48.80128 | H31: =+G31-D31 -> 9.8337401 | I31: =+H31/D31 -> 0.25235722 | J31: =+I31*C31 -> 4916.8701 | K31: 1341 | L31: 24 | M31: 528 | N31: 29426.393 | O31: 968.05147 | P31: 27162.207 | Q31: =+K31+B31-L31 -> 1817 | R31: =+L31+E31-M31 -> 2084 | S31: =+N31+C31-O31 -> 47942.112 | T31: =+O31+F31-P31 -> 100103.56 | U31: =+S31/Q31 -> 26.385312 | V31: =+T31/R31 -> 48.034336 | W31: =+(V31-U31)/U31 -> 0.8204953 | X31: =R31-Q31 -> 267 | Y31: =+X31/Q31 -> 0.14694551 | Z31: =+S31*W31 -> 39336.277 | AA31: =+Q31*V31-Q31*U31 -> 39336.277 | AB31: =+(R31-Q31)*V31 -> 12825.168 | AC31: =(V31-U31)*Q31 -> 39336.277 | AE31: =+R31-Q31 -> 267 | AF31: =+AE31/Q31 -> 0.14694551
A32: ACHAT CALCIUM METAL | B32: 3220 | C32: =+B32*D32 -> 107304.29 | D32: 33.324315 | E32: 3000 | F32: 137790.54 | G32: =+F32/E32 -> 45.930178 | H32: =+G32-D32 -> 12.605863 | I32: =+H32/D32 -> 0.37827823 | J32: =+I32*C32 -> 40590.879 | K32: 1140 | L32: 1150 | M32: 1255 | N32: 41283.638 | O32: 49879.577 | P32: 58081 | Q32: =+K32+B32-L32 -> 3210 | R32: =+L32+E32-M32 -> 2895 | S32: =+N32+C32-O32 -> 98708.356 | T32: =+O32+F32-P32 -> 129589.11 | U32: =+S32/Q32 -> 30.750267 | V32: =+T32/R32 -> 44.763078 | W32: =+(V32-U32)/U32 -> 0.45569724 | X32: =R32-Q32 -> -315 | Y32: =+X32/Q32 -> -0.098130841 | Z32: =+S32*W32 -> 44981.125 | AA32: =+Q32*V32-Q32*U32 -> 44981.125 | AB32: =+(R32-Q32)*V32 -> -14100.37 | AC32: =(V32-U32)*Q32 -> 44981.125 | AE32: =+R32-Q32 -> -315 | AF32: =+AE32/Q32 -> -0.098130841
A33: ACHAT SEPARATEUR | B33: 1232963 | C33: 859394.5 | D33: =+C33/B33 -> 0.69701565 | E33: 1659514 | F33: 1331078.2 | G33: =+F33/E33 -> 0.80208918 | H33: =+G33-D33 -> 0.10507353 | I33: =+H33/D33 -> 0.15074774 | J33: =+I33*C33 -> 129551.78 | K33: 628275 | L33: 691038.15 | M33: 880723 | N33: 345179 | O33: 239939.14 | P33: 385674.42 | Q33: =+K33+B33-L33 -> 1170199.9 | R33: =+L33+E33-M33 -> 1469829.1 | S33: =+N33+C33-O33 -> 964634.36 | T33: =+O33+F33-P33 -> 1185342.9 | U33: =+S33/Q33 -> 0.82433301 | V33: =+T33/R33 -> 0.80644947 | W33: =+(V33-U33)/U33 -> -0.021694556 | X33: =R33-Q33 -> 299629.3 | Y33: =+X33/Q33 -> 0.25604968 | Z33: =+S33*W33 -> -20927.314 | AA33: =+Q33*V33-Q33*U33 -> -20927.314 | AB33: =+(R33-Q33)*V33 -> 241635.89 | AC33: =(V33-U33)*Q33 -> -20927.314 | AE33: =+R33-Q33 -> 299629.3 | AF33: =+AE33/Q33 -> 0.25604968
A34: ACIDE SULFIRIQUE | B34: 864586 | C34: 608595.4 | D34: =+C34/B34 -> 0.7039154 | E34: 920780 | F34: 1055269 | G34: =+F34/E34 -> 1.1460599 | H34: =+G34-D34 -> 0.44214446 | I34: =+H34/D34 -> 0.62812159 | J34: =+I34*C34 -> 382271.91 | K34: 36600 | L34: 51480 | M34: 69540 | N34: 17811.715 | O34: 53024.4 | P34: 70574.736 | Q34: =+K34+B34-L34 -> 849706 | R34: =+L34+E34-M34 -> 902720 | S34: =+N34+C34-O34 -> 573382.72 | T34: =+O34+F34-P34 -> 1037718.7 | U34: =+S34/Q34 -> 0.6748013 | V34: =+T34/R34 -> 1.1495466 | W34: =+(V34-U34)/U34 -> 0.70353339 | X34: =R34-Q34 -> 53014 | Y34: =+X34/Q34 -> 0.062390992 | Z34: =+S34*W34 -> 403393.89 | AA34: =+Q34*V34-Q34*U34 -> 403393.89 | AB34: =+(R34-Q34)*V34 -> 60942.061 | AC34: =(V34-U34)*Q34 -> 403393.89 | AE34: =+R34-Q34 -> 53014 | AF34: =+AE34/Q34 -> 0.062390992
A35: ACHAT SOUDE CAUSTIQUE | B35: 150075 | C35: 309053.95 | D35: =+C35/B35 -> 2.05933 | E35: 135000 | F35: 508315 | G35: =+F35/E35 -> 3.7652963 | H35: =+G35-D35 -> 1.7059663 | I35: =+H35/D35 -> 0.82840841 | J35: =+I35*C35 -> 256022.89 | K35: 25725 | L35: 4700 | M35: 20450 | N35: 51519.137 | O35: 9486 | P35: 76706 | Q35: =+K35+B35-L35 -> 171100 | R35: =+L35+E35-M35 -> 119250 | S35: =+N35+C35-O35 -> 351087.09 | T35: =+O35+F35-P35 -> 441095 | U35: =+S35/Q35 -> 2.0519409 | V35: =+T35/R35 -> 3.6989099 | W35: =+(V35-U35)/U35 -> 0.80263957 | X35: =R35-Q35 -> -51850 | Y35: =+X35/Q35 -> -0.30303916 | Z35: =+S35*W35 -> 281796.39 | AA35: =+Q35*V35-Q35*U35 -> 281796.39 | AB35: =+(R35-Q35)*V35 -> -191788.48 | AC35: =(V35-U35)*Q35 -> 281796.39 | AE35: =+R35-Q35 -> -51850 | AF35: =+AE35/Q35 -> -0.30303916
A36: ACHAT COKE DE PETROLE | B36: 553870 | C36: 434276.11 | D36: =+C36/B36 -> 0.78407589 | E36: 522750 | F36: 632998 | G36: =+F36/E36 -> 1.2109 | H36: =+G36-D36 -> 0.42682416 | I36: =+H36/D36 -> 0.54436588 | J36: =+I36*C36 -> 236405.1 | K36: 63259 | L36: 64122 | M36: 6477 | N36: 51227 | O36: 56447.305 | P36: 9864.8528 | Q36: =+K36+B36-L36 -> 553007 | R36: =+L36+E36-M36 -> 580395 | S36: =+N36+C36-O36 -> 429055.81 | T36: =+O36+F36-P36 -> 679580.45 | U36: =+S36/Q36 -> 0.77585963 | V36: =+T36/R36 -> 1.170893 | W36: =+(V36-U36)/U36 -> 0.50915574 | X36: =R36-Q36 -> 27388 | Y36: =+X36/Q36 -> 0.049525594 | Z36: =+S36*W36 -> 218456.23 | AA36: =+Q36*V36-Q36*U36 -> 218456.23 | AB36: =+(R36-Q36)*V36 -> 32068.418 | AC36: =(V36-U36)*Q36 -> 218456.23 | AE36: =+R36-Q36 -> 27388 | AF36: =+AE36/Q36 -> 0.049525594
O38: =SUM(O29:O37) -> 841302.43 | P38: =SUM(P29:P37) -> 933871.49 | S38: =SUM(S29:S37)/1000 -> 15238.321 | T38: =SUM(T29:T37)/1000 -> 20207.947
Z39: effet prix KTND | AB39: effet qté T
T40: =+T38-S38 -> 4969.6255 | Z40: =+SUM(Z29:Z36)/1000 -> 1043.4608 | AA40: =+SUM(AA29:AA36) -> 1043460.8 | AB40: =+SUM(AB29:AB36)/1000 -> 3926.1648 | AC40: =+AB40+Z40 -> 4969.6255 | AD40: =+AC40-T40 -> 0 | AE40: =+AC40/3.27 -> 1519.7632 | AF40: =+AD40/3.27 -> 0
Z41: =+Z40/S38 -> 0.068476098 | AB41: =+AB40/S38 -> 0.25765074 | AE41: =+Z40/$AC$40 -> 0.20996769 | AF41: =+AB40/AC40 -> 0.79003231
AC42: 3547 | AE42: =+AE41*AE40 -> 319.10115
AC43: =+AC40-AC42 -> 1422.6255
AC45: =+'5,6 Inventory stratificatio (2)'!M29 -> 0
AC46: =+AC40-AC45 -> 4969.6255

Sheet YTD Q1'23 SNA vs Q1'22
O2: Ramzi
B3: Applicable FX rate | C3: ='FY22 Fcst'!N6 -> 3.3321 | F3: ='FY22 Fcst'!N7 -> 3.2702 | T3: Profitability dynamics (EURs)
B5: SNA | C5: 44926 | E5: % of Rev | F5: 44561 | H5: % of Rev | J5: YoY Var
C6: TND | D6: EUR | F6: TND | G6: EUR | J6: TND | K6: EUR | L6: EUR %
B7: Local Sales Revenue | C7: 31465471 | D7: =+C7/$C$3 -> 9443135.2 | F7: 28572438 | G7: =+F7/$F$3 -> 8737214.2 | J7: =C7-F7 -> 2893033 | K7: =D7-G7 -> 705921.01 | L7: =K7/G7 -> 0.080794748
B8: Export Sales Revenue | C8: 7380617.3 | D8: =+C8/$C$3 -> 2215004.7 | F8: 9010087.4 | G8: =+F8/$F$3 -> 2755209.9 | J8: =C8-F8 -> -1629470.1 | K8: =D8-G8 -> -540205.16 | L8: =K8/G8 -> -0.19606679
B9: Other Revenues | C9: 769977.89 | D9: =+C9/$C$3 -> 231078.87 | F9: 221147.12 | G9: =+F9/$F$3 -> 67624.953 | J9: =C9-F9 -> 548830.77 | K9: =D9-G9 -> 163453.91 | L9: =K9/G9 -> 2.4170651
B10: Total sales revenues | C10: =SUM(C7:C9) -> 39616066 | D10: =SUM(D7:D9) -> 11889219 | F10: =SUM(F7:F9) -> 37803672 | G10: =+F10/$F$3 -> 11560049 | J10: =C10-F10 -> 1812393.6 | K10: =D10-G10 -> 329169.77 | L10: =K10/G10 -> 0.028474773 | O10: 12148068 | P10: =+O10-D10 -> 258849.63
B11: Change in inventory | C11: 1124564.6 | D11: =+C11/$C$3 -> 337494.27 | E11: =+D11/$D$10 -> 0.02838658 | F11: =-1054861.408 -> -1054861.4 | G11: =+F11/$F$3 -> -322567.86 | H11: =+G11/$G$10 -> -0.027903676 | J11: =C11-F11 -> 2179426.1 | K11: =D11-G11 -> 660062.12 | L11: =K11/G11 -> -2.0462737 | T11: =+E11+E12-H11-H12 -> -0.011473344 | Y11: 0.1
B12: Expense for materials | C12: =-28027514.927+271000 -> -27756515 | D12: =+C12/$C$3 -> -8330036.6 | E12: =+D12/$D$10 -> -0.70063784 | F12: -23924970 | G12: =+F12/$F$3 -> -7316057.3 | H12: =+G12/$G$10 -> -0.63287424 | J12: =C12-F12 -> -3831544.5 | K12: =D12-G12 -> -1013979.3 | L12: =-K12/G12 -> -0.13859642
B13: GROSS CONTRIBUTION | C13: =C10+C11+C12 -> 12984116 | D13: =D10+D11+D12 -> 3896676.5 | E13: =+D13/$D$10 -> 0.32774874 | F13: =F10+F11+F12 -> 12823840 | G13: =G10+G11+G12 -> 3921423.9 | H13: =+G13/$G$10 -> 0.33922208 | J13: =C13-F13 -> 160275.2 | K13: =D13-G13 -> -24747.439 | L13: =K13/G13 -> -0.0063108299 | O13: =+L13 -> -0.0063108299 | P13: * 6% increase of total revenue compensating a negative variance on the on the COGS | T13: =E13-H13 -> -0.011473344 | V13: =K11+K12 -> -353917.21 | W13: * Increase in the cost of consumed raw material 1,5 M EUR negatively impacting the Gross contribution by 12,5% (20% driven by price variance and 80% by volume variance) * The material cost increase hit is partially mitigated by the following price increasing (Increase in the export selling price by 10% and local sale price 14% from october 22 and 3% from march 22 and 3% from sep 21)
B14: Personnel expenses | C14: =-3991712.925-271000 -> -4262712.9 | D14: =+C14/$C$3 -> -1279287.2 | E14: =+D14/$D$10 -> -0.10760061 | F14: -3351174.9 | G14: =+F14/$F$3 -> -1024761.5 | H14: =+G14/$G$10 -> -0.088646809 | J14: =C14-F14 -> -911538 | K14: =D14-G14 -> -254525.75 | L14: =-K14/G14 -> -0.24837561 | W14: * 90K EUR 33 K EUR SNA and 57 K EUR SND
B15: Other expenses | C15: -3027640.1 | D15: =+C15/$C$3 -> -908628.23 | E15: =+D15/$D$10 -> -0.076424553 | F15: -2476935.2 | G15: =+F15/$F$3 -> -757426.2 | H15: =+G15/$G$10 -> -0.06552102 | J15: =C15-F15 -> -550704.95 | K15: =D15-G15 -> -151202.03 | L15: =-K15/G15 -> -0.19962608
B16: Total Expenses | C16: =SUM(C11:C15)-C13 -> -33922303 | D16: =SUM(D11:D15)-D13 -> -10180458 | E16: =D16/D10 -> -0.85627643 | F16: =SUM(F11:F15)-F13 -> -30807942 | G16: =SUM(G11:G15)-G13 -> -9420812.8 | H16: =+G16/$G$10 -> -0.81494575 | J16: =C16-F16 -> -3114361.4 | K16: =D16-G16 -> -759644.99 | L16: =-K16/G16 -> -0.080634761
B17: EBITDA | C17: =+C10+C16 -> 5693762.6 | D17: =+D10+D16 -> 1708761 | E17: =+D17/D10 -> 0.14372357 | F17: =+F10+F16 -> 6995730.4 | G17: =+F17/$F$3 -> 2139236.2 | H17: =+G17/$G$10 -> 0.18505425 | J17: =C17-F17 -> -1301967.8 | K17: =D17-G17 -> -430475.22 | L17: =K17/G17 -> -0.20122846 | O17: =+L17 -> -0.20122846 | P17: *See the labour stratification for 240 K EUR *See the semi OPEX stratification items | T17: =E17-H17 -> -0.041330679 | U17: =T17-T13 -> -0.029857335 | V17: =K14+K15 -> -405727.78 | W17: *See the labour stratification for 240 K EUR *See the semi OPEX stratification items
B18: Depreciation charges | C18: -2329752.8 | D18: =+C18/$C$3 -> -699184.52 | E18: =+D18/$D$10 -> -0.058808281 | F18: -2052630.7 | G18: =+F18/$F$3 -> -627677.41 | H18: =+G18/$G$10 -> -0.054297123 | J18: =C18-F18 -> -277122.09 | K18: =D18-G18 -> -71507.117 | L18: =-K18/G18 -> -0.11392336 | O18: =+L18 -> -0.11392336 | P18: * Increase in the amortization cost related to new equipements (70 KEUR is related to new equipments)
B19: EBIT | C19: =C17+C18 -> 3364009.9 | D19: =D17+D18 -> 1009576.5 | E19: =+D19/$D$10 -> 0.084915293 | F19: =F17+F18 -> 4943099.7 | G19: =G17+G18 -> 1511558.8 | H19: =+G19/$G$10 -> 0.13075713 | J19: =C19-F19 -> -1579089.8 | K19: =D19-G19 -> -501982.34 | L19: =K19/G19 -> -0.3320958
B20: Net finance charges | C20: -1220980 | D20: =+C20/$C$3 -> -366429.58 | E20: =+D20/$D$10 -> -0.030820324 | F20: -1373516.7 | G20: =+F20/$F$3 -> -420009.99 | H20: =+G20/$G$10 -> -0.03633289 | J20: =C20-F20 -> 152536.66 | K20: =D20-G20 -> 53580.409 | L20: =-K20/G20 -> 0.12756937 | O20: =+L20 -> 0.12756937 | P20: * Positive variance coming from decrease in the MT loan
B21: Other income | C21: 29325.842 | D21: =+C21/$C$3 -> 8801.009 | E21: =+D21/$D$10 -> 0.00074025124 | F21: 14148.99 | G21: =+F21/$F$3 -> 4326.6436 | H21: =+G21/$G$10 -> 0.00037427554 | J21: =C21-F21 -> 15176.852 | K21: =D21-G21 -> 4474.3653 | L21: -1
B22: Other expense | C22: -19222.234 | D22: =+C22/$C$3 -> -5768.8047 | E22: =+D22/$D$10 -> -0.0004852131 | F22: -19002.064 | G22: =+F22/$F$3 -> -5810.6734 | H22: =+G22/$G$10 -> -0.00050265127 | J22: =C22-F22 -> -220.17 | K22: =D22-G22 -> 41.868696 | L22: =-K22/G22 -> 0.0072054809
B23: EBT | C23: =C19+C20+C21+C22 -> 2153133.5 | D23: =D19+D20+D21+D22 -> 646179.13 | E23: =+D23/$D$10 -> 0.054350007 | F23: =F19+F20+F21+F22 -> 3564730 | G23: =G19+G20+G21+G22 -> 1090064.8 | H23: =+G23/$G$10 -> 0.094295865 | J23: =C23-F23 -> -1411596.5 | K23: =D23-G23 -> -443885.69 | L23: =K23/G23 -> -0.40721036 | T23: =E23-H23 -> -0.039945858 | U23: =T23-T17 -> 0.0013848214 | V23: =K20+K21+K22 -> 58096.643 | W23: * Increase of average of TMM by 8% * Increase of the WC employed * Increase of SNR interest on MT loan (40 K EUR)
D29: =D12+D11 -> -7992542.3 | G29: =G12+G11 -> -7638625.1 | K29: =D29-G29 -> -353917.21 | T29: =G30-D30 -> 0.011473344
D30: =D29/D10 -> -0.67225126 | G30: =G29/G10 -> -0.66077792 | T30: =D30-G30 -> -0.011473344
D32: =D14+D15 -> -2187915.4 | G32: =G14+G15 -> -1782187.7 | K32: 0

Sheet YTD Q1'23 SND vs Q1'22
B3: Applicable FX rate | C3: 3.2611 | F3: 3.2964 | O3: Profitability dynamics (EURs)
T4: =6%*5/12+14%*3/12+3%*3/12 -> 0.0675
B5: SND | C5: 44926 | E5: % of Rev | F5: 44561 | H5: % of Rev | J5: YoY Var
C6: TND | D6: EUR | F6: TND | G6: EUR | J6: TND | K6: EUR | L6: EUR %
B7: Local Sales Revenue | C7: =Feuil1!C4+Feuil1!C5 -> 39672674 | D7: =+C7/$C$3 -> 12165427 | F7: =+Feuil1!D4+Feuil1!D5 -> 33044803 | G7: =+F7/$F$3 -> 10024512 | J7: =C7-F7 -> 6627871.9 | K7: =D7-G7 -> 2140914.8 | L7: =K7/G7 -> 0.21356797
B8: Total sales revenues | C8: =SUM(C7:C7) -> 39672674 | D8: =SUM(D7:D7) -> 12165427 | F8: =SUM(F7:F7) -> 33044803 | G8: =+F8/$F$3 -> 10024512 | J8: =C8-F8 -> 6627871.9 | K8: =D8-G8 -> 2140914.8 | L8: =K8/G8 -> 0.21356797
B9: Expense for materials | C9: =Feuil1!C10 -> -34494671 | D9: =+C9/$C$3 -> -10577618 | E9: =+D9/$D$8 -> -0.86948186 | F9: =+Feuil1!D10 -> -29258377 | G9: =+F9/$F$3 -> -8875857.7 | H9: =+G9/$G$8 -> -0.8854154 | J9: =C9-F9 -> -5236293.7 | K9: =D9-G9 -> -1701760.6 | L9: =-K9/G9 -> -0.19172915 | O9: =+E10 -> 0.13051814
B10: GROSS CONTRIBUTION | C10: =C8+C9 -> 5178003.5 | D10: =D8+D9 -> 1587808.9 | E10: =+D10/$D$8 -> 0.13051814 | F10: =F8+F9 -> 3786425.4 | G10: =G8+G9 -> 1148654.7 | H10: =+G10/$G$8 -> 0.1145846 | J10: =C10-F10 -> 1391578.1 | K10: =D10-G10 -> 439154.17 | L10: =K10/G10 -> 0.38232043 | O10: =E10-H10+O9 -> 0.14645168 | Q10: =+K10 -> 439154.17 | R10: * Increase of an average of 7% in cost of material (intercompany transfert price) * Increase of an average of 9% of net sale price to third parties
B11: Personnel expenses | C11: =Feuil1!C12 -> -1276755.9 | D11: =+C11/$C$3 -> -391510.82 | E11: =+D11/$D$8 -> -0.03218225 | F11: =+Feuil1!D12 -> -771912.3 | G11: =+F11/$F$3 -> -234168.27 | H11: =+G11/$G$8 -> -0.023359568 | J11: =C11-F11 -> -504843.62 | K11: =D11-G11 -> -157342.54 | L11: =-K11/G11 -> -0.67192083 | O11: =+E11-H11+O10 -> 0.13762899 | Q11: =+K11 -> -157342.54 | R11: * See the labour stratification
B12: Provision | C12: =+Feuil1!C14 -> -187340.41 | D12: =+C12/$C$3 -> -57446.999 | E12: =+D12/$D$8 -> -0.0047221523 | F12: =+Feuil1!D14 -> -828323.56 | G12: =+F12/$F$3 -> -251281.26 | H12: =+G12/$G$8 -> -0.025066682 | J12: =C12-F12 -> 640983.15 | K12: =D12-G12 -> 193834.26 | L12: =-K12/G12 -> 0.77138367 | O12: =+O11+E12-H12 -> 0.15797352 | Q12: =+K12 -> 193834.26 | R12: * first time booking provision of 180 KEUR on 2021
B13: Other expenses | C13: =+Feuil1!C15 -> -1264260.3 | D13: =+C13/$C$3 -> -387679.1 | E13: =+D13/$D$8 -> -0.031867282 | F13: =+Feuil1!D15 -> -963508.49 | G13: =+F13/$F$3 -> -292291.13 | H13: =+G13/$G$8 -> -0.029157641 | J13: =C13-F13 -> -300751.81 | K13: =D13-G13 -> -95387.964 | L13: =-K13/G13 -> -0.32634573 | O13: =+O12+E13-H13 -> 0.15526388 | Q13: =K13 -> -95387.964 | R13: * Increase of the following costs: 31 K EUR of marketting costs (compaign) 24 K EUR of reparation costs (The aging of cars) 18 K EUR of rent costs (Increase of rent of megrine agency of 14KEUR and 5% annual increase) 9 K EUR of the fuel (Increase in the price of fuel) 5 K EUR of tax revenue (Increase of revenue) | U13: 135
B14: Total Expenses | C14: =SUM(C9:C13)-C10 -> -37223028 | D14: =SUM(D9:D13)-D10 -> -11414255 | E14: =D14/D8 -> -0.93825355 | F14: =SUM(F9:F13)-F10 -> -31822122 | G14: =SUM(G9:G13)-G10 -> -9653598.3 | H14: =+G14/$G$8 -> -0.96299929 | J14: =C14-F14 -> -5400906 | K14: =D14-G14 -> -1760656.8 | L14: =-K14/G14 -> -0.18238348 | U14: 90
B15: EBITDA | C15: =+C8+C14 -> 2449646.9 | D15: =+D8+D14 -> 751171.96 | E15: =+D15/D8 -> 0.061746452 | F15: =+F8+F14 -> 1222681 | G15: =+F15/$F$3 -> 370914.03 | H15: =+G15/$G$8 -> 0.037000706 | J15: =C15-F15 -> 1226965.9 | K15: =D15-G15 -> 380257.93 | L15: =K15/G15 -> 1.0251915 | O15: =+E15 -> 0.061746452 | U15: =+U13-U14 -> 45
B16: Depreciation charges | C16: =+Feuil1!C13 -> -172777.61 | D16: =+C16/$C$3 -> -52981.388 | E16: =+D16/$D$8 -> -0.0043550783 | F16: =+Feuil1!D13 -> -158209.36 | G16: =+F16/$F$3 -> -47994.588 | H16: =+G16/$G$8 -> -0.004787723 | J16: =C16-F16 -> -14568.244 | K16: =D16-G16 -> -4986.7998 | L16: =-K16/G16 -> -0.10390338 | O16: =+E16-H16 -> 0.00043264465 | U16: =+U15/DateFin1 -> 13.799025
B17: EBIT | C17: =C15+C16 -> 2276869.3 | D17: =D15+D16 -> 698190.57 | E17: =+D17/$D$8 -> 0.057391374 | F17: =F15+F16 -> 1064471.7 | G17: =G15+G16 -> 322919.45 | H17: =+G17/$G$8 -> 0.032212983 | J17: =C17-F17 -> 1212397.6 | K17: =D17-G17 -> 375271.13 | L17: =K17/G17 -> 1.1621199 | O17: =+O15+O16 -> 0.062179097
B18: Net finance charges | C18: =+Feuil1!C21+Feuil1!C22 -> -341582.26 | D18: =+C18/$C$3 -> -104744.49 | E18: =+D18/$D$8 -> -0.0086100134 | F18: =+Feuil1!D21 -> -204066.6 | G18: =+F18/$F$3 -> -61905.896 | H18: =+G18/$G$8 -> -0.0061754521 | J18: =C18-F18 -> -137515.66 | K18: =D18-G18 -> -42838.594 | L18: =-K18/G18 -> -0.69199538 | O18: =+E18-H18 -> -0.0024345612 | Q18: =+K18 -> -42838.594 | R18: * Increase use of the escompte facility correlate with the account receivables * Increase of TMM between 2021 and 2022
