Workbook

Sheet SND
A1: Référence | B1: Client | C1: Eff Date | D1: Montant | E1: Montant appliqué | F1: Montant ouvert
A2: FS111008 | B2: 1a01008 | C2: 44551 | D2: 671.16 | E2: 0 | F2: 671.16 | G2: 10 | H2: F | I2: A | J2: D | K2: =CONCATENATE(G:G,H:H,I:I,J:J) -> 10FAD | M2: =VLOOKUP(B:B,CLIENTS!A:C,3,FALSE) -> CH000 | N2: =RIGHT(M:M,3) -> 000 | O2: =C2+N2+30 -> 44581
A3: FS111009 | B3: 1a01008 | C3: 44551 | D3: 1978.97 | E3: 0 | F3: 1978.97 | G3: 10 | H3: F | I3: A | J3: D | K3: =CONCATENATE(G:G,H:H,I:I,J:J) -> 10FAD | M3: =VLOOKUP(B:B,CLIENTS!A:C,3,FALSE) -> CH000 | N3: =RIGHT(M:M,3) -> 000 | O3: =C3+N3+30 -> 44581
A4: FS200241 | B4: 1A01026 | C4: 44575 | D4: 448.031 | E4: 0 | F4: 448.031 | G4: 10 | H4: F | I4: A | J4: M | K4: =CONCATENATE(G:G,H:H,I:I,J:J) -> 10FAM | M4: =VLOOKUP(B:B,CLIENTS!A:C,3,FALSE) -> VR090 | N4: =RIGHT(M:M,3) -> 090 | O4: =C4+N4+30 -> 44695
A5: FS110082 | B5: 1a01032 | C5: 44525 | D5: 4971.82 | E5: 4698.788 | F5: 273.032 | G5: 10 | H5: F | I5: A | J5: C | K5: =CONCATENATE(G:G,H:H,I:I,J:J) -> 10FAC | M5: =VLOOKUP(B:B,CLIENTS!A:C,3,FALSE) -> VR060 | N5: =RIGHT(M:M,3) -> 060 | O5: =C5+N5+30 -> 44615
A6: FS111119 | B6: 1A01034 | C6: 44554 | D6: 1713.6 | E6: 0 | F6: 1713.6 | G6: 10 | H6: F | I6: A | J6: D | K6: =CONCATENATE(G:G,H:H,I:I,J:J) -> 10FAD | M6: =VLOOKUP(B:B,CLIENTS!A:C,3,FALSE) -> VR045 | N6: =RIGHT(M:M,3) -> 045 | O6: =C6+N6+30 -> 44629
A7: FS105593 | B7: 1A03002 | C7: 44404 | D7: 188448.4 | E7: 0 | F7: 188448.4 | G7: 10 | H7: F | I7: A | J7: K | K7: =CONCATENATE(G:G,H:H,I:I,J:J) -> 10FAK | M7: =VLOOKUP(B:B,CLIENTS!A:C,3,FALSE) -> VR090 | N7: =RIGHT(M:M,3) -> 090 | O7: =C7+N7+30 -> 44524
A8: F4211528 | B8: 1A03002 | C8: 44476 | D8: 10607.66 | E8: 10025.13 | F8: 582.53 | G8: 10 | H8: F | I8: A | J8: H | K8: =CONCATENATE(G:G,H:H,I:I,J:J) -> 10FAH | M8: =VLOOKUP(B:B,CLIENTS!A:C,3,FALSE) -> VR090 | N8: =RIGHT(M:M,3) -> 090 | O8: =C8+N8+30 -> 44596
A9: F3211961 | B9: 1A03002 | C9: 44518 | D9: 3379.6 | E9: 3210.904 | F9: 168.696 | G9: 10 | H9: F | I9: A | J9: C | K9: =CONCATENATE(G:G,H:H,I:I,J:J) -> 10FAC | M9: =VLOOKUP(B:B,CLIENTS!A:C,3,FALSE) -> VR090 | N9: =RIGHT(M:M,3) -> 090 | O9: =C9+N9+30 -> 44638
A10: FS104813 | B10: 1A03004 | C10: 44377 | D10: 178926.02 | E10: 0 | F10: 178926.02 | G10: 10 | H10: F | I10: A | J10: Q | K10: =CONCATENATE(G:G,H:H,I:I,J:J) -> 10FAQ | M10: =VLOOKUP(B:B,CLIENTS!A:C,3,FALSE) -> VR090 | N10: =RIGHT(M:M,3) -> 090 | O10: =C10+N10+30 -> 44497
A11: FS105614 | B11: 1A03004 | C11: 44405 | D11: 27812.68 | E11: 0 | F11: 27812.68 | G11: 10 | H11: F | I11: A | J11: K | K11: =CONCATENATE(G:G,H:H,I:I,J:J) -> 10FAK | M11: =VLOOKUP(B:B,CLIENTS!A:C,3,FALSE) -> VR090 | N11: =RIGHT(M:M,3) -> 090 | O11: =C11+N11+30 -> 44525
A12: FS105640 | B12: 1A03008 | C12: 44406 | D12: 25644.5 | E12: 0 | F12: 25644.5 | G12: 10 | H12: F | I12: A | J12: K | K12: =CONCATENATE(G:G,H:H,I:I,J:J) -> 10FAK | M12: =VLOOKUP(B:B,CLIENTS!A:C,3,FALSE) -> VR090 | N12: =RIGHT(M:M,3) -> 090 | O12: =C12+N12+30 -> 44526
A13: FS111250 | B13: 1A03011 | C13: 44559 | D13: 1487.5 | E13: 0 | F13: 1487.5 | G13: 10 | H13: F | I13: A | J13: D | K13: =CONCATENATE(G:G,H:H,I:I,J:J) -> 10FAD | M13: =VLOOKUP(B:B,CLIENTS!A:C,3,FALSE) -> VR045 | N13: =RIGHT(M:M,3) -> 045 | O13: =C13+N13+30 -> 44634
... A332: FS200790 | B332: 1R01132 | C332: 44592 | D332: 510.789 | E332: 0 | F332: 510.789 | G332: 10 | H332: F | I332: R | J332: M | K332: =CONCATENATE(G:G,H:H,I:I,J:J) -> 10FRM | M332: =VLOOKUP(B:B,CLIENTS!A:C,3,FALSE) -> CH090 | N332: =RIGHT(M:M,3) -> 090 | O332: =C332+N332+30 -> 44712
A333: 16120879 | B333: 1R01161 | C333: 42520 | D333: -398 | E333: -397.954 | F333: -0.046 | G333: 10 | H333: F | I333: R | J333: U | K333: =CONCATENATE(G:G,H:H,I:I,J:J) -> 10FRU | M333: =VLOOKUP(B:B,CLIENTS!A:C,3,FALSE) -> CH090 | N333: =RIGHT(M:M,3) -> 090 | O333: =C333+N333+30 -> 42640
A334: FS200811 | B334: 1R01161 | C334: 44592 | D334: 527.019 | E334: 0 | F334: 527.019 | G334: 10 | H334: F | I334: R | J334: M | K334: =CONCATENATE(G:G,H:H,I:I,J:J) -> 10FRM | M334: =VLOOKUP(B:B,CLIENTS!A:C,3,FALSE) -> CH090 | N334: =RIGHT(M:M,3) -> 090 | O334: =C334+N334+30 -> 44712
A335: FS200740 | B335: 1R01195 | C335: 44592 | D335: 3451.859 | E335: 0 | F335: 3451.859 | G335: 10 | H335: F | I335: R | J335: M | K335: =CONCATENATE(G:G,H:H,I:I,J:J) -> 10FRM | M335: =VLOOKUP(B:B,CLIENTS!A:C,3,FALSE) -> TR060 | N335: =RIGHT(M:M,3) -> 060 | O335: =C335+N335+30 -> 44682
A336: FS200797 | B336: 1R01445 | C336: 44592 | D336: 6440.586 | E336: 0 | F336: 6440.586 | G336: 10 | H336: F | I336: R | J336: M | K336: =CONCATENATE(G:G,H:H,I:I,J:J) -> 10FRM | M336: =VLOOKUP(B:B,CLIENTS!A:C,3,FALSE) -> CH090 | N336: =RIGHT(M:M,3) -> 090 | O336: =C336+N336+30 -> 44712
A337: FS200857 | B337: 1R01455 | C337: 44592 | D337: 443.971 | E337: 0 | F337: 443.971 | G337: 10 | H337: F | I337: R | J337: M | K337: =CONCATENATE(G:G,H:H,I:I,J:J) -> 10FRM | M337: =VLOOKUP(B:B,CLIENTS!A:C,3,FALSE) -> CH045 | N337: =RIGHT(M:M,3) -> 045 | O337: =C337+N337+30 -> 44667
A338: FS200738 | B338: 1R01456 | C338: 44592 | D338: 928.855 | E338: 0 | F338: 928.855 | G338: 10 | H338: F | I338: R | J338: M | K338: =CONCATENATE(G:G,H:H,I:I,J:J) -> 10FRM | M338: =VLOOKUP(B:B,CLIENTS!A:C,3,FALSE) -> CH060 | N338: =RIGHT(M:M,3) -> 060 | O338: =C338+N338+30 -> 44682
A339: FS200820 | B339: 1R01457 | C339: 44592 | D339: 1390.705 | E339: 0 | F339: 1390.705 | G339: 10 | H339: F | I339: R | J339: M | K339: =CONCATENATE(G:G,H:H,I:I,J:J) -> 10FRM | M339: =VLOOKUP(B:B,CLIENTS!A:C,3,FALSE) -> TR090 | N339: =RIGHT(M:M,3) -> 090 | O339: =C339+N339+30 -> 44712
A340: FS200789 | B340: 1R01460 | C340: 44592 | D340: 633.209 | E340: 0 | F340: 633.209 | G340: 10 | H340: F | I340: R | J340: M | K340: =CONCATENATE(G:G,H:H,I:I,J:J) -> 10FRM | M340: =VLOOKUP(B:B,CLIENTS!A:C,3,FALSE) -> TR090 | N340: =RIGHT(M:M,3) -> 090 | O340: =C340+N340+30 -> 44712
A341: FS111471 | B341: 1r01465 | C341: 44561 | D341: 846.262 | E341: 0 | F341: 846.262 | G341: 10 | H341: F | I341: R | J341: D | K341: =CONCATENATE(G:G,H:H,I:I,J:J) -> 10FRD | M341: =VLOOKUP(B:B,CLIENTS!A:C,3,FALSE) -> TR090 | N341: =RIGHT(M:M,3) -> 090 | O341: =C341+N341+30 -> 44681
A342: FS200802 | B342: 1R01465 | C342: 44592 | D342: 1336.677 | E342: 0 | F342: 1336.677 | G342: 10 | H342: F | I342: R | J342: M | K342: =CONCATENATE(G:G,H:H,I:I,J:J) -> 10FRM | M342: =VLOOKUP(B:B,CLIENTS!A:C,3,FALSE) -> TR090 | N342: =RIGHT(M:M,3) -> 090 | O342: =C342+N342+30 -> 44712
A343: FS200808 | B343: 1R01470 | C343: 44592 | D343: 2000.98 | E343: 0 | F343: 2000.98 | G343: 10 | H343: F | I343: R | J343: M | K343: =CONCATENATE(G:G,H:H,I:I,J:J) -> 10FRM | M343: =VLOOKUP(B:B,CLIENTS!A:C,3,FALSE) -> CH060 | N343: =RIGHT(M:M,3) -> 060 | O343: =C343+N343+30 -> 44682
A344: FS105829 | B344: 1R01473 | C344: 44407 | D344: 3096.475 | E344: 300 | F344: 2796.475 | G344: 10 | H344: F | I344: R | J344: K | K344: =CONCATENATE(G:G,H:H,I:I,J:J) -> 10FRK | M344: =VLOOKUP(B:B,CLIENTS!A:C,3,FALSE) -> CH090 | N344: =RIGHT(M:M,3) -> 090 | O344: =C344+N344+30 -> 44527
A345: FS107032 | B345: 1R01473 | C345: 44439 | D345: 3738.033 | E345: 0 | F345: 3738.033 | G345: 10 | H345: F | I345: R | J345: K | K345: =CONCATENATE(G:G,H:H,I:I,J:J) -> 10FRK | M345: =VLOOKUP(B:B,CLIENTS!A:C,3,FALSE) -> CH090 | N345: =RIGHT(M:M,3) -> 090 | O345: =C345+N345+30 -> 44559
A346: FS111305 | B346: 1R01476 | C346: 44561 | D346: 28163.999 | E346: 8000 | F346: 20163.999 | G346: 10 | H346: F | I346: R | J346: D | K346: =CONCATENATE(G:G,H:H,I:I,J:J) -> 10FRD | M346: =VLOOKUP(B:B,CLIENTS!A:C,3,FALSE) -> ES | N346: 0 | O346: =C346+N346+30 -> 44591
A347: IMT22014 | B347: 1R01480 | C347: 44582 | D347: 2800 | E347: 0 | F347: 2800 | G347: 10 | H347: I | I347: R | J347: M | K347: =CONCATENATE(G:G,H:H,I:I,J:J) -> 10IRM | M347: =VLOOKUP(B:B,CLIENTS!A:C,3,FALSE) -> TR120 | N347: =RIGHT(M:M,3) -> 120 | O347: =C347+N347+30 -> 44732
A348: FS200812 | B348: 1R01480 | C348: 44592 | D348: 4199.935 | E348: 0 | F348: 4199.935 | G348: 10 | H348: F | I348: R | J348: M | K348: =CONCATENATE(G:G,H:H,I:I,J:J) -> 10FRM | M348: =VLOOKUP(B:B,CLIENTS!A:C,3,FALSE) -> TR120 | N348: =RIGHT(M:M,3) -> 120 | O348: =C348+N348+30 -> 44742
A349: FS200794 | B349: 1R01481 | C349: 44592 | D349: 3611.763 | E349: 0 | F349: 3611.763 | G349: 10 | H349: F | I349: R | J349: M | K349: =CONCATENATE(G:G,H:H,I:I,J:J) -> 10FRM | M349: =VLOOKUP(B:B,CLIENTS!A:C,3,FALSE) -> TR090 | N349: =RIGHT(M:M,3) -> 090 | O349: =C349+N349+30 -> 44712
A350: FS200807 | B350: 1R01492 | C350: 44592 | D350: 438.206 | E350: 0 | F350: 438.206 | G350: 10 | H350: F | I350: R | J350: M | K350: =CONCATENATE(G:G,H:H,I:I,J:J) -> 10FRM | M350: =VLOOKUP(B:B,CLIENTS!A:C,3,FALSE) -> CH060 | N350: =RIGHT(M:M,3) -> 060 | O350: =C350+N350+30 -> 44682
A351: FS200860 | B351: 1R01498 | C351: 44592 | D351: 139.55 | E351: 0 | F351: 139.55 | G351: 10 | H351: F | I351: R | J351: M | K351: =CONCATENATE(G:G,H:H,I:I,J:J) -> 10FRM | M351: =VLOOKUP(B:B,CLIENTS!A:C,3,FALSE) -> CH060 | N351: =RIGHT(M:M,3) -> 060 | O351: =C351+N351+30 -> 44682
A352: 20127788 | B352: 1R01510 | C352: 44054 | D352: -2920.219 | E352: -2915.181 | F352: -5.038 | G352: 10 | H352: F | I352: R | J352: Z | K352: =CONCATENATE(G:G,H:H,I:I,J:J) -> 10FRZ | M352: =VLOOKUP(B:B,CLIENTS!A:C,3,FALSE) -> TR090 | N352: =RIGHT(M:M,3) -> 090 | O352: =C352+N352+30 -> 44174
A353: FS111464 | B353: 1R01512 | C353: 44561 | D353: 167.557 | E353: 0 | F353: 167.557 | G353: 10 | H353: F | I353: R | J353: D | K353: =CONCATENATE(G:G,H:H,I:I,J:J) -> 10FRD | M353: =VLOOKUP(B:B,CLIENTS!A:C,3,FALSE) -> CH030 | N353: =RIGHT(M:M,3) -> 030 | O353: =C353+N353+30 -> 44621
A354: FS200716 | B354: 1R01517 | C354: 44592 | D354: 3613.9 | E354: 0 | F354: 3613.9 | G354: 10 | H354: F | I354: R | J354: M | K354: =CONCATENATE(G:G,H:H,I:I,J:J) -> 10FRM | M354: =VLOOKUP(B:B,CLIENTS!A:C,3,FALSE) -> CH090 | N354: =RIGHT(M:M,3) -> 090 | O354: =C354+N354+30 -> 44712
A355: FS111366 | B355: 1R01518 | C355: 44561 | D355: 1835.663 | E355: 0 | F355: 1835.663 | G355: 10 | H355: F | I355: R | J355: D | K355: =CONCATENATE(G:G,H:H,I:I,J:J) -> 10FRD | M355: =VLOOKUP(B:B,CLIENTS!A:C,3,FALSE) -> CH090 | N355: =RIGHT(M:M,3) -> 090 | O355: =C355+N355+30 -> 44681
A356: FS200674 | B356: 1R01518 | C356: 44592 | D356: 1568.864 | E356: 0 | F356: 1568.864 | G356: 10 | H356: F | I356: R | J356: M | K356: =CONCATENATE(G:G,H:H,I:I,J:J) -> 10FRM | M356: =VLOOKUP(B:B,CLIENTS!A:C,3,FALSE) -> CH090 | N356: =RIGHT(M:M,3) -> 090 | O356: =C356+N356+30 -> 44712
A357: FS200800 | B357: 1R01527 | C357: 44592 | D357: 11041.143 | E357: 0 | F357: 11041.143 | G357: 10 | H357: F | I357: R | J357: M | K357: =CONCATENATE(G:G,H:H,I:I,J:J) -> 10FRM | M357: =VLOOKUP(B:B,CLIENTS!A:C,3,FALSE) -> ES | N357: 0 | O357: =C357+N357+30 -> 44622
A358: FS110883 | B358: 1R01534 | C358: 44545 | D358: 116.923 | E358: 0 | F358: 116.923 | G358: 10 | H358: F | I358: R | J358: D | K358: =CONCATENATE(G:G,H:H,I:I,J:J) -> 10FRD | M358: =VLOOKUP(B:B,CLIENTS!A:C,3,FALSE) -> TR120 | N358: =RIGHT(M:M,3) -> 120 | O358: =C358+N358+30 -> 44695
...

Sheet Feuil1
A2: MEGRINE | B2: <2013 | C2: 2013 | D2: 2014 | E2: 2015 | F2: 2016 | G2: 2017 | H2: 2018 | I2: 2019 | J2: 2020 | K2: 1 SEM 21 | L2: 3 TRI 21 | M2: 44470 | N2: 44501 | O2: 44531 | P2: 44562 | R2: MEGRINE | S2: <2013 | T2: 2013 | U2: 2014 | V2: 2015 | W2: 2016 | X2: 2017 | Y2: 2018 | Z2: 2019 | AA2: 2020 | AB2: 1 SEM 21 | AC2: 3 TRI 21 | AD2: 44470 | AE2: 44501 | AF2: 44531 | AG2: 44562 | AH2: TOTAL
A3: REVENDEURS | B3: 10FRY | C3: 10FRX | D3: 10FRV | E3: 10FRW | F3: 10FRU | G3: 10FRJ | H3: 10FRF | I3: 10FRA | J3: 10FRZ | K3: 10FRQ | L3: 10FRK | M3: 10FRH | N3: 10FRC | O3: 10FRD | P3: 10FRM | R3: REVENDEURS | S3: =SUMIF(SND!K:K,Feuil1!B3,SND!F:F) -> 99.381 | T3: =SUMIF(SND!K:K,Feuil1!C3,SND!F:F) -> -3.577 | U3: =SUMIF(SND!K:K,Feuil1!D3,SND!F:F) -> -2.537 | V3: =SUMIF(SND!K:K,Feuil1!E3,SND!F:F) -> 0 | W3: =SUMIF(SND!K:K,Feuil1!F3,SND!F:F) -> -194.628 | X3: =SUMIF(SND!K:K,Feuil1!G3,SND!F:F) -> -11.534 | Y3: =SUMIF(SND!K:K,Feuil1!H3,SND!F:F) -> -438.546 | Z3: =SUMIF(SND!K:K,Feuil1!I3,SND!F:F) -> -23.677 | ... AG3: =SUMIF(SND!K:K,Feuil1!P3,SND!F:F) -> 804348.22 | AH3: =SUM(S3:AG3) -> 1085513.9
A4: SOCIETES | B4: 10FSY | C4: 10FSX | D4: 10FSV | E4: 10FSW | F4: 10FSU | G4: 10FSJ | H4: 10FSF | I4: 10FSA | J4: 10FSZ | K4: 10FSQ | L4: 10FSK | M4: 10FSH | N4: 10FSC | O4: 10FSD | P4: 10FSM | R4: SOCIETES | S4: =SUMIF(SND!K:K,Feuil1!B4,SND!F:F) -> 2823.089 | T4: =SUMIF(SND!K:K,Feuil1!C4,SND!F:F) -> -17.832 | U4: =SUMIF(SND!K:K,Feuil1!D4,SND!F:F) -> 343.624 | V4: =SUMIF(SND!K:K,Feuil1!E4,SND!F:F) -> -58.625 | W4: =SUMIF(SND!K:K,Feuil1!F4,SND!F:F) -> 166.296 | X4: =SUMIF(SND!K:K,Feuil1!G4,SND!F:F) -> -12.627 | Y4: =SUMIF(SND!K:K,Feuil1!H4,SND!F:F) -> 0 | Z4: =SUMIF(SND!K:K,Feuil1!I4,SND!F:F) -> -655.948 | ... AG4: =SUMIF(SND!K:K,Feuil1!P4,SND!F:F) -> 299418.04 | AH4: =SUM(S4:AG4) -> 1141591.2
A5: ADMINISTRATIONS | B5: 10FAY | C5: 10FAX | D5: 10FAV | E5: 10FAW | F5: 10FAU | G5: 10FAJ | H5: 10FAF | I5: 10FAA | J5: 10FAZ | K5: 10FAQ | L5: 10FAK | M5: 10FAH | N5: 10FAC | O5: 10FAD | P5: 10FAM | R5: ADMINISTRATIONS | S5: =SUMIF(SND!K:K,Feuil1!B5,SND!F:F) -> 0 | T5: =SUMIF(SND!K:K,Feuil1!C5,SND!F:F) -> 0 | U5: =SUMIF(SND!K:K,Feuil1!D5,SND!F:F) -> 0 | V5: =SUMIF(SND!K:K,Feuil1!E5,SND!F:F) -> 0 | W5: =SUMIF(SND!K:K,Feuil1!F5,SND!F:F) -> 108.48 | X5: =SUMIF(SND!K:K,Feuil1!G5,SND!F:F) -> 0 | Y5: =SUMIF(SND!K:K,Feuil1!H5,SND!F:F) -> 0 | Z5: =SUMIF(SND!K:K,Feuil1!I5,SND!F:F) -> 0 | ... AG5: =SUMIF(SND!K:K,Feuil1!P5,SND!F:F) -> 567198.01 | AH5: =SUM(S5:AG5) -> 1227876.4
A6: PARTICULIERS | B6: 10FXY | C6: 10FXX | D6: 10FXV | E6: 10FXW | F6: 10FXU | G6: 10FXJ | H6: 10FXF | I6: 10FXA | J6: 10FXZ | K6: 10FXQ | L6: 10FXK | M6: 10FXH | N6: 10FXC | O6: 10FXD | P6: 10FXM | R6: PARTICULIERS | S6: =SUMIF(SND!K:K,Feuil1!B6,SND!F:F) -> 435.827 | T6: =SUMIF(SND!K:K,Feuil1!C6,SND!F:F) -> 0 | U6: =SUMIF(SND!K:K,Feuil1!D6,SND!F:F) -> 4619.462 | V6: =SUMIF(SND!K:K,Feuil1!E6,SND!F:F) -> -3433.568 | W6: =SUMIF(SND!K:K,Feuil1!F6,SND!F:F) -> 0 | X6: =SUMIF(SND!K:K,Feuil1!G6,SND!F:F) -> 0 | Y6: =SUMIF(SND!K:K,Feuil1!H6,SND!F:F) -> 0 | Z6: =SUMIF(SND!K:K,Feuil1!I6,SND!F:F) -> 0 | ... AG6: =SUMIF(SND!K:K,Feuil1!P6,SND!F:F) -> 0 | AH6: =SUM(S6:AG6) -> 2113.791
A7: TOTAL CREANCES | B7: =SUM(B3:B6) -> 0 | C7: =SUM(C3:C6) -> 0 | D7: =SUM(D3:D6) -> 0 | E7: =SUM(E3:E6) -> 0 | F7: =SUM(F3:F6) -> 0 | G7: =SUM(G3:G6) -> 0 | H7: =SUM(H3:H6) -> 0 | I7: =SUM(I3:I6) -> 0 | ... P7: =SUM(P3:P6) -> 0 | R7: TOTAL CREANCES | S7: =SUM(S3:S6) -> 3358.297 | T7: =SUM(T3:T6) -> -21.409 | U7: =SUM(U3:U6) -> 4960.549 | V7: =SUM(V3:V6) -> -3492.193 | W7: =SUM(W3:W6) -> 80.148 | X7: =SUM(X3:X6) -> -24.161 | Y7: =SUM(Y3:Y6) -> -438.546 | Z7: =SUM(Z3:Z6) -> -679.625 | ... AG7: =SUM(AG3:AG6) -> 1670964.3 | AH7: =SUM(S7:AG7) -> 3457095.3
A8: IMPAYES | B8: 10IXY | C8: 10IXX | D8: 10IXV | E8: 10IRW | F8: 10IRU | G8: 10IRJ | H8: 10IRF | I8: 10IRA | J8: 10IRZ | K8: 10IRQ | L8: 10IRK | M8: 10IRH | N8: 10IRC | O8: 10IRD | P8: 10IRM | R8: IMPAYES | S8: =SUMIF(SND!K:K,Feuil1!B8,SND!F:F) -> 1190.625 | T8: =SUMIF(SND!K:K,Feuil1!C8,SND!F:F) -> 0 | U8: =SUMIF(SND!K:K,Feuil1!D8,SND!F:F) -> 180.046 | V8: =SUMIF(SND!K:K,Feuil1!E8,SND!F:F)+SUMIF(SND!K:K,Feuil1!E10,SND!F:F) -> 1524.38 | W8: =SUMIF(SND!K:K,Feuil1!F8,SND!F:F)+SUMIF(SND!K:K,Feuil1!F10,SND!F:F) -> 0 | X8: =SUMIF(SND!K:K,Feuil1!G8,SND!F:F)+SUMIF(SND!K:K,Feuil1!G10,SND!F:F) -> 0 | Y8: =SUMIF(SND!K:K,Feuil1!H8,SND!F:F)+SUMIF(SND!K:K,Feuil1!H10,SND!F:F) -> 0 | Z8: =SUMIF(SND!K:K,Feuil1!I8,SND!F:F)+SUMIF(SND!K:K,Feuil1!I10,SND!F:F)+SUMIF(SND!K:K,Feuil1!I9,SND!F:F) -> 0 | AA8: =SUMIF(SND!K:K,Feuil1!J8,SND!F:F)+SUMIF(SND!K:K,Feuil1!J10,SND!F:F)+SUMIF(SND!K:K,Feuil1!J9,SND!F:F) -> 0 | AB8: =SUMIF(SND!K:K,Feuil1!K8,SND!F:F)+SUMIF(SND!K:K,Feuil1!K10,SND!F:F)+SUMIF(SND!K:K,Feuil1!K9,SND!F:F) -> 4917.994 | AC8: =SUMIF(SND!K:K,Feuil1!L8,SND!F:F)+SUMIF(SND!K:K,Feuil1!L10,SND!F:F)+SUMIF(SND!K:K,Feuil1!L9,SND!F:F) -> 0 | AD8: =SUMIF(SND!K:K,Feuil1!M8,SND!F:F)+SUMIF(SND!K:K,Feuil1!M10,SND!F:F)+SUMIF(SND!K:K,Feuil1!M9,SND!F:F) -> 34748.337 | AE8: =SUMIF(SND!K:K,Feuil1!N8,SND!F:F)+SUMIF(SND!K:K,Feuil1!N10,SND!F:F)+SUMIF(SND!K:K,Feuil1!N9,SND!F:F) -> 0 | AF8: =SUMIF(SND!K:K,Feuil1!O8,SND!F:F)+SUMIF(SND!K:K,Feuil1!O10,SND!F:F)+SUMIF(SND!K:K,Feuil1!O9,SND!F:F) -> 15647.922 | AG8: =SUMIF(SND!K:K,Feuil1!P8,SND!F:F)+SUMIF(SND!K:K,Feuil1!P10,SND!F:F)+SUMIF(SND!K:K,Feuil1!P9,SND!F:F) -> 33898.776 | AH8: =SUM(S8:AG8) -> 92108.08
I9: 10IXA | J9: 10ISZ | K9: 10IXQ | L9: 10IXK | M9: 10IXH | N9: 10IXC | O9: 10IXD | P9: 10IXM | R9: TOTAL | S9: =SUM(S7:S8) -> 4548.922 | T9: =SUM(T7:T8) -> -21.409 | U9: =SUM(U7:U8) -> 5140.595 | V9: =SUM(V7:V8) -> -1967.813 | W9: =SUM(W7:W8) -> 80.148 | X9: =SUM(X7:X8) -> -24.161 | Y9: =SUM(Y7:Y8) -> -438.546 | Z9: =SUM(Z7:Z8) -> -679.625 | ... AG9: =SUM(AG7:AG8) -> 1704863.1 | AH9: =SUM(S9:AG9) -> 3549203.4
B10: 10IXY | C10: 10IXX | D10: 10IXV | E10: 10IXW | F10: 10IXU | G10: 10IXJ | H10: 10IXF | I10: 10ISA | J10: 10IXZ | K10: 10ISQ | L10: 10ISK | M10: 10ISH | N10: 10ISC | O10: 10ISD | P10: 10ISM
A12: SFAX | B12: <2013 | C12: 2013 | D12: 2014 | E12: 2015 | F12: 2016 | G12: 2017 | H12: 2018 | I12: 2019 | J12: 2020 | K12: 1 SEM 21 | L12: 3 TRI 21 | M12: 44470 | N12: 44501 | O12: 44531 | P12: 44562 | R12: SFAX | S12: <2013 | T12: 2013 | U12: 2014 | V12: 2015 | W12: 2016 | X12: 2017 | Y12: 2018 | Z12: 2019 | AA12: 2020 | AB12: 1 SEM 21 | AC12: 3 TRI 21 | AD12: 44470 | AE12: 44501 | AF12: 44531 | AG12: 44562 | AH12: TOTAL
A13: REVENDEURS | B13: 30FRY | C13: 30FRX | D13: 30FRV | E13: 30FRW | F13: 30FRU | G13: 30FRJ | H13: 30FRF | I13: 30FRA | J13: 30FRZ | K13: 30FRQ | L13: 30FRK | M13: 30FRH | N13: 30FRC | O13: 30FRD | P13: 30FRM | R13: REVENDEURS | S13: =SUMIF(SND!K:K,Feuil1!B13,SND!F:F) -> 0 | T13: =SUMIF(SND!K:K,Feuil1!C13,SND!F:F) -> 0 | U13: =SUMIF(SND!K:K,Feuil1!D13,SND!F:F) -> 0 | V13: =SUMIF(SND!K:K,Feuil1!E13,SND!F:F) -> 1243.783 | W13: =SUMIF(SND!K:K,Feuil1!F13,SND!F:F) -> 0 | X13: =SUMIF(SND!K:K,Feuil1!G13,SND!F:F) -> 0 | Y13: =SUMIF(SND!K:K,Feuil1!H13,SND!F:F) -> 0 | Z13: =SUMIF(SND!K:K,Feuil1!I13,SND!F:F) -> 0 | ... AG13: =SUMIF(SND!K:K,Feuil1!P13,SND!F:F) -> 528561.08 | AH13: =SUM(S13:AG13) -> 705610.6
A14: SOCIETES | B14: 30FSY | C14: 30FSX | D14: 30FSV | E14: 30FSW | F14: 30FSU | G14: 30FSJ | H14: 30FSF | I14: 30FSA | J14: 30FSZ | K14: 30FSQ | L14: 30FSK | M14: 30FSH | N14: 30FSC | O14: 30FSD | P14: 30FSM | R14: SOCIETES | S14: =SUMIF(SND!K:K,Feuil1!B14,SND!F:F) -> 334.08 | T14: =SUMIF(SND!K:K,Feuil1!C14,SND!F:F) -> 628.236 | U14: =SUMIF(SND!K:K,Feuil1!D14,SND!F:F) -> 0 | V14: =SUMIF(SND!K:K,Feuil1!E14,SND!F:F) -> 0 | W14: =SUMIF(SND!K:K,Feuil1!F14,SND!F:F) -> 0 | X14: =SUMIF(SND!K:K,Feuil1!G14,SND!F:F) -> 0 | Y14: =SUMIF(SND!K:K,Feuil1!H14,SND!F:F) -> 0 | Z14: =SUMIF(SND!K:K,Feuil1!I14,SND!F:F) -> 0 | ... AG14: =SUMIF(SND!K:K,Feuil1!P14,SND!F:F) -> 41375.268 | AH14: =SUM(S14:AG14) -> 71106.297
A15: ADMINISTRATIONS | B15: 30FAY | C15: 30FAX | D15: 30FAV | E15: 30FAW | F15: 30FAU | G15: 30FAJ | H15: 30FAF | I15: 30FAA | J15: 30FAZ | K15: 30FAQ | L15: 30FAK | M15: 30FAH | N15: 30FAC | O15: 30FAD | P15: 30FAM | R15: ADMINISTRATIONS | S15: =SUMIF(SND!K:K,Feuil1!B15,SND!F:F) -> 0 | T15: =SUMIF(SND!K:K,Feuil1!C15,SND!F:F) -> 0 | U15: =SUMIF(SND!K:K,Feuil1!D15,SND!F:F) -> 0 | V15: =SUMIF(SND!K:K,Feuil1!E15,SND!F:F) -> 0 | W15: =SUMIF(SND!K:K,Feuil1!F15,SND!F:F) -> 0 | X15: =SUMIF(SND!K:K,Feuil1!G15,SND!F:F) -> 0 | Y15: =SUMIF(SND!K:K,Feuil1!H15,SND!F:F) -> 0 | Z15: =SUMIF(SND!K:K,Feuil1!I15,SND!F:F) -> 0 | ... AG15: =SUMIF(SND!K:K,Feuil1!P15,SND!F:F) -> 0 | AH15: =SUM(S15:AG15) -> 38.61
A16: PARTICULIERS | B16: 30FXY | C16: 30FXX | D16: 30FXV | E16: 30FXW | F16: 30FXU | G16: 30FXJ | H16: 30FXF | I16: 30FXA | J16: 30FXZ | K16: 30FXQ | L16: 30FXK | M16: 30FXH | N16: 30FXC | O16: 30FXD | P16: 30FXM | R16: PARTICULIERS | S16: =SUMIF(SND!K:K,Feuil1!B16,SND!F:F) -> 0 | T16: =SUMIF(SND!K:K,Feuil1!C16,SND!F:F) -> 0 | U16: =SUMIF(SND!K:K,Feuil1!D16,SND!F:F) -> 0 | V16: =SUMIF(SND!K:K,Feuil1!E16,SND!F:F) -> 0 | W16: =SUMIF(SND!K:K,Feuil1!F16,SND!F:F) -> 0 | X16: =SUMIF(SND!K:K,Feuil1!G16,SND!F:F) -> 0 | Y16: =SUMIF(SND!K:K,Feuil1!H16,SND!F:F) -> 0 | Z16: =SUMIF(SND!K:K,Feuil1!I16,SND!F:F) -> 0 | ... AG16: =SUMIF(SND!K:K,Feuil1!P16,SND!F:F) -> 0 | AH16: =SUM(S16:AG16) -> 0
A17: TOTAL CREANCES | B17: =SUM(B13:B16) -> 0 | C17: =SUM(C13:C16) -> 0 | D17: =SUM(D13:D16) -> 0 | E17: =SUM(E13:E16) -> 0 | F17: =SUM(F13:F16) -> 0 | G17: =SUM(G13:G16) -> 0 | H17: =SUM(H13:H16) -> 0 | I17: =SUM(I13:I16) -> 0 | ... P17: =SUM(P13:P16) -> 0 | R17: TOTAL CREANCES | S17: =SUM(S13:S16) -> 334.08 | T17: =SUM(T13:T16) -> 628.236 | U17: =SUM(U13:U16) -> 0 | V17: =SUM(V13:V16) -> 1243.783 | W17: =SUM(W13:W16) -> 0 | X17: =SUM(X13:X16) -> 0 | Y17: =SUM(Y13:Y16) -> 0 | Z17: =SUM(Z13:Z16) -> 0 | ... AG17: =SUM(AG13:AG16) -> 569936.35 | AH17: =SUM(S17:AG17) -> 776755.5
A18: IMPAYES | B18: 30IRY | C18: 30IRX | D18: 30IRV | E18: 30IRW | F18: 30IRU | G18: 30IRJ | H18: 30IRF | I18: 30IRA | J18: 30IRZ | K18: 30IRQ | L18: 30IRK | M18: 30IRH | N18: 30IRC | O18: 30IRD | P18: 30IRM | R18: IMPAYES | S18: =SUMIF(SND!K:K,Feuil1!B18,SND!F:F) -> 0 | T18: =SUMIF(SND!K:K,Feuil1!C18,SND!F:F) -> 0 | U18: =SUMIF(SND!K:K,Feuil1!D18,SND!F:F) -> 0 | V18: =SUMIF(SND!K:K,Feuil1!E18,SND!F:F) -> 0 | W18: =SUMIF(SND!K:K,Feuil1!F18,SND!F:F) -> 0 | X18: =SUMIF(SND!K:K,Feuil1!G18,SND!F:F)+SUMIF(SND!K:K,Feuil1!G19,SND!F:F) -> 0 | Y18: =SUMIF(SND!K:K,Feuil1!H18,SND!F:F)+SUMIF(SND!K:K,Feuil1!H19,SND!F:F) -> 0 | Z18: =SUMIF(SND!K:K,Feuil1!I18,SND!F:F)+SUMIF(SND!K:K,Feuil1!I19,SND!F:F) -> 0 | AA18: =SUMIF(SND!K:K,Feuil1!J18,SND!F:F)+SUMIF(SND!K:K,Feuil1!J19,SND!F:F) -> 5195.476 | AB18: =SUMIF(SND!K:K,Feuil1!K18,SND!F:F)+SUMIF(SND!K:K,Feuil1!K19,SND!F:F) -> 0 | AC18: =SUMIF(SND!K:K,Feuil1!L18,SND!F:F)+SUMIF(SND!K:K,Feuil1!L19,SND!F:F) -> 2518.806 | AD18: =SUMIF(SND!K:K,Feuil1!M18,SND!F:F)+SUMIF(SND!L:L,Feuil1!M19,SND!F:F) -> 0 | AE18: =SUMIF(SND!K:K,Feuil1!N18,SND!F:F)+SUMIF(SND!L:L,Feuil1!N19,SND!F:F) -> 0 | AF18: =SUMIF(SND!K:K,Feuil1!O18,SND!F:F)+SUMIF(SND!M:M,Feuil1!O19,SND!F:F) -> 0 | AG18: =SUMIF(SND!K:K,Feuil1!P18,SND!F:F)+SUMIF(SND!N:N,Feuil1!P19,SND!F:F) -> 13444.202 | AH18: =SUM(S18:AG18) -> 21158.484
B19: 30IXY | C19: 30IXX | D19: 30IXV | E19: 30IXW | F19: 30IXU | G19: 30IXJ | H19: 30IXF | I19: 30IXA | J19: 30ISZ | K19: 30ISQ | L19: 30ISK | M19: 30ISH | N19: 30ISC | O19: 30ISD | P19: 30ISM | R19: TOTAL | S19: =SUM(S17:S18) -> 334.08 | T19: =SUM(T17:T18) -> 628.236 | U19: =SUM(U17:U18) -> 0 | V19: =SUM(V17:V18) -> 1243.783 | W19: =SUM(W17:W18) -> 0 | X19: =SUM(X17:X18) -> 0 | Y19: =SUM(Y17:Y18) -> 0 | Z19: =SUM(Z17:Z18) -> 0 | ... AG19: =SUM(AG17:AG18) -> 583380.56 | AH19: =SUM(S19:AG19) -> 797913.99
A21: SOUSSE | B21: <2013 | C21: 2013 | D21: 2014 | E21: 2015 | F21: 2016 | G21: 2017 | H21: 2018 | I21: 2019 | J21: 2020 | K21: 1 SEM 21 | L21: 3 TRI 21 | M21: 44470 | N21: 44501 | O21: 44531 | P21: 44562 | R21: SOUSSE | S21: <2013 | T21: 2013 | U21: 2014 | V21: 2015 | W21: 2016 | X21: 2017 | Y21: 2018 | Z21: 2019 | AA21: 2020 | AB21: 1 SEM 21 | AC21: 3 TRI 21 | AD21: 44470 | AE21: 44501 | AF21: 44531 | AG21: 44562 | AH21: TOTAL
A22: REVENDEURS | B22: 40FRY | C22: 40FRX | D22: 40FRV | E22: 40FRW | F22: 40FRU | G22: 40FRJ | H22: 40FRF | I22: 40FRA | J22: 40FRZ | K22: 40FRQ | L22: 40FRK | M22: 40FRH | N22: 40FRC | O22: 40FRD | P22: 40FRM | R22: REVENDEURS | S22: =SUMIF(SND!K:K,Feuil1!B22,SND!F:F) -> -0.002 | T22: =SUMIF(SND!K:K,Feuil1!C22,SND!F:F) -> 0 | U22: =SUMIF(SND!K:K,Feuil1!D22,SND!F:F) -> 0 | V22: =SUMIF(SND!K:K,Feuil1!E22,SND!F:F) -> -0.004 | W22: =SUMIF(SND!K:K,Feuil1!F22,SND!F:F) -> 0 | X22: =SUMIF(SND!K:K,Feuil1!G22,SND!F:F) -> 0 | Y22: =SUMIF(SND!K:K,Feuil1!H22,SND!F:F) -> -0.036 | Z22: =SUMIF(SND!K:K,Feuil1!I22,SND!F:F) -> 10214.72 | ... AG22: =SUMIF(SND!K:K,Feuil1!P22,SND!F:F) -> 337388.62 | AH22: =SUM(S22:AG22) -> 432412.88
A23: SOCIETES | B23: 40FSY | C23: 40FSX | D23: 40FSV | E23: 40FSW | F23: 40FSU | G23: 40FSJ | H23: 40FSF | I23: 40FSA | J23: 40FSZ | K23: 40FSQ | L23: 40FSK | M23: 40FSH | N23: 40FSC | O23: 40FSD | P23: 40FSM | R23: SOCIETES | S23: =SUMIF(SND!K:K,Feuil1!B23,SND!F:F) -> 0 | T23: =SUMIF(SND!K:K,Feuil1!C23,SND!F:F) -> 0 | U23: =SUMIF(SND!K:K,Feuil1!D23,SND!F:F) -> 0 | V23: =SUMIF(SND!K:K,Feuil1!E23,SND!F:F) -> 0 | W23: =SUMIF(SND!K:K,Feuil1!F23,SND!F:F) -> 0 | X23: =SUMIF(SND!K:K,Feuil1!G23,SND!F:F) -> 0 | Y23: =SUMIF(SND!K:K,Feuil1!H23,SND!F:F) -> 0 | Z23: =SUMIF(SND!K:K,Feuil1!I23,SND!F:F) -> 0 | ... AG23: =SUMIF(SND!K:K,Feuil1!P23,SND!F:F) -> 28111.765 | AH23: =SUM(S23:AG23) -> 152365.37
A24: ADMINISTRATIONS | B24: 40FAY | C24: 40FAX | D24: 40FAV | E24: 40FAW | F24: 40FAU | G24: 40FAJ | H24: 40FAF | I24: 40FAA | J24: 40FAZ | K24: 40FAQ | L24: 40FAK | M24: 40FAH | N24: 40FAC | O24: 40FAD | P24: 40FAM | R24: ADMINISTRATIONS | S24: =SUMIF(SND!K:K,Feuil1!B24,SND!F:F) -> 0 | T24: =SUMIF(SND!K:K,Feuil1!C24,SND!F:F) -> 0 | U24: =SUMIF(SND!K:K,Feuil1!D24,SND!F:F) -> 0 | V24: =SUMIF(SND!K:K,Feuil1!E24,SND!F:F) -> 0 | W24: =SUMIF(SND!K:K,Feuil1!F24,SND!F:F) -> 0 | X24: =SUMIF(SND!K:K,Feuil1!G24,SND!F:F) -> 0 | Y24: =SUMIF(SND!K:K,Feuil1!H24,SND!F:F) -> 0 | Z24: =SUMIF(SND!K:K,Feuil1!I24,SND!F:F) -> 0 | ... AG24: =SUMIF(SND!K:K,Feuil1!P24,SND!F:F) -> 0 | AH24: =SUM(S24:AG24) -> 1042.807
A25: PARTICULIERS | B25: 40FXY | C25: 40FXX | D25: 40FXV | E25: 40FXW | F25: 40FXU | G25: 40FXJ | H25: 40FXF | I25: 40FXA | J25: 40FXZ | K25: 40FXQ | L25: 40FXK | M25: 40FXH | N25: 40FXC | O25: 40FXD | P25: 40FXM | R25: PARTICULIERS | S25: =SUMIF(SND!K:K,Feuil1!B25,SND!F:F) -> 0 | T25: =SUMIF(SND!K:K,Feuil1!C25,SND!F:F) -> 0 | U25: =SUMIF(SND!K:K,Feuil1!D25,SND!F:F) -> 0 | V25: =SUMIF(SND!K:K,Feuil1!E25,SND!F:F) -> 0 | W25: =SUMIF(SND!K:K,Feuil1!F25,SND!F:F) -> 0 | X25: =SUMIF(SND!K:K,Feuil1!G25,SND!F:F) -> 0 | Y25: =SUMIF(SND!K:K,Feuil1!H25,SND!F:F) -> 0 | Z25: =SUMIF(SND!K:K,Feuil1!I25,SND!F:F) -> 0 | ... AG25: =SUMIF(SND!K:K,Feuil1!P25,SND!F:F) -> 0 | AH25: =SUM(S25:AG25) -> 0
A26: TOTAL CREANCES | B26: =SUM(B22:B25) -> 0 | C26: =SUM(C22:C25) -> 0 | D26: =SUM(D22:D25) -> 0 | E26: =SUM(E22:E25) -> 0 | F26: =SUM(F22:F25) -> 0 | G26: =SUM(G33:G37) -> 0 | H26: =SUM(H33:H37) -> 0 | I26: =SUM(I33:I37) -> 0 | J26: =SUM(J33:J37) -> 0 | K26: =SUM(K33:K37) -> 0 | L26: =SUM(L33:L37) -> 0 | M26: =SUM(M33:M37) -> 0 | N26: =SUM(N33:N37) -> 0 | ... P26: =SUM(P33:P37) -> 0 | R26: TOTAL CREANCES | S26: =SUM(S22:S25) -> -0.002 | T26: =SUM(T22:T25) -> 0 | U26: =SUM(U22:U25) -> 0 | V26: =SUM(V22:V25) -> -0.004 | W26: =SUM(W22:W25) -> 0 | X26: =SUM(X22:X25) -> 0 | Y26: =SUM(Y22:Y25) -> -0.036 | Z26: =SUM(Z22:Z25) -> 10214.72 | ... AG26: =SUM(AG22:AG25) -> 365500.38 | AH26: =SUM(S26:AG26) -> 585821.06
A27: IMPAYES | B27: 40IRY | C27: 40IRX | D27: 40IRV | E27: 40IRW | F27: 40IRU | G27: 40IRJ | H27: 40IRF | I27: 40IRA | J27: 40IRZ | K27: 40IRQ | L27: 40IRK | M27: 40IRH | N27: 40IRC | O27: 40IRD | P27: 40IRM | R27: IMPAYES | S27: =SUMIF(SND!K:K,Feuil1!B27,SND!F:F) -> 0 | T27: =SUMIF(SND!K:K,Feuil1!C27,SND!F:F) -> 0 | U27: =SUMIF(SND!K:K,Feuil1!D27,SND!F:F) -> 0 | V27: =SUMIF(SND!K:K,Feuil1!E27,SND!F:F) -> 0 | W27: =SUMIF(SND!K:K,Feuil1!F27,SND!F:F) -> 0 | X27: =SUMIF(SND!K:K,Feuil1!G27,SND!F:F)+SUMIF(SND!K:K,Feuil1!G29,SND!F:F) -> 0 | Y27: =SUMIF(SND!K:K,Feuil1!H27,SND!F:F)+SUMIF(SND!K:K,Feuil1!H29,SND!F:F) -> 0 | Z27: =SUMIF(SND!K:K,Feuil1!I27,SND!F:F)+SUMIF(SND!K:K,Feuil1!I29,SND!F:F) -> 0 | AA27: =SUMIF(SND!K:K,Feuil1!J27,SND!F:F)+SUMIF(SND!K:K,Feuil1!J29,SND!F:F) -> 13620 | AB27: =SUMIF(SND!K:K,Feuil1!K27,SND!F:F)+SUMIF(SND!K:K,Feuil1!K29,SND!F:F) -> 0 | AC27: =SUMIF(SND!K:K,Feuil1!L27,SND!F:F)+SUMIF(SND!K:K,Feuil1!L29,SND!F:F) -> 12717.285 | AD27: =SUMIF(SND!K:K,Feuil1!M27,SND!F:F)+SUMIF(SND!K:K,Feuil1!M29,SND!F:F) -> 4001.882 | AE27: =SUMIF(SND!K:K,Feuil1!N27,SND!F:F)+SUMIF(SND!K:K,Feuil1!N29,SND!F:F) -> 5950 | ... AG27: =SUMIF(SND!K:K,Feuil1!P27,SND!F:F)+SUMIF(SND!K:K,Feuil1!P29,SND!F:F) -> 11485.337 | AH27: =SUM(S27:AG27) -> 50702.14
R28: TOTAL | S28: =SUM(S26:S27) -> -0.002 | T28: =SUM(T26:T27) -> 0 | U28: =SUM(U26:U27) -> 0 | V28: =SUM(V26:V27) -> -0.004 | W28: =SUM(W26:W27) -> 0 | X28: =SUM(X26:X27) -> 0 | Y28: =SUM(Y26:Y27) -> -0.036 | Z28: =SUM(Z26:Z27) -> 10214.72 | ... AG28: =SUM(AG26:AG27) -> 376985.72 | AH28: =SUM(S28:AG28) -> 636523.2
B29: 40IXY | C29: 40IXX | D29: 40IXV | E29: 40IXW | F29: 40IXU | G29: 40ISJ | H29: 40ISF | I29: 40ISA | J29: 40IXZ | K29: 40ISQ | L29: 40ISK | M29: 40ISH | N29: 40ISC | O29: 40ISD | P29: 40ISM
R30: GABES | S30: <2013 | T30: 2013 | U30: 2014 | V30: 2015 | W30: 2016 | X30: 2017 | Y30: 2018 | Z30: 2019 | AA30: 2020 | AB30: 1 SEM 21 | AC30: 3 TRI 21 | AD30: 44470 | AE30: 44501 | AF30: 44531 | AG30: 44562 | AH30: TOTAL
A31: GABES | B31: <2013 | C31: 2013 | D31: 2014 | E31: 2015 | F31: 2016 | G31: 2017 | H31: 2018 | I31: 2019 | J31: 2020 | K31: 1 SEM 21 | L31: 3 TRI 21 | M31: 44470 | N31: 44501 | O31: 44531 | P31: 44562 | R31: REVENDEURS | S31: =SUMIF(SND!K:K,Feuil1!B32,SND!F:F) -> 0 | T31: =SUMIF(SND!K:K,Feuil1!C32,SND!F:F) -> 0 | U31: =SUMIF(SND!K:K,Feuil1!D32,SND!F:F) -> 0 | V31: =SUMIF(SND!K:K,Feuil1!E32,SND!F:F) -> 0 | W31: =SUMIF(SND!K:K,Feuil1!F32,SND!F:F) -> 0 | X31: =SUMIF(SND!K:K,Feuil1!G32,SND!F:F) -> 0 | Y31: =SUMIF(SND!K:K,Feuil1!H32,SND!F:F) -> 0 | Z31: =SUMIF(SND!K:K,Feuil1!I32,SND!F:F) -> 0 | ... AG31: =SUMIF(SND!K:K,Feuil1!P32,SND!F:F) -> 184109.41 | AH31: =SUM(S31:AG31) -> 215187.13
A32: REVENDEURS | B32: 60FRY | C32: 60FRX | D32: 60FRV | E32: 60FRW | F32: 60FRU | G32: 60FRJ | H32: 60FRF | I32: 60FRA | J32: 60FRZ | K32: 60FRQ | L32: 60FRK | M32: 60FRH | N32: 60FRC | O32: 60FRD | P32: 60FRM | R32: SOCIETES | S32: =SUMIF(SND!K:K,Feuil1!B33,SND!F:F) -> 0 | T32: =SUMIF(SND!K:K,Feuil1!C33,SND!F:F) -> 0 | U32: =SUMIF(SND!K:K,Feuil1!D33,SND!F:F) -> 0 | V32: =SUMIF(SND!K:K,Feuil1!E33,SND!F:F) -> 0 | W32: =SUMIF(SND!K:K,Feuil1!F33,SND!F:F) -> 0 | X32: =SUMIF(SND!K:K,Feuil1!G33,SND!F:F) -> 0 | Y32: =SUMIF(SND!K:K,Feuil1!H33,SND!F:F) -> 0 | Z32: =SUMIF(SND!K:K,Feuil1!I33,SND!F:F) -> 0 | ... AG32: =SUMIF(SND!K:K,Feuil1!P33,SND!F:F) -> 877.815 | AH32: =SUM(S32:AG32) -> 6864.755
A33: SOCIETES | B33: 60FSY | C33: 60FSX | D33: 60FSV | E33: 60FSW | F33: 60FSU | G33: 60FSJ | H33: 60FSF | I33: 60FSA | J33: 60FSZ | K33: 60FSQ | L33: 60FSK | M33: 60FSH | N33: 60FSC | O33: 60FSD | P33: 60FSM | R33: ADMINISTRATIONS | S33: =SUMIF(SND!K:K,Feuil1!B34,SND!F:F) -> 0 | T33: =SUMIF(SND!K:K,Feuil1!C34,SND!F:F) -> 0 | U33: =SUMIF(SND!K:K,Feuil1!D34,SND!F:F) -> 0 | V33: =SUMIF(SND!K:K,Feuil1!E34,SND!F:F) -> 0 | W33: =SUMIF(SND!K:K,Feuil1!F34,SND!F:F) -> 0 | X33: =SUMIF(SND!K:K,Feuil1!G34,SND!F:F) -> 0 | Y33: =SUMIF(SND!K:K,Feuil1!H34,SND!F:F) -> 0 | Z33: =SUMIF(SND!K:K,Feuil1!I34,SND!F:F) -> 0 | ... AG33: =SUMIF(SND!K:K,Feuil1!P34,SND!F:F) -> 3464.09 | AH33: =SUM(S33:AG33) -> 9303.42
A34: ADMINISTRATIONS | B34: 60FAY | C34: 60FAX | D34: 60FAV | E34: 60FAW | F34: 60FAU | G34: 60FAJ | H34: 60FAF | I34: 60FAA | J34: 60FAZ | K34: 60FAQ | L34: 60FAK | M34: 60FAH | N34: 60FAC | O34: 60FAD | P34: 60FAM | R34: PARTICULIERS | S34: =SUMIF(SND!K:K,Feuil1!B35,SND!F:F) -> 0 | T34: =SUMIF(SND!K:K,Feuil1!C35,SND!F:F) -> 0 | U34: =SUMIF(SND!K:K,Feuil1!D35,SND!F:F) -> 0 | V34: =SUMIF(SND!K:K,Feuil1!E35,SND!F:F) -> 0 | W34: =SUMIF(SND!K:K,Feuil1!F35,SND!F:F) -> 0 | X34: =SUMIF(SND!K:K,Feuil1!G35,SND!F:F) -> -64.664 | Y34: =SUMIF(SND!K:K,Feuil1!H35,SND!F:F) -> 0 | Z34: =SUMIF(SND!K:K,Feuil1!I35,SND!F:F) -> 0 | ... AG34: =SUMIF(SND!K:K,Feuil1!P35,SND!F:F) -> 1576.741 | AH34: =SUM(S34:AG34) -> 1506.077
A35: PARTICULIERS | B35: 60FXY | C35: 60FXX | D35: 60FXV | E35: 60FXW | F35: 60FXU | G35: 60FXJ | H35: 60FXF | I35: 60FXA | J35: 60FXZ | K35: 60FXQ | L35: 60FXK | M35: 60FXH | N35: 60FXC | O35: 60FXD | P35: 60FXM | R35: TOTAL CREANCES | S35: =SUM(S31:S34) -> 0 | T35: =SUM(T31:T34) -> 0 | U35: =SUM(U31:U34) -> 0 | V35: =SUM(V31:V34) -> 0 | W35: =SUM(W31:W34) -> 0 | X35: =SUM(X31:X34) -> -64.664 | Y35: =SUM(Y31:Y34) -> 0 | Z35: =SUM(Z31:Z34) -> 0 | ... AG35: =SUM(AG31:AG34) -> 190028.06 | AH35: =SUM(S35:AG35) -> 232861.38
A36: TOTAL CREANCES | B36: =SUM(B32:B35) -> 0 | C36: =SUM(C32:C35) -> 0 | D36: =SUM(D32:D35) -> 0 | E36: =SUM(E32:E35) -> 0 | F36: =SUM(F32:F35) -> 0 | G36: =SUM(G35:G64) -> 0 | H36: =SUM(H35:H64) -> 0 | I36: =SUM(I35:I64) -> 0 | J36: =SUM(J35:J64) -> 0 | K36: =SUM(K35:K64) -> 0 | L36: =SUM(L35:L64) -> 0 | M36: =SUM(M35:M64) -> 0 | N36: =SUM(N35:N64) -> 0 | ... P36: =SUM(P35:P64) -> 0 | R36: IMPAYES | S36: =SUMIF(SND!K:K,Feuil1!B37,SND!F:F) -> 0 | T36: =SUMIF(SND!K:K,Feuil1!C37,SND!F:F) -> 0 | U36: =SUMIF(SND!K:K,Feuil1!D37,SND!F:F) -> 0 | V36: =SUMIF(SND!K:K,Feuil1!E37,SND!F:F) -> 0 | W36: =SUMIF(SND!K:K,Feuil1!F37,SND!F:F)+SUMIF(SND!K:K,Feuil1!F38,SND!F:F) -> 0 | X36: =SUMIF(SND!K:K,Feuil1!G37,SND!F:F)+SUMIF(SND!K:K,Feuil1!G38,SND!F:F) -> 0 | Y36: =SUMIF(SND!K:K,Feuil1!H37,SND!F:F)+SUMIF(SND!K:K,Feuil1!H38,SND!F:F) -> 0 | Z36: =SUMIF(SND!K:K,Feuil1!I37,SND!F:F)+SUMIF(SND!K:K,Feuil1!I38,SND!F:F) -> 0 | AA36: =SUMIF(SND!K:K,Feuil1!J37,SND!F:F)+SUMIF(SND!K:K,Feuil1!J38,SND!F:F) -> 0 | AB36: =SUMIF(SND!K:K,Feuil1!K37,SND!F:F)+SUMIF(SND!K:K,Feuil1!K38,SND!F:F) -> 0 | AC36: =SUMIF(SND!K:K,Feuil1!L37,SND!F:F)+SUMIF(SND!K:K,Feuil1!L38,SND!F:F) -> 0 | AD36: =SUMIF(SND!K:K,Feuil1!M37,SND!F:F)+SUMIF(SND!L:L,Feuil1!M38,SND!F:F) -> 0 | AE36: =SUMIF(SND!K:K,Feuil1!N37,SND!F:F)+SUMIF(SND!L:L,Feuil1!N38,SND!F:F) -> 0 | AF36: =SUMIF(SND!K:K,Feuil1!O37,SND!F:F)+SUMIF(SND!M:M,Feuil1!O38,SND!F:F) -> 0 | AG36: =SUMIF(SND!K:K,Feuil1!P37,SND!F:F)+SUMIF(SND!N:N,Feuil1!P38,SND!F:F) -> 0 | AH36: =SUM(S36:AG36) -> 0
A37: IMPAYES | B37: 60IRY | C37: 60IRX | D37: 60IRV | E37: 60ISW | F37: 60IRU | G37: 60IXJ | H37: 60IRF | I37: 60IRA | J37: 60IRZ | K37: 60IRQ | L37: 60IRK | M37: 60IRH | N37: 60IRC | O37: 60IRD | P37: 60IRM | R37: TOTAL | S37: =SUM(S35:S36) -> 0 | T37: =SUM(T35:T36) -> 0 | U37: =SUM(U35:U36) -> 0 | V37: =SUM(V35:V36) -> 0 | W37: =SUM(W35:W36) -> 0 | X37: =SUM(X35:X36) -> -64.664 | Y37: =SUM(Y35:Y36) -> 0 | Z37: =SUM(Z35:Z36) -> 0 | ... AG37: =SUM(AG35:AG36) -> 190028.06 | AH37: =SUM(S37:AG37) -> 232861.38
B38: 60IXY | C38: 60IXX | D38: 60IXV | E38: 60IXW | F38: 60IXU | G38: 60ISJ | H38: 60ISF | I38: 60ISA | J38: 60IXZ | K38: 60ISQ | L38: 60ISK | M38: 60ISH | N38: 60ISC | O38: 60ISD | P38: 60ISM
R39: GAFSA | S39: <2013 | T39: 2013 | U39: 2014 | V39: 2015 | W39: 2016 | X39: 2017 | Y39: 2018 | Z39: 2019 | AA39: 2020 | AB39: 1 SEM 21 | AC39: 3 TRI 21 | AD39: 44470 | AE39: 44501 | AF39: 44531 | AG39: 44562 | AH39: TOTAL
A40: GAFSA | B40: <2013 | C40: 2013 | D40: 2014 | E40: 2015 | F40: 2016 | G40: 2017 | H40: 2018 | I40: 2019 | J40: 2020 | K40: 1 SEM 21 | L40: 3 TRI 21 | M40: 44470 | N40: 44501 | O40: 44531 | P40: 44562 | R40: REVENDEURS | S40: =SUMIF(SND!K:K,Feuil1!B41,SND!F:F) -> 0 | T40: =SUMIF(SND!K:K,Feuil1!C41,SND!F:F) -> 0 | U40: =SUMIF(SND!K:K,Feuil1!D41,SND!F:F) -> 0 | V40: =SUMIF(SND!K:K,Feuil1!E41,SND!F:F) -> 0 | W40: =SUMIF(SND!K:K,Feuil1!F41,SND!F:F) -> -1.757 | X40: =SUMIF(SND!K:K,Feuil1!G41,SND!F:F) -> 0 | Y40: =SUMIF(SND!K:K,Feuil1!H41,SND!F:F) -> -0.6 | Z40: =SUMIF(SND!K:K,Feuil1!I41,SND!F:F) -> -77.981 | ... AG40: =SUMIF(SND!K:K,Feuil1!P41,SND!F:F) -> 314797.85 | AH40: =SUM(S40:AG40) -> 402482.02
A41: REVENDEURS | B41: 70FRY | C41: 70FRX | D41: 70FRV | E41: 70FRW | F41: 70FRU | G41: 70FRJ | H41: 70FRF | I41: 70FRA | J41: 70FRZ | K41: 70FRQ | L41: 70FRK | M41: 70FRH | N41: 70FRC | O41: 70FRD | P41: 70FRM | R41: SOCIETES | S41: =SUMIF(SND!K:K,Feuil1!B42,SND!F:F) -> 0 | T41: =SUMIF(SND!K:K,Feuil1!C42,SND!F:F) -> 0 | U41: =SUMIF(SND!K:K,Feuil1!D42,SND!F:F) -> 0 | V41: =SUMIF(SND!K:K,Feuil1!E42,SND!F:F) -> 0 | W41: =SUMIF(SND!K:K,Feuil1!F42,SND!F:F) -> -0.001 | X41: =SUMIF(SND!K:K,Feuil1!G42,SND!F:F) -> 0 | Y41: =SUMIF(SND!K:K,Feuil1!H42,SND!F:F) -> 0 | Z41: =SUMIF(SND!K:K,Feuil1!I42,SND!F:F) -> 0 | ... AG41: =SUMIF(SND!K:K,Feuil1!P42,SND!F:F) -> 29577.313 | AH41: =SUM(S41:AG41) -> 89939.109
A42: SOCIETES | B42: 70FSY | C42: 70FSX | D42: 70FSV | E42: 70FSW | F42: 70FSU | G42: 70FSJ | H42: 70FSF | I42: 70FSA | J42: 70FSZ | K42: 70FSQ | L42: 70FSK | M42: 70FSH | N42: 70FSC | O42: 70FSD | P42: 70FSM | R42: SOCIETES SNA | S42: =SUMIF(SND!K:K,Feuil1!B43,SND!F:F) -> 0 | T42: =SUMIF(SND!K:K,Feuil1!C43,SND!F:F) -> 0 | U42: =SUMIF(SND!K:K,Feuil1!D43,SND!F:F) -> 0 | V42: =SUMIF(SND!K:K,Feuil1!E43,SND!F:F) -> 0 | W42: =SUMIF(SND!K:K,Feuil1!F43,SND!F:F) -> 61.5 | X42: =SUMIF(SND!K:K,Feuil1!G43,SND!F:F) -> 0 | Y42: =SUMIF(SND!K:K,Feuil1!H43,SND!F:F) -> 0 | Z42: =SUMIF(SND!K:K,Feuil1!I43,SND!F:F) -> 0 | ... AG42: =SUMIF(SND!K:K,Feuil1!P43,SND!F:F) -> 0 | AH42: =SUM(S42:AG42) -> 57724.828
A43: SOCIETES SNA | B43: 70FSSY | C43: 70FSSX | D43: 70FSSV | E43: 70FSSW | F43: 70FSSU | G43: 70FSSJ | H43: 70FSSF | I43: 70FSSA | J43: 70FSSZ | K43: 70FSSQ | L43: 70FSSK | M43: 70FSSH | N43: 70FSSC | O43: 70FSSD | P43: 70FSSM | R43: ADMINISTRATIONS | S43: =SUMIF(SND!K:K,Feuil1!B44,SND!F:F) -> 0 | T43: =SUMIF(SND!K:K,Feuil1!C44,SND!F:F) -> 0 | U43: =SUMIF(SND!K:K,Feuil1!D44,SND!F:F) -> 0 | V43: =SUMIF(SND!K:K,Feuil1!E44,SND!F:F) -> 0 | W43: =SUMIF(SND!K:K,Feuil1!F44,SND!F:F) -> 0 | X43: =SUMIF(SND!K:K,Feuil1!G44,SND!F:F) -> 0 | Y43: =SUMIF(SND!K:K,Feuil1!H44,SND!F:F) -> 0 | Z43: =SUMIF(SND!K:K,Feuil1!I44,SND!F:F) -> 0 | ... AG43: =SUMIF(SND!K:K,Feuil1!P44,SND!F:F) -> 0 | AH43: =SUM(S43:AG43) -> 5000
...

Sheet CLIENTS
A1: CODE | B1: CLIENT | C1: MP/ECH | D1: MP | E1: ECH/ J
A2: 1R01577 | B2: MONIA BEN MAAFI | C2: CH000 | D2: CH | E2: 000
A3: 1S02185 | B3: SOCIETE TUNISIE TRAVAUX | C3: CH000 | D3: CH | E3: 000
A4: 4S120005 | B4: TUNISIE TELECOM DIST-SOUSSE | C4: CH000 | D4: CH | E4: 000
A5: 4X03000 | B5: CLIENT PASSAGER - SOUSSE | C5: CH000 | D5: CH | E5: 000
A6: 7X03000 | B6: CLIENT PASSAGER EN SUSP.TVA | C6: CH000 | D6: CH | E6: 000
A7: 8X02000 | B7: CLIENT PASSAGER - JENDOUBA | C7: CH000 | D7: CH | E7: 000
A8: 1A01008 | B8: MIN AGR.-C.R.D.A DE ZAGHOUAN | C8: CH000 | D8: CH | E8: 000
A9: 1a01016 | B9: MIN.EQUIPEMENT D.REG.ARIANA | C9: CH000 | D9: CH | E9: 000
A10: 1A02003 | B10: MIN EQUIP.-SER.ENT. ROUT. TN | C10: CH000 | D10: CH | E10: 000
A11: 1A02005 | B11: MIN EQUIP.&HABIT-S.EXPL. RT. | C11: CH000 | D11: CH | E11: 000
A12: 1A02006 | B12: MIN EQUIP.&HABIT-S.ENT.ROUT. | C12: CH000 | D12: CH | E12: 000
... A2584: 4S01067 | B2584: S.T.A.M | C2584: VR090 | D2584: VR | E2584: 090
