Workbook

Sheet TRESORERIE
C1: 1ère SEM 01/2015 | D1: 02/01 - 03/01 | E1: 2ème SEMAINE 01/2015 | J1: 05/01 - 09/01 | K1: 3ème SEMAINE 01/2015 | O1: 12/01 - 16/01 | P1: 4ème SEMAINE 01/2015 | U1: 19/01 - 23/01 | V1: 5ème SEMAINE 01/2015 | AA1: 26/01 - 30/01 | AB1: 42005 | AC1: 1ère SEMAINE 02/2015 | AH1: 02/02 - 06/02 | AI1: 2ème SEMAINE 02/2015 | AN1: 09/02 - 14/02 | AO1: 3ème SEMAINE 02/2015 | AT1: 16/02 - 20/02 | AU1: 4ème SEMAINE 02/2015 | AZ1: 23/02 - 28/02 | BA1: 42036 | BB1: 1ère SEMAINE 03/2015 | BG1: 02/03 - 06/03 | BH1: 2ème SEMAINE 03/2015 | BM1: 09/03 - 13/03 | BN1: 3ème SEMAINE 03/2015 | BR1: 16/03 - 19/03 | BS1: 4ème SEMAINE 03/2015 | BX1: 23/03 - 27/03 | CA1: 30/03 - 31/03 | CB1: 42064 | CC1: 1ère SEMAINE 04/2015 | CF1: 01/04 - 05/04 | CG1: 2éme SEMAINE 04/2015 | CK1: 06/04 - 12/04 | CL1: 3éme SEMAINE 04/2015 | CQ1: 13/04 - 19/04 | CR1: 4éme SEMAINE 04/2015 | CW1: 20/04 - 26/04 | CX1: 5éme SEMAINE 05/2015 | DB1: 27/04 - 30/04 | DC1: 42095 | DD1: 1ère SEMAINE 05/2015 | DI1: 01/05 - 09/05 | DJ1: 2éme SEMAINE 05/2015 | DO1: 11/05 - 17/05 | DP1: 3éme SEMAINE 05/2015 | DU1: 18/05 - 24/05 | DV1: 4éme SEMAINE 05/2015 | EA1: 25/05 - 31/05 | EB1: 42125 | EC1: 1ère SEMAINE 06/2015 | EH1: 01/06 - 07/06 | EI1: 2ème SEMAINE 06/2015 | EN1: 08/06 - 14/06 | EO1: 3ème SEMAINE 06/2015 | ET1: 15/06 - 21/06 | EU1: 4ème SEMAINE 06/2015 | FB1: 22/06 - 30/06 | FC1: 42156 | FD1: 1ère SEMAINE 07/2015 | FG1: 01/07 - 05/07 | FH1: 2ème SEMAINE 07/2015 | FM1: 06/07 - 12/07 | FN1: 3ème SEMAINE 07/2015 | FR1: 13/07 - 19/07 | FS1: 4ème SEMAINE 07/2015 | FX1: 20/07 - 26/07 | FY1: 5ème SEMAINE 07/2015 | GD1: 27/07 - 31/07 | GE1: 42186 | GF1: 1ère SEMAINE 08/2015 | GK1: 01/08 - 09/08 | GL1: 2ème SEMAINE 08/2015 | GP1: 10/08 - 16/08 | GQ1: 3ème SEMAINE 08/2015 | GV1: 17/08 - 23/08 | GW1: 4ème SEMAINE 08/2015 | HC1: 24/08 - 31/08 | HD1: 42217 | HE1: 1ère SEMAINE 09/2015 | HI1: 01/09 - 06/09 | HJ1: 2ème SEMAINE 09/2015 | HO1: 07/09 - 13/09 | HP1: 3ème SEMAINE 09/2015 | HU1: 14/09 - 20/09 | HV1: 4ème SEMAINE 09/2015 | HY1: 21/09 - 27/09 | HZ1: 5ème SEMAINE 09/2015 | IC1: 29/09 - 30/09 | ID1: 42248 | IE1: 1er SEMAINE 10/2015 | IG1: 01/10 - 04/10 | IH1: 2ème SEMAINE 10/2015 | IM1: 05/10 - 11/10 | IN1: 3ème SEMAINE 10/2015 | IQ1: 12/10 - 18/10 | IR1: 4ème SEMAINE 10/2015 | IW1: 19/10 - 25/10 | IX1: 5ème SEMAINE 10/2015 | JC1: 26/10 - 31/10 | JD1: 42278 | JE1: 1er SEMAINE 11/2015 | JJ1: 01/11 - 08/11 | JK1: 2ème SEMAINE 11/2015 | JP1: 09/11 - 15/11 | JQ1: 3ème SEMAINE 11/2015 | JV1: 16/11 - 22/11 | JW1: 4ème SEMAINE 11/2015 | KC1: 23/11 - 30/11 | KD1: 42309 | KE1: 1er SEMAINE 12/2015 | KJ1: 01/12 - 07/12 | KK1: 2ème SEMAINE 12/2015 | KP1: 08/12 - 15/12 | KQ1: 3ème SEMAINE 12/2015 | KV1: 15/12 - 21/12 | KW1: 4ème SEMAINE 12/2015 | LB1: 22/12 - 28/12 | LC1: 5ème SEMAINE 12/2015 | LF1: 29/12 - 31/12 | LG1: 42339
C2: 42006 | E2: 42009 | F2: 42010 | G2: 42011 | H2: 42012 | I2: 42013 | K2: 42016 | L2: 42017 | M2: 42019 | N2: 42020 | P2: 42023 | Q2: 42024 | R2: 42025 | S2: 42026 | T2: 42027 | V2: 42030 | W2: 42031 | X2: 42032 | Y2: 42033 | Z2: 42034 | AC2: 42037 | AD2: 42038 | AE2: 42039 | AF2: 42040 | AG2: 42041 | AI2: 42044 | AJ2: 42045 | AK2: 42046 | AL2: 42047 | AM2: 42048 | AO2: 42051 | AP2: 42052 | AQ2: 42053 | AR2: 42054 | AS2: 42055 | AU2: 42058 | AV2: 42059 | AW2: 42060 | AX2: 42061 | AY2: 42062 | BB2: 42065 | BC2: 42066 | BD2: 42067 | BE2: 42068 | BF2: 42069 | BH2: 42072 | BI2: 42073 | BJ2: 42074 | BK2: 42075 | BL2: 42076 | BN2: 42079 | BO2: 42080 | BP2: 42081 | BQ2: 42082 | BS2: 42086 | BT2: 42087 | BU2: 42088 | BV2: 42089 | BW2: 42090 | BY2: 42093 | BZ2: 42094 | CC2: 41730 | CD2: 41731 | CE2: 41732 | CG2: 42100 | CH2: 42101 | CI2: 42102 | CJ2: 42104 | CL2: 42107 | CM2: 42108 | CN2: 42109 | CO2: 42110 | CP2: 42111 | CR2: 42114 | CS2: 42115 | CT2: 42116 | CU2: 42117 | CV2: 42118 | CX2: 42121 | CY2: 42122 | CZ2: 41758 | DA2: 41759 | DD2: 42128 | DE2: 42129 | DF2: 42130 | DG2: 41766 | DH2: 41767 | DJ2: 42135 | DK2: 42136 | DL2: 42137 | DM2: 42138 | DN2: 42139 | DP2: 42142 | DQ2: 42143 | DR2: 42144 | DS2: 42145 | DT2: 42146 | DV2: 42149 | DW2: 42150 | DX2: 42151 | DY2: 42152 | DZ2: 42153 | EC2: 42156 | ED2: 42157 | EE2: 42158 | EF2: 42159 | EG2: 42160 | EI2: 42163 | EJ2: 42164 | EK2: 42165 | EL2: 42166 | EM2: 42167 | EO2: 42170 | EP2: 42171 | EQ2: 42172 | ER2: 42173 | ES2: 42174 | EU2: 42177 | EV2: 42178 | EW2: 42179 | EX2: 42180 | EY2: 42181 | EZ2: 42184 | FA2: 42185 | FD2: 42186 | FE2: 42187 | FF2: 42188 | FH2: 42191 | FI2: 42192 | FJ2: 42193 | FK2: 42194 | FL2: 42195 | FN2: 42198 | FO2: 42199 | FP2: 42200 | FQ2: 42201 | FS2: 42205 | FT2: 42206 | FU2: 42207 | FV2: 42208 | FW2: 42209 | FY2: 42212 | FZ2: 42213 | GA2: 42214 | GB2: 42215 | GC2: 42216 | GF2: 42219 | GG2: 42220 | GH2: 42221 | GI2: 41857 | GJ2: 41858 | GL2: 42226 | GM2: 42227 | GN2: 42228 | GO2: 42230 | GQ2: 42233 | GR2: 42234 | GS2: 42235 | GT2: 42236 | GU2: 42237 | GW2: 42240 | GX2: 42241 | GY2: 42242 | GZ2: 42243 | HA2: 41879 | HB2: 42247 | HE2: 41883 | HF2: 41884 | HG2: 41885 | HH2: 41886 | HJ2: 42254 | HK2: 42255 | HL2: 42256 | HM2: 42257 | HN2: 42258 | HP2: 42261 | HQ2: 42262 | HR2: 42263 | HS2: 42264 | HT2: 42265 | HV2: 42268 | HW2: 42269 | HX2: 42270 | HZ2: 42275 | IA2: 42276 | IB2: 42277 | IE2: 42278 | IF2: 42279 | IH2: 42282 | II2: 42283 | IJ2: 42284 | IK2: 42285 | IL2: 42286 | IN2: 42289 | IO2: 42290 | IP2: 42293 | IR2: 42296 | IS2: 42297 | IT2: 42298 | IU2: 42299 | IV2: 42300 | IX2: 42303 | IY2: 42304 | IZ2: 42305 | JA2: 42306 | JB2: 42307 | JE2: 42310 | JF2: 42311 | JG2: 42312 | JH2: 42313 | JI2: 42314 | JK2: 42317 | JL2: 42318 | JM2: 42319 | JN2: 42320 | JO2: 42321 | JQ2: 42324 | JR2: 42325 | JS2: 42326 | JT2: 42327 | JU2: 42328 | JW2: 42331 | JX2: 42332 | JY2: 42333 | JZ2: 42334 | KA2: 42335 | KB2: 42338 | KE2: 41974 | KF2: 41975 | KG2: 41976 | KH2: 41977 | KI2: 41978 | KK2: 41981 | KL2: 41982 | KM2: 41983 | KN2: 41984 | KO2: 41985 | KQ2: 41988 | KR2: 41989 | KS2: 41990 | KT2: 41991 | KU2: 41992 | KW2: 41995 | KX2: 41996 | KY2: 41997 | KZ2: 41998 | LA2: 41999 | LC2: 42002 | LD2: 42003 | LE2: 42004
B3: S N D
B4: Dépense | C4: =SUM(C5:C37) -> 70337.314 | D4: =SUM(D5:D37) -> 70337.314 | E4: =SUM(E5:E37) -> 82.01 | F4: =SUM(F5:F37) -> 156308.6 | G4: =SUM(G5:G37) -> 8.829 | H4: =SUM(H5:H37) -> 7.906 | I4: =SUM(I5:I37) -> 145384.86 | J4: =SUM(J5:J37) -> 301792.2 | ... AH4: =SUM(AH5:AH37) -> 208490.28 | AI4: =SUM(AI5:AI30) -> 129.956 | AJ4: =SUM(AJ5:AJ30) -> 244680.71 | AK4: =SUM(AK5:AK30) -> 16.88 | AL4: =SUM(AL5:AL30) -> 350018.76 | AM4: =SUM(AM5:AM30) -> 25313.74 | AN4: =SUM(AN5:AN37) -> 620206.34 | AO4: =SUM(AO5:AO37) -> 44464.406 | AP4: =SUM(AP5:AP37) -> 1311.992 | AQ4: =SUM(AQ5:AQ37) -> 56.054 | AR4: =SUM(AR5:AR37) -> 110017.82 | AS4: =SUM(AS5:AS37) -> 53643.528 | AT4: =SUM(AT5:AT37) -> 209493.8 | AU4: =SUM(AU5:AU37) -> 300008.85 | ... AZ4: =SUM(AZ5:AZ37) -> 311420.95 | BA4: =SUM(BA5:BA38) -> 1349611.4 | BB4: =SUM(BB5:BB38) -> 271322.28 | BC4: =SUM(BC5:BC38) -> 84489.107 | BD4: =SUM(BD5:BD38) -> 233421.81 | BE4: =SUM(BE5:BE38) -> 40025.376 | BF4: =SUM(BF5:BF38) -> 428.648 | BG4: =SUM(BG5:BG38) -> 629687.22 | BH4: =SUM(BH5:BH38) -> 170407.01 | ... LG4: =SUM(LG5:LG38) -> 1241161
B5: Autre achat import | D5: =SUM(C5:C5) -> 0 | J5: =SUM(E5:I5) -> 0 | O5: =SUM(K5:N5) -> 0 | U5: =SUM(P5:T5) -> 0 | AA5: =SUM(V5:Z5) -> 0 | AB5: =AA5+U5+O5+J5+D5 -> 0 | AH5: =SUM(AC5:AG5) -> 0 | AN5: =SUM(AI5:AM5) -> 0 | AT5: =SUM(AO5:AS5) -> 0 | AZ5: =SUM(AU5:AY5) -> 0 | BA5: =AZ5+AT5+AN5+AH5 -> 0 | BG5: =SUM(BB5:BF5) -> 0 | BM5: =SUM(BH5:BL5) -> 0 | BR5: =SUM(BN5:BQ5) -> 0 | BX5: =SUM(BS5:BW5) -> 0 | CA5: =SUM(BY5:BZ5) -> 0 | CB5: =CA5+BX5+BR5+BM5+BG5 -> 0 | CF5: =SUM(CC5:CE5) -> 0 | CK5: =SUM(CG5:CJ5) -> 0 | CQ5: =SUM(CL5:CP5) -> 0 | CW5: =SUM(CR5:CV5) -> 0 | DB5: =SUM(CX5:DA5) -> 0 | DC5: =DB5+CW5+CQ5+CK5+CF5 -> 0 | DI5: =SUM(DD5:DH5) -> 0 | DO5: =SUM(DJ5:DN5) -> 0 | DU5: =SUM(DP5:DT5) -> 0 | EA5: =SUM(DV5:DZ5) -> 0 | EB5: =DI5+DO5+DU5+EA5 -> 0 | EH5: =SUM(EC5:EG5) -> 0 | EN5: =SUM(EI5:EM5) -> 0 | ET5: =SUM(EO5:ES5) -> 0 | FB5: =SUM(EU5:FA5) -> 0 | FC5: =EH5+EN5+ET5+FB5 -> 0 | FG5: =SUM(FD5:FF5) -> 0 | FM5: =SUM(FH5:FL5) -> 0 | FR5: =SUM(FN5:FQ5) -> 0 | FX5: =SUM(FS5:FW5) -> 0 | GD5: =SUM(FY5:GC5) -> 0 | GE5: =FG5+FM5+FR5+FX5+GD5 -> 0 | GK5: =SUM(GF5:GJ5) -> 0 | GP5: =SUM(GL5:GO5) -> 0 | GV5: =SUM(GQ5:GU5) -> 0 | HC5: =SUM(GW5:HB5) -> 0 | HD5: =GK5+GP5+GV5+HC5 -> 0 | HI5: =SUM(HE5:HH5) -> 0 | HO5: =SUM(HJ5:HN5) -> 0 | HU5: =SUM(HP5:HT5) -> 0 | HY5: =SUM(HV5:HX5) -> 0 | IC5: =SUM(HZ5:IB5) -> 0 | ID5: =HI5+HO5+HU5+HY5+IC5 -> 0 | IG5: =SUM(IE5:IF5) -> 0 | IM5: =SUM(IH5:IL5) -> 0 | IQ5: =SUM(IN5:IP5) -> 0 | IW5: =SUM(IR5:IV5) -> 0 | JC5: =SUM(IX5:JB5) -> 0 | JD5: =IG5+IM5+IQ5+IW5+JC5 -> 0 | JJ5: =SUM(JE5:JI5) -> 0 | JP5: =SUM(JK5:JO5) -> 0 | JV5: =SUM(JQ5:JU5) -> 0 | KC5: =SUM(JW5:KB5) -> 0 | KD5: =JJ5+JP5+JV5+KC5 -> 0 | KJ5: =SUM(KE5:KI5) -> 0 | KP5: =SUM(KK5:KO5) -> 0 | KV5: =SUM(KQ5:KU5) -> 0 | LB5: =SUM(KW5:LA5) -> 0 | LF5: =SUM(LC5:LE5) -> 0 | LG5: =LF5+LB5+KV5+KP5+KJ5 -> 0
B6: Autre achat local | D6: =SUM(C6:C6) -> 0 | J6: =SUM(E6:I6) -> 0 | O6: =SUM(K6:N6) -> 0 | U6: =SUM(P6:T6) -> 0 | AA6: =SUM(V6:Z6) -> 0 | AB6: =AA6+U6+O6+J6+D6 -> 0 | AH6: =SUM(AC6:AG6) -> 0 | AN6: =SUM(AI6:AM6) -> 0 | AT6: =SUM(AO6:AS6) -> 0 | AZ6: =SUM(AU6:AY6) -> 0 | BA6: =AZ6+AT6+AN6+AH6 -> 0 | BG6: =SUM(BB6:BF6) -> 0 | BM6: =SUM(BH6:BL6) -> 0 | BR6: =SUM(BN6:BQ6) -> 0 | BX6: =SUM(BS6:BW6) -> 0 | CA6: =SUM(BY6:BZ6) -> 0 | CB6: =CA6+BX6+BR6+BM6+BG6 -> 0 | CF6: =SUM(CC6:CE6) -> 0 | CK6: =SUM(CG6:CJ6) -> 0 | CQ6: =SUM(CL6:CP6) -> 0 | CW6: =SUM(CR6:CV6) -> 0 | DB6: =SUM(CX6:DA6) -> 0 | DC6: =DB6+CW6+CQ6+CK6+CF6 -> 0 | DI6: =SUM(DD6:DH6) -> 0 | DO6: =SUM(DJ6:DN6) -> 0 | DU6: =SUM(DP6:DT6) -> 0 | EA6: =SUM(DV6:DZ6) -> 0 | EB6: =DI6+DO6+DU6+EA6 -> 0 | EH6: =SUM(EC6:EG6) -> 0 | EN6: =SUM(EI6:EM6) -> 0 | ET6: =SUM(EO6:ES6) -> 0 | FB6: =SUM(EU6:FA6) -> 0 | FC6: =EH6+EN6+ET6+FB6 -> 0 | FG6: =SUM(FD6:FF6) -> 0 | FM6: =SUM(FH6:FL6) -> 0 | FR6: =SUM(FN6:FQ6) -> 0 | FX6: =SUM(FS6:FW6) -> 0 | GD6: =SUM(FY6:GC6) -> 0 | GE6: =FG6+FM6+FR6+FX6+GD6 -> 0 | GK6: =SUM(GF6:GJ6) -> 0 | GP6: =SUM(GL6:GO6) -> 0 | GV6: =SUM(GQ6:GU6) -> 0 | HC6: =SUM(GW6:HB6) -> 0 | HD6: =GK6+GP6+GV6+HC6 -> 0 | HI6: =SUM(HE6:HH6) -> 0 | HO6: =SUM(HJ6:HN6) -> 0 | HU6: =SUM(HP6:HT6) -> 0 | HY6: =SUM(HV6:HX6) -> 0 | IC6: =SUM(HZ6:IB6) -> 0 | ID6: =HI6+HO6+HU6+HY6+IC6 -> 0 | IG6: =SUM(IE6:IF6) -> 0 | IM6: =SUM(IH6:IL6) -> 0 | IQ6: =SUM(IN6:IP6) -> 0 | IW6: =SUM(IR6:IV6) -> 0 | JC6: =SUM(IX6:JB6) -> 0 | JD6: =IG6+IM6+IQ6+IW6+JC6 -> 0 | JJ6: =SUM(JE6:JI6) -> 0 | JP6: =SUM(JK6:JO6) -> 0 | JV6: =SUM(JQ6:JU6) -> 0 | KC6: =SUM(JW6:KB6) -> 0 | KD6: =JJ6+JP6+JV6+KC6 -> 0 | KJ6: =SUM(KE6:KI6) -> 0 | KP6: =SUM(KK6:KO6) -> 0 | KV6: =SUM(KQ6:KU6) -> 0 | LB6: =SUM(KW6:LA6) -> 0 | LF6: =SUM(LC6:LE6) -> 0 | LG6: =LF6+LB6+KV6+KP6+KJ6 -> 0
B7: Participation | D7: =SUM(C7:C7) -> 0 | J7: =SUM(E7:I7) -> 0 | O7: =SUM(K7:N7) -> 0 | U7: =SUM(P7:T7) -> 0 | AA7: =SUM(V7:Z7) -> 0 | AB7: =AA7+U7+O7+J7+D7 -> 0 | AH7: =SUM(AC7:AG7) -> 0 | AN7: =SUM(AI7:AM7) -> 0 | AT7: =SUM(AO7:AS7) -> 0 | AZ7: =SUM(AU7:AY7) -> 0 | BA7: =AZ7+AT7+AN7+AH7 -> 0 | BG7: =SUM(BB7:BF7) -> 0 | BM7: =SUM(BH7:BL7) -> 0 | BR7: =SUM(BN7:BQ7) -> 0 | BX7: =SUM(BS7:BW7) -> 0 | CA7: =SUM(BY7:BZ7) -> 0 | CB7: =CA7+BX7+BR7+BM7+BG7 -> 0 | CF7: =SUM(CC7:CE7) -> 0 | CK7: =SUM(CG7:CJ7) -> 0 | CQ7: =SUM(CL7:CP7) -> 0 | CW7: =SUM(CR7:CV7) -> 0 | DB7: =SUM(CX7:DA7) -> 0 | DC7: =DB7+CW7+CQ7+CK7+CF7 -> 0 | DI7: =SUM(DD7:DH7) -> 0 | DO7: =SUM(DJ7:DN7) -> 0 | DU7: =SUM(DP7:DT7) -> 0 | EA7: =SUM(DV7:DZ7) -> 0 | EB7: =DI7+DO7+DU7+EA7 -> 0 | EH7: =SUM(EC7:EG7) -> 0 | EN7: =SUM(EI7:EM7) -> 0 | ET7: =SUM(EO7:ES7) -> 0 | FB7: =SUM(EU7:FA7) -> 0 | FC7: =EH7+EN7+ET7+FB7 -> 0 | FG7: =SUM(FD7:FF7) -> 0 | FM7: =SUM(FH7:FL7) -> 0 | FR7: =SUM(FN7:FQ7) -> 0 | FX7: =SUM(FS7:FW7) -> 0 | GD7: =SUM(FY7:GC7) -> 0 | GE7: =FG7+FM7+FR7+FX7+GD7 -> 0 | GK7: =SUM(GF7:GJ7) -> 0 | GP7: =SUM(GL7:GO7) -> 0 | GV7: =SUM(GQ7:GU7) -> 0 | HC7: =SUM(GW7:HB7) -> 0 | HD7: =GK7+GP7+GV7+HC7 -> 0 | HI7: =SUM(HE7:HH7) -> 0 | HO7: =SUM(HJ7:HN7) -> 0 | HU7: =SUM(HP7:HT7) -> 0 | HY7: =SUM(HV7:HX7) -> 0 | IC7: =SUM(HZ7:IB7) -> 0 | ID7: =HI7+HO7+HU7+HY7+IC7 -> 0 | IG7: =SUM(IE7:IF7) -> 0 | IM7: =SUM(IH7:IL7) -> 0 | IQ7: =SUM(IN7:IP7) -> 0 | IW7: =SUM(IR7:IV7) -> 0 | JC7: =SUM(IX7:JB7) -> 0 | JD7: =IG7+IM7+IQ7+IW7+JC7 -> 0 | JJ7: =SUM(JE7:JI7) -> 0 | JP7: =SUM(JK7:JO7) -> 0 | JV7: =SUM(JQ7:JU7) -> 0 | KC7: =SUM(JW7:KB7) -> 0 | KD7: =JJ7+JP7+JV7+KC7 -> 0 | KJ7: =SUM(KE7:KI7) -> 0 | KP7: =SUM(KK7:KO7) -> 0 | KV7: =SUM(KQ7:KU7) -> 0 | LB7: =SUM(KW7:LA7) -> 0 | LF7: =SUM(LC7:LE7) -> 0 | LG7: =LF7+LB7+KV7+KP7+KJ7 -> 0
B8: Réparation | C8: =354.079+116.69 -> 470.769 | D8: =SUM(C8:C8) -> 470.769 | J8: =SUM(E8:I8) -> 0 | O8: =SUM(K8:N8) -> 0 | P8: 322.027 | U8: =SUM(P8:T8) -> 322.027 | W8: =584.219+295.451+228.131+220.196 -> 1327.997 | AA8: =SUM(V8:Z8) -> 1327.997 | AB8: =AA8+U8+O8+J8+D8 -> 2120.793 | AE8: 583.42 | AG8: 1129.385 | AH8: =SUM(AC8:AG8) -> 1712.805 | AN8: =SUM(AI8:AM8) -> 0 | AT8: =SUM(AO8:AS8) -> 0 | AZ8: =SUM(AU8:AY8) -> 0 | BA8: =AZ8+AT8+AN8+AH8 -> 1712.805 | BD8: 116.954 | BG8: =SUM(BB8:BF8) -> 116.954 | BJ8: 617.555 | BM8: =SUM(BH8:BL8) -> 617.555 | BR8: =SUM(BN8:BQ8) -> 0 | BX8: =SUM(BS8:BW8) -> 0 | CA8: =SUM(BY8:BZ8) -> 0 | CB8: =CA8+BX8+BR8+BM8+BG8 -> 734.509 | CF8: =SUM(CC8:CE8) -> 0 | CH8: 357.179 | CJ8: =732.1+453.705 -> 1185.805 | CK8: =SUM(CG8:CJ8) -> 1542.984 | CP8: 617.896 | CQ8: =SUM(CL8:CP8) -> 617.896 | CR8: 60.798 | CU8: =133.497+443.543+188.734+727.051+1125.086+360.661 -> 2978.572 | CV8: 244.495 | CW8: =SUM(CR8:CV8) -> 3283.865 | DB8: =SUM(CX8:DA8) -> 0 | DC8: =DB8+CW8+CQ8+CK8+CF8 -> 5444.745 | DG8: 540.07 | DH8: 243.675 | DI8: =SUM(DD8:DH8) -> 783.745 | DJ8: 4396.336 | DO8: =SUM(DJ8:DN8) -> 4396.336 | DS8: 3707.103 | DT8: =248.3+1408.55 -> 1656.85 | DU8: =SUM(DP8:DT8) -> 5363.953 | DV8: 100.503 | EA8: =SUM(DV8:DZ8) -> 100.503 | EB8: =DI8+DO8+DU8+EA8 -> 10644.537 | EH8: =SUM(EC8:EG8) -> 0 | EJ8: 254.218 | EL8: 1507.613 | EN8: =SUM(EI8:EM8) -> 1761.831 | ER8: 372.375 | ET8: =SUM(EO8:ES8) -> 372.375 | EV8: 1362.709 | FB8: =SUM(EU8:FA8) -> 1362.709 | FC8: =EH8+EN8+ET8+FB8 -> 3496.915 | FG8: =SUM(FD8:FF8) -> 0 | FM8: =SUM(FH8:FL8) -> 0 | FN8: 868.284 | FR8: =SUM(FN8:FQ8) -> 868.284 | FS8: 618.401 | FU8: 200 | FW8: 250.749 | FX8: =SUM(FS8:FW8) -> 1069.15 | FY8: 370 | GA8: 748.16 | GD8: =SUM(FY8:GC8) -> 1118.16 | GE8: =FG8+FM8+FR8+FX8+GD8 -> 3055.594 | GI8: 829.985 | GK8: =SUM(GF8:GJ8) -> 829.985 | GP8: =SUM(GL8:GO8) -> 0 | GR8: 524.28 | GV8: =SUM(GQ8:GU8) -> 524.28 | HC8: =SUM(GW8:HB8) -> 0 | HD8: =GK8+GP8+GV8+HC8 -> 1354.265 | HI8: =SUM(HE8:HH8) -> 0 | HM8: 452.101 | HO8: =SUM(HJ8:HN8) -> 452.101 | HU8: =SUM(HP8:HT8) -> 0 | HW8: 659.624 | HY8: =SUM(HV8:HX8) -> 659.624 | IC8: =SUM(HZ8:IB8) -> 0 | ID8: =HI8+HO8+HU8+HY8+IC8 -> 1111.725 | IE8: =189.434+416.628+836.603+515.034+133.512+157.902 -> 2249.113 | IG8: =SUM(IE8:IF8) -> 2249.113 | II8: 90 | IM8: =SUM(IH8:IL8) -> 90 | IQ8: =SUM(IN8:IP8) -> 0 | IS8: =1862.802+2415.769 -> 4278.571 | IW8: =SUM(IR8:IV8) -> 4278.571 | JC8: =SUM(IX8:JB8) -> 0 | JD8: =IG8+IM8+IQ8+IW8+JC8 -> 6617.684 | JF8: 778.698 | JI8: 1260.065 | JJ8: =SUM(JE8:JI8) -> 2038.763 | JP8: =SUM(JK8:JO8) -> 0 | JV8: =SUM(JQ8:JU8) -> 0 | KC8: =SUM(JW8:KB8) -> 0 | KD8: =JJ8+JP8+JV8+KC8 -> 2038.763 | LF8: =SUM(LC8:LE8) -> 0 | LG8: 1200
B9: STA NOUR Chq | C9: 68500 | D9: =SUM(C9:C9) -> 68500 | J9: =SUM(E9:I9) -> 0 | K9: 49500 | M9: 21000 | O9: =SUM(K9:N9) -> 70500 | P9: 40000 | R9: 50000 | U9: =SUM(P9:T9) -> 90000 | V9: =50000+100000 -> 150000 | W9: =25000+200000 -> 225000 | Y9: 24000 | AA9: =SUM(V9:Z9) -> 399000 | AB9: =AA9+U9+O9+J9+D9 -> 628000 | AC9: =10000+150000 -> 160000 | AF9: 30000 | AH9: =SUM(AC9:AG9) -> 190000 | AJ9: =30000+200000 -> 230000 | AL9: 250000 | AM9: 25000 | AN9: =SUM(AI9:AM9) -> 505000 | AR9: 60000 | AT9: =SUM(AO9:AS9) -> 60000 | AU9: 100000 | AZ9: =SUM(AU9:AY9) -> 100000 | BA9: =AZ9+AT9+AN9+AH9 -> 855000 | BB9: 50000 | BC9: =25000+40000 -> 65000 | BD9: 100000 | BE9: 40000 | BG9: =SUM(BB9:BF9) -> 255000 | BL9: 50000 | BM9: =SUM(BH9:BL9) -> 50000 | BN9: 40000 | BR9: =SUM(BN9:BQ9) -> 40000 | BW9: 10000 | BX9: =SUM(BS9:BW9) -> 10000 | BZ9: 150000 | CA9: =SUM(BY9:BZ9) -> 150000 | CB9: =CA9+BX9+BR9+BM9+BG9 -> 505000 | CC9: =25000+23000 -> 48000 | CF9: =SUM(CC9:CE9) -> 48000 | CG9: 200000 | CH9: =10000+30000 -> 40000 | CJ9: 20000 | CK9: =SUM(CG9:CJ9) -> 260000 | CN9: 5000 | CO9: 30000 | CP9: 15000 | CQ9: =SUM(CL9:CP9) -> 50000 | CT9: 20000 | CW9: =SUM(CR9:CV9) -> 20000 | DA9: 35000 | DB9: =SUM(CX9:DA9) -> 35000 | DC9: =DB9+CW9+CQ9+CK9+CF9 -> 413000 | DD9: =40000+100000+25000 -> 165000 | DF9: 10000 | DG9: 10000 | DI9: =SUM(DD9:DH9) -> 185000 | DO9: =SUM(DJ9:DN9) -> 0 | DR9: 150000 | DU9: =SUM(DP9:DT9) -> 150000 | DV9: 30000 | EA9: =SUM(DV9:DZ9) -> 30000 | EB9: =DI9+DO9+DU9+EA9 -> 365000 | ED9: 60000 | EF9: 20000 | EH9: =SUM(EC9:EG9) -> 80000 | EN9: =SUM(EI9:EM9) -> 0 | EP9: 20000 | ET9: =SUM(EO9:ES9) -> 20000 | EY9: 50000 | EZ9: 20000 | FB9: =SUM(EU9:FA9) -> 70000 | FC9: =EH9+EN9+ET9+FB9 -> 170000 | FE9: 50000 | FG9: =SUM(FD9:FF9) -> 50000 | FK9: 110000 | FL9: 25000 | FM9: =SUM(FH9:FL9) -> 135000 | FN9: 15000 | FQ9: 25000 | FR9: =SUM(FN9:FQ9) -> 40000 | FX9: =SUM(FS9:FW9) -> 0 | GA9: 25000 | GC9: 100000 | GD9: =SUM(FY9:GC9) -> 125000 | GE9: =FG9+FM9+FR9+FX9+GD9 -> 350000 | GF9: 55000 | GJ9: 100000 | GK9: =SUM(GF9:GJ9) -> 155000 | GN9: 30000 | GP9: =SUM(GL9:GO9) -> 30000 | GR9: 30000 | GV9: =SUM(GQ9:GU9) -> 30000 | HB9: 50000 | HC9: =SUM(GW9:HB9) -> 50000 | HD9: =GK9+GP9+GV9+HC9 -> 265000 | HE9: =20000+70000 -> 90000 | HI9: =SUM(HE9:HH9) -> 90000 | HM9: 20000 | HO9: =SUM(HJ9:HN9) -> 20000 | HQ9: 100000 | HR9: 85000 | HU9: =SUM(HP9:HT9) -> 185000 | HV9: 45000 | HY9: =SUM(HV9:HX9) -> 45000 | IB9: 100000 | IC9: =SUM(HZ9:IB9) -> 100000 | ID9: =HI9+HO9+HU9+HY9+IC9 -> 440000 | IE9: =50000+50000 -> 100000 | IG9: =SUM(IE9:IF9) -> 100000 | IM9: =SUM(IH9:IL9) -> 0 | IN9: 100000 | IO9: 45000 | IQ9: =SUM(IN9:IP9) -> 145000 | IW9: =SUM(IR9:IV9) -> 0 | JB9: 80000 | JC9: =SUM(IX9:JB9) -> 80000 | JD9: =IG9+IM9+IQ9+IW9+JC9 -> 325000 | JJ9: =SUM(JE9:JI9) -> 0 | JP9: =SUM(JK9:JO9) -> 0 | JV9: =SUM(JQ9:JU9) -> 0 | KC9: =SUM(JW9:KB9) -> 0 | KD9: =JJ9+JP9+JV9+KC9 -> 0 | KJ9: =SUM(KE9:KI9) -> 0 | KP9: =SUM(KK9:KO9) -> 0 | KV9: =SUM(KQ9:KU9) -> 0 | LB9: =SUM(KW9:LA9) -> 0 | LF9: =SUM(LC9:LE9) -> 0 | LG9: 850000
B10: STA NOUR Trt | D10: =SUM(C10:C10) -> 0 | J10: =SUM(E10:I10) -> 0 | O10: =SUM(K10:N10) -> 0 | Q10: 50001.57 | U10: =SUM(P10:T10) -> 50001.57 | AA10: =SUM(V10:Z10) -> 0 | AB10: =AA10+U10+O10+J10+D10 -> 50001.57 | AH10: =SUM(AC10:AG10) -> 0 | AN10: =SUM(AI10:AM10) -> 0 | AS10: 50001.57 | AT10: =SUM(AO10:AS10) -> 50001.57 | AZ10: =SUM(AU10:AY10) -> 0 | BA10: =AZ10+AT10+AN10+AH10 -> 50001.57 | BG10: =SUM(BB10:BF10) -> 0 | BM10: =SUM(BH10:BL10) -> 0 | BR10: =SUM(BN10:BQ10) -> 0 | BS10: 50001.57 | BX10: =SUM(BS10:BW10) -> 50001.57 | CA10: =SUM(BY10:BZ10) -> 0 | CB10: =CA10+BX10+BR10+BM10+BG10 -> 50001.57 | CF10: =SUM(CC10:CE10) -> 0 | CK10: =SUM(CG10:CJ10) -> 0 | CN10: 50001.57 | CQ10: =SUM(CL10:CP10) -> 50001.57 | CW10: =SUM(CR10:CV10) -> 0 | DB10: =SUM(CX10:DA10) -> 0 | DC10: =DB10+CW10+CQ10+CK10+CF10 -> 50001.57 | DG10: 25000 | DI10: =SUM(DD10:DH10) -> 25000 | DO10: =SUM(DJ10:DN10) -> 0 | DP10: 25000 | DR10: 50001.57 | DU10: =SUM(DP10:DT10) -> 75001.57 | DX10: 25000 | EA10: =SUM(DV10:DZ10) -> 25000 | EB10: =DI10+DO10+DU10+EA10 -> 125001.57 | EE10: 25000 | EH10: =SUM(EC10:EG10) -> 25000 | EL10: 25000 | EN10: =SUM(EI10:EM10) -> 25000 | ET10: =SUM(EO10:ES10) -> 0 | EU10: 25000 | FA10: 25000 | FB10: =SUM(EU10:FA10) -> 50000 | FC10: =EH10+EN10+ET10+FB10 -> 100000 | FG10: =SUM(FD10:FF10) -> 0 | FM10: =SUM(FH10:FL10) -> 0 | FP10: 50001.57 | FR10: =SUM(FN10:FQ10) -> 50001.57 | FX10: =SUM(FS10:FW10) -> 0 | GD10: =SUM(FY10:GC10) -> 0 | GE10: =FG10+FM10+FR10+FX10+GD10 -> 50001.57 | GK10: =SUM(GF10:GJ10) -> 0 | GP10: =SUM(GL10:GO10) -> 0 | GQ10: 175001.57 | GV10: =SUM(GQ10:GU10) -> 175001.57 | HC10: =SUM(GW10:HB10) -> 0 | HD10: =GK10+GP10+GV10+HC10 -> 175001.57 | HI10: =SUM(HE10:HH10) -> 0 | HO10: =SUM(HJ10:HN10) -> 0 | HU10: =SUM(HP10:HT10) -> 0 | HY10: =SUM(HV10:HX10) -> 0 | HZ10: 75001.57 | IC10: =SUM(HZ10:IB10) -> 75001.57 | ID10: =HI10+HO10+HU10+HY10+IC10 -> 75001.57 | IG10: =SUM(IE10:IF10) -> 0 | IM10: =SUM(IH10:IL10) -> 0 | IN10: 75001.57 | IQ10: =SUM(IN10:IP10) -> 75001.57 | IW10: =SUM(IR10:IV10) -> 0 | JC10: =SUM(IX10:JB10) -> 0 | JD10: =IG10+IM10+IQ10+IW10+JC10 -> 75001.57 | JJ10: =SUM(JE10:JI10) -> 0 | JP10: =SUM(JK10:JO10) -> 0 | JV10: =SUM(JQ10:JU10) -> 0 | KC10: =SUM(JW10:KB10) -> 0 | KD10: =JJ10+JP10+JV10+KC10 -> 0 | KJ10: =SUM(KE10:KI10) -> 0 | KP10: =SUM(KK10:KO10) -> 0 | KV10: =SUM(KQ10:KU10) -> 0 | LB10: =SUM(KW10:LA10) -> 0 | LF10: =SUM(LC10:LE10) -> 0 | LG10: =LF10+LB10+KV10+KP10+KJ10 -> 0
B11: SNA NOUR Chq | D11: =SUM(C11:C11) -> 0 | F11: 150000 | I11: 120000 | J11: =SUM(E11:I11) -> 270000 | L11: =50000+100000 -> 150000 | O11: =SUM(K11:N11) -> 150000 | R11: 50000 | U11: =SUM(P11:T11) -> 50000 | V11: 200000 | X11: 100000 | Y11: 45000 | AA11: =SUM(V11:Z11) -> 345000 | AB11: =AA11+U11+O11+J11+D11 -> 815000 | AH11: =SUM(AC11:AG11) -> 0 | AL11: 100000 | AN11: =SUM(AI11:AM11) -> 100000 | AR11: 50000 | AT11: =SUM(AO11:AS11) -> 50000 | AU11: 200000 | AZ11: =SUM(AU11:AY11) -> 200000 | BA11: =AZ11+AT11+AN11+AH11 -> 350000 | BB11: 150000 | BD11: 100000 | BG11: =SUM(BB11:BF11) -> 250000 | BH11: 150000 | BJ11: 40000 | BL11: 200000 | BM11: =SUM(BH11:BL11) -> 390000 | BO11: 100000 | BR11: =SUM(BN11:BQ11) -> 100000 | BS11: 150000 | BT11: 40000 | BV11: =50000+120000 -> 170000 | BW11: 30000 | BX11: =SUM(BS11:BW11) -> 390000 | BZ11: 120000 | CA11: =SUM(BY11:BZ11) -> 120000 | CB11: =CA11+BX11+BR11+BM11+BG11 -> 1250000 | CD11: 120000 | CF11: =SUM(CC11:CE11) -> 120000 | CG11: 100000 | CK11: =SUM(CG11:CJ11) -> 100000 | CN11: =100000+50000 -> 150000 | CO11: 1000 | CQ11: =SUM(CL11:CP11) -> 151000 | CS11: 150000 | CV11: 130000 | CW11: =SUM(CR11:CV11) -> 280000 | DA11: 150000 | DB11: =SUM(CX11:DA11) -> 150000 | DC11: =DB11+CW11+CQ11+CK11+CF11 -> 801000 | DD11: 50000 | DF11: 50000 | DI11: =SUM(DD11:DH11) -> 100000 | DJ11: 110000 | DO11: =SUM(DJ11:DN11) -> 110000 | DQ11: 80000 | DR11: 100000 | DU11: =SUM(DP11:DT11) -> 180000 | EA11: =SUM(DV11:DZ11) -> 0 | EB11: =DI11+DO11+DU11+EA11 -> 390000 | EC11: 60000 | ED11: 50000 | EH11: =SUM(EC11:EG11) -> 110000 | EJ11: 150000 | EL11: 75000 | EN11: =SUM(EI11:EM11) -> 225000 | EO11: 100000 | ER11: 70000 | ET11: =SUM(EO11:ES11) -> 170000 | EV11: 60000 | EY11: 50000 | FB11: =SUM(EU11:FA11) -> 110000 | FC11: =EH11+EN11+ET11+FB11 -> 615000 | FD11: 150000 | FG11: =SUM(FD11:FF11) -> 150000 | FH11: 150000 | FM11: =SUM(FH11:FL11) -> 150000 | FR11: =SUM(FN11:FQ11) -> 0 | FV11: 150000 | FX11: =SUM(FS11:FW11) -> 150000 | GD11: =SUM(FY11:GC11) -> 0 | GE11: =FG11+FM11+FR11+FX11+GD11 -> 450000 | GJ11: 50000 | GK11: =SUM(GF11:GJ11) -> 50000 | GM11: =50000+100000 -> 150000 | GP11: =SUM(GL11:GO11) -> 150000 | GR11: 40000 | GU11: 40000 | GV11: =SUM(GQ11:GU11) -> 80000 | HB11: 80000 | HC11: =SUM(GW11:HB11) -> 80000 | HD11: =GK11+GP11+GV11+HC11 -> 360000 | HH11: 120000 | HI11: =SUM(HE11:HH11) -> 120000 | HJ11: 35000 | HK11: 100000 | HN11: 25000 | HO11: =SUM(HJ11:HN11) -> 160000 | HQ11: 50000 | HR11: =120000+70000 -> 190000 | HU11: =SUM(HP11:HT11) -> 240000 | HY11: =SUM(HV11:HX11) -> 0 | IB11: 100000 | IC11: =SUM(HZ11:IB11) -> 100000 | ID11: =HI11+HO11+HU11+HY11+IC11 -> 620000 | IG11: =SUM(IE11:IF11) -> 0 | IJ11: 90000 | IM11: =SUM(IH11:IL11) -> 90000 | IN11: 200000 | IQ11: =SUM(IN11:IP11) -> 200000 | IR11: 70000 | IT11: 40000 | IU11: =175000+25000 -> 200000 | IW11: =SUM(IR11:IV11) -> 310000 | JB11: 200000 | JC11: =SUM(IX11:JB11) -> 200000 | JD11: =IG11+IM11+IQ11+IW11+JC11 -> 800000 | JJ11: =SUM(JE11:JI11) -> 0 | JP11: =SUM(JK11:JO11) -> 0 | JV11: =SUM(JQ11:JU11) -> 0 | KC11: =SUM(JW11:KB11) -> 0 | KD11: =JJ11+JP11+JV11+KC11 -> 0 | KJ11: =SUM(KE11:KI11) -> 0 | KP11: =SUM(KK11:KO11) -> 0 | KV11: =SUM(KQ11:KU11) -> 0 | LB11: =SUM(KW11:LA11) -> 0 | LF11: =SUM(LC11:LE11) -> 0 | LG11: 280000
B12: SNA NOUR Trt | D12: =SUM(C12:C12) -> 0 | J12: =SUM(E12:I12) -> 0 | M12: 40001.57 | O12: =SUM(K12:N12) -> 40001.57 | U12: =SUM(P12:T12) -> 0 | AA12: =SUM(V12:Z12) -> 0 | AB12: =AA12+U12+O12+J12+D12 -> 40001.57 | AH12: =SUM(AC12:AG12) -> 0 | AN12: =SUM(AI12:AM12) -> 0 | AO12: 40001.57 | AT12: =SUM(AO12:AS12) -> 40001.57 | AZ12: =SUM(AU12:AY12) -> 0 | BA12: =AZ12+AT12+AN12+AH12 -> 40001.57 | BB12: 40001.57 | BG12: =SUM(BB12:BF12) -> 40001.57 | BM12: =SUM(BH12:BL12) -> 0 | BN12: 40001.57 | BR12: =SUM(BN12:BQ12) -> 40001.57 | BX12: =SUM(BS12:BW12) -> 0 | CA12: =SUM(BY12:BZ12) -> 0 | CB12: =CA12+BX12+BR12+BM12+BG12 -> 80003.14 | CF12: =SUM(CC12:CE12) -> 0 | CJ12: 50001.57 | CK12: =SUM(CG12:CJ12) -> 50001.57 | CQ12: =SUM(CL12:CP12) -> 0 | CW12: =SUM(CR12:CV12) -> 0 | DA12: 50001.57 | DB12: =SUM(CX12:DA12) -> 50001.57 | DC12: =DB12+CW12+CQ12+CK12+CF12 -> 100003.14 | DG12: 25000 | DI12: =SUM(DD12:DH12) -> 25000 | DN12: 50001.57 | DO12: =SUM(DJ12:DN12) -> 50001.57 | DP12: 25000 | DU12: =SUM(DP12:DT12) -> 25000 | DX12: 25000 | EA12: =SUM(DV12:DZ12) -> 25000 | EB12: =DI12+DO12+DU12+EA12 -> 125001.57 | EC12: 40001.57 | EE12: 25000 | EH12: =SUM(EC12:EG12) -> 65001.57 | EL12: 25000 | EN12: =SUM(EI12:EM12) -> 25000 | EO12: 40001.57 | ET12: =SUM(EO12:ES12) -> 40001.57 | EU12: 25000 | FA12: =25000+40001.57 -> 65001.57 | FB12: =SUM(EU12:FA12) -> 90001.57 | FC12: =EH12+EN12+ET12+FB12 -> 220004.71 | FG12: =SUM(FD12:FF12) -> 0 | FM12: =SUM(FH12:FL12) -> 0 | FP12: 100001.57 | FR12: =SUM(FN12:FQ12) -> 100001.57 | FX12: =SUM(FS12:FW12) -> 0 | GC12: 50001.57 | GD12: =SUM(FY12:GC12) -> 50001.57 | GE12: =FG12+FM12+FR12+FX12+GD12 -> 150003.14 | GK12: =SUM(GF12:GJ12) -> 0 | GP12: =SUM(GL12:GO12) -> 0 | GQ12: 175001.57 | GV12: =SUM(GQ12:GU12) -> 175001.57 | HB12: 50001.57 | HC12: =SUM(GW12:HB12) -> 50001.57 | HD12: =GK12+GP12+GV12+HC12 -> 225003.14 | HI12: =SUM(HE12:HH12) -> 0 | HO12: =SUM(HJ12:HN12) -> 0 | HU12: =SUM(HP12:HT12) -> 0 | HY12: =SUM(HV12:HX12) -> 0 | HZ12: 75001.57 | IB12: 50001.57 | IC12: =SUM(HZ12:IB12) -> 125003.14 | ID12: =HI12+HO12+HU12+HY12+IC12 -> 125003.14 | IG12: =SUM(IE12:IF12) -> 0 | IM12: =SUM(IH12:IL12) -> 0 | IN12: 75001.57 | IQ12: =SUM(IN12:IP12) -> 75001.57 | IW12: =SUM(IR12:IV12) -> 0 | JC12: =SUM(IX12:JB12) -> 0 | JD12: =IG12+IM12+IQ12+IW12+JC12 -> 75001.57 | JE12: 75001.57 | JJ12: =SUM(JE12:JI12) -> 75001.57 | JP12: =SUM(JK12:JO12) -> 0 | JV12: =SUM(JQ12:JU12) -> 0 | KC12: =SUM(JW12:KB12) -> 0 | KD12: =JJ12+JP12+JV12+KC12 -> 75001.57 | KJ12: =SUM(KE12:KI12) -> 0 | KP12: =SUM(KK12:KO12) -> 0 | KV12: =SUM(KQ12:KU12) -> 0 | LB12: =SUM(KW12:LA12) -> 0 | LF12: =SUM(LC12:LE12) -> 0 | LG12: =LF12+LB12+KV12+KP12+KJ12 -> 0
B13: Leasing | D13: =SUM(C13:C13) -> 0 | J13: =SUM(E13:I13) -> 0 | K13: =3444.94+3371.372+1220.983+3703.535+857.764+951.497 -> 13550.091 | O13: =SUM(K13:N13) -> 13550.091 | U13: =SUM(P13:T13) -> 0 | V13: =2841.492+6739.173 -> 9580.665 | AA13: =SUM(V13:Z13) -> 9580.665 | AB13: =AA13+U13+O13+J13+D13 -> 23130.756 | AH13: =SUM(AC13:AG13) -> 0 | AJ13: =3444.94+3371.372+1222.283+3703.535+857.764+951.497 -> 13551.391 | AN13: =SUM(AI13:AM13) -> 13551.391 | AT13: =SUM(AO13:AS13) -> 0 | AW13: =2841.492+6739.173 -> 9580.665 | AZ13: =SUM(AU13:AY13) -> 9580.665 | BA13: =AZ13+AT13+AN13+AH13 -> 23132.056 | BG13: =SUM(BB13:BF13) -> 0 | BH13: =3446.24+3371.372+3704.835+951.497+857.764 -> 12331.708 | BM13: =SUM(BH13:BL13) -> 12331.708 | BR13: =SUM(BN13:BQ13) -> 0 | BU13: =2841.492+6739.173 -> 9580.665 | BX13: =SUM(BS13:BW13) -> 9580.665 | CA13: =SUM(BY13:BZ13) -> 0 | CB13: =CA13+BX13+BR13+BM13+BG13 -> 21912.373 | CF13: =SUM(CC13:CE13) -> 0 | CJ13: =3371.372+857.764+951.497 -> 5180.633 | CK13: =SUM(CG13:CJ13) -> 5180.633 | CQ13: =SUM(CL13:CP13) -> 0 | CW13: =SUM(CR13:CV13) -> 0 | CX13: =2841.492+6739.173 -> 9580.665 | DB13: =SUM(CX13:DA13) -> 9580.665 | DC13: =DB13+CW13+CQ13+CK13+CF13 -> 14761.298 | DI13: =SUM(DD13:DH13) -> 0 | DJ13: =3371.372+857.764+951.497 -> 5180.633 | DO13: =SUM(DJ13:DN13) -> 5180.633 | DU13: =SUM(DP13:DT13) -> 0 | DW13: =2841.492+6739.173 -> 9580.665 | EA13: =SUM(DV13:DZ13) -> 9580.665 | EB13: =DI13+DO13+DU13+EA13 -> 14761.298 | EH13: =SUM(EC13:EG13) -> 0 | EK13: =951.497+3371.372+857.764 -> 5180.633 | EN13: =SUM(EI13:EM13) -> 5180.633 | ET13: =SUM(EO13:ES13) -> 0 | EX13: 9580.665 | FB13: =SUM(EU13:FA13) -> 9580.665 | FC13: =EH13+EN13+ET13+FB13 -> 14761.298 | FG13: =SUM(FD13:FF13) -> 0 | FL13: =857.764+951.497+3371.372 -> 5180.633 | FM13: =SUM(FH13:FL13) -> 5180.633 | FR13: =SUM(FN13:FQ13) -> 0 | FX13: =SUM(FS13:FW13) -> 0 | FY13: =2841.492+6739.173 -> 9580.665 | GD13: =SUM(FY13:GC13) -> 9580.665 | GE13: =FG13+FM13+FR13+FX13+GD13 -> 14761.298 | GK13: =SUM(GF13:GJ13) -> 0 | GL13: =857.764+951.497+3371.372 -> 5180.633 | GP13: =SUM(GL13:GO13) -> 5180.633 | GV13: =SUM(GQ13:GU13) -> 0 | GX13: =2841.492+6739.173 -> 9580.665 | HC13: =SUM(GW13:HB13) -> 9580.665 | HD13: =GK13+GP13+GV13+HC13 -> 14761.298 | HI13: =SUM(HE13:HH13) -> 0 | HM13: =857.764+951.497+3371.372 -> 5180.633 | HO13: =SUM(HJ13:HN13) -> 5180.633 | HU13: =SUM(HP13:HT13) -> 0 | HY13: =SUM(HV13:HX13) -> 0 | HZ13: =2841.492+6739.173 -> 9580.665 | IC13: =SUM(HZ13:IB13) -> 9580.665 | ID13: =HI13+HO13+HU13+HY13+IC13 -> 14761.298 | IG13: =SUM(IE13:IF13) -> 0 | IM13: =SUM(IH13:IL13) -> 0 | IN13: =3371.372+951.497+857.764 -> 5180.633 | IQ13: =SUM(IN13:IP13) -> 5180.633 | IW13: =SUM(IR13:IV13) -> 0 | IX13: =2841.492+6739.173 -> 9580.665 | JC13: =SUM(IX13:JB13) -> 9580.665 | JD13: =IG13+IM13+IQ13+IW13+JC13 -> 14761.298 | JJ13: =SUM(JE13:JI13) -> 0 | JP13: =SUM(JK13:JO13) -> 0 | JV13: =SUM(JQ13:JU13) -> 0 | KC13: =SUM(JW13:KB13) -> 0 | KD13: =JJ13+JP13+JV13+KC13 -> 0 | KJ13: =SUM(KE13:KI13) -> 0 | KP13: =SUM(KK13:KO13) -> 0 | KV13: =SUM(KQ13:KU13) -> 0 | LB13: =SUM(KW13:LA13) -> 0 | LF13: =SUM(LC13:LE13) -> 0 | LG13: 14761
B14: Transport | D14: =SUM(C14:C14) -> 0 | J14: =SUM(E14:I14) -> 0 | O14: =SUM(K14:N14) -> 0 | U14: =SUM(P14:T14) -> 0 | AA14: =SUM(V14:Z14) -> 0 | AB14: =AA14+U14+O14+J14+D14 -> 0 | AH14: =SUM(AC14:AG14) -> 0 | AN14: =SUM(AI14:AM14) -> 0 | AT14: =SUM(AO14:AS14) -> 0 | AZ14: =SUM(AU14:AY14) -> 0 | BA14: =AZ14+AT14+AN14+AH14 -> 0 | BG14: =SUM(BB14:BF14) -> 0 | BM14: =SUM(BH14:BL14) -> 0 | BR14: =SUM(BN14:BQ14) -> 0 | BX14: =SUM(BS14:BW14) -> 0 | CA14: =SUM(BY14:BZ14) -> 0 | CB14: =CA14+BX14+BR14+BM14+BG14 -> 0 | CF14: =SUM(CC14:CE14) -> 0 | CK14: =SUM(CG14:CJ14) -> 0 | CQ14: =SUM(CL14:CP14) -> 0 | CW14: =SUM(CR14:CV14) -> 0 | DB14: =SUM(CX14:DA14) -> 0 | DC14: =DB14+CW14+CQ14+CK14+CF14 -> 0 | DI14: =SUM(DD14:DH14) -> 0 | DO14: =SUM(DJ14:DN14) -> 0 | DU14: =SUM(DP14:DT14) -> 0 | EA14: =SUM(DV14:DZ14) -> 0 | EB14: =DI14+DO14+DU14+EA14 -> 0 | EH14: =SUM(EC14:EG14) -> 0 | EN14: =SUM(EI14:EM14) -> 0 | ET14: =SUM(EO14:ES14) -> 0 | FB14: =SUM(EU14:FA14) -> 0 | FC14: =EH14+EN14+ET14+FB14 -> 0 | FG14: =SUM(FD14:FF14) -> 0 | FM14: =SUM(FH14:FL14) -> 0 | FR14: =SUM(FN14:FQ14) -> 0 | FX14: =SUM(FS14:FW14) -> 0 | GD14: =SUM(FY14:GC14) -> 0 | GE14: =FG14+FM14+FR14+FX14+GD14 -> 0 | GK14: =SUM(GF14:GJ14) -> 0 | GP14: =SUM(GL14:GO14) -> 0 | GV14: =SUM(GQ14:GU14) -> 0 | HC14: =SUM(GW14:HB14) -> 0 | HD14: =GK14+GP14+GV14+HC14 -> 0 | HI14: =SUM(HE14:HH14) -> 0 | HO14: =SUM(HJ14:HN14) -> 0 | HU14: =SUM(HP14:HT14) -> 0 | HY14: =SUM(HV14:HX14) -> 0 | IC14: =SUM(HZ14:IB14) -> 0 | ID14: =HI14+HO14+HU14+HY14+IC14 -> 0 | IG14: =SUM(IE14:IF14) -> 0 | IM14: =SUM(IH14:IL14) -> 0 | IQ14: =SUM(IN14:IP14) -> 0 | IW14: =SUM(IR14:IV14) -> 0 | JC14: =SUM(IX14:JB14) -> 0 | JD14: =IG14+IM14+IQ14+IW14+JC14 -> 0 | JJ14: =SUM(JE14:JI14) -> 0 | JP14: =SUM(JK14:JO14) -> 0 | JV14: =SUM(JQ14:JU14) -> 0 | KC14: =SUM(JW14:KB14) -> 0 | KD14: =JJ14+JP14+JV14+KC14 -> 0 | KJ14: =SUM(KE14:KI14) -> 0 | KP14: =SUM(KK14:KO14) -> 0 | KV14: =SUM(KQ14:KU14) -> 0 | LB14: =SUM(KW14:LA14) -> 0 | LF14: =SUM(LC14:LE14) -> 0 | LG14: =LF14+LB14+KV14+KP14+KJ14 -> 0
B15: Energie | D15: =SUM(C15:C15) -> 0 | J15: =SUM(E15:I15) -> 0 | O15: =SUM(K15:N15) -> 0 | Q15: 9594.904 | U15: =SUM(P15:T15) -> 9594.904 | AA15: =SUM(V15:Z15) -> 0 | AB15: =AA15+U15+O15+J15+D15 -> 9594.904 | AC15: 10794.204 | AH15: =SUM(AC15:AG15) -> 10794.204 | AN15: =SUM(AI15:AM15) -> 0 | AT15: =SUM(AO15:AS15) -> 0 | AZ15: =SUM(AU15:AY15) -> 0 | BA15: =AZ15+AT15+AN15+AH15 -> 10794.204 | BG15: =SUM(BB15:BF15) -> 0 | BH15: 7196.303 | BM15: =SUM(BH15:BL15) -> 7196.303 | BR15: =SUM(BN15:BQ15) -> 0 | BX15: =SUM(BS15:BW15) -> 0 | CA15: =SUM(BY15:BZ15) -> 0 | CB15: =CA15+BX15+BR15+BM15+BG15 -> 7196.303 | CF15: =SUM(CC15:CE15) -> 0 | CG15: 8395.603 | CK15: =SUM(CG15:CJ15) -> 8395.603 | CQ15: =SUM(CL15:CP15) -> 0 | CW15: =SUM(CR15:CV15) -> 0 | DB15: =SUM(CX15:DA15) -> 0 | DC15: =DB15+CW15+CQ15+CK15+CF15 -> 8395.603 | DE15: 10794.704 | DI15: =SUM(DD15:DH15) -> 10794.704 | DO15: =SUM(DJ15:DN15) -> 0 | DU15: =SUM(DP15:DT15) -> 0 | EA15: =SUM(DV15:DZ15) -> 0 | EB15: =DI15+DO15+DU15+EA15 -> 10794.704 | EH15: =SUM(EC15:EG15) -> 0 | EJ15: 9594.904 | EN15: =SUM(EI15:EM15) -> 9594.904 | ET15: =SUM(EO15:ES15) -> 0 | FB15: =SUM(EU15:FA15) -> 0 | FC15: =EH15+EN15+ET15+FB15 -> 9594.904 | FG15: =SUM(FD15:FF15) -> 0 | FH15: 10794.204 | FM15: =SUM(FH15:FL15) -> 10794.204 | FR15: =SUM(FN15:FQ15) -> 0 | FX15: =SUM(FS15:FW15) -> 0 | GD15: =SUM(FY15:GC15) -> 0 | GE15: =FG15+FM15+FR15+FX15+GD15 -> 10794.204 | GK15: =SUM(GF15:GJ15) -> 0 | GP15: =SUM(GL15:GO15) -> 0 | GV15: =SUM(GQ15:GU15) -> 0 | HC15: =SUM(GW15:HB15) -> 0 | HD15: =GK15+GP15+GV15+HC15 -> 0 | HI15: =SUM(HE15:HH15) -> 0 | HO15: =SUM(HJ15:HN15) -> 0 | HU15: =SUM(HP15:HT15) -> 0 | HY15: =SUM(HV15:HX15) -> 0 | IC15: =SUM(HZ15:IB15) -> 0 | ID15: =HI15+HO15+HU15+HY15+IC15 -> 0 | IG15: =SUM(IE15:IF15) -> 0 | IM15: =SUM(IH15:IL15) -> 0 | IN15: =8395.603+9594.904 -> 17990.507 | IQ15: =SUM(IN15:IP15) -> 17990.507 | IW15: =SUM(IR15:IV15) -> 0 | JC15: =SUM(IX15:JB15) -> 0 | JD15: =IG15+IM15+IQ15+IW15+JC15 -> 17990.507 | JJ15: =SUM(JE15:JI15) -> 0 | JP15: =SUM(JK15:JO15) -> 0 | JV15: =SUM(JQ15:JU15) -> 0 | KC15: =SUM(JW15:KB15) -> 0 | KD15: =JJ15+JP15+JV15+KC15 -> 0 | KJ15: =SUM(KE15:KI15) -> 0 | KP15: =SUM(KK15:KO15) -> 0 | KV15: =SUM(KQ15:KU15) -> 0 | LB15: =SUM(KW15:LA15) -> 0 | LF15: =SUM(LC15:LE15) -> 0 | LG15: 10000
B16: Steg | D16: =SUM(C16:C16) -> 0 | J16: =SUM(E16:I16) -> 0 | O16: =SUM(K16:N16) -> 0 | U16: =SUM(P16:T16) -> 0 | AA16: =SUM(V16:Z16) -> 0 | AB16: =AA16+U16+O16+J16+D16 -> 0 | AH16: =SUM(AC16:AG16) -> 0 | AN16: =SUM(AI16:AM16) -> 0 | AT16: =SUM(AO16:AS16) -> 0 | AZ16: =SUM(AU16:AY16) -> 0 | BA16: =AZ16+AT16+AN16+AH16 -> 0 | BG16: =SUM(BB16:BF16) -> 0 | BM16: =SUM(BH16:BL16) -> 0 | BR16: =SUM(BN16:BQ16) -> 0 | BX16: =SUM(BS16:BW16) -> 0 | BZ16: 506.9 | CA16: =SUM(BY16:BZ16) -> 506.9 | CB16: =CA16+BX16+BR16+BM16+BG16 -> 506.9 | CF16: =SUM(CC16:CE16) -> 0 | CK16: =SUM(CG16:CJ16) -> 0 | CQ16: =SUM(CL16:CP16) -> 0 | CW16: =SUM(CR16:CV16) -> 0 | DB16: =SUM(CX16:DA16) -> 0 | DC16: =DB16+CW16+CQ16+CK16+CF16 -> 0 | DI16: =SUM(DD16:DH16) -> 0 | DN16: 273.8 | DO16: =SUM(DJ16:DN16) -> 273.8 | DU16: =SUM(DP16:DT16) -> 0 | EA16: =SUM(DV16:DZ16) -> 0 | EB16: =DI16+DO16+DU16+EA16 -> 273.8 | EH16: =SUM(EC16:EG16) -> 0 | EL16: 343.8 | EN16: =SUM(EI16:EM16) -> 343.8 | ET16: =SUM(EO16:ES16) -> 0 | FB16: =SUM(EU16:FA16) -> 0 | FC16: =EH16+EN16+ET16+FB16 -> 343.8 | FG16: =SUM(FD16:FF16) -> 0 | FM16: =SUM(FH16:FL16) -> 0 | FR16: =SUM(FN16:FQ16) -> 0 | FX16: =SUM(FS16:FW16) -> 0 | GD16: =SUM(FY16:GC16) -> 0 | GE16: =FG16+FM16+FR16+FX16+GD16 -> 0 | GK16: =SUM(GF16:GJ16) -> 0 | GP16: =SUM(GL16:GO16) -> 0 | GV16: =SUM(GQ16:GU16) -> 0 | GW16: 174.8 | HC16: =SUM(GW16:HB16) -> 174.8 | HD16: =GK16+GP16+GV16+HC16 -> 174.8 | HI16: =SUM(HE16:HH16) -> 0 | HO16: =SUM(HJ16:HN16) -> 0 | HU16: =SUM(HP16:HT16) -> 0 | HY16: =SUM(HV16:HX16) -> 0 | IC16: =SUM(HZ16:IB16) -> 0 | ID16: =HI16+HO16+HU16+HY16+IC16 -> 0 | IG16: =SUM(IE16:IF16) -> 0 | IM16: =SUM(IH16:IL16) -> 0 | IQ16: =SUM(IN16:IP16) -> 0 | IW16: =SUM(IR16:IV16) -> 0 | JC16: =SUM(IX16:JB16) -> 0 | JD16: =IG16+IM16+IQ16+IW16+JC16 -> 0 | JI16: 421.1 | JJ16: =SUM(JE16:JI16) -> 421.1 | JP16: =SUM(JK16:JO16) -> 0 | JV16: =SUM(JQ16:JU16) -> 0 | KC16: =SUM(JW16:KB16) -> 0 | KD16: =JJ16+JP16+JV16+KC16 -> 421.1 | KJ16: =SUM(KE16:KI16) -> 0 | KP16: =SUM(KK16:KO16) -> 0 | KV16: =SUM(KQ16:KU16) -> 0 | LB16: =SUM(KW16:LA16) -> 0 | LF16: =SUM(LC16:LE16) -> 0 | LG16: =LF16+LB16+KV16+KP16+KJ16 -> 0
B17: Sonede | D17: =SUM(C17:C17) -> 0 | J17: =SUM(E17:I17) -> 0 | O17: =SUM(K17:N17) -> 0 | U17: =SUM(P17:T17) -> 0 | AA17: =SUM(V17:Z17) -> 0 | AB17: =AA17+U17+O17+J17+D17 -> 0 | AH17: =SUM(AC17:AG17) -> 0 | AN17: =SUM(AI17:AM17) -> 0 | AT17: =SUM(AO17:AS17) -> 0 | AZ17: =SUM(AU17:AY17) -> 0 | BA17: =AZ17+AT17+AN17+AH17 -> 0 | BG17: =SUM(BB17:BF17) -> 0 | BM17: =SUM(BH17:BL17) -> 0 | BR17: =SUM(BN17:BQ17) -> 0 | BX17: =SUM(BS17:BW17) -> 0 | CA17: =SUM(BY17:BZ17) -> 0 | CB17: =CA17+BX17+BR17+BM17+BG17 -> 0 | CF17: =SUM(CC17:CE17) -> 0 | CK17: =SUM(CG17:CJ17) -> 0 | CQ17: =SUM(CL17:CP17) -> 0 | CW17: =SUM(CR17:CV17) -> 0 | DB17: =SUM(CX17:DA17) -> 0 | DC17: =DB17+CW17+CQ17+CK17+CF17 -> 0 | DI17: =SUM(DD17:DH17) -> 0 | DO17: =SUM(DJ17:DN17) -> 0 | DU17: =SUM(DP17:DT17) -> 0 | EA17: =SUM(DV17:DZ17) -> 0 | EB17: =DI17+DO17+DU17+EA17 -> 0 | EH17: =SUM(EC17:EG17) -> 0 | EN17: =SUM(EI17:EM17) -> 0 | ET17: =SUM(EO17:ES17) -> 0 | FB17: =SUM(EU17:FA17) -> 0 | FC17: =EH17+EN17+ET17+FB17 -> 0 | FG17: =SUM(FD17:FF17) -> 0 | FM17: =SUM(FH17:FL17) -> 0 | FR17: =SUM(FN17:FQ17) -> 0 | FX17: =SUM(FS17:FW17) -> 0 | GD17: =SUM(FY17:GC17) -> 0 | GE17: =FG17+FM17+FR17+FX17+GD17 -> 0 | GK17: =SUM(GF17:GJ17) -> 0 | GP17: =SUM(GL17:GO17) -> 0 | GV17: =SUM(GQ17:GU17) -> 0 | HC17: =SUM(GW17:HB17) -> 0 | HD17: =GK17+GP17+GV17+HC17 -> 0 | HI17: =SUM(HE17:HH17) -> 0 | HO17: =SUM(HJ17:HN17) -> 0 | HU17: =SUM(HP17:HT17) -> 0 | HY17: =SUM(HV17:HX17) -> 0 | IC17: =SUM(HZ17:IB17) -> 0 | ID17: =HI17+HO17+HU17+HY17+IC17 -> 0 | IG17: =SUM(IE17:IF17) -> 0 | IM17: =SUM(IH17:IL17) -> 0 | IQ17: =SUM(IN17:IP17) -> 0 | IW17: =SUM(IR17:IV17) -> 0 | JC17: =SUM(IX17:JB17) -> 0 | JD17: =IG17+IM17+IQ17+IW17+JC17 -> 0 | JJ17: =SUM(JE17:JI17) -> 0 | JP17: =SUM(JK17:JO17) -> 0 | JV17: =SUM(JQ17:JU17) -> 0 | KC17: =SUM(JW17:KB17) -> 0 | KD17: =JJ17+JP17+JV17+KC17 -> 0 | KJ17: =SUM(KE17:KI17) -> 0 | KP17: =SUM(KK17:KO17) -> 0 | KV17: =SUM(KQ17:KU17) -> 0 | LB17: =SUM(KW17:LA17) -> 0 | LF17: =SUM(LC17:LE17) -> 0 | LG17: =LF17+LB17+KV17+KP17+KJ17 -> 0
B18: Frais Recouvrement | D18: =SUM(C18:C18) -> 0 | J18: =SUM(E18:I18) -> 0 | O18: =SUM(K18:N18) -> 0 | U18: =SUM(P18:T18) -> 0 | AA18: =SUM(V18:Z18) -> 0 | AB18: =AA18+U18+O18+J18+D18 -> 0 | AH18: =SUM(AC18:AG18) -> 0 | AJ18: =671.2+285.6 -> 956.8 | AM18: 307.3 | AN18: =SUM(AI18:AM18) -> 1264.1 | AT18: =SUM(AO18:AS18) -> 0 | AZ18: =SUM(AU18:AY18) -> 0 | BA18: =AZ18+AT18+AN18+AH18 -> 1264.1 | BG18: =SUM(BB18:BF18) -> 0 | BM18: =SUM(BH18:BL18) -> 0 | BR18: =SUM(BN18:BQ18) -> 0 | BW18: 354.5 | BX18: =SUM(BS18:BW18) -> 354.5 | CA18: =SUM(BY18:BZ18) -> 0 | CB18: =CA18+BX18+BR18+BM18+BG18 -> 354.5 | CF18: =SUM(CC18:CE18) -> 0 | CG18: 195.98 | CK18: =SUM(CG18:CJ18) -> 195.98 | CQ18: =SUM(CL18:CP18) -> 0 | CW18: =SUM(CR18:CV18) -> 0 | DB18: =SUM(CX18:DA18) -> 0 | DC18: =DB18+CW18+CQ18+CK18+CF18 -> 195.98 | DH18: 354.5 | DI18: =SUM(DD18:DH18) -> 354.5 | DO18: =SUM(DJ18:DN18) -> 0 | DS18: 87.96 | DU18: =SUM(DP18:DT18) -> 87.96 | EA18: =SUM(DV18:DZ18) -> 0 | EB18: =DI18+DO18+DU18+EA18 -> 442.46 | ED18: 283.7 | EH18: =SUM(EC18:EG18) -> 283.7 | EN18: =SUM(EI18:EM18) -> 0 | ET18: =SUM(EO18:ES18) -> 0 | FA18: 354.5 | FB18: =SUM(EU18:FA18) -> 354.5 | FC18: =EH18+EN18+ET18+FB18 -> 638.2 | FG18: =SUM(FD18:FF18) -> 0 | FM18: =SUM(FH18:FL18) -> 0 | FR18: =SUM(FN18:FQ18) -> 0 | FX18: =SUM(FS18:FW18) -> 0 | GD18: =SUM(FY18:GC18) -> 0 | GE18: =FG18+FM18+FR18+FX18+GD18 -> 0 | GK18: =SUM(GF18:GJ18) -> 0 | GP18: =SUM(GL18:GO18) -> 0 | GV18: =SUM(GQ18:GU18) -> 0 | HC18: =SUM(GW18:HB18) -> 0 | HD18: =GK18+GP18+GV18+HC18 -> 0 | HI18: =SUM(HE18:HH18) -> 0 | HN18: 566.9 | HO18: =SUM(HJ18:HN18) -> 566.9 | HU18: =SUM(HP18:HT18) -> 0 | HY18: =SUM(HV18:HX18) -> 0 | IC18: =SUM(HZ18:IB18) -> 0 | ID18: =HI18+HO18+HU18+HY18+IC18 -> 566.9 | IG18: =SUM(IE18:IF18) -> 0 | IM18: =SUM(IH18:IL18) -> 0 | IQ18: =SUM(IN18:IP18) -> 0 | IW18: =SUM(IR18:IV18) -> 0 | JC18: =SUM(IX18:JB18) -> 0 | JD18: =IG18+IM18+IQ18+IW18+JC18 -> 0 | JE18: 236.5 | JJ18: =SUM(JE18:JI18) -> 236.5 | JP18: =SUM(JK18:JO18) -> 0 | JV18: =SUM(JQ18:JU18) -> 0 | KC18: =SUM(JW18:KB18) -> 0 | KD18: =JJ18+JP18+JV18+KC18 -> 236.5 | KJ18: =SUM(KE18:KI18) -> 0 | KP18: =SUM(KK18:KO18) -> 0 | KV18: =SUM(KQ18:KU18) -> 0 | LB18: =SUM(KW18:LA18) -> 0 | LF18: =SUM(LC18:LE18) -> 0 | LG18: =LF18+LB18+KV18+KP18+KJ18 -> 0
B19: Telecommunication | C19: 647.75 | D19: =SUM(C19:C19) -> 647.75 | J19: =SUM(E19:I19) -> 0 | O19: =SUM(K19:N19) -> 0 | U19: =SUM(P19:T19) -> 0 | AA19: =SUM(V19:Z19) -> 0 | AB19: =AA19+U19+O19+J19+D19 -> 647.75 | AE19: 291.258 | AH19: =SUM(AC19:AG19) -> 291.258 | AN19: =SUM(AI19:AM19) -> 0 | AT19: =SUM(AO19:AS19) -> 0 | AZ19: =SUM(AU19:AY19) -> 0 | BA19: =AZ19+AT19+AN19+AH19 -> 291.258 | BD19: 652.3 | BF19: 286.345 | BG19: =SUM(BB19:BF19) -> 938.645 | BM19: =SUM(BH19:BL19) -> 0 | BR19: =SUM(BN19:BQ19) -> 0 | BX19: =SUM(BS19:BW19) -> 0 | BZ19: 647.625 | CA19: =SUM(BY19:BZ19) -> 647.625 | CB19: =CA19+BX19+BR19+BM19+BG19 -> 1586.27 | CF19: =SUM(CC19:CE19) -> 0 | CK19: =SUM(CG19:CJ19) -> 0 | CQ19: =SUM(CL19:CP19) -> 0 | CW19: =SUM(CR19:CV19) -> 0 | CX19: 647.765 | DB19: =SUM(CX19:DA19) -> 647.765 | DC19: =DB19+CW19+CQ19+CK19+CF19 -> 647.765 | DI19: =SUM(DD19:DH19) -> 0 | DM19: 546.16 | DO19: =SUM(DJ19:DN19) -> 546.16 | DU19: =SUM(DP19:DT19) -> 0 | DW19: 647.625 | EA19: =SUM(DV19:DZ19) -> 647.625 | EB19: =DI19+DO19+DU19+EA19 -> 1193.785 | EH19: =SUM(EC19:EG19) -> 0 | EN19: =SUM(EI19:EM19) -> 0 | ET19: =SUM(EO19:ES19) -> 0 | FB19: =SUM(EU19:FA19) -> 0 | FC19: =EH19+EN19+ET19+FB19 -> 0 | FG19: =SUM(FD19:FF19) -> 0 | FM19: =SUM(FH19:FL19) -> 0 | FO19: 652.861 | FR19: =SUM(FN19:FQ19) -> 652.861 | FX19: =SUM(FS19:FW19) -> 0 | GD19: =SUM(FY19:GC19) -> 0 | GE19: =FG19+FM19+FR19+FX19+GD19 -> 652.861 | GK19: =SUM(GF19:GJ19) -> 0 | GP19: =SUM(GL19:GO19) -> 0 | GR19: 25 | GV19: =SUM(GQ19:GU19) -> 25 | GW19: 329.955 | GX19: 656.975 | HC19: =SUM(GW19:HB19) -> 986.93 | HD19: =GK19+GP19+GV19+HC19 -> 1011.93 | HI19: =SUM(HE19:HH19) -> 0 | HL19: 310.35 | HO19: =SUM(HJ19:HN19) -> 310.35 | HU19: =SUM(HP19:HT19) -> 0 | HY19: =SUM(HV19:HX19) -> 0 | IC19: =SUM(HZ19:IB19) -> 0 | ID19: =HI19+HO19+HU19+HY19+IC19 -> 310.35 | IG19: =SUM(IE19:IF19) -> 0 | II19: 25 | IM19: =SUM(IH19:IL19) -> 25 | IQ19: =SUM(IN19:IP19) -> 0 | IW19: =SUM(IR19:IV19) -> 0 | JC19: =SUM(IX19:JB19) -> 0 | JD19: =IG19+IM19+IQ19+IW19+JC19 -> 25 | JJ19: =SUM(JE19:JI19) -> 0 | JP19: =SUM(JK19:JO19) -> 0 | JV19: =SUM(JQ19:JU19) -> 0 | KC19: =SUM(JW19:KB19) -> 0 | KD19: =JJ19+JP19+JV19+KC19 -> 0 | KJ19: =SUM(KE19:KI19) -> 0 | KP19: =SUM(KK19:KO19) -> 0 | KV19: =SUM(KQ19:KU19) -> 0 | LB19: =SUM(KW19:LA19) -> 0 | LF19: =SUM(LC19:LE19) -> 0 | LG19: =LF19+LB19+KV19+KP19+KJ19 -> 0
B20: Compagne Marketing | D20: =SUM(C20:C20) -> 0 | J20: =SUM(E20:I20) -> 0 | O20: =SUM(K20:N20) -> 0 | U20: =SUM(P20:T20) -> 0 | V20: 7261.283 | Y20: 11736.396 | AA20: =SUM(V20:Z20) -> 18997.679 | AB20: =AA20+U20+O20+J20+D20 -> 18997.679 | AH20: =SUM(AC20:AG20) -> 0 | AN20: =SUM(AI20:AM20) -> 0 | AP20: 1302.17 | AS20: 1585.289 | AT20: =SUM(AO20:AS20) -> 2887.459 | AZ20: =SUM(AU20:AY20) -> 0 | BA20: =AZ20+AT20+AN20+AH20 -> 2887.459 | BC20: 14775 | BG20: =SUM(BB20:BF20) -> 14775 | BH20: 849.85 | BM20: =SUM(BH20:BL20) -> 849.85 | BO20: 13295.723 | BR20: =SUM(BN20:BQ20) -> 13295.723 | BX20: =SUM(BS20:BW20) -> 0 | CA20: =SUM(BY20:BZ20) -> 0 | CB20: =CA20+BX20+BR20+BM20+BG20 -> 28920.573 | CF20: =SUM(CC20:CE20) -> 0 | CJ20: =6759.585+2567.907 -> 9327.492 | CK20: =SUM(CG20:CJ20) -> 9327.492 | CL20: 824.355 | CO20: =427.466+649.5 -> 1076.966 | CQ20: =SUM(CL20:CP20) -> 1901.321 | CW20: =SUM(CR20:CV20) -> 0 | DB20: =SUM(CX20:DA20) -> 0 | DC20: =DB20+CW20+CQ20+CK20+CF20 -> 11228.813 | DD20: 1302.17 | DI20: =SUM(DD20:DH20) -> 1302.17 | DL20: 1853.573 | DO20: =SUM(DJ20:DN20) -> 1853.573 | DU20: =SUM(DP20:DT20) -> 0 | DZ20: =909.145+955.364 -> 1864.509 | EA20: =SUM(DV20:DZ20) -> 1864.509 | EB20: =DI20+DO20+DU20+EA20 -> 5020.252 | ED20: 3086.005 | EH20: =SUM(EC20:EG20) -> 3086.005 | EN20: =SUM(EI20:EM20) -> 0 | ET20: =SUM(EO20:ES20) -> 0 | FB20: =SUM(EU20:FA20) -> 0 | FC20: =EH20+EN20+ET20+FB20 -> 3086.005 | FE20: 4925 | FF20: 1627.614 | FG20: =SUM(FD20:FF20) -> 6552.614 | FM20: =SUM(FH20:FL20) -> 0 | FP20: 4925 | FR20: =SUM(FN20:FQ20) -> 4925 | FX20: =SUM(FS20:FW20) -> 0 | FZ20: 13467.464 | GD20: =SUM(FY20:GC20) -> 13467.464 | GE20: =FG20+FM20+FR20+FX20+GD20 -> 24945.078 | GG20: 2955 | GI20: 472.5 | GK20: =SUM(GF20:GJ20) -> 3427.5 | GO20: 12343.922 | GP20: =SUM(GL20:GO20) -> 12343.922 | GV20: =SUM(GQ20:GU20) -> 0 | HC20: =SUM(GW20:HB20) -> 0 | HD20: =GK20+GP20+GV20+HC20 -> 15771.422 | HI20: =SUM(HE20:HH20) -> 0 | HJ20: =2836.8+236.5+3299.5 -> 6372.8 | HN20: 2465.731 | HO20: =SUM(HJ20:HN20) -> 8838.531 | HQ20: 850.015 | HR20: =3250.447+2941.525 -> 6191.972 | HU20: =SUM(HP20:HT20) -> 7041.987 | HY20: =SUM(HV20:HX20) -> 0 | IB20: 2836.406 | IC20: =SUM(HZ20:IB20) -> 2836.406 | ID20: =HI20+HO20+HU20+HY20+IC20 -> 18716.924 | IG20: =SUM(IE20:IF20) -> 0 | II20: 5000.5 | IM20: =SUM(IH20:IL20) -> 5000.5 | IO20: 11474.29 | IQ20: =SUM(IN20:IP20) -> 11474.29 | IW20: =SUM(IR20:IV20) -> 0 | JC20: =SUM(IX20:JB20) -> 0 | JD20: =IG20+IM20+IQ20+IW20+JC20 -> 16474.79 | JI20: 5000.5 | JJ20: =SUM(JE20:JI20) -> 5000.5 | JP20: =SUM(JK20:JO20) -> 0 | JV20: =SUM(JQ20:JU20) -> 0 | KC20: =SUM(JW20:KB20) -> 0 | KD20: =JJ20+JP20+JV20+KC20 -> 5000.5 | KJ20: =SUM(KE20:KI20) -> 0 | KP20: =SUM(KK20:KO20) -> 0 | KV20: =SUM(KQ20:KU20) -> 0 | LB20: =SUM(KW20:LA20) -> 0 | LF20: =SUM(LC20:LE20) -> 0 | LG20: =LF20+LB20+KV20+KP20+KJ20 -> 0
B21: Salaire | D21: =SUM(C21:C21) -> 0 | J21: =SUM(E21:I21) -> 0 | O21: =SUM(K21:N21) -> 0 | T21: 417.69 | U21: =SUM(P21:T21) -> 417.69 | W21: 1387.68 | Z21: 27577.734 | AA21: =SUM(V21:Z21) -> 28965.414 | AB21: =AA21+U21+O21+J21+D21 -> 29383.104 | AG21: 539.414 | AH21: =SUM(AC21:AG21) -> 539.414 | AN21: =SUM(AI21:AM21) -> 0 | AT21: =SUM(AO21:AS21) -> 0 | AZ21: =SUM(AU21:AY21) -> 0 | BA21: =AZ21+AT21+AN21+AH21 -> 539.414 | BB21: 30683.366 | BG21: =SUM(BB21:BF21) -> 30683.366 | BM21: =SUM(BH21:BL21) -> 0 | BR21: =SUM(BN21:BQ21) -> 0 | BV21: 412.45 | BX21: =SUM(BS21:BW21) -> 412.45 | BZ21: 28049.672 | CA21: =SUM(BY21:BZ21) -> 28049.672 | CB21: =CA21+BX21+BR21+BM21+BG21 -> 59145.488 | CF21: =SUM(CC21:CE21) -> 0 | CK21: =SUM(CG21:CJ21) -> 0 | CQ21: =SUM(CL21:CP21) -> 0 | CR21: 1200 | CW21: =SUM(CR21:CV21) -> 1200 | DA21: 28014.432 | DB21: =SUM(CX21:DA21) -> 28014.432 | DC21: =DB21+CW21+CQ21+CK21+CF21 -> 29214.432 | DI21: =SUM(DD21:DH21) -> 0 | DO21: =SUM(DJ21:DN21) -> 0 | DU21: =SUM(DP21:DT21) -> 0 | EA21: =SUM(DV21:DZ21) -> 0 | EB21: =DI21+DO21+DU21+EA21 -> 0 | EC21: 26873.598 | EH21: =SUM(EC21:EG21) -> 26873.598 | EI21: 1000 | EN21: =SUM(EI21:EM21) -> 1000 | ES21: 500 | ET21: =SUM(EO21:ES21) -> 500 | FB21: =SUM(EU21:FA21) -> 0 | FC21: =EH21+EN21+ET21+FB21 -> 28373.598 | FD21: 26724.19 | FG21: =SUM(FD21:FF21) -> 26724.19 | FL21: 2400 | FM21: =SUM(FH21:FL21) -> 2400 | FP21: 500 | FR21: =SUM(FN21:FQ21) -> 500 | FX21: =SUM(FS21:FW21) -> 0 | GC21: 26915.532 | GD21: =SUM(FY21:GC21) -> 26915.532 | GE21: =FG21+FM21+FR21+FX21+GD21 -> 56539.722 | GJ21: 1000 | GK21: =SUM(GF21:GJ21) -> 1000 | GP21: =SUM(GL21:GO21) -> 0 | GV21: =SUM(GQ21:GU21) -> 0 | HB21: 26755.031 | HC21: =SUM(GW21:HB21) -> 26755.031 | HD21: =GK21+GP21+GV21+HC21 -> 27755.031 | HI21: =SUM(HE21:HH21) -> 0 | HO21: =SUM(HJ21:HN21) -> 0 | HQ21: 5400 | HU21: =SUM(HP21:HT21) -> 5400 | HY21: =SUM(HV21:HX21) -> 0 | IB21: 26124.032 | IC21: =SUM(HZ21:IB21) -> 26124.032 | ID21: =HI21+HO21+HU21+HY21+IC21 -> 31524.032 | IG21: =SUM(IE21:IF21) -> 0 | IK21: 1000 | IM21: =SUM(IH21:IL21) -> 1000 | IQ21: =SUM(IN21:IP21) -> 0 | IU21: 300 | IW21: =SUM(IR21:IV21) -> 300 | JB21: 26385.85 | JC21: =SUM(IX21:JB21) -> 26385.85 | JD21: =IG21+IM21+IQ21+IW21+JC21 -> 27685.85 | JJ21: =SUM(JE21:JI21) -> 0 | JP21: =SUM(JK21:JO21) -> 0 | JV21: =SUM(JQ21:JU21) -> 0 | KC21: =SUM(JW21:KB21) -> 0 | KD21: =JJ21+JP21+JV21+KC21 -> 0 | KJ21: =SUM(KE21:KI21) -> 0 | KP21: =SUM(KK21:KO21) -> 0 | KV21: =SUM(KQ21:KU21) -> 0 | LB21: =SUM(KW21:LA21) -> 0 | LF21: =SUM(LC21:LE21) -> 0 | LG21: 29000
B22: Avance | D22: =SUM(C22:C22) -> 0 | J22: =SUM(E22:I22) -> 0 | N22: 550 | O22: =SUM(K22:N22) -> 550 | U22: =SUM(P22:T22) -> 0 | AA22: =SUM(V22:Z22) -> 0 | AB22: =AA22+U22+O22+J22+D22 -> 550 | AH22: =SUM(AC22:AG22) -> 0 | AN22: =SUM(AI22:AM22) -> 0 | AO22: =150+350 -> 500 | AT22: =SUM(AO22:AS22) -> 500 | AZ22: =SUM(AU22:AY22) -> 0 | BA22: =AZ22+AT22+AN22+AH22 -> 500 | BG22: =SUM(BB22:BF22) -> 0 | BM22: =SUM(BH22:BL22) -> 0 | BO22: 350 | BR22: =SUM(BN22:BQ22) -> 350 | BX22: =SUM(BS22:BW22) -> 0 | CA22: =SUM(BY22:BZ22) -> 0 | CB22: =CA22+BX22+BR22+BM22+BG22 -> 350 | CF22: =SUM(CC22:CE22) -> 0 | CK22: =SUM(CG22:CJ22) -> 0 | CN22: 300 | CQ22: =SUM(CL22:CP22) -> 300 | CW22: =SUM(CR22:CV22) -> 0 | DB22: =SUM(CX22:DA22) -> 0 | DC22: =DB22+CW22+CQ22+CK22+CF22 -> 300 | DI22: =SUM(DD22:DH22) -> 0 | DO22: =SUM(DJ22:DN22) -> 0 | DP22: 550 | DS22: 150 | DU22: =SUM(DP22:DT22) -> 700 | EA22: =SUM(DV22:DZ22) -> 0 | EB22: =DI22+DO22+DU22+EA22 -> 700 | EH22: =SUM(EC22:EG22) -> 0 | EN22: =SUM(EI22:EM22) -> 0 | EO22: 750 | ES22: 100 | ET22: =SUM(EO22:ES22) -> 850 | FB22: =SUM(EU22:FA22) -> 0 | FC22: =EH22+EN22+ET22+FB22 -> 850 | FG22: =SUM(FD22:FF22) -> 0 | FM22: =SUM(FH22:FL22) -> 0 | FP22: 1000 | FR22: =SUM(FN22:FQ22) -> 1000 | FX22: =SUM(FS22:FW22) -> 0 | GD22: =SUM(FY22:GC22) -> 0 | GE22: =FG22+FM22+FR22+FX22+GD22 -> 1000 | GK22: =SUM(GF22:GJ22) -> 0 | GP22: =SUM(GL22:GO22) -> 0 | GQ22: 450 | GV22: =SUM(GQ22:GU22) -> 450 | HC22: =SUM(GW22:HB22) -> 0 | HD22: =GK22+GP22+GV22+HC22 -> 450 | HI22: =SUM(HE22:HH22) -> 0 | HO22: =SUM(HJ22:HN22) -> 0 | HQ22: 450 | HU22: =SUM(HP22:HT22) -> 450 | HY22: =SUM(HV22:HX22) -> 0 | IC22: =SUM(HZ22:IB22) -> 0 | ID22: =HI22+HO22+HU22+HY22+IC22 -> 450 | IG22: =SUM(IE22:IF22) -> 0 | IM22: =SUM(IH22:IL22) -> 0 | IP22: 250 | IQ22: =SUM(IN22:IP22) -> 250 | IW22: =SUM(IR22:IV22) -> 0 | JC22: =SUM(IX22:JB22) -> 0 | JD22: =IG22+IM22+IQ22+IW22+JC22 -> 250 | JJ22: =SUM(JE22:JI22) -> 0 | JP22: =SUM(JK22:JO22) -> 0 | JV22: =SUM(JQ22:JU22) -> 0 | KC22: =SUM(JW22:KB22) -> 0 | KD22: =JJ22+JP22+JV22+KC22 -> 0 | LG22: =LF22+LB22+KV22+KP22+KJ22 -> 0
B23: Prime | D23: =SUM(C23:C23) -> 0 | I23: =1470.312+16482.858 -> 17953.17 | J23: =SUM(E23:I23) -> 17953.17 | O23: =SUM(K23:N23) -> 0 | U23: =SUM(P23:T23) -> 0 | AA23: =SUM(V23:Z23) -> 0 | AB23: =AA23+U23+O23+J23+D23 -> 17953.17 | AH23: =SUM(AC23:AG23) -> 0 | AN23: =SUM(AI23:AM23) -> 0 | AT23: =SUM(AO23:AS23) -> 0 | AZ23: =SUM(AU23:AY23) -> 0 | BA23: =AZ23+AT23+AN23+AH23 -> 0 | BG23: =SUM(BB23:BF23) -> 0 | BM23: =SUM(BH23:BL23) -> 0 | BR23: =SUM(BN23:BQ23) -> 0 | BX23: =SUM(BS23:BW23) -> 0 | CA23: =SUM(BY23:BZ23) -> 0 | CB23: =CA23+BX23+BR23+BM23+BG23 -> 0 | CF23: =SUM(CC23:CE23) -> 0 | CK23: =SUM(CG23:CJ23) -> 0 | CQ23: =SUM(CL23:CP23) -> 0 | CW23: =SUM(CR23:CV23) -> 0 | DB23: =SUM(CX23:DA23) -> 0 | DC23: =DB23+CW23+CQ23+CK23+CF23 -> 0 | DI23: =SUM(DD23:DH23) -> 0 | DO23: =SUM(DJ23:DN23) -> 0 | DU23: =SUM(DP23:DT23) -> 0 | EA23: =SUM(DV23:DZ23) -> 0 | EB23: =DI23+DO23+DU23+EA23 -> 0 | EH23: =SUM(EC23:EG23) -> 0 | EN23: =SUM(EI23:EM23) -> 0 | ET23: =SUM(EO23:ES23) -> 0 | FB23: =SUM(EU23:FA23) -> 0 | FC23: =EH23+EN23+ET23+FB23 -> 0 | FG23: =SUM(FD23:FF23) -> 0 | FM23: =SUM(FH23:FL23) -> 0 | FR23: =SUM(FN23:FQ23) -> 0 | FX23: =SUM(FS23:FW23) -> 0 | GD23: =SUM(FY23:GC23) -> 0 | GE23: =FG23+FM23+FR23+FX23+GD23 -> 0 | GK23: =SUM(GF23:GJ23) -> 0 | GP23: =SUM(GL23:GO23) -> 0 | GV23: =SUM(GQ23:GU23) -> 0 | HC23: =SUM(GW23:HB23) -> 0 | HD23: =GK23+GP23+GV23+HC23 -> 0 | HI23: =SUM(HE23:HH23) -> 0 | HM23: 638 | HO23: =SUM(HJ23:HN23) -> 638 | HQ23: 2590 | HU23: =SUM(HP23:HT23) -> 2590 | HY23: =SUM(HV23:HX23) -> 0 | IC23: =SUM(HZ23:IB23) -> 0 | ID23: =HI23+HO23+HU23+HY23+IC23 -> 3228 | IG23: =SUM(IE23:IF23) -> 0 | IM23: =SUM(IH23:IL23) -> 0 | IQ23: =SUM(IN23:IP23) -> 0 | IW23: =SUM(IR23:IV23) -> 0 | JC23: =SUM(IX23:JB23) -> 0 | JD23: =IG23+IM23+IQ23+IW23+JC23 -> 0 | JJ23: =SUM(JE23:JI23) -> 0 | JP23: =SUM(JK23:JO23) -> 0 | JV23: =SUM(JQ23:JU23) -> 0 | KC23: =SUM(JW23:KB23) -> 0 | KD23: =JJ23+JP23+JV23+KC23 -> 0 | LG23: =LF23+LB23+KV23+KP23+KJ23 -> 0
B24: Charge Social | D24: =SUM(C24:C24) -> 0 | J24: =SUM(E24:I24) -> 0 | O24: =SUM(K24:N24) -> 0 | R24: 37154.545 | S24: =142.303+550.7 -> 693.003 | U24: =SUM(P24:T24) -> 37847.548 | X24: 142.303 | AA24: =SUM(V24:Z24) -> 142.303 | AB24: =AA24+U24+O24+J24+D24 -> 37989.851 | AD24: =453.552+355.09+227.319 -> 1035.961 | AH24: =SUM(AC24:AG24) -> 1035.961 | AJ24: 116.682 | AN24: =SUM(AI24:AM24) -> 116.682 | AT24: =SUM(AO24:AS24) -> 0 | AZ24: =SUM(AU24:AY24) -> 0 | BA24: =AZ24+AT24+AN24+AH24 -> 1152.643 | BF24: 142.303 | BG24: =SUM(BB24:BF24) -> 142.303 | BM24: =SUM(BH24:BL24) -> 0 | BN24: 142.303 | BR24: =SUM(BN24:BQ24) -> 142.303 | BX24: =SUM(BS24:BW24) -> 0 | CA24: =SUM(BY24:BZ24) -> 0 | CB24: =CA24+BX24+BR24+BM24+BG24 -> 284.606 | CF24: =SUM(CC24:CE24) -> 0 | CK24: =SUM(CG24:CJ24) -> 0 | CN24: 142.303 | CO24: 31007.793 | CQ24: =SUM(CL24:CP24) -> 31150.096 | CW24: =SUM(CR24:CV24) -> 0 | DB24: =SUM(CX24:DA24) -> 0 | DC24: =DB24+CW24+CQ24+CK24+CF24 -> 31150.096 | DI24: =SUM(DD24:DH24) -> 0 | DN24: 142.303 | DO24: =SUM(DJ24:DN24) -> 142.303 | DU24: =SUM(DP24:DT24) -> 0 | EA24: =SUM(DV24:DZ24) -> 0 | EB24: =DI24+DO24+DU24+EA24 -> 142.303 | EH24: =SUM(EC24:EG24) -> 0 | EN24: =SUM(EI24:EM24) -> 0 | EQ24: 142.303 | ET24: =SUM(EO24:ES24) -> 142.303 | FB24: =SUM(EU24:FA24) -> 0 | FC24: =EH24+EN24+ET24+FB24 -> 142.303 | FG24: =SUM(FD24:FF24) -> 0 | FM24: =SUM(FH24:FL24) -> 0 | FR24: =SUM(FN24:FQ24) -> 0 | FU24: 142.303 | FV24: 29124.802 | FX24: =SUM(FS24:FW24) -> 29267.105 | GD24: =SUM(FY24:GC24) -> 0 | GE24: =FG24+FM24+FR24+FX24+GD24 -> 29267.105 | GK24: =SUM(GF24:GJ24) -> 0 | GP24: =SUM(GL24:GO24) -> 0 | GR24: 142.303 | GV24: =SUM(GQ24:GU24) -> 142.303 | HC24: =SUM(GW24:HB24) -> 0 | HD24: =GK24+GP24+GV24+HC24 -> 142.303 | HI24: =SUM(HE24:HH24) -> 0 | HO24: =SUM(HJ24:HN24) -> 0 | HS24: 142.303 | HU24: =SUM(HP24:HT24) -> 142.303 | HY24: =SUM(HV24:HX24) -> 0 | IC24: =SUM(HZ24:IB24) -> 0 | ID24: =HI24+HO24+HU24+HY24+IC24 -> 142.303 | IG24: =SUM(IE24:IF24) -> 0 | IM24: =SUM(IH24:IL24) -> 0 | IQ24: =SUM(IN24:IP24) -> 0 | IT24: 142.303 | IW24: =SUM(IR24:IV24) -> 142.303 | IZ24: 28419.39 | JC24: =SUM(IX24:JB24) -> 28419.39 | JD24: =IG24+IM24+IQ24+IW24+JC24 -> 28561.693 | JJ24: =SUM(JE24:JI24) -> 0 | JP24: =SUM(JK24:JO24) -> 0 | JV24: =SUM(JQ24:JU24) -> 0 | KC24: =SUM(JW24:KB24) -> 0 | KD24: =JJ24+JP24+JV24+KC24 -> 0 | KJ24: =SUM(KE24:KI24) -> 0 | KP24: =SUM(KK24:KO24) -> 0 | KV24: =SUM(KQ24:KU24) -> 0 | LB24: =SUM(KW24:LA24) -> 0 | LF24: =SUM(LC24:LE24) -> 0 | LG24: =LF24+LB24+KV24+KP24+KJ24 -> 0
B25: Loyer Agence | D25: =SUM(C25:C25) -> 0 | F25: 4800.003 | J25: =SUM(E25:I25) -> 4800.003 | K25: 2850 | O25: =SUM(K25:N25) -> 2850 | U25: =SUM(P25:T25) -> 0 | Z25: 240.001 | AA25: =SUM(V25:Z25) -> 240.001 | AB25: =AA25+U25+O25+J25+D25 -> 7890.004 | AH25: =SUM(AC25:AG25) -> 0 | AN25: =SUM(AI25:AM25) -> 0 | AT25: =SUM(AO25:AS25) -> 0 | AZ25: =SUM(AU25:AY25) -> 0 | BA25: =AZ25+AT25+AN25+AH25 -> 0 | BG25: =SUM(BB25:BF25) -> 0 | BL25: 2073.752 | BM25: =SUM(BH25:BL25) -> 2073.752 | BR25: =SUM(BN25:BQ25) -> 0 | BX25: =SUM(BS25:BW25) -> 0 | CA25: =SUM(BY25:BZ25) -> 0 | CB25: =CA25+BX25+BR25+BM25+BG25 -> 2073.752 | CF25: =SUM(CC25:CE25) -> 0 | CK25: =SUM(CG25:CJ25) -> 0 | CM25: 2850 | CQ25: =SUM(CL25:CP25) -> 2850 | CS25: 2233.454 | CW25: =SUM(CR25:CV25) -> 2233.454 | DB25: =SUM(CX25:DA25) -> 0 | DC25: =DB25+CW25+CQ25+CK25+CF25 -> 5083.454 | DI25: =SUM(DD25:DH25) -> 0 | DO25: =SUM(DJ25:DN25) -> 0 | DU25: =SUM(DP25:DT25) -> 0 | EA25: =SUM(DV25:DZ25) -> 0 | EB25: =DI25+DO25+DU25+EA25 -> 0 | EH25: =SUM(EC25:EG25) -> 0 | EN25: =SUM(EI25:EM25) -> 0 | ET25: =SUM(EO25:ES25) -> 0 | FB25: =SUM(EU25:FA25) -> 0 | FC25: =EH25+EN25+ET25+FB25 -> 0 | FF25: 2073.752 | FG25: =SUM(FD25:FF25) -> 2073.752 | FH25: 5040 | FM25: =SUM(FH25:FL25) -> 5040 | FN25: 2850 | FR25: =SUM(FN25:FQ25) -> 2850 | FX25: =SUM(FS25:FW25) -> 0 | GD25: =SUM(FY25:GC25) -> 0 | GE25: =FG25+FM25+FR25+FX25+GD25 -> 9963.752 | GK25: =SUM(GF25:GJ25) -> 0 | GP25: =SUM(GL25:GO25) -> 0 | GV25: =SUM(GQ25:GU25) -> 0 | HC25: =SUM(GW25:HB25) -> 0 | HD25: =GK25+GP25+GV25+HC25 -> 0 | HI25: =SUM(HE25:HH25) -> 0 | HO25: =SUM(HJ25:HN25) -> 0 | HU25: =SUM(HP25:HT25) -> 0 | HY25: =SUM(HV25:HX25) -> 0 | IC25: =SUM(HZ25:IB25) -> 0 | ID25: =HI25+HO25+HU25+HY25+IC25 -> 0 | IG25: =SUM(IE25:IF25) -> 0 | IM25: =SUM(IH25:IL25) -> 0 | IN25: 2992.499 | IQ25: =SUM(IN25:IP25) -> 2992.499 | IW25: =SUM(IR25:IV25) -> 0 | JC25: =SUM(IX25:JB25) -> 0 | JD25: =IG25+IM25+IQ25+IW25+JC25 -> 2992.499 | JJ25: =SUM(JE25:JI25) -> 0 | JP25: =SUM(JK25:JO25) -> 0 | JV25: =SUM(JQ25:JU25) -> 0 | KC25: =SUM(JW25:KB25) -> 0 | KD25: =JJ25+JP25+JV25+KC25 -> 0 | KJ25: =SUM(KE25:KI25) -> 0 | KP25: =SUM(KK25:KO25) -> 0 | KV25: =SUM(KQ25:KU25) -> 0 | LB25: =SUM(KW25:LA25) -> 0 | LF25: =SUM(LC25:LE25) -> 0 | LG25: =LF25+LB25+KV25+KP25+KJ25 -> 0
