Workbook

Sheet HAZEM
A1: SITUATION HAZEM 2019
A3: TOTAL CRASSE | C3: KG | D3: 0 | F3: 0 | G3: 0 | H3: 0
A4: TOTAL DECHET BATTERIE | C4: KG | D4: =SUM(D12:D27) -> 475623 | F4: =SUM(F12:F27) -> 907495.1 | G4: =SUM(G12:G27) -> 172424.07 | H4: =SUM(H12:H27) -> 1079928.8
A5: TOTAL ETAIN | C5: KG | D5: =+D28 -> 646 | F5: =+F28 -> 17765 | G5: =+G28 -> 3375.35 | H5: =+H28 -> 21140.35
A6: TOTAL INOX | C6: KG | D6: =+D29 -> 2557 | F6: =+F29 -> 25570 | G6: =+G29 -> 4858.3 | H6: =+H29 -> 30428.9
A7: TOTAL VIEUX PLOMB | C7: KG | D7: =SUM(D30:D52) -> 416055 | F7: =SUM(F30:F52) -> 1954161.1 | G7: =SUM(G30:G52) -> 371290.61 | H7: =SUM(H30:H52) -> 2325465.5
A8: TOTAL | F8: =SUM(F3:F7) -> 2904991.2 | G8: =SUM(G3:G7) -> 551948.33 | H8: =SUM(H3:H7) -> 3456963.5
A9: REGLEMENT RECU | H9: =3125154.018+H24+H25+H26+H28+H29+H27 -> 3456963.5
A10: RESTE A PAYER | H10: =+H8-H9 -> 0
A12: 43481 | B12: DECHET PLAQUES | C12: KG | D12: 33120 | E12: 1.8 | F12: =+D12*E12 -> 59616 | G12: =+F12*0.19 -> 11327.04 | H12: =+F12+G12+0.6 -> 70943.64
A13: 43494 | B13: DECHET PLAQUES | C13: KG | D13: 35360 | E13: 1.8 | F13: =+D13*E13 -> 63648 | G13: =+F13*0.19 -> 12093.12 | H13: =+F13+G13+0.6 -> 75741.72
A14: 43500 | B14: DECHET PLAQUES | C14: KG | D14: 37000 | E14: 1.8 | F14: =+D14*E14 -> 66600 | G14: =+F14*0.19 -> 12654 | H14: =+F14+G14+0.6 -> 79254.6
A15: 43503 | B15: DECHET PLAQUES | C15: KG | D15: 29765 | E15: 1.8 | F15: =+D15*E15 -> 53577 | G15: =+F15*0.19 -> 10179.63 | H15: =+F15+G15+0.6 -> 63757.23
A16: 43508 | B16: DECHET PLAQUES | C16: KG | D16: 18740 | E16: 1.8 | F16: =+D16*E16 -> 33732 | G16: =+F16*0.19 -> 6409.08 | H16: =+F16+G16+0.6 -> 40141.68
A17: 43515 | B17: DECHET PLAQUES | C17: KG | D17: 32181 | E17: 1.8 | F17: =+D17*E17 -> 57925.8 | G17: =+F17*0.19 -> 11005.902 | H17: =+F17+G17+0.6 -> 68932.302
A18: 43522 | B18: DECHET PLAQUES | C18: KG | D18: 36440 | E18: 1.9 | F18: =+D18*E18 -> 69236 | G18: =+F18*0.19 -> 13154.84 | H18: =+F18+G18+0.6 -> 82391.44
A19: 43536 | B19: DECHET PLAQUES | C19: KG | D19: 30263 | E19: 1.9 | F19: =+D19*E19 -> 57499.7 | G19: =+F19*0.19 -> 10924.943 | H19: =+F19+G19+0.6 -> 68425.243
A20: 43545 | B20: DECHET PLAQUES | C20: KG | D20: 31690 | E20: 1.9 | F20: =+D20*E20 -> 60211 | G20: =+F20*0.19 -> 11440.09 | H20: =+F20+G20+0.6 -> 71651.69
A21: 43556 | B21: DECHET PLAQUES | C21: KG | D21: 29600 | E21: 1.9 | F21: =+D21*E21 -> 56240 | G21: =+F21*0.19 -> 10685.6 | H21: =+F21+G21+0.6 -> 66926.2
A22: 43576 | B22: DECHET PLAQUES | C22: KG | D22: 21704 | E22: 1.9 | F22: =+D22*E22 -> 41237.6 | G22: =+F22*0.19 -> 7835.144 | H22: =+F22+G22+0.6 -> 49073.344
A23: 43616 | B23: DECHET PLAQUES | C23: KG | D23: 27620 | E23: 1.9 | F23: =+D23*E23 -> 52478 | G23: =+F23*0.19 -> 9970.82 | H23: =+F23+G23+0.6 -> 62449.42
... A27: 43720 | B27: DECHET PLAQUES | C27: KG | D27: 29240 | E27: 2.1 | F27: =+D27*E27 -> 61404 | G27: =+F27*0.19 -> 11666.76 | H27: =+F27+G27+0.6 -> 73071.36
A28: 43717 | B28: ETAIN | C28: KG | D28: 646 | E28: 27.5 | F28: =+D28*E28 -> 17765 | G28: =+F28*0.19 -> 3375.35 | H28: =+F28+G28 -> 21140.35
A29: 43727 | B29: INOX | C29: KG | D29: =2360+197 -> 2557 | E29: 10 | F29: =+D29*E29 -> 25570 | G29: =+F29*0.19 -> 4858.3 | H29: =+F29+G29+0.6 -> 30428.9
A30: 43498 | B30: PLOMB | C30: KG | D30: 23480 | E30: 4.7 | F30: =+D30*E30 -> 110356 | G30: =+F30*0.19 -> 20967.64 | H30: =+F30+G30+0.6 -> 131324.24
A31: 43500 | B31: PLOMB | C31: KG | D31: 27840 | E31: 4.7 | F31: =+D31*E31 -> 130848 | G31: =+F31*0.19 -> 24861.12 | H31: =+F31+G31+0.6 -> 155709.72
A32: 43503 | B32: PLOMB | C32: KG | D32: 7375 | E32: 4.7 | F32: =+D32*E32 -> 34662.5 | G32: =+F32*0.19 -> 6585.875 | H32: =+F32+G32+0.6 -> 41248.975
A33: 43515 | B33: PLOMB | C33: KG | D33: 26198 | E33: 4.7 | F33: =+D33*E33 -> 123130.6 | G33: =+F33*0.19 -> 23394.814 | H33: =+F33+G33+0.6 -> 146526.01
A34: 43518 | B34: PLOMB | C34: KG | D34: 23940 | E34: 4.7 | F34: =+D34*E34 -> 112518 | G34: =+F34*0.19 -> 21378.42 | H34: =+F34+G34+0.6 -> 133897.02
A35: 43515 | B35: PLOMB | C35: KG | D35: 3299 | E35: 4.5 | F35: =+D35*E35 -> 14845.5 | G35: =+F35*0.19 -> 2820.645 | H35: =+F35+G35+0.6 -> 17666.745
A36: 43536 | B36: PLOMB | C36: KG | D36: 3397 | E36: 4.7 | F36: =+D36*E36 -> 15965.9 | G36: =+F36*0.19 -> 3033.521 | H36: =+F36+G36+0.6 -> 19000.021
A37: 43540 | B37: PLOMB | C37: KG | D37: 25020 | E37: 4.7 | F37: =+D37*E37 -> 117594 | G37: =+F37*0.19 -> 22342.86 | H37: =+F37+G37+0.6 -> 139937.46
A38: 43542 | B38: PLOMB | C38: KG | D38: 27680 | E38: 4.7 | F38: =+D38*E38 -> 130096 | G38: =+F38*0.19 -> 24718.24 | H38: =+F38+G38+0.6 -> 154814.84
A39: 43543 | B39: PLOMB | C39: KG | D39: 26400 | E39: 4.7 | F39: =+D39*E39 -> 124080 | G39: =+F39*0.19 -> 23575.2 | H39: =+F39+G39+0.6 -> 147655.8
A40: 43545 | B40: PLOMB | C40: KG | D40: 1410 | E40: 4.7 | F40: =+D40*E40 -> 6627 | G40: =+F40*0.19 -> 1259.13 | H40: =+F40+G40+0.6 -> 7886.73
A41: 43546 | B41: PLOMB | C41: KG | D41: 14940 | E41: 4.7 | F41: =+D41*E41 -> 70218 | G41: =+F41*0.19 -> 13341.42 | H41: =+F41+G41+0.6 -> 83560.02
... A52: 43578 | B52: PLOMB | C52: KG | D52: 6376 | E52: 4.6 | F52: =+D52*E52 -> 29329.6 | G52: =+F52*0.19 -> 5572.624 | H52: =+F52+G52+0.6 -> 34902.824

Sheet SOTRAM
A1: SITUATION SOTRAM SNA 2019 | K1: SITUATION SOTRAM STA 2019
A3: TOTAL CRASSE | C3: KG | D3: 0 | F3: 0 | G3: 0 | H3: 0 | K3: TOTAL CRASSE | M3: KG | N3: 0 | P3: 0 | Q3: 0 | R3: 0
A4: TOTAL DECHET BATTERIE | C4: KG | D4: =SUM(D12:D25) -> 320351 | F4: =SUM(F12:F25) -> 624892.75 | G4: =SUM(G12:G25) -> 119916.92 | H4: =SUM(H12:H25) -> 751066.4 | K4: TOTAL DECHET BATTERIE | M4: KG | N4: =SUM(N11:N12) -> 24440 | P4: =SUM(P11:P12) -> 47658 | Q4: =SUM(Q11:Q12) -> 9145.5702 | R4: =SUM(P4:Q4) -> 56803.57
A5: TOTAL ETAIN | C5: KG | D5: 0 | F5: 0 | G5: 0 | H5: 0 | K5: TOTAL ETAIN | M5: KG | N5: 0 | P5: 0 | Q5: 0 | R5: 0
A6: TOTAL VIEUX PLOMB | C6: KG | F6: 0 | G6: 0 | H6: 0 | K6: TOTAL VIEUX PLOMB | M6: KG | P6: 0 | Q6: 0 | R6: 0
A7: TOTAL | F7: =SUM(F3:F6) -> 624892.75 | G7: =SUM(G3:G6) -> 119916.92 | H7: =SUM(H3:H6) -> 751066.4 | K7: TOTAL | P7: =SUM(P3:P6) -> 47658 | Q7: =SUM(Q3:Q6) -> 9145.5702 | R7: =SUM(R3:R6) -> 56803.57
A8: REGLEMENT RECU | H8: =+H12+H13+H14+H15+H16+H17+H18+H19+H20+H21+35000+45000 -> 682322.56 | K8: REGLEMENT RECU | R8: 56803.57
A9: AVANCE RECU | H9: 70000 | K9: RESTE A PAYER | R9: =+R7-R8 -> 0.0002
A10: RESTE A PAYER | H10: =+H7-H8-H9 -> -1256.1641
K11: 43605 | L11: DECHET BATTERIE | M11: kg | N11: 24440 | O11: 1.95 | P11: =N11*O11 -> 47658 | Q11: =P11*1.01*0.19 -> 9145.5702 | R11: =P11*1.01+Q11+0.6 -> 57280.75
A12: 43472 | B12: DECHET BATTERIE | C12: kg | D12: 38260 | E12: 1.8 | F12: =D12*E12 -> 68868 | G12: =F12*1.01*0.19 -> 13215.769 | H12: =F12*1.01+G12+0.6 -> 82773.049
A13: 43481 | B13: DECHET BATTERIE | C13: kg | D13: 36640 | E13: 1.8 | F13: =D13*E13 -> 65952 | G13: =F13*1.01*0.19 -> 12656.189 | H13: =F13*1.01+G13+0.6 -> 79268.309
A14: 43500 | B14: DECHET BATTERIE | C14: kg | D14: 34520 | E14: 1.8 | F14: =D14*E14 -> 62136 | G14: =F14*1.01*0.19 -> 11923.898 | H14: =F14*1.01+G14+0.6 -> 74681.858
A15: 43524 | B15: DECHET BATTERIE | C15: kg | D15: 25680 | E15: 1.9 | F15: =D15*E15 -> 48792 | G15: =F15*1.01*0.19 -> 9363.1848 | H15: =F15*1.01+G15+0.6 -> 58643.705
A16: 43529 | B16: DECHET BATTERIE | C16: kg | D16: 30200 | E16: 1.9 | F16: =D16*E16 -> 57380 | G16: =F16*1.01*0.19 -> 11011.222 | H16: =F16*1.01+G16+0.6 -> 68965.622
A17: 43553 | B17: DECHET BATTERIE | C17: kg | D17: 30420 | E17: 1.9 | F17: =D17*E17 -> 57798 | G17: =F17*1.01*0.19 -> 11091.436 | H17: =F17*1.01+G17+0.6 -> 69468.016
A18: 43577 | B18: DECHET BATTERIE | C18: kg | D18: 33220 | E18: 1.95 | F18: =D18*E18 -> 64779 | G18: =F18*1.01*0.19 -> 12431.09 | H18: =F18*1.01+G18+0.6 -> 77858.48
A19: 43693 | B19: DECHET BATTERIE | C19: kg | D19: 500 | E19: 2.1 | F19: =D19*E19 -> 1050 | G19: =F19*1.01*0.19 -> 201.495 | H19: =F19*1.01+G19+0.6 -> 1262.595
A20: 43717 | B20: DECHET BATTERIE | C20: kg | D20: 15600 | E20: 2.1 | F20: =D20*E20 -> 32760 | G20: =F20*1.01*0.19 -> 6286.644 | H20: =F20*1.01+G20+0.6 -> 39374.844
A21: 43724 | B21: DECHET BATTERIE | C21: kg | D21: 19820 | E21: 2.1 | F21: =D21*E21 -> 41622 | G21: =F21*1.01*0.19 -> 7987.2618 | H21: =F21*1.01+G21+0.6 -> 50026.082
A22: 43798 | B22: DECHET BATTERIE | C22: kg | D22: 21980 | E22: 2.2 | F22: =D22*E22 -> 48356 | G22: =F22*1.01*0.19 -> 9279.5164 | H22: =F22*1.01+G22+0.6 -> 58119.676
A23: 43809 | B23: DECHET BATTERIE | C23: kg | D23: 26940 | E23: 2.25 | F23: =D23*E23 -> 60615 | G23: =F23*1.01*0.19 -> 11632.019 | H23: =F23*1.01+G23+0.6 -> 72853.769
A24: 43819 | B24: DECHET BATTERIE | C24: kg | D24: 6571 | E24: 2.25 | F24: =D24*E24 -> 14784.75 | G24: =F24*1.01*0.19 -> 2837.1935 | H24: =F24*1.01+G24+0.6 -> 17770.391
A29: SITUATION SOTRAM FONDERIE 2019
A31: TOTAL CRASSE | C31: KG | D31: 0 | F31: 0 | G31: 0 | H31: 0
A32: TOTAL DECHET BATTERIE | C32: KG | D32: =SUM(D43:D45) -> 31680 | F32: =SUM(F43:F45) -> 62982 | G32: =SUM(G43:G45) -> 0 | H32: =SUM(F32:G32) -> 62982
A33: TOTAL ETAIN | C33: KG | D33: 0 | F33: 0 | G33: 0 | H33: 0
A34: TOTAL VIEUX PLOMB | C34: KG | F34: 0 | G34: 0 | H34: 0
A35: TOTAL | F35: =SUM(F31:F34) -> 62982 | G35: =SUM(G31:G34) -> 0 | H35: =SUM(H31:H34) -> 62982
A36: REGLEMENT RECU | H36: =H46+H47 -> -104409.65
A37: TVA A REMBOURSER | H37: =+G46+G47 -> 16670.257
A38: FODEC A REMBOURSER | H38: =(F46+F47)*1% -> 868.695
A39: RS A REMBOURSER | H39: =-(H46+H47)*1.5% -> 1566.1448
A40: MONTANT RECU | H40: 20000
A41: RESTE A PAYER | H41: =SUM(H35:H40) -> -2322.5552
A43: 43643 | B43: DECHET BATTERIE | C43: kg | D43: 10660 | E43: 1.95 | F43: =D43*E43 -> 20787
A44: 43656 | B44: DECHET BATTERIE | C44: kg | D44: 12980 | E44: 1.95 | F44: =D44*E44 -> 25311
A45: 43693 | B45: DECHET BATTERIE | C45: kg | D45: 8040 | E45: 2.1 | F45: =D45*E45 -> 16884
B46: REGLEMENT RECU | C46: kg | D46: 29720 | E46: 1.45 | F46: =D46*E46 -> 43094 | G46: =F46*1.01*0.19 -> 8269.7386 | H46: =-(F46*1.01+G46+0.6) -> -51795.279
B47: REGLEMENT RECU | C47: kg | D47: 30190 | E47: 1.45 | F47: =D47*E47 -> 43775.5 | G47: =F47*1.01*0.19 -> 8400.5184 | H47: =-(F47*1.01+G47+0.6) -> -52614.373

Sheet KAMMOUN
A1: SITUATION KAMMOUN 2019
A3: TOTAL CRASSE | C3: KG | D3: 0 | F3: 0 | G3: 0 | H3: 0
A4: TOTAL DECHET BATTERIE | C4: KG | D4: =SUM(D11:D21) -> 258740 | F4: =SUM(F11:F21) -> 527900 | G4: =SUM(G11:G21) -> 100301 | H4: =SUM(H11:H21) -> 628207
A5: TOTAL ETAIN | C5: KG | D5: 0 | F5: 0 | G5: 0 | H5: 0
A6: TOTAL VIEUX PLOMB | C6: KG | D6: 0 | F6: 0 | G6: 0 | H6: 0
A7: TOTAL | F7: =SUM(F3:F6) -> 527900 | G7: =SUM(G3:G6) -> 100301 | H7: =SUM(H3:H6) -> 628207
A8: REGLEMENT RECU | H8: =H11+H12+H13+H14+H15+H16+H17+H18+H19+H20 -> 628207
A9: RESTE A PAYER | H9: =+H7-H8 -> 0
A11: 43511 | B11: DECHET BATTERIE | C11: kg | D11: 33060 | E11: 1.8 | F11: =D11*E11 -> 59508 | G11: =F11*0.19 -> 11306.52 | H11: =F11+G11+0.6 -> 70815.12
A12: 43577 | B12: DECHET BATTERIE | C12: kg | D12: 33240 | E12: 1.9 | F12: =D12*E12 -> 63156 | G12: =F12*0.19 -> 11999.64 | H12: =F12+G12+0.6 -> 75156.24
A13: 43616 | B13: DECHET BATTERIE | C13: kg | D13: 33500 | E13: 1.9 | F13: =D13*E13 -> 63650 | G13: =F13*0.19 -> 12093.5 | H13: =F13+G13+0.6 -> 75744.1
A14: 43686 | B14: DECHET BATTERIE | C14: kg | D14: 30800 | E14: 2.1 | F14: =D14*E14 -> 64680 | G14: =F14*0.19 -> 12289.2 | H14: =F14+G14+0.6 -> 76969.8
A15: 43718 | B15: DECHET BATTERIE | C15: kg | D15: 26540 | E15: 2.1 | F15: =D15*E15 -> 55734 | G15: =F15*0.19 -> 10589.46 | H15: =F15+G15+0.6 -> 66324.06
A16: 43741 | B16: DECHET BATTERIE | C16: kg | D16: 25400 | E16: 2.1 | F16: =D16*E16 -> 53340 | G16: =F16*0.19 -> 10134.6 | H16: =F16+G16+0.6 -> 63475.2
A17: 43769 | B17: DECHET BATTERIE | C17: kg | D17: 24120 | E17: 2.1 | F17: =D17*E17 -> 50652 | G17: =F17*0.19 -> 9623.88 | H17: =F17+G17+0.6 -> 60276.48
A18: 43791 | B18: DECHET BATTERIE | C18: kg | D18: 24960 | E18: 2.25 | F18: =D18*E18 -> 56160 | G18: =F18*0.19 -> 10670.4 | H18: =F18+G18+0.6 -> 66831
A19: 43805 | B19: DECHET BATTERIE | C19: kg | D19: 13680 | E19: 2.25 | F19: =D19*E19 -> 30780 | G19: =F19*0.19 -> 5848.2 | H19: =F19+G19+0.6 -> 36628.8
A20: 43813 | B20: DECHET BATTERIE | C20: kg | D20: 13440 | E20: 2.25 | F20: =D20*E20 -> 30240 | G20: =F20*0.19 -> 5745.6 | H20: =F20+G20+0.6 -> 35986.2

Sheet KAIS
A1: SITUATION KAIS SNA 2019
A3: TOTAL CRASSE | C3: KG | D3: =SUM(D14:D33) -> 179760 | F3: =SUM(F14:F33) -> 263651 | G3: =SUM(G14:G33) -> 50093.69 | H3: =+F3+G3 -> 313744.69
A4: TOTAL DECHET BATTERIE | C4: KG | D4: =SUM(L14:L33) -> 740800 | F4: =SUM(N14:N33) -> 1484592 | G4: =SUM(O14:O33) -> 282072.48 | H4: =+F4+G4 -> 1766664.5
A5: TOTAL ETAIN | C5: KG | D5: =SUM(T14:T19) -> 17387 | F5: =SUM(V14:V33) -> 613720 | G5: =SUM(W14:W33) -> 116606.8 | H5: =G5+F5 -> 730326.8
A6: TOTAL ALIMINIUM | C6: KG | D6: 0 | F6: 0 | G6: 0 | H6: =+F6+G6 -> 0
A7: TOTAL VIEUX PLOMB | D7: =SUM(AB14:AB87) -> 350516 | F7: =SUM(AD14:AD87) -> 1555266.4 | G7: =SUM(AE14:AE87) -> 295500.62 | H7: =+F7+G7 -> 1850767
A8: TOTAL | F8: =SUM(F3:F7) -> 3917229.4 | G8: =SUM(G3:G7) -> 744273.59 | H8: =SUM(H3:H7) -> 4661503
A9: RELIQUAT 2018 | H9: =177957.908+200316.87+117742.77 -> 496017.55
A10: REGLEMENT RECU | H10: =3675092.32+142530.832+200000+200000+200000+200000+150000 -> 4767623.2
A11: ERREUR FACTURATION | H11: =+(T14+T15+T16)*5*1.19 -> 42488.95
A12: RESTE A PAYER | H12: =H8+H9-H10-H11 -> 347408.43
A14: 43482 | B14: CRASSE | C14: KG | D14: 31720 | E14: 1.45 | F14: =+D14*E14 -> 45994 | G14: =+F14*0.19 -> 8738.86 | H14: =+F14+G14 -> 54732.86 | I14: 43468 | J14: DECHET BATTERIE | K14: KG | L14: 40420 | M14: 1.8 | N14: =+L14*M14 -> 72756 | O14: =+N14*0.19 -> 13823.64 | P14: =+N14+O14 -> 86579.64 | Q14: 43558 | R14: ETAIN | S14: KG | T14: 768 | U14: 33 | V14: =T14*U14 -> 25344 | W14: =+V14*0.19 -> 4815.36 | X14: =+V14+W14 -> 30159.36 | Y14: 43467 | Z14: PLOMB | AA14: KG | AB14: 3938 | AC14: 4.3 | AD14: =+AB14*AC14 -> 16933.4 | AE14: =+AD14*0.19 -> 3217.346 | AF14: =+AD14+AE14 -> 20150.746
A15: 43524 | B15: CRASSE | C15: KG | D15: 27020 | E15: 1.45 | F15: =+D15*E15 -> 39179 | G15: =+F15*0.19 -> 7444.01 | H15: =+F15+G15 -> 46623.01 | I15: 43483 | J15: DECHET BATTERIE | K15: KG | L15: 42220 | M15: 1.8 | N15: =+L15*M15 -> 75996 | O15: =+N15*0.19 -> 14439.24 | P15: =+N15+O15 -> 90435.24 | Q15: 43563 | R15: ETAIN | S15: KG | T15: 2091 | U15: 33 | V15: =T15*U15 -> 69003 | W15: =+V15*0.19 -> 13110.57 | X15: =+V15+W15 -> 82113.57 | Y15: 43472 | Z15: PLOMB | AA15: KG | AB15: 6181 | AC15: 4.3 | AD15: =+AB15*AC15 -> 26578.3 | AE15: =+AD15*0.19 -> 5049.877 | AF15: =+AD15+AE15 -> 31628.177
A16: 43574 | B16: CRASSE | C16: KG | D16: 33320 | E16: 1.45 | F16: =+D16*E16 -> 48314 | G16: =+F16*0.19 -> 9179.66 | H16: =+F16+G16 -> 57493.66 | I16: 43568 | J16: DECHET BATTERIE | K16: KG | L16: 41740 | M16: 1.9 | N16: =+L16*M16 -> 79306 | O16: =+N16*0.19 -> 15068.14 | P16: =+N16+O16 -> 94374.14 | Q16: 43642 | R16: ETAIN | S16: KG | T16: 4282 | U16: 33 | V16: =T16*U16 -> 141306 | W16: =+V16*0.19 -> 26848.14 | X16: =+V16+W16 -> 168154.14 | Y16: 43473 | Z16: PLOMB | AA16: KG | AB16: 1347 | AC16: 4.3 | AD16: =+AB16*AC16 -> 5792.1 | AE16: =+AD16*0.19 -> 1100.499 | AF16: =+AD16+AE16 -> 6892.599
A17: 43616 | B17: CRASSE | C17: KG | D17: 27720 | E17: 1.45 | F17: =+D17*E17 -> 40194 | G17: =+F17*0.19 -> 7636.86 | H17: =+F17+G17 -> 47830.86 | I17: 43578 | J17: DECHET BATTERIE | K17: KG | L17: 43260 | M17: 1.9 | N17: =L17*M17 -> 82194 | O17: =+N17*0.19 -> 15616.86 | P17: =+N17+O17 -> 97810.86 | Q17: 43692 | R17: ETAIN | S17: KG | T17: 4100 | U17: 33 | V17: =T17*U17 -> 135300 | W17: =+V17*0.19 -> 25707 | X17: =+V17+W17 -> 161007 | Y17: 43476 | Z17: PLOMB | AA17: KG | AB17: 1854 | AC17: 4.3 | AD17: =+AB17*AC17 -> 7972.2 | AE17: =+AD17*0.19 -> 1514.718 | AF17: =+AD17+AE17 -> 9486.918
A18: 43741 | B18: CRASSE | C18: KG | D18: 22120 | E18: 1.5 | F18: =+D18*E18 -> 33180 | G18: =+F18*0.19 -> 6304.2 | H18: =+F18+G18 -> 39484.2 | I18: 43588 | J18: DECHET BATTERIE | K18: KG | L18: 40900 | M18: 1.9 | N18: =L18*M18 -> 77710 | O18: =+N18*0.19 -> 14764.9 | P18: =+N18+O18 -> 92474.9 | Q18: 43738 | R18: ETAIN | S18: KG | T18: 3544 | U18: 39.5 | V18: =T18*U18 -> 139988 | W18: =+V18*0.19 -> 26597.72 | X18: =+V18+W18 -> 166585.72 | Y18: 43480 | Z18: PLOMB | AA18: KG | AB18: 7782 | AC18: 4.3 | AD18: =+AB18*AC18 -> 33462.6 | AE18: =+AD18*0.19 -> 6357.894 | AF18: =+AD18+AE18 -> 39820.494
A19: 43773 | B19: CRASSE | C19: KG | D19: 37860 | E19: 1.5 | F19: =+D19*E19 -> 56790 | G19: =+F19*0.19 -> 10790.1 | H19: =+F19+G19 -> 67580.1 | I19: 43596 | J19: DECHET BATTERIE | K19: KG | L19: 42860 | M19: 1.9 | N19: =L19*M19 -> 81434 | O19: =+N19*0.19 -> 15472.46 | P19: =+N19+O19 -> 96906.46 | Q19: 43745 | R19: ETAIN | S19: KG | T19: 2602 | U19: 39.5 | V19: =T19*U19 -> 102779 | W19: =+V19*0.19 -> 19528.01 | X19: =+V19+W19 -> 122307.01 | Y19: 43481 | Z19: PLOMB | AA19: KG | AB19: 2776 | AC19: 4.3 | AD19: =+AB19*AC19 -> 11936.8 | AE19: =+AD19*0.19 -> 2267.992 | AF19: =+AD19+AE19 -> 14204.792
I20: 43606 | J20: DECHET BATTERIE | K20: KG | L20: 41200 | M20: 1.9 | N20: =L20*M20 -> 78280 | O20: =+N20*0.19 -> 14873.2 | P20: =+N20+O20 -> 93153.2 | R20: ETAIN | S20: KG | T20: 1787 | Y20: 43482 | Z20: PLOMB | AA20: KG | AB20: 2510 | AC20: 4.5 | AD20: =+AB20*AC20 -> 11295 | AE20: =+AD20*0.19 -> 2146.05 | AF20: =+AD20+AE20 -> 13441.05
I21: 43617 | J21: DECHET BATTERIE | K21: KG | L21: 39700 | M21: 1.9 | N21: =L21*M21 -> 75430 | O21: =+N21*0.19 -> 14331.7 | P21: =+N21+O21 -> 89761.7 | Y21: 43483 | Z21: PLOMB | AA21: KG | AB21: 1997 | AC21: 4.5 | AD21: =+AB21*AC21 -> 8986.5 | AE21: =+AD21*0.19 -> 1707.435 | AF21: =+AD21+AE21 -> 10693.935
I22: 43642 | J22: DECHET BATTERIE | K22: KG | L22: 42180 | M22: 1.9 | N22: =L22*M22 -> 80142 | O22: =+N22*0.19 -> 15226.98 | P22: =+N22+O22 -> 95368.98 | Y22: 43489 | Z22: PLOMB | AA22: KG | AB22: 1286 | AC22: 4.5 | AD22: =+AB22*AC22 -> 5787 | AE22: =+AD22*0.19 -> 1099.53 | AF22: =+AD22+AE22 -> 6886.53
I23: 43657 | J23: DECHET BATTERIE | K23: KG | L23: 39040 | M23: 2 | N23: =L23*M23 -> 78080 | O23: =+N23*0.19 -> 14835.2 | P23: =+N23+O23 -> 92915.2 | Y23: 43495 | Z23: PLOMB | AA23: KG | AB23: 3574 | AC23: 4.5 | AD23: =+AB23*AC23 -> 16083 | AE23: =+AD23*0.19 -> 3055.77 | AF23: =+AD23+AE23 -> 19138.77
I24: 43686 | J24: DECHET BATTERIE | K24: KG | L24: 40980 | M24: 2.1 | N24: =L24*M24 -> 86058 | O24: =+N24*0.19 -> 16351.02 | P24: =+N24+O24 -> 102409.02 | Y24: 43511 | Z24: PLOMB | AA24: KG | AB24: 2428 | AC24: 4.5 | AD24: =+AB24*AC24 -> 10926 | AE24: =+AD24*0.19 -> 2075.94 | AF24: =+AD24+AE24 -> 13001.94
I25: 43712 | J25: DECHET BATTERIE | K25: KG | L25: 41780 | M25: 2.1 | N25: =L25*M25 -> 87738 | O25: =+N25*0.19 -> 16670.22 | P25: =+N25+O25 -> 104408.22 | Y25: 43514 | Z25: PLOMB | AA25: KG | AB25: 2570 | AC25: 4.5 | AD25: =+AB25*AC25 -> 11565 | AE25: =+AD25*0.19 -> 2197.35 | AF25: =+AD25+AE25 -> 13762.35
I26: 43736 | J26: DECHET BATTERIE | K26: KG | L26: 43080 | M26: 2.1 | N26: =L26*M26 -> 90468 | O26: =+N26*0.19 -> 17188.92 | P26: =+N26+O26 -> 107656.92 | Y26: 43516 | Z26: PLOMB | AA26: KG | AB26: 5054 | AC26: 4.5 | AD26: =+AB26*AC26 -> 22743 | AE26: =+AD26*0.19 -> 4321.17 | AF26: =+AD26+AE26 -> 27064.17
I27: 43753 | J27: DECHET BATTERIE | K27: KG | L27: 41680 | M27: 2.1 | N27: =L27*M27 -> 87528 | O27: =+N27*0.19 -> 16630.32 | P27: =+N27+O27 -> 104158.32 | Y27: 43518 | Z27: PLOMB | AA27: KG | AB27: 2298 | AC27: 4.5 | AD27: =+AB27*AC27 -> 10341 | AE27: =+AD27*0.19 -> 1964.79 | AF27: =+AD27+AE27 -> 12305.79
I28: 43771 | J28: DECHET BATTERIE | K28: KG | L28: 38360 | M28: 2.2 | N28: =L28*M28 -> 84392 | O28: =+N28*0.19 -> 16034.48 | P28: =+N28+O28 -> 100426.48 | Y28: 43521 | Z28: PLOMB | AA28: KG | AB28: 5067 | AC28: 4.5 | AD28: =+AB28*AC28 -> 22801.5 | AE28: =+AD28*0.19 -> 4332.285 | AF28: =+AD28+AE28 -> 27133.785
I29: 43790 | J29: DECHET BATTERIE | K29: KG | L29: 39400 | M29: 2.2 | N29: =L29*M29 -> 86680 | O29: =+N29*0.19 -> 16469.2 | P29: =+N29+O29 -> 103149.2 | Y29: 43524 | Z29: PLOMB | AA29: KG | AB29: 9087 | AC29: 4.5 | AD29: =+AB29*AC29 -> 40891.5 | AE29: =+AD29*0.19 -> 7769.385 | AF29: =+AD29+AE29 -> 48660.885
I30: 43802 | J30: DECHET BATTERIE | K30: KG | L30: 41500 | M30: 2.2 | N30: =L30*M30 -> 91300 | O30: =+N30*0.19 -> 17347 | P30: =+N30+O30 -> 108647 | Y30: 43558 | Z30: PLOMB | AA30: KG | AB30: 2334 | AC30: 4.5 | AD30: =+AB30*AC30 -> 10503 | AE30: =+AD30*0.19 -> 1995.57 | AF30: =+AD30+AE30 -> 12498.57
I31: 43817 | J31: DECHET BATTERIE | K31: KG | L31: 40500 | M31: 2.2 | N31: =L31*M31 -> 89100 | O31: =+N31*0.19 -> 16929 | P31: =+N31+O31 -> 106029 | Y31: 43563 | Z31: PLOMB | AA31: KG | AB31: 5570 | AC31: 4.5 | AD31: =+AB31*AC31 -> 25065 | AE31: =+AD31*0.19 -> 4762.35 | AF31: =+AD31+AE31 -> 29827.35
Y32: 43570 | Z32: PLOMB | AA32: KG | AB32: 6519 | AC32: 4.5 | AD32: =AB32*AC32 -> 29335.5 | AE32: =+AD32*0.19 -> 5573.745 | AF32: =+AD32+AE32 -> 34909.245
Y33: 43573 | Z33: PLOMB | AA33: KG | AB33: 3652 | AC33: 4.5 | AD33: =AB33*AC33 -> 16434 | AE33: =+AD33*0.19 -> 3122.46 | AF33: =+AD33+AE33 -> 19556.46
Y34: 43574 | Z34: PLOMB | AA34: KG | AB34: 4299 | AC34: 4.5 | AD34: =AB34*AC34 -> 19345.5 | AE34: =+AD34*0.19 -> 3675.645 | AF34: =+AD34+AE34 -> 23021.145
Y35: 43574 | Z35: PLOMB | AA35: KG | AB35: 2561 | AC35: 4.5 | AD35: =AB35*AC35 -> 11524.5 | AE35: =+AD35*0.19 -> 2189.655 | AF35: =+AD35+AE35 -> 13714.155
Y36: 43578 | Z36: PLOMB | AA36: KG | AB36: 1300 | AC36: 4.5 | AD36: =AB36*AC36 -> 5850 | AE36: =+AD36*0.19 -> 1111.5 | AF36: =+AD36+AE36 -> 6961.5
Y37: 43582 | Z37: PLOMB | AA37: KG | AB37: 5577 | AC37: 4.5 | AD37: =AB37*AC37 -> 25096.5 | AE37: =+AD37*0.19 -> 4768.335 | AF37: =+AD37+AE37 -> 29864.835
Y38: 43585 | Z38: PLOMB | AA38: KG | AB38: 4454 | AC38: 4.5 | AD38: =AB38*AC38 -> 20043 | AE38: =+AD38*0.19 -> 3808.17 | AF38: =+AD38+AE38 -> 23851.17
Y39: 43592 | Z39: PLOMB | AA39: KG | AB39: 1040 | AC39: 4.4 | AD39: =AB39*AC39 -> 4576 | AE39: =+AD39*0.19 -> 869.44 | AF39: =+AD39+AE39 -> 5445.44
Y40: 43598 | Z40: PLOMB | AA40: KG | AB40: 2608 | AC40: 4.4 | AD40: =AB40*AC40 -> 11475.2 | AE40: =+AD40*0.19 -> 2180.288 | AF40: =+AD40+AE40 -> 13655.488
Y41: 43601 | Z41: PLOMB | AA41: KG | AB41: 6423 | AC41: 4.4 | AD41: =AB41*AC41 -> 28261.2 | AE41: =+AD41*0.19 -> 5369.628 | AF41: =+AD41+AE41 -> 33630.828
Y42: 43602 | Z42: PLOMB | AA42: KG | AB42: 3593 | AC42: 4.4 | AD42: =AB42*AC42 -> 15809.2 | AE42: =+AD42*0.19 -> 3003.748 | AF42: =+AD42+AE42 -> 18812.948
...

Sheet STA NOUR
A1: SITUATION NOUR 2019
A3: TOTAL CRASSE | C3: KG | D3: =SUM(D14:D16) -> 94720 | F3: =SUM(F14:F16) -> 80512 | G3: =SUM(G14:G16) -> 15297.28 | H3: =SUM(H14:H16) -> 95811.08
A4: TOTAL DECHET BATTERIE | C4: KG | D4: =SUM(D17:D52) -> 1091504 | F4: =SUM(F17:F52) -> 2141070.6 | G4: =SUM(G17:G52) -> 406803.41 | H4: =SUM(H17:H52) -> 2547895.6
A5: TOTAL ETAIN | C5: KG | D5: 0 | F5: 0 | G5: 0 | H5: =+F5+G5 -> 0
A6: TOTAL charge et finition | D6: 0 | F6: =SUM(F58:F61) -> 202129 | G6: =SUM(G58:G61) -> 38404.51 | H6: =SUM(H58:H61) -> 240535.91
A7: TOTAL acide | D7: 0 | F7: =SUM(F62:F63) -> 75269.95 | G7: =SUM(G62:G63) -> 14301.29 | H7: =SUM(H62:H63) -> 89572.44
A8: TOTAL ALIMINIUM | C8: KG | D8: 0 | F8: 0 | G8: 0 | H8: =+F8+G8 -> 0
A9: TOTAL VIEUX PLOMB | C9: KG | D9: =SUM(D53:D57) -> 128899 | F9: =SUM(F53:F57) -> 592935.4 | G9: =SUM(G53:G57) -> 112657.73 | H9: =SUM(H53:H57) -> 705596.13
A10: TOTAL | F10: =SUM(F3:F9) -> 3091917 | G10: =SUM(G3:G9) -> 587464.22 | H10: =SUM(H3:H9) -> 3679411.2
A11: REGLEMENT RECU | H11: =H14+H15+H16+H17+H18+H19+H20+H21+H22+H23+H24+H25+H26+H27+H28+H29+H30+H50+H58+H59+H60+H62 -> 1405966.8
A12: RESTE A PAYER | H12: =+H10-H11 -> 2273444.3
A14: 43683 | B14: CRASSE | C14: KG | D14: 28240 | E14: 0.85 | F14: =+D14*E14 -> 24004 | G14: =+F14*0.19 -> 4560.76 | H14: =+F14+G14+0.6 -> 28565.36
A15: 43704 | B15: CRASSE | C15: KG | D15: 36360 | E15: 0.85 | F15: =+D15*E15 -> 30906 | G15: =+F15*0.19 -> 5872.14 | H15: =+F15+G15+0.6 -> 36778.74
A16: 43708 | B16: CRASSE | C16: KG | D16: 30120 | E16: 0.85 | F16: =+D16*E16 -> 25602 | G16: =+F16*0.19 -> 4864.38 | H16: =+F16+G16+0.6 -> 30466.98
A17: 43532 | B17: DECHT PLAQUES | C17: KG | D17: 25354 | E17: 1.9 | F17: =+D17*E17 -> 48172.6 | G17: =+F17*0.19 -> 9152.794 | H17: =+F17+G17+0.6 -> 57325.994
A18: 43535 | B18: DECHT PLAQUES | C18: KG | D18: 42080 | E18: 1.9 | F18: =+D18*E18 -> 79952 | G18: =+F18*0.19 -> 15190.88 | H18: =+F18+G18+0.6 -> 95143.48
A19: 43536 | B19: DECHT PLAQUES | C19: KG | D19: 42140 | E19: 1.9 | F19: =+D19*E19 -> 80066 | G19: =+F19*0.19 -> 15212.54 | H19: =+F19+G19+0.6 -> 95279.14
A20: 43539 | B20: DECHT PLAQUES | C20: KG | D20: 33560 | E20: 1.9 | F20: =+D20*E20 -> 63764 | G20: =+F20*0.19 -> 12115.16 | H20: =+F20+G20+0.6 -> 75879.76
A21: 43552 | B21: DECHT PLAQUES | C21: KG | D21: 34720 | E21: 1.9 | F21: =+D21*E21 -> 65968 | G21: =+F21*0.19 -> 12533.92 | H21: =+F21+G21+0.6 -> 78502.52
A22: 43564 | B22: DECHT PLAQUES | C22: KG | D22: 35360 | E22: 1.9 | F22: =+D22*E22 -> 67184 | G22: =+F22*0.19 -> 12764.96 | H22: =+F22+G22+0.6 -> 79949.56
A23: 43567 | B23: DECHT PLAQUES | C23: KG | D23: 31360 | E23: 1.9 | F23: =+D23*E23 -> 59584 | G23: =+F23*0.19 -> 11320.96 | H23: =+F23+G23+0.6 -> 70905.56
A24: 43574 | B24: DECHT PLAQUES | C24: KG | D24: 31680 | E24: 1.9 | F24: =+D24*E24 -> 60192 | G24: =+F24*0.19 -> 11436.48 | H24: =+F24+G24+0.6 -> 71629.08
A25: 43592 | B25: DECHT PLAQUES | C25: KG | D25: 27400 | E25: 1.9 | F25: =+D25*E25 -> 52060 | G25: =+F25*0.19 -> 9891.4 | H25: =+F25+G25+0.6 -> 61952
... A57: 43815 | B57: PLOMB | C57: KG | D57: 15020 | E57: 4.6 | F57: =+D57*E57 -> 69092 | G57: =+F57*0.19 -> 13127.48 | H57: =+F57+G57+0.6 -> 82220.08
A58: 43496 | B58: CHARGE ET FINITION | F58: 21079 | G58: =+F58*0.19 -> 4005.01 | H58: =+G58+F58+0.6 -> 25084.61
A59: 43521 | B59: CHARGE ET FINITION | F59: 18360.5 | G59: =+F59*0.19 -> 3488.495 | H59: =+G59+F59+0.6 -> 21849.595
A60: 43708 | B60: CHARGE ET FINITION | F60: 110189.5 | G60: =+F60*0.19 -> 20936.005 | H60: =+G60+F60+0.6 -> 131126.11
A61: 43777 | B61: CHARGE ET FINITION | F61: 52500 | G61: =+F61*0.19 -> 9975 | H61: =+G61+F61+0.6 -> 62475.6
A62: 43708 | B62: ACIDE | F62: 32116.05 | G62: =+F62*0.19 -> 6102.0495 | H62: =+G62+F62+0.6 -> 38218.699
A63: 43769 | B63: ACIDE | F63: 43153.9 | G63: =+F63*0.19 -> 8199.241 | H63: =+G63+F63+0.6 -> 51353.741
H85: =SUM(H14:H84) -> 3679411.2

Sheet KAIS STA
A1: SITUATION NOUR (KAIS) 2019
M2: TRANSPORT KAIS TAYACHI
A3: TOTAL CRASSE | C3: KG | D3: 0 | F3: 0 | G3: 0 | H3: =+F3+G3 -> 0 | M3: 43634 | N3: STA Nour | O3: Déchet plaques batteries | P3: 33820
A4: TOTAL DECHET BATTERIE | C4: KG | D4: =SUM(D12:D24) -> 308260 | F4: =SUM(F12:F24) -> 585694 | G4: =SUM(G12:G24) -> 111281.86 | H4: =+F4+G4 -> 696975.86 | M4: 43637 | N4: STA Nour | O4: Déchet plaques batteries | P4: 39620
A5: TOTAL ETAIN | C5: KG | D5: 0 | F5: 0 | G5: 0 | H5: =+F5+G5 -> 0 | M5: 43641 | N5: STA Nour | O5: Déchet plaques batteries | P5: 23260
A6: TOTAL ALIMINIUM | C6: KG | D6: 0 | F6: 0 | G6: 0 | H6: =+F6+G6 -> 0 | M6: 43644 | N6: STA Nour | O6: Déchet plaques batteries | P6: 31680
A7: TOTAL VIEUX PLOMB | C7: KG | D7: 0 | F7: 0 | G7: 0 | H7: =+F7+G7 -> 0 | M7: 43649 | N7: STA Nour | O7: Déchet plaques batteries | P7: 25140
A8: TOTAL | F8: =SUM(F3:F7) -> 585694 | G8: =SUM(G3:G7) -> 111281.86 | H8: =SUM(H3:H7) -> 696975.86 | M8: 43652 | N8: STA Nour | O8: Déchet plaques batteries | P8: 30540
A9: REGLEMENT RECU | H9: =+H12+H13+H14+H15+H17+H20+H21 -> 489148.94 | J9: 60000 | K9: RECU | M9: 43656 | N9: STA Nour | O9: Déchet plaques batteries | P9: 34560
A10: RESTE A PAYER | H10: =+H8-H9 -> 207826.92 | J10: 100000 | K10: NON RECU | M10: 43661 | N10: STA Nour | O10: Déchet plaques batteries | P10: 32220
M11: 43669 | N11: STA Nour | O11: Déchet plaques batteries | P11: 29540
A12: 43634 | B12: DECHET K T | C12: KG | D12: 33820 | E12: 1.9 | F12: =+D12*E12 -> 64258 | G12: =+F12*0.19 -> 12209.02 | H12: =+F12+G12+0.6 -> 76467.62 | M12: 43672 | N12: STA Nour | O12: Déchet plaques batteries | P12: 27880
A13: 43637 | B13: DECHET K T | C13: KG | D13: 39620 | E13: 1.9 | F13: =+D13*E13 -> 75278 | G13: =+F13*0.19 -> 14302.82 | H13: =+F13+G13+0.6 -> 89581.42
A14: 43641 | B14: DECHET K T | C14: KG | D14: 23260 | E14: 1.9 | F14: =+D14*E14 -> 44194 | G14: =+F14*0.19 -> 8396.86 | H14: =+F14+G14+0.6 -> 52591.46
A15: 43644 | B15: DECHET K T | C15: KG | D15: 31680 | E15: 1.9 | F15: =+D15*E15 -> 60192 | G15: =+F15*0.19 -> 11436.48 | H15: =+F15+G15+0.6 -> 71629.08 | M15: 43676 | N15: NAWFIL | O15: SNA | P15: 32360
A16: 43649 | B16: DECHET K T | C16: KG | D16: 25140 | E16: 1.9 | F16: =+D16*E16 -> 47766 | G16: =+F16*0.19 -> 9075.54 | H16: =+F16+G16+0.6 -> 56842.14 | M16: 43679 | N16: NAWFIL | O16: SNA | P16: 31860
A17: 43652 | B17: DECHET K T | C17: KG | D17: 30540 | E17: 1.9 | F17: =+D17*E17 -> 58026 | G17: =+F17*0.19 -> 11024.94 | H17: =+F17+G17+0.6 -> 69051.54 | J17: STC | M17: 43683 | N17: NAWFIL | O17: SNA | P17: 28240
A18: 43656 | B18: DECHET K T | C18: KG | D18: 34560 | E18: 1.9 | F18: =+D18*E18 -> 65664 | G18: =+F18*0.19 -> 12476.16 | H18: =+F18+G18+0.6 -> 78140.76 | M18: 43704 | N18: NAWFIL | O18: SNA | P18: 36360
A19: 43661 | B19: DECHET K T | C19: KG | D19: 32220 | E19: 1.9 | F19: =+D19*E19 -> 61218 | G19: =+F19*0.19 -> 11631.42 | H19: =+F19+G19+0.6 -> 72850.02 | M19: 43708 | N19: NAWFIL | O19: SNA | P19: 30120
A20: 43669 | B20: DECHET K T | C20: KG | D20: 29540 | E20: 1.9 | F20: =+D20*E20 -> 56126 | G20: =+F20*0.19 -> 10663.94 | H20: =+F20+G20+0.6 -> 66790.54 | J20: SPECTRO | M20: 43711 | N20: NAWFIL | O20: SNA | P20: 27740
A21: 43672 | B21: DECHET K T | C21: KG | D21: 27880 | E21: 1.9 | F21: =+D21*E21 -> 52972 | G21: =+F21*0.19 -> 10064.68 | H21: =+F21+G21+0.6 -> 63037.28
H25: =SUM(H12:H24) -> 696981.86

Sheet 12-2019
B1: SND | D1: SNA | I1: STA | M1: TIP | N1: FONDERIE | O1: PHENICIA | P1: N B I | R1: Z I | S1: ALPHA
B2: STB | C2: STB MEG | D2: BTK | E2: STB | F2: STB MEG | G2: EURO MEG | H2: $ MEG | I2: STB MEG | J2: STB TH | K2: EURO MEG | L2: $ MEG | M2: STB MEG | N2: STB | O2: STB | P2: STB | Q2: EURO MEG | R2: STB | S2: STB
A3: SOLDE au 19/12/2019 | B3: 689.318 | C3: -206803.24 | D3: 1220.455 | E3: 18350.237 | F3: -1213633.9 | G3: 169954.24 | H3: 3699.41 | I3: 37984.383 | J3: 11587.395 | K3: 6694.08 | L3: 3595.27 | M3: 23221.967 | N3: 4744.81 | O3: 10132.26 | P3: 12105.454 | Q3: 12614.17 | R3: 4993.191 | S3: 306.069
A4: EN COURS | B4: =SUM(B5:B8) -> 0 | C4: =SUM(C5:C8) -> 261549.68 | D4: =SUM(D5:D8) -> 0 | E4: =SUM(E5:E8) -> 0 | F4: =SUM(F5:F8) -> #REF! | G4: =SUM(G5:G8) -> 0 | H4: =SUM(H5:H8) -> 0 | I4: =SUM(I5:I8) -> 0 | ... P4: =SUM(P5:P8) -> #REF! | Q4: =SUM(R5:R8) -> 0 | R4: =SUM(S5:S8) -> 0 | S4: =SUM(T5:T8) -> 0
A5: Cheque | C5: =3295.789+246131.694 -> 249427.48 | F5: =I64+M64+P64 -> #REF! | M5: =F69 -> #REF! | P5: =F68+I68 -> #REF!
A6: Escompte
A7: Espece | C7: =6555.41+5566.784 -> 12122.194
A8: Virement
A9: Previsions | B9: =B10+B11+B12+B13+B14 -> 0 | C9: =C10+C11+C12+C13+C14 -> 0 | D9: =D10+D11+D13+D14+D23+D30 -> 0 | E9: =E10+E11+E12+E13+E14 -> 0 | F9: =F14+F10+F11+F12+F13 -> 315000 | G9: =G14 -> 35709.27 | H9: =H14 -> 0 | I9: =I10+I11+I13+I14+I30+I27+I12 -> #REF! | J9: =J10+J11+J13+J14+J23+J30+J27 -> 0 | K9: =K10+K11+K13+K14+K23+K30 -> 0 | L9: =L10+L11+L13+L14+L23+L30 -> 0 | M9: =M10+M11+M13+M14+M23+M30 -> 0 | N9: =N10+N11+N13+N14+N23+N30 -> 0 | O9: =O10+O11+O13+O14+O23+O30 -> 0 | P9: =P10+P11+P13+P14+P23+P30 -> 0 | Q9: =Q10+Q11+Q13+Q14+Q23+Q30 -> 0 | R9: =R10+R11+R13+R14+R23+R30 -> 0 | S9: =S10+S11+S13+S14+S23+S30 -> 0
A10: Cheque PF | F10: =C64+B64 -> 265000 | I10: =#REF!+#REF!+#REF! -> #REF! | M10: 0 | N10: =F66+I66 -> 0 | O10: =+F67 -> 0 | P10: 0 | S10: =+O72 -> 0
A11: Espece
A12: Cheque V | F12: 50000
A13: Escompte
A14: Virement | B14: 0 | C14: 0 | D14: =SUM(D15:D21) -> 0 | E14: =SUM(E15:E30) -> 0 | F14: =SUM(F15:F30) -> 0 | G14: =SUM(G15:G31) -> 35709.27 | H14: =SUM(H15:H31) -> 0 | I14: =SUM(I15:I30) -> 0 | J14: =SUM(J15:J30) -> 0 | K14: =SUM(K15:K30) -> 0 | L14: =SUM(L15:L21) -> 0 | M14: =SUM(M15:M21) -> 0 | N14: =SUM(N15:N21) -> 0 | O14: =SUM(O15:O21) -> 0 | P14: =SUM(P15:P21) -> 0 | Q14: =SUM(Q15:Q30) -> 0 | R14: =SUM(R15:R30) -> 0 | S14: =SUM(S15:S30) -> 0
A15: Vente Devise | F15: =G65*3.112 -> 0 | H15: =F65/2.4 -> 0 | I15: =L65*2.993 -> 0
A16: Maribat
A17: El Haramaine
A18: Allemagne
A19: Med Energy
A20: SIA ITALY
A21: Errafik | G21: =EXPORT!M185+33000 -> 35709.27
A22: COTE D'IVOIRE
A23: CREDIT DE GESTION
A24: CMT
A25: RESTITUTION TVA
A26: PRIME INVESTISSEMENT
A27: Dividendes
A28: BILLET DE TRESORERIE
A29: C C A
A30: MCNE
A31: Placement
A32: CMT
A33: Depenses | B33: =B34+B49+B74 -> 0 | C33: =C34+C49+C74 -> #REF! | D33: =D34+D49+D74 -> 0 | E33: =E34+E49+E74 -> 0 | F33: =F34+F49+F74 -> #REF! | G33: =G34+G49+G74 -> 0 | H33: =H34+H49+H74 -> 0 | I33: =I34+I49+I74 -> 275782.95 | ... S33: =S34+S49+S74 -> 0
A34: Import | B34: =SUM(B35:B48) -> 0 | D34: =SUM(D35:D48) -> 0 | E34: =SUM(E35:E48) -> 0 | F34: =SUM(F35:F48) -> 0 | G34: =SUM(G35:G48) -> 0 | H34: =SUM(H35:H48) -> 0 | I34: =SUM(I35:I48) -> 0 | J34: =SUM(J35:J48) -> 0 | K34: =SUM(K35:K48) -> 0 | ... S34: =SUM(S35:S48) -> 0
A35: STCM
A36: WIRTZ
A37: Biasin
A38: Daramic
A39: HB FULLER
A40: CEMT
...

Sheet etranger
A1: =TODAY() -> 45668
A2: TAUX EURO/TND | C2: 43465 | D2: 3.4272
A3: TAUX USD/TND | C3: 43465 | D3: 2.9944
A4: TAUX GBP/TND | C4: 43465 | D4: 3.8309
A5: TAUX CNY/TND | C5: 43465 | D5: 0.4353
A6: S T A
A7: FOURNISSEUR | B7: MONNAIE | C7: MONT DEV. | D7: MONT DT | E7: REGLEMENT | F7: RESTE
A8: HEMPE | B8: EUR | C8: 161190 | D8: =+C8*D2 -> 552430.37 | E8: =12000+12000+12000+12000+12000+12000+12000+7000 -> 91000 | F8: =+C8-E8 -> 70190
A9: TOTAL | C9: =SUM(C8:C8) -> 161190
A12: TOTAL | C12: =SUM(C11:C11) -> 0
A15: TOTAL | C15: =SUM(C14:C14) -> 0
A18: TOTAL | C18: =SUM(C17:C17) -> 0
A20: S N A
A21: ACCUMA 16 | B21: EUR | C21: 20775.24 | D21: =+C21*$D$2 -> 71200.903 | E21: 43719 | F21: =E21+90 -> 43809
A22: ACCUMA 18 | B22: EUR | C22: 69983.59 | D22: =+C22*$D$2 -> 239847.76 | E22: 43726 | F22: =E22+90 -> 43816
A23: ACCUMA 19 | B23: EUR | C23: 38957.93 | D23: =+C23*$D$2 -> 133516.62 | E23: 43734 | F23: =E23+90 -> 43824
A24: ACCUMA 20 | B24: EUR | C24: 24659.51 | D24: =+C24*$D$2 -> 84513.073 | E24: 43741 | F24: =E24+90 -> 43831
A25: ACCUMA 21 | B25: EUR | C25: 19095.96 | D25: =+C25*$D$2 -> 65445.674 | E25: 43746 | F25: =E25+90 -> 43836
A26: ACCUMA 22 | B26: EUR | C26: 20131.1 | D26: =+C26*$D$2 -> 68993.306 | E26: 43768 | F26: =E26+90 -> 43858
A27: ACCUMA 23 | B27: EUR | C27: 38013.65 | D27: =+C27*$D$2 -> 130280.38 | E27: 43777 | F27: =E27+90 -> 43867
A28: ACCUMA 24 | B28: EUR | C28: 23066.68 | D28: =+C28*$D$2 -> 79054.126 | E28: 43782 | F28: =E28+90 -> 43872
A29: ACCUMA 25 | B29: EUR | C29: 30949.26 | D29: =+C29*$D$2 -> 106069.3 | E29: 43783 | F29: =E29+90 -> 43873
A30: ACCUMA 26 | B30: EUR | C30: 26286.31 | D30: =+C30*$D$2 -> 90088.442 | E30: 43797 | F30: =E30+90 -> 43887
A31: ACCUMA 27 | B31: EUR | C31: 47478.9 | D31: =+C31*$D$2 -> 162719.69 | E31: 43804 | F31: =E31+90 -> 43894
A33: TOTAL | C33: =SUM(C21:C32) -> 359398.13
A36: TOTAL | C36: =SUM(C35:C35) -> 0
A38: AKUMSAN | B38: EUR | C38: 16029.42 | D38: =+C38*D2 -> 54936.028 | E38: 43741 | F38: =+E38+90 -> 43831
A39: TOTAL | C39: =SUM(C38) -> 16029.42
A41: DARAMIC | B41: EUR | C41: 48091.48 | D41: =+C41*D2 -> 164819.12 | E41: 43755 | F41: =+E41+90 -> 43845
A42: TOTAL | C42: =SUM(C41) -> 48091.48
A45: TOTAL | C45: =SUM(C44:C44) -> 0
A47: SOVEMA | B47: EUR | C47: 5626.54 | D47: =+C47*D2 -> 19283.278 | E47: 43756 | F47: =+E47+30 -> 43786
A48: TOTAL | C48: =SUM(C47:C47) -> 5626.54
A51: TOTAL | C51: =SUM(C50:C50) -> 0
A54: TOTAL | C54: =SUM(C53:C53) -> 0
A59: TOTAL | C59: =SUM(C56:C58) -> 0
A61: HEMPE | B61: EUR | C61: 335000 | E61: 42898 | F61: 71000
E62: 42927 | F62: 40000
E63: 43004 | F63: 15000
E64: 43006 | F64: 16000
...

Sheet CMT
B2: SNA-NOUR
B3: ECHEANCIER 2019
B5: Crédit | D5: Échéance | E5: Principal | F5: Intérêt | G5: Total | H5: PP | I5: INT
B6: BTK | C6: 1488000 | D6: 43491 | E6: 106285.71 | F6: 3123.619 | G6: =SUM(E6:F6) -> 109409.33 | H6: REGLEMENT FINAL
B7: STB TH | C7: 2418000 | D7: 43491 | E7: 172714.29 | F7: 4855.19 | G7: =SUM(E7:F7) -> 177569.48 | H7: REGLEMENT FINAL
B8: STB TH | C8: 2500000 | D8: 43496 | E8: 0 | F8: 52963.889 | G8: =SUM(E8:F8) -> 52963.889
B9: STB TH | C9: 1250000 | D9: 43496 | E9: 0 | F9: 28654.167 | G9: =SUM(E9:F9) -> 28654.167
B10: Total 01/2019 | E10: =SUM(E6:E9) -> 279000 | F10: =SUM(F6:F9) -> 89596.865 | G10: =SUM(G6:G9) -> 368596.86
B11: STB TH | C11: 500000 | D11: 43555 | E11: 41666.667 | F11: 6075 | G11: =SUM(E11:F11) -> 47741.667
B12: STB TH | C12: 1150000 | D12: 43555 | E12: 95833.333 | F12: 13994.062 | G12: =SUM(E12:F12) -> 109827.4
B13: STB TH | C13: 1000000 | D13: 43555 | E13: 83333.333 | F13: 12131.25 | G13: =SUM(E13:F13) -> 95464.583
B14: STB TH | C14: 350000 | D14: 43555 | E14: 29166.667 | F14: 4291.875 | G14: =SUM(E14:F14) -> 33458.542
B15: STB TH | C15: 500000 | D15: 43555 | E15: 41666.667 | F15: 6243.75 | G15: =SUM(E15:F15) -> 47910.417
B16: Total 03/2019 | E16: =SUM(E11:E15) -> 291666.67 | F16: =SUM(F11:F15) -> 42735.938 | G16: =SUM(E16:F16) -> 334402.61
B17: STB TH | C17: 2500000 | D17: 43585 | E17: 0 | F17: 51236.806 | G17: =SUM(E17:F17) -> 51236.806
B18: STB TH | C18: 1250000 | D18: 43585 | E18: 0 | F18: 27719.792 | G18: =SUM(E18:F18) -> 27719.792
B19: Total 04/2019 | E19: =SUM(E17:E17) -> 0 | F19: =SUM(F17:F18) -> 78956.598 | G19: =SUM(E19:F19) -> 78956.598
B20: STB TH | C20: 500000 | D20: 43646 | E20: 0 | F20: 5460 | G20: =SUM(E20:F20) -> 5460
B21: STB TH | C21: 1150000 | D21: 43646 | E21: 0 | F21: 12577.38 | G21: =SUM(E21:F21) -> 12577.38
B22: STB TH | C22: 1000000 | D22: 43646 | E22: 0 | F22: 10903.148 | G22: =SUM(E22:F22) -> 10903.148
B23: STB TH | C23: 350000 | D23: 43646 | E23: 0 | F23: 3857.389 | G23: =SUM(E23:F23) -> 3857.389
B24: STB TH | C24: 500000 | D24: 43646 | E24: 0 | F24: 5611.667 | G24: =SUM(E24:F24) -> 5611.667
B25: Total 06/2019 | E25: =SUM(E20:E24) -> 0 | F25: =SUM(F20:F24) -> 38409.584 | G25: =SUM(E25:F25) -> 38409.584
B26: STB TH | C26: 2500000 | D26: 43677 | E26: 0 | F26: 52963.889 | G26: =SUM(E26:F26) -> 52963.889
B27: STB TH | C27: 1250000 | D27: 43677 | E27: 0 | F27: 28654.167 | G27: =SUM(E27:F27) -> 28654.167
B28: Total 07/2019 | E28: =SUM(E26:E27) -> 0 | F28: =SUM(F26:F27) -> 81618.056 | G28: =SUM(G26:G27) -> 81618.056
B29: STB TH | C29: 500000 | D29: 43738 | E29: 41666.667 | F29: 5520 | G29: =SUM(E29:F29) -> 47186.667
B30: STB TH | C30: 1150000 | D30: 43738 | E30: 95833.333 | F30: 12715.593 | G30: =SUM(E30:F30) -> 108548.93
B31: STB TH | C31: 1000000 | D31: 43738 | E31: 83333.333 | F31: 11022.963 | G31: =SUM(E31:F31) -> 94356.296
B32: STB TH | C32: 350000 | D32: 43738 | E32: 29166.667 | F32: 3899.778 | G32: =SUM(E32:F32) -> 33066.445
B33: STB TH | C33: 500000 | D33: 43738 | E33: 41666.667 | F33: 5673.333 | G33: =SUM(E33:F33) -> 47340
B34: Total 09/2019 | E34: =SUM(E29:E33) -> 291666.67 | F34: =SUM(F29:F33) -> 38831.667 | G34: =SUM(E34:F34) -> 330498.33
B35: STB TH | C35: 2500000 | D35: 43769 | E35: 208333.33 | F35: 52963.889 | G35: =SUM(E35:F35) -> 261297.22
B36: STB TH | C36: 1250000 | D36: 43769 | E36: 0 | F36: 28654.167 | G36: =SUM(E36:F36) -> 28654.167
B37: Total 10/2019 | E37: =SUM(E35:E35) -> 208333.33 | F37: =SUM(F35:F36) -> 81618.056 | G37: =SUM(E37:F37) -> 289951.39
B38: STB TH | C38: 500000 | D38: 43830 | E38: 0 | F38: 4830 | G38: =SUM(E38:F38) -> 4830
B39: STB TH | C39: 1150000 | D39: 43830 | E39: 0 | F39: 11126.144 | G39: =SUM(E39:F39) -> 11126.144
B40: STB TH | C40: 1000000 | D40: 43830 | E40: 0 | F40: 9645.0926 | G40: =SUM(E40:F40) -> 9645.0926
B41: STB TH | C41: 350000 | D41: 43830 | E41: 0 | F41: 3412.306 | G41: =SUM(E41:F41) -> 3412.306
B42: STB TH | C42: 500000 | D42: 43830 | E42: 0 | F42: 4964.167 | G42: =SUM(E42:F42) -> 4964.167
...

Sheet EXPORT
A2: CLIENT | B2: Facture | H2: MCNE | K2: REGLEMENT | M2: DIFFERENCE
B3: Numéro | C3: Date | D3: DEV | E3: MONTANT | F3: TND | G3: Échéance | H3: Montant | I3: DATE MEP | J3: ECHEANCE | K3: Montant | L3: Date
A4: MARIBAT | B4: EX150015 | C4: 42338 | D4: USD | E4: 185713.44 | F4: =+E4*2.0433 -> 379468.27 | G4: 42459 | H4: 305000 | J4: =+C4+90 -> 42428 | K4: =90414.1+83300*1.12825 -> 184397.33 | M4: =E4-K4 -> 1316.115
A5: EL HARAMAINE | B5: EX160002 | C5: 42389 | D5: USD | E5: 57547.5 | F5: =E5*2.0365 -> 117195.48 | G5: 42479 | K5: 57547.5 | M5: =E5-K5 -> 0
A6: MED ENERGY | B6: EX160003 | C6: 42394 | D6: USD | E6: 61973.64 | F6: =E6*2.03285 -> 125983.11 | G6: 42484 | K6: 61973.64 | M6: =E6-K6 -> 0
A7: MED ENERGY | B7: EX160004 | C7: 42422 | D7: USD | E7: 31260.71 | F7: =+E7*2.0168 -> 63046.6 | G7: =+C7+90 -> 42512 | K7: 31182.71 | M7: =E7-K7 -> 78
A8: MARIBAT | B8: EX160005 | C8: 42432 | D8: USD | E8: 97110.5 | F8: =E8*2.02425 -> 196575.93 | G8: 42567 | K8: =12997+84054 -> 97051 | M8: =E8-K8 -> 59.5
A9: MED ENERGY | B9: EX160006 | C9: 42445 | D9: USD | E9: 17500.78 | F9: =+E9*2.01395 -> 35245.696 | G9: =C9+90 -> 42535 | K9: 17437.78 | M9: =E9-K9 -> 63
A10: MARIBAT | B10: EX160007 | C10: 42461 | D10: USD | E10: 15887.8 | F10: =E10*1.98505 -> 31538.077 | G10: 42585 | K10: =2196.38+13625 -> 15821.38 | M10: =E10-K10 -> 66.42
A11: MED ENERGY | B11: EX160008 | C11: 42495 | D11: USD | E11: 13784.67 | F11: =+E11*1.98675 -> 27386.693 | G11: =+C11+90 -> 42585 | K11: 13719.17 | M11: =E11-K11 -> 65.5
A12: MED ENERGY | B12: EX160009 | C12: 42495 | D12: EUR | E12: 58790.64 | F12: =+E12*2.2687 -> 133378.32 | G12: =+C12+90 -> 42585 | K12: =46740.64+11960 -> 58700.64 | M12: =E12-K12 -> 90
A13: MARIBAT | B13: EX160010 | C13: 42506 | D13: USD | E13: 38827.5 | F13: =+E13*2.0226 -> 78532.502 | G13: 42630 | K13: =5188.54+33549.74 -> 38738.28 | M13: =E13-K13 -> 89.22
A14: MARIBAT | B14: EX160011 | C14: 42542 | D14: USD | E14: 37074 | F14: =+E14*2.14625 -> 79570.073 | G14: 42669 | K14: =13578+5163.9+18217.5 -> 36959.4 | M14: =E14-K14 -> 114.6
A15: MARIBAT | B15: EX160012 | C15: 42542 | D15: USD | E15: 3480 | F15: =+E15*2.14625 -> 7468.95 | G15: 42669 | K15: 3455 | M15: =E15-K15 -> 25
A16: ERRAFIK | B16: EX160014 | C16: 42695 | D16: EUR | E16: 284382.2 | F16: =+E16*2.42505 -> 689641.05 | G16: =+C16+60 -> 42755 | K16: =49950+100950+101950+31500 -> 284350 | M16: =E16-K16 -> 32.2
A17: ERRAFIK | B17: EX160015 | C17: 42704 | D17: EUR | E17: 187097.52 | F17: =+E17*2.42625 -> 453945.36 | G17: =+C17+60 -> 42764 | K17: =102950-31500+103950+11480 -> 186880 | M17: =E17-K17 -> 217.52
A18: MARIBAT | B18: EX170001 | C18: 42765 | D18: USD | E18: 73064.4 | F18: =+E18*2.26605 -> 165567.58 | G18: =+C18+120 -> 42885 | K18: =10173.28+62770 -> 72943.28 | M18: =+E18-K18 -> 121.12
A19: ENERTECH | B19: EX170002 | C19: 42780 | D19: EUR | E19: 17555.59 | F19: =+E19*2.4179 -> 42447.661 | G19: =+C19 -> 42780 | K19: 17555.59 | M19: =+E19-K19 -> 0
A20: MARIBAT | B20: EX170003 | C20: 42781 | D20: USD | E20: 17856 | F20: =+E20*2.272 -> 40568.832 | G20: =+C20+120 -> 42901 | K20: =2549.2+15270 -> 17819.2 | M20: =+E20-K20 -> 36.8
A21: MARIBAT | B21: EX170004 | C21: 42844 | D21: USD | E21: 35287.2 | F21: =+E21*2.31555 -> 81709.276 | G21: =+C21+120 -> 42964 | K21: =5062.04+30100 -> 35162.04 | M21: =+E21-K21 -> 125.16
A22: MARIBAT | B22: EX170005 | C22: 42864 | D22: USD | E22: 73647 | F22: =+E22*2.39905 -> 176682.84 | G22: =+C22+120 -> 42984 | K22: =10380.8+63196.5 -> 73577.3 | M22: =+E22-K22 -> 69.7
A23: MARIBAT | B23: EX170006 | C23: 42888 | D23: USD | E23: 44179.99 | F23: =+E23*2.42865 -> 107297.73 | G23: =+C23+120 -> 43008 | K23: =4855.4+39173.04 -> 44028.44 | M23: =+E23-K23 -> 151.55
A24: MARIBAT | B24: EX170007 | C24: 42928 | D24: USD | E24: 92625.75 | F24: =+E24*2.4274 -> 224839.75 | G24: =+C24+120 -> 43048 | K24: =12804.1+79661.5 -> 92465.6 | M24: =+E24-K24 -> 160.15
A25: ENERTECH | B25: EX170008 | C25: 42998 | D25: EUR | E25: 17117.85 | F25: =+E25*2.9097 -> 49807.808 | G25: =+C25+120 -> 43118 | K25: 17117.85 | M25: =+E25-K25 -> 0
A26: MARIBAT | B26: EX170009 | C26: 43054 | D26: USD | E26: 71193.6 | F26: =+E26*2.4747 -> 176182.8 | G26: =+C26+120 -> 43174 | K26: =10243.52+40535+20400 -> 71178.52 | M26: =+E26-K26 -> 15.08
A27: ENERTECH | B27: EX170010 | C27: 43073 | D27: EUR | E27: 16991.82 | F27: =+E27*2.9231 -> 49668.789 | G27: =+C27+0 -> 43073 | K27: 16991.82 | M27: =+E27-K27 -> 0
A28: MARIBAT | B28: EX170011 | C28: 43084 | D28: USD | E28: 72028.8 | F28: =+E28*2.4744 -> 178228.06 | G28: =+C28+120 -> 43204 | K28: =10364.16+61492.5 -> 71856.66 | M28: =+E28-K28 -> 172.14
A29: ENERTECH | B29: EX180002 | C29: 43182 | D29: EUR | E29: 13950.45 | F29: =+E29*2.9343 -> 40934.805 | G29: =+C29 -> 43182 | K29: 13950.45 | M29: =+E29-K29 -> 0
A30: MARIBAT | B30: EX180001 | C30: 43164 | D30: USD | E30: 35971.2 | F30: =+E30*2.38585 -> 85821.888 | G30: =+C30+120 -> 43284 | K30: =5174.34+49985-20400 -> 34759.34 | M30: =+E30-K30 -> 1211.86
A31: SIA Italie | B31: EX190001 | C31: 43500 | D31: EUR | E31: 15799.17 | F31: =+E31*3.4629 -> 54710.946 | G31: =+C31+45 -> 43545 | K31: 15738.17 | M31: =+E31-K31 -> 61
A32: SIA Italie | B32: EX190002 | C32: 43565 | D32: EUR | E32: 56490.77 | F32: =+E32*3.37945 -> 190907.73 | G32: =+C32+45 -> 43610 | K32: =15000+15000+26442.77 -> 56442.77 | M32: =+E32-K32 -> 48
A33: SIA Italie | B33: EX190003 | C33: 43584 | D33: EUR | E33: 56497.29 | F33: =E33*3.3503 -> 189282.87 | G33: =+C33+45 -> 43629 | K33: =10000+4985+41427.29 -> 56412.29 | M33: =+E33-K33 -> 85
A34: MARIBAT | B34: EX190004 | C34: 43606 | D34: EUR | E34: 44837.76 | F34: =+E34*3.33895 -> 149711.04 | G34: =+C34+60 -> 43666 | K34: 44837.76 | M34: =+E34-K34 -> 0
A37: CLIENT | B37: Facture | H37: MCNE | K37: REGLEMENT | M37: DIFFERENCE
B38: Numéro | C38: Date | D38: DEV | E38: MONTANT | F38: TND | G38: Échéance | H38: Montant | I38: DATE MEP | J38: ECHEANCE | K38: Montant | L38: Date
A39: MARIBAT | B39: FN110017 | C39: 40680 | D39: EUR | E39: 5190.95 | F39: =+E39*1.95835 -> 10165.697 | G39: =+C39+90 -> 40770 | M39: =+E39-K39 -> 5190.95
A40: MARIBAT | B40: FN150083 | C40: 42356 | D40: USD | E40: 217912.86 | F40: =E40*2.01185 -> 438407.99 | G40: 42485 | K40: =113564.6+104348.26 -> 217912.86 | M40: =E40-K40 -> 0
A41: ERRAFIK | B41: FN150084 | C41: 42359 | D41: EUR | E41: 694484.64 | F41: =E41*2.19375 -> 1523525.7 | G41: 42456 | K41: =49960-39400+88520+100950+99945+49934.5+99924.5+24900+24960+49900+29960+29982+34949.5+21960+28000 -> 694445.5 | M41: =E41-K41 -> 39.14
A42: MARIBAT | B42: FN150085 | C42: 42363 | D42: EUR | E42: 2590.8 | F42: =+E42*2.19995 -> 5699.6305 | G42: 42485 | K42: 2783.74 | M42: =E42-K42 -> -192.94
A43: MED ENERGY | B43: FN160001 | C43: 42388 | D43: EUR | E43: 70769.15 | F43: =E43*2.21425 -> 156700.59 | G43: 42478 | K43: =20719.15+24950+24950 -> 70619.15 | M43: =E43-K43 -> 150
...

Sheet PLOMB LOCAL
A1: SITUATION KAIS 06/02/2019
A3: TOTAL CRASSE | C3: KG | D3: =404820++D13+D14+D15 -> 491440 | F3: =582489+F13+F14+F15 -> 708088 | G3: =110672.91++G13+G14+G15 -> 134536.72 | H3: =+F3+G3 -> 842624.72
A4: TOTAL DECHET BATTERIE | C4: KG | D4: =564700+D16+D17+D18 -> 688560 | F4: =936092+F16+F17+F18 -> 1156979 | G4: =177857.48+G16+G17+G18 -> 219826.01 | H4: =+F4+G4 -> 1376805
A5: TOTAL ETAIN | C5: KG | D5: =30689+D19+D20 -> 38647 | F5: =1012737+F19+F20 -> 1275351 | G5: =192420.03+G19+G20 -> 242316.69 | H5: =+F5+G5 -> 1517667.7
A6: TOTAL ALIMINIUM | C6: KG | D6: 1109 | F6: 3327 | G6: 632.13 | H6: =+F6+G6 -> 3959.13
A7: TOTAL VIEUX PLOMB | C7: KG | D7: =396546-28416-50505+Feuil3!K3+Feuil3!K26+D41+D42+D43+D44+D45+D46+D47+D48+D49+D50+D51+D52+D53+D54+D55+D56+D57+D58+D59+D60+D61+D62+D63 -> 475797.4 | F7: =1390639.9+Feuil3!M3+Feuil3!M26+F41+F42+F43+F44+F45+F46+F47+F48+F49+F50+F51+F52+F53+F54+F55+F56+F57+F58+F59+F60+F61+F62+F63 -> 2093038.1 | G7: =264221.581++G21+G22+G23+G24+G25+G26+G27+G28+G29+G30+G31+G32+G33+G34+G35+G36+G37+G38+G39+G40+G41+G42+G43+G44+G45+G46+G47+G48+G49+G50+G51+G52+G53+G54+G55+G56+G57+G58+G59+G60+G61+G62+G63 -> 397677.24 | H7: =+F7+G7 -> 2490715.3
A8: TOTAL | F8: =SUM(F3:F7) -> 5236783.1 | G8: =SUM(G3:G7) -> 994988.79 | H8: =SUM(H3:H7) -> 6231771.9
A9: REGLEMENT RECU | H9: =4250509.889+100000+104471.601+200000+200000+200000+100000+200000+200000+280000 -> 5834981.5
A10: RESTE A PAYER | H10: =+H8-H9 -> 396790.4
A12: QUANTITE NON FACTURE
A13: 43433 | B13: CRASSE | C13: KG | D13: 27880 | E13: 1.45 | F13: =+D13*E13 -> 40426 | G13: =+F13*0.19 -> 7680.94 | H13: =+F13+G13 -> 48106.94
A14: 43482 | B14: CRASSE | C14: KG | D14: 31720 | E14: 1.45 | F14: =+D14*E14 -> 45994 | G14: =+F14*0.19 -> 8738.86 | H14: =+F14+G14 -> 54732.86
A15: 43524 | B15: CRASSE | C15: KG | D15: 27020 | E15: 1.45 | F15: =+D15*E15 -> 39179 | G15: =+F15*0.19 -> 7444.01 | H15: =+F15+G15 -> 46623.01
A16: 43418 | B16: DECHET BATTERIE | C16: KG | D16: 41220 | E16: 1.75 | F16: =+D16*E16 -> 72135 | G16: =+F16*0.19 -> 13705.65 | H16: =+F16+G16 -> 85840.65
A17: 43468 | B17: DECHET BATTERIE | C17: KG | D17: 40420 | E17: 1.8 | F17: =+D17*E17 -> 72756 | G17: =+F17*0.19 -> 13823.64 | H17: =+F17+G17 -> 86579.64
A18: 43483 | B18: DECHET BATTERIE | C18: KG | D18: 42220 | E18: 1.8 | F18: =+D18*E18 -> 75996 | G18: =+F18*0.19 -> 14439.24 | H18: =+F18+G18 -> 90435.24
A19: 43420 | B19: ETAIN | C19: KG | D19: 2857 | E19: 33 | F19: =+D19*E19 -> 94281 | G19: =+F19*0.19 -> 17913.39 | H19: =+F19+G19 -> 112194.39
A20: 43459 | B20: ETAIN | C20: KG | D20: 5101 | E20: 33 | F20: =+D20*E20 -> 168333 | G20: =+F20*0.19 -> 31983.27 | H20: =+F20+G20 -> 200316.27
A21: 43405 | B21: PLOMB | C21: KG | D21: 11270 | E21: 4.3 | F21: =+D21*E21 -> 48461 | G21: =+F21*0.19 -> 9207.59 | H21: =+F21+G21 -> 57668.59
A22: 43409 | B22: PLOMB | C22: KG | D22: 6205 | E22: 4.3 | F22: =+D22*E22 -> 26681.5 | G22: =+F22*0.19 -> 5069.485 | H22: =+F22+G22 -> 31750.985
A23: 43412 | B23: PLOMB | C23: KG | D23: 1414 | E23: 4.3 | F23: =+D23*E23 -> 6080.2 | G23: =+F23*0.19 -> 1155.238 | H23: =+F23+G23 -> 7235.438
A24: 43416 | B24: PLOMB | C24: KG | D24: 1454 | E24: 4.3 | F24: =+D24*E24 -> 6252.2 | G24: =+F24*0.19 -> 1187.918 | H24: =+F24+G24 -> 7440.118
... A30: 43431 | B30: PLOMB | C30: KG | D30: 2297 | E30: 4.3 | F30: =+D30*E30 -> 9877.1 | G30: =+F30*0.19 -> 1876.649 | H30: =+F30+G30 -> 11753.749
A31: 43432 | B31: PLOMB | C31: KG | D31: =2255+2296 -> 4551 | E31: 4.3 | F31: =+D31*E31 -> 19569.3 | G31: =+F31*0.19 -> 3718.167 | H31: =+F31+G31 -> 23287.467
A32: 43433 | B32: PLOMB | C32: KG | D32: 1678 | E32: 4.3 | F32: =+D32*E32 -> 7215.4 | G32: =+F32*0.19 -> 1370.926 | H32: =+F32+G32 -> 8586.326
A33: 43435 | B33: PLOMB | C33: KG | D33: 1996 | E33: 4.3 | F33: =+D33*E33 -> 8582.8 | G33: =+F33*0.19 -> 1630.732 | H33: =+F33+G33 -> 10213.532
A34: 43437 | B34: PLOMB | C34: KG | D34: =4417+3827 -> 8244 | E34: 4.3 | F34: =+D34*E34 -> 35449.2 | G34: =+F34*0.19 -> 6735.348 | H34: =+F34+G34 -> 42184.548
A35: 43438 | B35: PLOMB | C35: KG | D35: 2291 | E35: 4.3 | F35: =+D35*E35 -> 9851.3 | G35: =+F35*0.19 -> 1871.747 | H35: =+F35+G35 -> 11723.047
A36: 43439 | B36: PLOMB | C36: KG | D36: 2225 | E36: 4.3 | F36: =+D36*E36 -> 9567.5 | G36: =+F36*0.19 -> 1817.825 | H36: =+F36+G36 -> 11385.325
A37: 43440 | B37: PLOMB | C37: KG | D37: 1674 | E37: 4.3 | F37: =+D37*E37 -> 7198.2 | G37: =+F37*0.19 -> 1367.658 | H37: =+F37+G37 -> 8565.858
A38: 43441 | B38: PLOMB | C38: KG | D38: 2525 | E38: 4.3 | F38: =+D38*E38 -> 10857.5 | G38: =+F38*0.19 -> 2062.925 | H38: =+F38+G38 -> 12920.425
A39: 43442 | B39: PLOMB | C39: KG | D39: 2020 | E39: 4.3 | F39: =+D39*E39 -> 8686 | G39: =+F39*0.19 -> 1650.34 | H39: =+F39+G39 -> 10336.34
A40: 43444 | B40: PLOMB | C40: KG | D40: =3461+3980 -> 7441 | E40: 4.3 | F40: =+D40*E40 -> 31996.3 | G40: =+F40*0.19 -> 6079.297 | H40: =+F40+G40 -> 38075.597
A41: 43445 | B41: PLOMB | C41: KG | D41: 4491 | E41: 4.3 | F41: =+D41*E41 -> 19311.3 | G41: =+F41*0.19 -> 3669.147 | H41: =+F41+G41 -> 22980.447
A42: 43446 | B42: PLOMB | C42: KG | D42: 1455 | E42: 4.3 | F42: =+D42*E42 -> 6256.5 | G42: =+F42*0.19 -> 1188.735 | H42: =+F42+G42 -> 7445.235
A43: 43447 | B43: PLOMB | C43: KG | D43: 2674 | E43: 4.3 | F43: =+D43*E43 -> 11498.2 | G43: =+F43*0.19 -> 2184.658 | H43: =+F43+G43 -> 13682.858
A44: 43454 | B44: PLOMB | C44: KG | D44: 4790 | E44: 4.3 | F44: =+D44*E44 -> 20597 | G44: =+F44*0.19 -> 3913.43 | H44: =+F44+G44 -> 24510.43
A45: 43458 | B45: PLOMB | C45: KG | D45: 3685 | E45: 4.3 | F45: =+D45*E45 -> 15845.5 | G45: =+F45*0.19 -> 3010.645 | H45: =+F45+G45 -> 18856.145
A46: 43459 | B46: PLOMB | C46: KG | D46: 3731 | E46: 4.3 | F46: =+D46*E46 -> 16043.3 | G46: =+F46*0.19 -> 3048.227 | H46: =+F46+G46 -> 19091.527
A47: 43460 | B47: PLOMB | C47: KG | D47: 2184 | E47: 4.3 | F47: =+D47*E47 -> 9391.2 | G47: =+F47*0.19 -> 1784.328 | H47: =+F47+G47 -> 11175.528
...

Sheet CT
A1: Adr fact | B1: Nom | C1: Echeance | D1: Montant
A2: 8R09006 | B2: GHARBI JALEL BEN BRAHIM | C2: 43830 | D2: 4000
A3: 8R09023 | B3: SOUADI ABDELKADER | C3: 43830 | D3: 5000
A4: 6r23165 | B4: NASRALLAH BELGACEM B.HOUCH | C4: 43830 | D4: 2946.421
A5: 7R17011 | B5: MOHAMED NACEUR ABDELLI | C5: 43830 | D5: 1769
A6: 7R20002 | B6: HAROUNI HAFSIA BT MOHAMED | C6: 43830 | D6: 2000
A7: 8R10052 | B7: STE MAIS | C7: 43830 | D7: 1033.9
A8: 6r23153 | B8: BOUCHADDAKH KHALED | C8: 43830 | D8: 3953.925
A9: 7R16078 | B9: STE GENERALE AGRICOLE | C9: 43830 | D9: 4589.835
A10: 8R08026 | B10: RIDHA BEN ALI MENSI | C10: 43830 | D10: 7557.648
A11: 6R23146 | B11: ZAMMOURIA FATMA EPS MANSOURI | C11: 43830 | D11: 939.034
A12: 6R23143 | B12: HAOUARI CHOKRI | C12: 43830 | D12: 9847.882
A13: 6R23151 | B13: STE M W AUTO'S | C13: 43830 | D13: 1325.246
... A104: 4R15035 | B104: STE YASSINE PETROLIUM | C104: 43830 | D104: 293.4
A105: TOTAL 12/2019 | D105: =SUM(D2:D104) -> 267687.94
A106: 1R02270 | B106: STE TAHRI STATION SERVICES | C106: 43831 | D106: 484.954
A107: 1r06020 | B107: STE MED ALI DE PIECES DE | C107: 43831 | D107: 825
A108: 1r03109 | B108: STE CYRINE DRIME CAR | C108: 43831 | D108: 150
A109: 3R18234 | B109: STE CDTPR | C109: 43831 | D109: 2310.015
A110: 4R12227 | B110: HAKIM BEN SADOK KHEMIS | C110: 43831 | D110: 3000
A111: 6R21178 | B111: STE B.ABDESSALEM PIECES AUTO | C111: 43832 | D111: 2500
A112: 6R21179 | B112: BAHRI GNAOUI | C112: 43832 | D112: 1500
A113: 7R20002 | B113: HAROUNI HAFSIA BT MOHAMED | C113: 43832 | D113: 2241.861
A114: 7R17060 | B114: MHAMDI ELBAHI BEN TAHAR | C114: 43832 | D114: 3400.857
A115: 1R01567 | B115: STE AVENIR AUTO | C115: 43832 | D115: 1755.25
A116: 4R13115 | B116: SOCIETE WORLD PARTS | C116: 43832 | D116: 1500
A117: 4R12214 | B117: LIMEME FATHI BEN KHLIFA | C117: 43832 | D117: 800
... A632: 4R13139 | B632: STE CARTAGE AUTO | C632: 43861 | D632: 10000
A633: TOTAL 01/2020 | D633: =SUM(D106:D632) -> 1351762.6
A634: 7R22039 | B634: STE AL BARAKA EQUIP.GENERALE | C634: 43862 | D634: 8001.951
A635: 7R20002 | B635: HAROUNI HAFSIA BT MOHAMED | C635: 43862 | D635: 3000
A636: 1r01584 | B636: NABLI AUTO | C636: 43862 | D636: 1147.921
A637: 1r05195 | B637: STE MDIALE PCE AUTOMOBILES | C637: 43863 | D637: 1750
A638: 1r06136 | B638: STE COMPTOIR NORD DE PIECES | C638: 43863 | D638: 2500
A639: 3R18234 | B639: STE CDTPR | C639: 43863 | D639: 2443.088
A640: 3R18274 | B640: STE HSOUNA FRIKHA ET FILS | C640: 43863 | D640: 3515.344
A641: 6R21179 | B641: BAHRI GNAOUI | C641: 43864 | D641: 1500
A642: 6R21178 | B642: STE B.ABDESSALEM PIECES AUTO | C642: 43864 | D642: 3000
A643: 1r03074 | B643: BEJI FAYCEL | C643: 43864 | D643: 1361.629
A644: 1r02270 | B644: STE TAHRI STATION SERVICES | C644: 43864 | D644: 1328.845
...

Sheet TR 
A1: Adr fact | B1: Nom | C1: Echéance | D1: Montant | F1: Adr fact | G1: Nom | H1: Echéance | I1: Montant
A3: TOTAL 90 JOURS | D3: =SUM(D2:D2) -> 0
A4: 1R02271 | B4: STE ZE.D.CA.D | C4: 43855 | D4: 1284.848
A5: 6S21011 | B5: STE CHARFEDDINE RATEL ET CIE | C5: 43855 | D5: 1423.664
A6: 1R07048 | B6: JAMEL BEN HEDI BEN KHSIB | C6: 43858 | D6: 3151
A7: 1R05168 | B7: STE AGRI.QUINCAILLERIE AMEL | C7: 43858 | D7: 1311.231
A8: 1R05035 | B8: SAIDA SARRAY VEUVE FENINA | C8: 43859 | D8: 6075.095
A9: 1R06034 | B9: ETABLISSEMENTS AUPEICLE | C9: 43860 | D9: 2130.444
A10: 1R06028 | B10: TAREK BEN KHEMAIES LAHBIB | C10: 43860 | D10: 7647.816
A11: 1R01534 | B11: SOCIETE AGRI MAN | C11: 43861 | D11: 593.934
A12: 1R01534 | B12: SOCIETE AGRI MAN | C12: 43861 | D12: 1213.766
A13: 3T18004 | B13: S O R E T R A S | C13: 43861 | D13: 18281.892
A14: 8R11011 | B14: SLAHEDDINE CHARNI | C14: 43864 | D14: 770.178
A15: 1R03069 | B15: PEARTCH | C15: 43871 | D15: 1438.765
... A169: 3R18068 | B169: MOHAMED GHARIANI | C169: 44007 | D169: 17462.339
A170: TOTAL > 90 JOURS | D170: =SUM(D4:D169) -> 1002984.2
A172: TOTAL | D172: =+D170+D3 -> 1002984.2

Sheet STA
A1: TYPE | B1: DESIGN | C1: OP N° | D1: DATE-OP | E1: DATE-RECU | F1: MT OUV | G1: REG | I1: MT | J1: Échéance | K1: N° CHQ | L1: STATUT
A2: CH | B2: ISST | C2: 00012526 | D2: 42850 | F2: =SUM(I2*G2) -> 684 | G2: 1 | H2: =IF(E2="",1,0) -> 1 | I2: 684 | J2: =+D2 -> 42850 | K2: 0003890 | L2: FINANCES
A3: CH | B3: ISST | C3: 00012668 | D3: 42921 | F3: =SUM(I3*G3) -> 684 | G3: 1 | H3: =IF(E3="",1,0) -> 1 | I3: 684 | J3: =+D3 -> 42921 | K3: 0004009 | L3: FINANCES
A4: CH | B4: MAISON DE LA BALANCE | C4: 00012911 | D4: 43033 | F4: =SUM(I4*G4) -> 212.9 | G4: 1 | H4: =IF(E4="",1,0) -> 1 | I4: 212.9 | J4: =+D4 -> 43033 | K4: 0004223 | L4: FINANCES
A5: CH | B5: IDEAL DECOR | C5: 00013563 | D5: 43458 | F5: =SUM(I5*G5) -> 174.34 | G5: 1 | H5: =IF(E5="",1,0) -> 1 | I5: 174.34 | J5: =+D5 -> 43458 | K5: 0004780 | L5: FINANCES
A6: CH | B6: DON | C6: 00013893 | D6: 43810 | F6: =SUM(I6*G6) -> 150 | G6: 1 | H6: =IF(E6="",1,0) -> 1 | I6: 150 | J6: =+D6 -> 43810 | K6: 0005063 | L6: FINANCES
A7: CH | B7: SALAIRE | C7: 00013894 | D7: 43810 | F7: =SUM(I7*G7) -> 485.515 | G7: 1 | H7: =IF(E7="",1,0) -> 1 | I7: 485.515 | J7: =+D7 -> 43810 | K7: 0005064 | L7: FINANCES
A8: CH | B8: REVOLON | C8: 00013903 | D8: 43818 | F8: =SUM(I8*G8) -> 49.509 | G8: 1 | H8: =IF(E8="",1,0) -> 1 | I8: 49.509 | J8: =+D8 -> 43818 | K8: 0005071 | L8: FINANCES
A9: CH | B9: ALPHA TRADING | C9: 00013904 | D9: 43818 | F9: =SUM(I9*G9) -> 1193.84 | G9: 1 | H9: =IF(E9="",1,0) -> 1 | I9: 1193.84 | J9: =+D9 -> 43818 | K9: 0005072 | L9: FINANCES
A10: CH | B10: Ulysse Spare Parts | C10: 00013909 | D10: 43824 | F10: =SUM(I10*G10) -> 326.66 | G10: 1 | H10: =IF(E10="",1,0) -> 1 | I10: 326.66 | J10: =+D10 -> 43824 | K10: 0005078 | L10: FINANCES
A11: CH | B11: RFT | C11: 00013912 | D11: 43825 | F11: =SUM(I11*G11) -> 738.4 | G11: 1 | H11: =IF(E11="",1,0) -> 1 | I11: 738.4 | J11: =+D11 -> 43825 | K11: 0005081 | L11: FINANCES
A12: TR | B12: COMPTOIR HAMMAMI | C12: 00013914 | D12: 43825 | F12: =SUM(I12*G12) -> 1843.64 | G12: 1 | H12: =IF(E12="",1,0) -> 1 | I12: 1843.64 | J12: 43855 | K12: TR01248 | L12: FINANCES
A13: TR | B13: GENERAL INCENDIE | C13: 00013915 | D13: 43825 | F13: =SUM(I13*G13) -> 1061.973 | G13: 1 | H13: =IF(E13="",1,0) -> 1 | I13: 1061.973 | J13: 43915 | K13: TR01249 | L13: FINANCES
A14: CH | B14: ooredoo | C14: 00013889 | D14: 43805 | E14: 43824 | F14: =SUM(I14*G14) -> 273.6 | G14: 1 | H14: =IF(E14="",1,0) -> 0 | I14: 273.6 | J14: =+D14 -> 43805 | K14: 0005060
A15: CH | B15: CHIMEX | C15: 00013896 | D15: 43811 | E15: 43826 | F15: =SUM(I15*G15) -> 12002.939 | G15: 1 | H15: =IF(E15="",1,0) -> 0 | I15: 12002.939 | J15: =+D15 -> 43811 | K15: 0005065
A16: CH | B16: S. T. E. G. | C16: 00013902 | D16: 43817 | E16: 43824 | F16: =SUM(I16*G16) -> 14589.796 | G16: 1 | H16: =IF(E16="",1,0) -> 0 | I16: 14589.796 | J16: =+D16 -> 43817 | K16: 0005070
A17: CH | B17: SOTRAPRO | C17: 00013910 | D17: 43824 | E17: 43825 | F17: =SUM(I17*G17) -> 49250 | G17: 1 | H17: =IF(E17="",1,0) -> 0 | I17: 49250 | J17: =+D17 -> 43824 | K17: 0005079
A18: CH | B18: AIR LIQUIDE TUNISIE | C18: 00013911 | D18: 43825 | E18: 43826 | F18: =SUM(I18*G18) -> 2026.658 | G18: 1 | H18: =IF(E18="",1,0) -> 0 | I18: 2026.658 | J18: =+D18 -> 43825 | K18: 0005080
A19: CH | B19: NAWFIL HAMZI | C19: 00013913 | D19: 43825 | E19: 43826 | F19: =SUM(I19*G19) -> 11951.627 | G19: 1 | H19: =IF(E19="",1,0) -> 0 | I19: 11951.627 | J19: =+D19 -> 43825 | K19: 0005082
A20: CH | B20: STE NOUVELLE DES ACC NOUR | C20: 00013917 | D20: 43826 | E20: 43826 | F20: =SUM(I20*G20) -> 91083.679 | G20: 1 | H20: =IF(E20="",1,0) -> 0 | I20: 91083.679 | J20: =+D20 -> 43826 | K20: 0005085
A21: CH | B21: CIL | C21: 00013918 | D21: 43826 | E21: 43826 | F21: =SUM(I21*G21) -> 1122.097 | G21: 1 | H21: =IF(E21="",1,0) -> 0 | I21: 1122.097 | J21: =+D21 -> 43826 | K21: 0005086
