Workbook

Sheet 06-2021
B1: SND | C1: SNA | H1: STA | K1: TIP | L1: FONDERIE | M1: PHENICIA | N1: N B I | P1: I Z | Q1: UTCI | R1: ALPHA
B2: STB MEG | C2: STB | D2: STB Zriba | E2: STB MEG | F2: EURO MEG | G2: $ MEG | H2: STB MEG | I2: EURO MEG | J2: $ MEG | K2: STB MEG | L2: STB | M2: STB | N2: STB | O2: EURO MEG | P2: STB | Q2: STB | R2: STB
A3: SOLDE au 05/06/2021 | B3: -335354.71 | C3: 3774.058 | D3: 58515.06 | E3: -2491352.8 | F3: 356738.18 | G3: 13.73 | H3: 323754.33 | I3: 3.09 | J3: 21.54 | K3: 6166.695 | L3: 1541851.3 | M3: 1568322.8 | N3: -7699.646 | O3: 39.01 | P3: 117010.97 | Q3: 3752.43 | R3: -75.389
A4: EN COURS | B4: =SUM(B5:B8) -> 88676.045 | C4: =SUM(C5:C8) -> 0 | D4: =SUM(D5:D8) -> 0 | E4: =SUM(E5:E8) -> 23000 | F4: =SUM(F5:F8) -> 0 | G4: =SUM(G5:G8) -> 0 | H4: =SUM(H5:H8) -> 0 | I4: =SUM(I5:I8) -> 0 | ... N4: =SUM(N5:N8) -> 0 | O4: =SUM(P5:P8) -> 0 | P4: =SUM(R5:R8) -> 0 | Q4: =SUM(S5:S8) -> 0 | R4: =SUM(S5:S8) -> 0
A5: Cheque | B5: 75039.78 | E5: =L68+H68+N68 -> 0 | H5: 0
A6: Escompte
A7: Espece | B7: 13636.265
A8: Virement | E8: 23000
A9: Previsions | B9: =B10+B11+B12+B13+B14+B25 -> 1605847.9 | C9: =C10+C11+C12+C13+C14 -> 0 | D9: =D10+D11+D12+D13+D14 -> 0 | E9: =E14+E10+E11+E12+E13 -> 1966000 | F9: =F14 -> 102322.5 | G9: =G14 -> 0 | H9: =H10+H11+H13+H14+H30+H27+H12 -> #REF! | I9: =I10+I11+I13+I14+I23+I30 -> 0 | J9: =J10+J11+J13+J14+J23+J30 -> 0 | K9: =K10+K11+K13+K14+K23+K30 -> 0 | L9: =L10+L11+L13+L14+L23+L30 -> 0 | M9: =M10+M11+M13+M14+M23+M30 -> 1448000 | N9: =N10+N11+N13+N14+N23+N30 -> 15000 | O9: =O10+O11+O13+O14+O23+O30 -> 0 | P9: =P10+P11+P13+P14+P23+P30 -> 0 | ... R9: =R10+R11+R13+R14+R23+R30 -> 0
A10: Cheque PF | B10: =CT!D459 -> 1010093.6 | E10: =B68 -> 1500000 | H10: =E64 -> #REF! | K10: =C73+E73 -> 0 | L10: =H70+N70 -> 0 | M10: =+E71 -> 0 | N10: =+E72+C72 -> 15000
A11: Espece | B11: 150000
A12: Cheque V | B12: 150000 | E12: 300000
A13: Escompte | B13: ='TR '!D82 -> 295754.31
A14: Virement | B14: 0 | C14: =SUM(C15:C30) -> 0 | D14: =SUM(D15:D30) -> 0 | E14: =SUM(E15:E32) -> 166000 | F14: =SUM(F15:F31) -> 102322.5 | G14: =SUM(G15:G31) -> 0 | H14: =SUM(H15:H30) -> 876000 | I14: =SUM(I15:I30) -> 0 | J14: =SUM(J15:J21) -> 0 | K14: =SUM(K15:K21) -> 0 | L14: =SUM(L15:L21) -> 0 | M14: =SUM(M15:M30) -> 1448000 | N14: =SUM(N15:N21) -> 0 | O14: =SUM(O15:O30) -> 0 | P14: =SUM(P15:P30) -> 0 | Q14: =SUM(Q15:Q30) -> 592000 | R14: =SUM(R15:R30) -> 0
A15: Vente Devise | E15: =F69*3.32 -> 166000
A16: Maribat
A17: El Haramaine
A18: Allemagne | F18: 10000
A19: Med Energy | F19: 7000
A20: SIA ITALY
A21: Errafik | F21: =EXPORT!M51 -> 85322.5
A22: COTE D'IVOIRE
A23: CREDIT DE GESTION
A24: CMT
A25: RESTITUTION TVA
A26: PRIME INVESTISSEMENT
A27: Dividendes | Q27: 592000
A28: BILLET DE TRESORERIE | M28: =+H79 -> 750000
A29: C C A | H29: 876000 | M29: =96000+602000 -> 698000
A30: MCNE
A31: Placement
A32: CMT
A33: Depenses | B33: =B34+B49+B81 -> 1738617.5 | C33: =C34+C49+C81 -> 0 | D33: =D34+D49+D81 -> 0 | E33: =E34+E49+E81 -> #REF! | F33: =F34+F49+F81 -> 189416.14 | G33: =G34+G49+G81 -> 0 | H33: =H34+H49+H81 -> 1597973.2 | I33: =I34+I49+I81 -> 0 | ... R33: =R34+R49+R81 -> 0
A34: Import | C34: =SUM(C35:C48) -> 0 | E34: =SUM(E35:E48) -> 0 | F34: =SUM(F35:F48) -> 139416.14 | G34: =SUM(G35:G48) -> 0 | H34: =SUM(H35:H48) -> 0 | I34: =SUM(I35:I48) -> 0 | J34: =SUM(J35:J48) -> 0 | K34: =SUM(K35:K48) -> 0 | L34: =SUM(L35:L48) -> 0 | ... R34: =SUM(R35:R48) -> 0
A35: MICROPOROUS
A36: COPLOSA
A37: Biasin
A38: NOUR AKKU
A39: YUCRI
A40: JIANGHSU
...

Sheet etranger
A1: =TODAY() -> 45668
A2: TAUX EURO/TND | C2: 44246 | D2: 3.2884
A3: TAUX USD/TND | C3: 44246 | D3: 2.7354
A4: TAUX GBP/TND | C4: 44246 | D4: 3.7906
A5: TAUX CNY/TND | C5: 44246 | D5: 0.4201
A6: S T A
A7: FOURNISSEUR | B7: MONNAIE | C7: MONT DEV. | D7: MONT DT | E7: REGLEMENT | F7: RESTE
A8: HEMPE | B8: EUR | C8: 161190 | D8: =+C8*D2 -> 530057.2 | E8: =12000+12000+12000+12000+12000+12000+12000+7000 -> 91000 | F8: =+C8-E8 -> 70190
A9: TOTAL | C9: =SUM(C8:C8) -> 161190
A12: TOTAL | C12: =SUM(C11:C11) -> 0
A15: TOTAL | C15: =SUM(C14:C14) -> 0
A18: TOTAL | C18: =SUM(C17:C17) -> 0
A20: S N A
A21: ACCUMA 04 | B21: EUR | C21: 56767.16 | D21: =+C21*$D$2 -> 186673.13 | E21: 44246 | F21: =E21+90 -> 44336
A22: ACCUMA 05 | B22: EUR | C22: 26786.47 | D22: =+C22*$D$2 -> 88084.628 | E22: 44257 | F22: =E22+90 -> 44347
A23: ACCUMA 06 | B23: EUR | C23: 60060.79 | D23: =+C23*$D$2 -> 197503.9 | E23: 44288 | F23: =E23+90 -> 44378
A24: ACCUMA 07 | B24: EUR | C24: 52908.42 | D24: =+C24*$D$2 -> 173984.05 | E24: 44293 | F24: =E24+90 -> 44383
A25: ACCUMA 08 | B25: EUR | C25: 28116.25 | D25: =+C25*$D$2 -> 92457.477 | E25: 44294 | F25: =E25+90 -> 44384
A26: ACCUMA 09 | B26: EUR | C26: 17322.35 | D26: =+C26*$D$2 -> 56962.816 | E26: 44313 | F26: =E26+90 -> 44403
A27: ACCUMA 10 | B27: EUR | C27: 41627.32 | D27: =+C27*$D$2 -> 136887.28 | E27: 44315 | F27: =E27+90 -> 44405
A28: ACCUMA 11 | B28: EUR | C28: 50606.11 | D28: =+C28*$D$2 -> 166413.13 | E28: 44330 | F28: =E28+90 -> 44420
A29: ACCUMA 12 | B29: EUR | C29: 663.8 | D29: =+C29*$D$2 -> 2182.8399 | E29: 44323 | F29: =E29+90 -> 44413
A30: ACCUMA 13 | B30: EUR | C30: 12579.45 | D30: =+C30*$D$2 -> 41366.263 | E30: 44333 | F30: =E30+90 -> 44423
A32: TOTAL | C32: =SUM(C21:C31) -> 347438.12
A34: SOVEMA 01 | B34: EUR | C34: 12923.51 | D34: =+C34*D2 -> 42497.67 | E34: 44298 | F34: 44377 | H34: VR 30 J
A35: TOTAL | C35: =SUM(C34) -> 12923.51
A37: SORFIN | B37: GBP | C37: 20785 | D37: =+C37*D4 -> 78787.621 | F37: 44372
A39: TOTAL | C39: =SUM(C37:C38) -> 20785
A41: SIA | B41: EUR | C41: 80151.97 | D41: =+C41*D2 -> 263571.74 | E41: 44043 | F41: 44043 | H41: SOLDE EXPORT
A43: TOTAL | C43: =SUM(C41:C41) -> 80151.97
A45: MICROPOROUS 03 | B45: EUR | C45: 34696.2 | D45: =+C45*D2 -> 114094.98 | E45: 44320 | F45: =+E45+90 -> 44410
A46: MICROPOROUS 04 | B46: EUR | C46: 33961.02 | D46: =+C46*D3 -> 92896.974
A48: TOTAL | C48: =SUM(C45:C47) -> 68657.22
A50: GOONVEAN | B50: GBP | C50: 6399 | D50: =+C50*D4 -> 24256.049
A52: TOTAL | C52: =SUM(C50:C51) -> 6399
A54: YUCRY | B54: EUR | C54: 15225 | D54: =+C54*D2 -> 50065.89
A55: TOTAL | C55: =SUM(C54:C54) -> 15225
A57: ELINOIL | B57: EUR | C57: 4199.57 | D57: =+C57*D2 -> 13809.866 | E57: 43951 | F57: =+E57 -> 43951 | H57: PAYEE PAR TOM
A61: TOTAL | C61: =SUM(C57:C60) -> 4199.57
A64: TOTAL | C64: =SUM(C63:C63) -> 0
...

Sheet CMT
B2: SNA-NOUR
B3: ECHEANCIER 2021
B5: Crédit | D5: Échéance | E5: Principal | F5: Intérêt | G5: Total | H5: PP | I5: INT
B6: STB Meg | C6: 2500000 | D6: 44227 | F6: 40106.25 | G6: =SUM(E6:F6) -> 40106.25
B7: STB Meg | C7: 1250000 | D7: 44227 | E7: 104166.67 | F7: 22281.25 | G7: =SUM(E7:F7) -> 126447.92
B8: Total 01/2021 | E8: =SUM(E6:E7) -> 104166.67 | F8: =SUM(F6:F7) -> 62387.5 | G8: =SUM(G6:G7) -> 166554.17
B9: STB Meg | C9: 500000 | D9: 44286 | E9: 41666.667 | F9: 4359.375 | G9: =SUM(E9:F9) -> 46026.042
B10: STB Meg | C10: 1150000 | D10: 44286 | E10: 95833.333 | F10: 10026.563 | G10: =SUM(E10:F10) -> 105859.9
B11: STB Meg | C11: 1000000 | D11: 44286 | E11: 83333.333 | F11: 8718.75 | G11: =SUM(E11:F11) -> 92052.083
B12: STB Meg | C12: 350000 | D12: 44286 | E12: 29166.667 | F12: 3051.563 | G12: =SUM(E12:F12) -> 32218.23
B13: STB Meg | C13: 500000 | D13: 44286 | E13: 41666.667 | F13: 4359.375 | G13: =SUM(E13:F13) -> 46026.042
B14: Total 03/2021 | E14: =SUM(E9:E13) -> 291666.67 | F14: =SUM(F9:F13) -> 30515.626 | G14: =SUM(E14:F14) -> 322182.29
B15: STB Meg | C15: 2500000 | D15: 44316 | E15: 208333.33 | F15: 39308.333 | G15: =SUM(E15:F15) -> 247641.67
B16: STB Meg | C16: 1250000 | D16: 44316 | F16: 19654.667 | G16: =SUM(E16:F16) -> 19654.667
B17: Total 04/2021 | E17: =SUM(E15:E15) -> 208333.33 | F17: =SUM(F15:F16) -> 58963 | G17: =SUM(E17:F17) -> 267296.33
B18: STB Meg | C18: 500000 | D18: 44377 | F18: 3526.25 | G18: =SUM(E18:F18) -> 3526.25
B19: STB Meg | C19: 1150000 | D19: 44377 | F19: 8110.375 | G19: =SUM(E19:F19) -> 8110.375
B20: STB Meg | C20: 1000000 | D20: 44377 | F20: 7052.5 | G20: =SUM(E20:F20) -> 7052.5
B21: STB Meg | C21: 350000 | D21: 44377 | F21: 2468.375 | G21: =SUM(E21:F21) -> 2468.375
B22: STB Meg | C22: 500000 | D22: 44377 | F22: 3526.25 | G22: =SUM(E22:F22) -> 3526.25
B23: Total 06/2021 | E23: =SUM(E18:E22) -> 0 | F23: =SUM(F18:F22) -> 24683.75 | G23: =SUM(E23:F23) -> 24683.75
B24: STB Meg | C24: 2500000 | D24: 44408 | F24: 35650 | G24: =SUM(E24:F24) -> 35650
B25: STB Meg | C25: 1250000 | D25: 44408 | E25: 104166.67 | F25: 20053.125 | G25: =SUM(E25:F25) -> 124219.79
B26: Total 07/2021 | E26: =SUM(E24:E25) -> 104166.67 | F26: =SUM(F24:F25) -> 55703.125 | G26: =SUM(G24:G25) -> 159869.79
B27: STB Meg | C27: 500000 | D27: 44469 | E27: 41666.667 | F27: 3565 | G27: =SUM(E27:F27) -> 45231.667
B28: STB Meg | C28: 1150000 | D28: 44469 | E28: 95833.333 | F28: 8199.5 | G28: =SUM(E28:F28) -> 104032.83
B29: STB Meg | C29: 1000000 | D29: 44469 | E29: 83333.333 | F29: 7130 | G29: =SUM(E29:F29) -> 90463.333
B30: STB Meg | C30: 350000 | D30: 44469 | E30: 29166.667 | F30: 2495.5 | G30: =SUM(E30:F30) -> 31662.167
B31: STB Meg | C31: 500000 | D31: 44469 | E31: 41666.667 | F31: 3565 | G31: =SUM(E31:F31) -> 45231.667
B32: Total 09/2021 | E32: =SUM(E27:E31) -> 291666.67 | F32: =SUM(F27:F31) -> 24955 | G32: =SUM(E32:F32) -> 316621.67
B33: STB Meg | C33: 2500000 | D33: 44500 | E33: 208333.33 | F33: 35650 | G33: =SUM(E33:F33) -> 243983.33
B34: STB Meg | C34: 1250000 | D34: 44500 | F34: 17825 | G34: =SUM(E34:F34) -> 17825
B35: Total 10/2021 | E35: =SUM(E33:E33) -> 208333.33 | F35: =SUM(F33:F34) -> 53475 | G35: =SUM(E35:F35) -> 261808.33
B36: STB Meg | C36: 500000 | D36: 44561 | F36: 2673.75 | G36: =SUM(E36:F36) -> 2673.75
B37: STB Meg | C37: 1150000 | D37: 44561 | F37: 6149.625 | G37: =SUM(E37:F37) -> 6149.625
B38: STB Meg | C38: 1000000 | D38: 44561 | F38: 5347.5 | G38: =SUM(E38:F38) -> 5347.5
B39: STB Meg | C39: 350000 | D39: 44561 | F39: 1871.625 | G39: =SUM(E39:F39) -> 1871.625
B40: STB Meg | C40: 500000 | D40: 44561 | F40: 2673.75 | G40: =SUM(E40:F40) -> 2673.75
B41: Total 12/2021 | E41: =SUM(E36:E40) -> 0 | F41: =SUM(F36:F40) -> 18716.25 | G41: =SUM(E41:F41) -> 18716.25
B43: TOTAL 2021 | E43: =E41+E35+E32+E26+E23+E17+E14+E8 -> 1208333.3 | F43: =F41+F35+F32+F26+F23+F17+F14+F8 -> 329399.25 | G43: =G41+G35+G32+G26+G23+G17+G14+G8 -> 1537732.6

Sheet EXPORT
A2: CLIENT | B2: Facture | H2: MCNE | K2: REGLEMENT | M2: DIFFERENCE
B3: Numéro | C3: Date | D3: DEV | E3: MONTANT | F3: TND | G3: Échéance | H3: Montant | I3: DATE MEP | J3: ECHEANCE | K3: Montant | L3: Date
A4: MARIBAT | B4: EX180001 | C4: 43164 | D4: USD | E4: 35971.2 | F4: =+E4*2.38585 -> 85821.888 | G4: =+C4+120 -> 43284 | K4: =5174.34+49985-20400 -> 34759.34 | M4: =+E4-K4 -> 1211.86
A7: CLIENT | B7: Facture | H7: MCNE | K7: REGLEMENT | M7: DIFFERENCE
B8: Numéro | C8: Date | D8: DEV | E8: MONTANT | F8: TND | G8: Échéance | H8: Montant | I8: DATE MEP | J8: ECHEANCE | K8: Montant | L8: Date
A9: MARIBAT | B9: FN110017 | C9: 40680 | D9: EUR | E9: 5190.95 | F9: =+E9*1.95835 -> 10165.697 | G9: =+C9+90 -> 40770 | M9: =+E9-K9 -> 5190.95
A10: EL HARAMAINE | B10: FN160077 | C10: 42703 | D10: USD | E10: 60082 | F10: =+E10*2.2879 -> 137461.61 | G10: =+C10+90 -> 42793 | M10: =E10-K10 -> 60082
A11: MED ENERGY | B11: FN170025 | C11: 42906 | D11: EUR | E11: 52992.7 | F11: =+E11*2.7377 -> 145078.11 | G11: =+C11+60 -> 42966 | K11: =7976.5+6976.5+6948.75 -> 21901.75 | M11: =E11-K11 -> 31090.95
A12: MED ENERGY | B12: FN170058 | C12: 43075 | D12: EUR | E12: 14634.52 | F12: =+E12*2.9164 -> 42680.114 | G12: =+C12+60 -> 43135 | M12: =E12-K12 -> 14634.52
A13: BATTERIEDIENST | B13: FN180005 | C13: 43147 | D13: EUR | E13: 73120.64 | F13: =+E13*2.9473 -> 215508.46 | G13: =+C13+60 -> 43207 | K13: =40000+30000 -> 70000 | M13: =E13-K13 -> 3120.64
A14: SMITEC | B14: FN190001 | C14: 43496 | D14: EUR | E14: 50227.2 | F14: =+E14*3.44525 -> 173045.26 | G14: =+C14+60 -> 43556 | K14: =8000+15000 -> 23000 | M14: =E14-K14 -> 27227.2
A15: MED ENERGY | B15: FN190017 | C15: 43542 | D15: EUR | E15: 60422.38 | F15: =+E15*3.39645 -> 205221.59 | G15: =+C15+60 -> 43602 | K15: =18116+11241.38+5000+6500 -> 40857.38 | M15: =E15-K15 -> 19565
A16: ERRAFIK | B16: FN190050 | C16: 43650 | D16: EUR | E16: 80487.84 | F16: =+E16*3.2573 -> 262173.04 | G16: =+C16+60 -> 43710 | K16: =17160.49+23220.56 -> 40381.05 | M16: =E16-K16 -> 40106.79
A17: SIA Italie | B17: FN190068 | C17: 43721 | D17: EUR | E17: 55220.26 | F17: =+E17*3.16425 -> 174730.71 | G17: =+C17+60 -> 43781 | K17: =14980-3241.88+18080.51+4985 -> 34803.63 | M17: =E17-K17 -> 20416.63
A18: SIA Italie | B18: FN190076 | C18: 43767 | D18: EUR | E18: 59886.98 | F18: =+E18*3.1485 -> 188554.16 | G18: =+C18+60 -> 43827 | M18: =E18-K18 -> 59886.98
A19: ERRAFIK | B19: FN190089 | C19: 43808 | D19: EUR | E19: 72000.6 | F19: =E19*3.17075 -> 228295.9 | G19: =+C19+60 -> 43868 | M19: =E19-K19 -> 72000.6
A20: ERRAFIK | B20: FN190091 | C20: 43820 | D20: EUR | E20: 69278.3 | F20: =+E20*3.1659 -> 219328.17 | G20: =+C20+60 -> 43880 | K20: 54606.25 | M20: =E20-K20 -> 14672.05
A21: ERRAFIK | B21: FN200025 | C21: 43955 | D21: EUR | E21: 168227.2 | F21: =+E21*3.1521 -> 530268.96 | G21: =+C21+60 -> 44015 | K21: =168000+227.2 -> 168227.2 | M21: =E21-K21 -> 0
A22: NOURAKKUMULATOREN | B22: FP200006 | C22: 43970 | D22: EUR | E22: 15734.26 | F22: =E22*3.16385 -> 49780.839 | G22: =+C22+60 -> 44030 | K22: =16027.1-13984.3+13691.46 -> 15734.26 | M22: =E22-K22 -> 0
A23: NOURAKKUMULATOREN | B23: FN200031 | C23: 44012 | D23: EUR | E23: 15834.73 | F23: =+E23*3.20945 -> 50820.774 | G23: =+C23+60 -> 44072 | K23: =14010.96-13691.46+3000+5000+5985+1530.23 -> 15834.73 | M23: =E23-K23 -> 0
A24: NOURAKKUMULATOREN | B24: FN200034 | C24: 44036 | D24: EUR | E24: 12626.18 | F24: =+E24*3.22895 -> 40769.304 | G24: =+C24+60 -> 44096 | K24: =10062.44+2563.74 -> 12626.18 | M24: =E24-K24 -> 0
A25: NOURAKKUMULATOREN | B25: FN200040 | C25: 44050 | D25: EUR | E25: 22494.77 | F25: =+E25*3.23755 -> 72827.943 | G25: =+C25+60 -> 44110 | K25: =4370.53+7668.83+10455.41 -> 22494.77 | M25: =E25-K25 -> 0
A26: NOURAKKUMULATOREN | B26: FN200042 | C26: 44070 | D26: EUR | E26: 11215.72 | F26: =+E26*3.24325 -> 36375.384 | G26: =+C26+60 -> 44130 | K26: 11215.72 | M26: =E26-K26 -> 0
A27: NOURAKKUMULATOREN | B27: FN200045 | C27: 44077 | D27: EUR | E27: 12083.83 | F27: =+E27*3.24375 -> 39196.924 | G27: =+C27+60 -> 44137 | K27: 12083.83 | M27: =E27-K27 -> 0
A28: SIA Italie | B28: FN200046 | C28: 44083 | D28: EUR | E28: =44987.48+46877.59 -> 91865.07 | F28: =+E28*3.25895 -> 299383.67 | G28: =+C28+60 -> 44143 | K28: =27706.53+9970+9970+9970+9970+9970+4976.5+4953 -> 87486.03 | M28: =E28-K28 -> 4379.04
A29: ERRAFIK | B29: FN200048 | C29: 44090 | D29: EUR | E29: 81646.9 | F29: =+E29*3.25965 -> 266140.32 | G29: =+C29+60 -> 44150 | K29: =47799.42+33847.48 -> 81646.9 | M29: =E29-K29 -> 0
A30: NOURAKKUMULATOREN | B30: FN200049 | C30: 44096 | D30: EUR | E30: 15922.43 | F30: =+E30*3.2507 -> 51759.043 | G30: =+C30+60 -> 44156 | K30: 15922.43 | M30: =E30-K30 -> 0
A31: NOURAKKUMULATOREN | B31: FN200052 | C31: 44109 | D31: EUR | E31: 16380.5 | F31: =+E31*3.2461 -> 53172.741 | G31: =+C31+60 -> 44169 | K31: =9428.61+2000+3000 -> 14428.61 | M31: =E31-K31 -> 1951.89
A32: NOURAKKUMULATOREN | B32: FN200053 | C32: 44109 | D32: EUR | E32: 27320 | F32: =E32*3.24845 -> 88747.654 | G32: =+C32+60 -> 44169 | M32: =E32-K32 -> 27320
A33: ERRAFIK | B33: FN200054 | C33: 44116 | D33: EUR | E33: 39840 | F33: =+E33*3.25305 -> 129601.51 | G33: =+C33+60 -> 44176 | K33: =16152.52+23687.48 -> 39840 | M33: =E33-K33 -> 0
A34: NOURAKKUMULATOREN | B34: FN200055 | C34: 44118 | D34: EUR | E34: 8621 | F34: =+E34*3.2505 -> 28022.561 | G34: =+C34+60 -> 44178 | M34: =E34-K34 -> 8621
A35: ERRAFIK | B35: FN200056 | C35: 44130 | D35: EUR | E35: 86254.36 | F35: =+E35*3.25165 -> 280468.99 | G35: =+C35+60 -> 44190 | K35: =26312.52+59941.84 -> 86254.36 | M35: =E35-K35 -> 0
A36: ERRAFIK | B36: FN200059 | C36: 44137 | D36: EUR | E36: 83717.44 | F36: =+E36*3.23415 -> 270754.76 | G36: =+C36+60 -> 44197 | K36: =80000-227.2 -> 79772.8 | M36: =E36-K36 -> 3944.64 | N36: GERMENT
A37: NOURAKKUMULATOREN | B37: FN200061 | C37: 44148 | D37: EUR | E37: 15106 | F37: =+E37*3.2508 -> 49106.585 | G37: =+C37+60 -> 44208 | M37: =E37-K37 -> 15106
A38: NOURAKKUMULATOREN | B38: FN200063 | C38: 44155 | D38: EUR | E38: 10412.61 | F38: =+E38*3.2515 -> 33856.601 | G38: =+C38+60 -> 44215 | M38: =E38-K38 -> 10412.61
A39: NOURAKKUMULATOREN | B39: FN200068 | C39: 44168 | D39: EUR | E39: 9195.5 | F39: =+E39*3.2789 -> 30151.125 | G39: =+C39+60 -> 44228 | M39: =E39-K39 -> 9195.5
A40: NOURAKKUMULATOREN | B40: FN200069 | C40: 44175 | D40: EUR | E40: 8960 | F40: =+E40*3.2833 -> 29418.368 | G40: =+C40+60 -> 44235 | M40: =E40-K40 -> 8960
A41: ERRAFIK | B41: FN200067 | C41: 44166 | D41: EUR | E41: 89529.3 | F41: =+E41*3.291 -> 294640.93 | G41: =+C41+60 -> 44226 | K41: =65058.16+24471.14 -> 89529.3 | M41: =E41-K41 -> 0
A42: NOURAKKUMULATOREN | B42: FN210001 | C42: 44200 | D42: EUR | E42: 16027.1 | F42: =+E42*3.2928 -> 52774.035 | G42: =+C42+60 -> 44260 | M42: =E42-K42 -> 16027.1
A43: MARIBAT | B43: FN210002 | C43: 44204 | D43: EUR | E43: 98359.84 | F43: =+E43*3.2861 -> 323220.27 | G43: =+C43+60 -> 44264 | K43: 98224.34 | M43: =E43-K43 -> 135.5
...

Sheet CT
A1: Adr fact | B1: Nom | C1: Echeance | D1: Montant | E1: Amount
A2: 4R12138 | B2: ALI LAYOUNI- STATION SHELL | C2: 44352 | D2: 373.844 | L2: 44377
A3: 8R08047 | B3: STE ALHAYET PARTS | C3: 44352 | D3: 1725 | L3: =L2-4 -> 44373
A4: 4R12138 | B4: ALI LAYOUNI- STATION SHELL | C4: 44352 | D4: 490.39 | L4: =L3+90 -> 44463
A5: 8R10071 | B5: TOUIHRI HICHEM B.HASSEN | C5: 44352 | D5: 364.073
A6: 8R09006 | B6: GHARBI JALEL BEN BRAHIM | C6: 44352 | D6: 2450
A7: 1S10001 | B7: STE MARJA DE DEVELOPPEMENT | C7: 44352 | D7: 886.531
A8: 3R18367 | B8: STE IDEALE PIECES AUTOS SIPA | C8: 44352 | D8: 4000
A9: 3R15038 | B9: ANIS BEN KHALIPHA RHAIEM | C9: 44352 | D9: 7000
A10: 3R18427 | B10: STE NOUVELLE PIECES AUTO | C10: 44352 | D10: 2000
A11: 3R18420 | B11: STE AUTO PLUS | C11: 44352 | D11: 2000
A12: 3R18337 | B12: SOCIETE ALI PIECES AUTOS | C12: 44352 | D12: 1747.854
A13: 1R01551 | B13: GENERALE ELECT.AUTOMOBILE | C13: 44352 | D13: 7821.187
A14: 1R03074 | B14: BEJI FAYCEL | C14: 44352 | D14: 1117.452
A15: 1r02282 | B15: COMPTOIR AUTO.SVCES RAPIDES | C15: 44352 | D15: 792.903
A16: 1R04150 | B16: STE CHAABANI AUTOS "S-C-A" | C16: 44352 | D16: 8715.307
... A458: 8R09086 | B458: BEN MECHRI SALAH B KHOUMAIES | C458: 44377 | D458: 347.104
A459: TOTAL 06/2021 | D459: =SUM(D2:D458) -> 1010093.6
A460: 1R05181 | B460: MAJED BEN MED HAMMAMI | C460: 44378 | D460: 4692.589
A461: 1R02270 | B461: STE TAHRI STATION SERVICES | C461: 44378 | D461: 160.001
A462: 4R15051 | B462: STE LARMA | C462: 44378 | D462: 3616.731
A463: 7r19069 | B463: HOUCINE B. ABDELHAMID BOUONI | C463: 44378 | D463: 2711.574
A464: 7R22039 | B464: STE AL BARAKA EQUIP.GENERALE | C464: 44378 | D464: 5847.27
A465: 7R20002 | B465: HAROUNI HAFSIA BT MOHAMED | C465: 44378 | D465: 899.913
A466: 3R18384 | B466: STE DES PIECES DE RECHANGE | C466: 44379 | D466: 4950
A467: 1R03186 | B467: STE PIECES AUTO NAIMA "PAN" | C467: 44379 | D467: 360
A468: 1R02298 | B468: STE QUALITY SPARE PARTS | C468: 44379 | D468: 491.665
A469: 4R13137 | B469: STE CENTRE NAOUALI SERVICES | C469: 44379 | D469: 1830.073
A470: 4R13155 | B470: STE OULED SASSI | C470: 44379 | D470: 3937.451
A471: 6R21187 | B471: STE ALHADITHA DE PIECES AUTO | C471: 44379 | D471: 1000
... A855: 7R16082 | B855: CHAABANI OKBA BEN ALI | C855: 44408 | D855: 2908.365
A856: TOTAL 07/2021 | D856: =SUM(D460:D855) -> 861943.27
A857: 1R02287 | B857: STE GLOBALE BATTERIES DAOUDI | C857: 44409 | D857: 8846.594
A858: 6R23155 | B858: STE EQUIP.INDUSTRIEL & MARIT | C858: 44409 | D858: 7784.277
A859: 4R13115 | B859: SOCIETE WORLD PARTS | C859: 44410 | D859: 728.877
A860: 4R13132 | B860: STE GENERALE EQUIP.MARITIME | C860: 44410 | D860: 1128.213
A861: 3R18384 | B861: STE DES PIECES DE RECHANGE | C861: 44411 | D861: 3294.929
A862: 1R02282 | B862: COMPTOIR AUTO.SVCES RAPIDES | C862: 44411 | D862: 877.9
A863: 1R03074 | B863: BEJI FAYCEL | C863: 44411 | D863: 685.367
A864: 1R03157 | B864: RIAHI TAREK B HMIDA B MED | C864: 44411 | D864: 864.356
...

Sheet TR 
A1: Adr fact | B1: Nom | C1: Echéance | D1: Montant
A2: 3R18146 | B2: C O P I A | C2: 44347 | D2: 922.886
A3: 4S12056 | B3: STE GENERAL BETON | C3: 44363 | D3: 3902.807
A4: 1R02196 | B4: SOCIETE SOPI | C4: 44392 | D4: 637
A5: 8R10056 | B5: STE HAMMAMI DE MATER.AGRICOL | C5: 44392 | D5: 1728.16
A6: 8R11010 | B6: ISSAOUI ABDERRAHMEN | C6: 44392 | D6: 1898.23
A7: 1S01255 | B7: STE FIX-N-GO | C7: 44405 | D7: 3247.735 | I7: 44354
A8: 8R08043 | B8: STE RAHMANI DE PIECES AUTOS | C8: 44407 | D8: 2958.804 | I8: =I7-4 -> 44350
A9: 8R09076 | B9: STE TUN DE PRODUITS AGRICOLE | C9: 44407 | D9: 3237.136 | I9: =I8+90 -> 44440
A10: 8R10037 | B10: WALID BEN HABIB CHORFI | C10: 44407 | D10: 992.496
A11: 1R02196 | B11: SOCIETE SOPI | C11: 44408 | D11: 638.917
A12: 6R21035 | B12: AMMAR B. ABDERRAHMEN GHRIBI | C12: 44408 | D12: 18470.531
A13: 8R09078 | B13: STE TUNISIENNE AGRICOLE | C13: 44408 | D13: 6028.22
A14: 8R10040 | B14: ROJDI BEN MOHAMED KRAOUII | C14: 44408 | D14: 4503.098
A15: 1R02143 | B15: STE COMPTOIR CYRINE-MARIEM | C15: 44413 | D15: 2026.968
A16: 3R18331 | B16: STE SCAPA | C16: 44413 | D16: 2565
A17: 8R09022 | B17: S O C O M A F | C17: 44414 | D17: 339.572
A18: 3R18331 | B18: STE SCAPA | C18: 44423 | D18: 2571.021
A19: 4S120006 | B19: SOCIETE TRANS-FOOD | C19: 44425 | D19: 1836.739
A20: 1R07048 | B20: JAMEL BEN HEDI BEN KHSIB | C20: 44428 | D20: 2940.779
A21: 4R14015 | B21: STE EL GHARBI EQUIP.GENERAL | C21: 44429 | D21: 2250
... A81: 1R05211 | B81: STE EL HAMDI PIECES.RECHANGE | C81: 44461 | D81: 1800
A82: TOTAL 90 JOURS | D82: =SUM(D2:D81) -> 295754.31
A83: 1R03030 | B83: COMPAGNIE TNNE DE REPRESENT. | C83: 44464 | D83: 2405.119
A84: 1R03141 | B84: BEN ALI HAMDI | C84: 44464 | D84: 1510.757
A85: 1R04037 | B85: SOCIETE ZAGHLA FRERES | C85: 44464 | D85: 5363.541
A86: 3R18068 | B86: MOHAMED GHARIANI | C86: 44464 | D86: 20000
A87: 4R13125 | B87: STE SARRA AUTO | C87: 44464 | D87: 2000
A88: 4R14029 | B88: JAADI MONCEF | C88: 44465 | D88: 652
A89: 1R05171 | B89: STE L'HORIZON DE PIECES DE | C89: 44467 | D89: 949.901
A90: 1R01480 | B90: STE HADJ AUTO | C90: 44469 | D90: 1752.941
A91: 1R01579 | B91: MARSA BATTERIES | C91: 44469 | D91: 2847.596
A92: 1R03182 | B92: FIRST AUTOMOTIVE | C92: 44469 | D92: 3287.493
A93: 1R05055 | B93: RHIM CHEDLY | C93: 44469 | D93: 2550.69
A94: 3R18068 | B94: MOHAMED GHARIANI | C94: 44469 | D94: 21972.424
... A110: 3R18077 | B110: STE.DES PIECES POIDS LOURD | C110: 44500 | D110: 4109.161
A111: TOTAL > 90 JOURS | D111: =SUM(D83:D110) -> 172376.57
A113: TOTAL | D113: =+D111+D82 -> 468130.88

Sheet STA
A1: TYPE | B1: DESIGN | C1: OP N° | D1: DATE-OP | E1: DATE-RECU | F1: MT OUV | G1: REG | I1: MT | J1: Échéance | K1: N° CHQ | L1: STATUT
A2: CH | B2: TUNISIE TELECOM ( FIXE ) | C2: 00014188 | D2: 44139 | F2: =SUM(I2*G2) -> 73.41 | G2: 1 | H2: =IF(E2="",1,0) -> 1 | I2: 73.41 | J2: =+D2 -> 44139 | K2: 0005326 | L2: EN SIGNATURE
A3: CH | B3: S. T. E. G. | C3: 00014220 | D3: 44176 | F3: =SUM(I3*G3) -> 1619.456 | G3: 1 | H3: =IF(E3="",1,0) -> 1 | I3: 1619.456 | J3: =+D3 -> 44176 | K3: 0005354 | L3: EN SIGNATURE
A4: CH | B4: STG | C4: 00014331 | D4: 44263 | F4: =SUM(I4*G4) -> 305.953 | G4: 1 | H4: =IF(E4="",1,0) -> 1 | I4: 305.953 | J4: =+D4 -> 44263 | K4: 0005444 | L4: EN SIGNATURE
A5: CH | B5: PROSID | C5: 00014338 | D5: 44267 | F5: =SUM(I5*G5) -> 149.683 | G5: 1 | H5: =IF(E5="",1,0) -> 1 | I5: 149.683 | J5: =+D5 -> 44267 | K5: 0005451 | L5: EN SIGNATURE
A6: CH | B6: TUNISIE TELECOM ( FIXE ) | C6: 00014390 | D6: 44335 | F6: =SUM(I6*G6) -> 36.6 | G6: 1 | H6: =IF(E6="",1,0) -> 1 | I6: 36.6 | J6: =+D6 -> 44335 | K6: 0005498 | L6: EN SIGNATURE
A7: CH | B7: ISST | C7: 00012526 | D7: 42850 | F7: =SUM(I7*G7) -> 684 | G7: 1 | H7: =IF(E7="",1,0) -> 1 | I7: 684 | J7: =+D7 -> 42850 | K7: 0003890 | L7: FINANCES
A8: CH | B8: ISST | C8: 00012668 | D8: 42921 | F8: =SUM(I8*G8) -> 684 | G8: 1 | H8: =IF(E8="",1,0) -> 1 | I8: 684 | J8: =+D8 -> 42921 | K8: 0004009 | L8: FINANCES
A9: CH | B9: MAISON DE LA BALANCE | C9: 00012911 | D9: 43033 | F9: =SUM(I9*G9) -> 212.9 | G9: 1 | H9: =IF(E9="",1,0) -> 1 | I9: 212.9 | J9: =+D9 -> 43033 | K9: 0004223 | L9: FINANCES
A10: CH | B10: IDEAL DECOR | C10: 00013563 | D10: 43458 | F10: =SUM(I10*G10) -> 174.34 | G10: 1 | H10: =IF(E10="",1,0) -> 1 | I10: 174.34 | J10: =+D10 -> 43458 | K10: 0004780 | L10: FINANCES
A11: CH | B11: STE BEN MASSOUD FRERES | C11: 00013929 | D11: 43836 | F11: =SUM(I11*G11) -> 107.7 | G11: 1 | H11: =IF(E11="",1,0) -> 1 | I11: 107.7 | J11: =+D11 -> 43836 | K11: 0005094 | L11: FINANCES
A12: CH | B12: SMART SECURITY | C12: 00013978 | D12: 43885 | F12: =SUM(I12*G12) -> 1125.264 | G12: 1 | H12: =IF(E12="",1,0) -> 1 | I12: 1125.264 | J12: =+D12 -> 43885 | K12: 0005146 | L12: FINANCES
A13: TR | B13: TUNIMATEC | C13: 00014054 | D13: 43984 | F13: =SUM(I13*G13) -> 717.228 | G13: 1 | H13: =IF(E13="",1,0) -> 1 | I13: 717.228 | J13: 44058 | K13: TR01264 | L13: FINANCES
A14: CH | B14: ULYSSE HYPER DISTRIBUTION | C14: 00014189 | D14: 44139 | F14: =SUM(I14*G14) -> 115.6 | G14: 1 | H14: =IF(E14="",1,0) -> 1 | I14: 115.6 | J14: =+D14 -> 44139 | K14: 0005327 | L14: FINANCES
A15: CH | B15: GOLDA GROUP | C15: 00014270 | D15: 44224 | F15: =SUM(I15*G15) -> 308.574 | G15: 1 | H15: =IF(E15="",1,0) -> 1 | I15: 308.574 | J15: =+D15 -> 44224 | K15: 0005390 | L15: FINANCES
A16: CH | B16: EXPRESS TRANSIT | C16: 00014271 | D16: 44224 | F16: =SUM(I16*G16) -> 579.425 | G16: 1 | H16: =IF(E16="",1,0) -> 1 | I16: 579.425 | J16: =+D16 -> 44224 | K16: 0005391 | L16: FINANCES
A17: CH | B17: FOURNISSEURS ACHATS | C17: 00014299 | D17: 44238 | F17: =SUM(I17*G17) -> 71.448 | G17: 1 | H17: =IF(E17="",1,0) -> 1 | I17: 71.448 | J17: =+D17 -> 44238 | K17: 0005418 | L17: FINANCES
A18: CH | B18: 2RE | C18: 00014348 | D18: 44277 | F18: =SUM(I18*G18) -> 225.51 | G18: 1 | H18: =IF(E18="",1,0) -> 1 | I18: 225.51 | J18: =+D18 -> 44277 | K18: 0005462 | L18: FINANCES
A19: CH | B19: MAGHRBIA IMMOBILIERE | C19: 00014366 | D19: 44292 | F19: =SUM(I19*G19) -> 930.89 | G19: 1 | H19: =IF(E19="",1,0) -> 1 | I19: 930.89 | J19: =D19 -> 44292 | K19: 0005478 | L19: FINANCES
A20: TR | B20: GENERAL INCENDIE | C20: 00014384 | D20: 44321 | F20: =SUM(I20*G20) -> 261.21 | G20: 1 | H20: =IF(E20="",1,0) -> 1 | I20: 261.21 | J20: 44402 | K20: TR01276 | L20: FINANCES
A21: VI | B21: R.FINANCE MEGRINE | C21: 00014229 | D21: 44183 | E21: 44183 | F21: =SUM(I21*G21) -> 90.035 | G21: 1 | H21: =IF(E21="",1,0) -> 0 | I21: 90.035 | J21: =+D21 -> 44183 | K21: VI00272
F22: =SUM(I22*G22) -> 0 | G22: 1 | H22: =IF(E22="",1,0) -> 1
F23: =SUM(I23*G23) -> 0 | G23: 1 | H23: =IF(E23="",1,0) -> 1
F24: =SUM(I24*G24) -> 0 | G24: 1 | H24: =IF(E24="",1,0) -> 1
F25: =SUM(I25*G25) -> 0 | G25: 1 | H25: =IF(E25="",1,0) -> 1
F26: =SUM(I26*G26) -> 0 | G26: 1 | H26: =IF(E26="",1,0) -> 1
F27: =SUM(I27*G27) -> 0 | G27: 1 | H27: =IF(E27="",1,0) -> 1
F28: =SUM(I28*G28) -> 0 | G28: 1 | H28: =IF(E28="",1,0) -> 1
F29: =SUM(I29*G29) -> 0 | G29: 1 | H29: =IF(E29="",1,0) -> 1
F30: =SUM(I30*G30) -> 0 | G30: 1 | H30: =IF(E30="",1,0) -> 1
F31: =SUM(I31*G31) -> 0 | G31: 1 | H31: =IF(E31="",1,0) -> 1
F32: =SUM(I32*G32) -> 0 | G32: 1 | H32: =IF(E32="",1,0) -> 1
F33: =SUM(I33*G33) -> 0 | G33: 1 | H33: =IF(E33="",1,0) -> 1
... F49: =SUM(I49*G49) -> 0 | G49: 1 | H49: =IF(E49="",1,0) -> 1

Sheet SND
A1: TYPE | B1: DESIGN | C1: OP N° | D1: DATE-OP | E1: DATE-RECU | F1: MT OUV | G1: REG | I1: MT | J1: Banque | K1: Échéance | L1: N° CHQ | M1: STATUT
A2: CH | B2: TOP RECOUVREMENT | C2: 00007714 | D2: 43812 | F2: =SUM(I2*G2) -> 476.6 | G2: 1 | H2: =IF(E2="",1,0) -> 1 | I2: 476.6 | J2: MEGRINE | K2: =+D2 -> 43812 | L2: 0006419 | M2: EN SIGNATURE
A3: CH | B3: LYS IMPRESSION | C3: 00009163 | D3: 44344 | F3: =SUM(I3*G3) -> 4046.784 | G3: 1 | H3: =IF(E3="",1,0) -> 1 | I3: 4046.784 | J3: MEGRINE | K3: =+D3 -> 44344 | L3: 0007867 | M3: EN SIGNATURE
A4: CH | B4: FOURNISSEUR HORS EXPLOITAT. | C4: 00009170 | D4: 44347 | F4: =SUM(I4*G4) -> 246.825 | G4: 1 | H4: =IF(E4="",1,0) -> 1 | I4: 246.825 | J4: GAFSA | K4: =+D4 -> 44347 | L4: 0000701 | M4: FINANCES
A5: CH | B5: FOURNISSEUR HORS EXPLOITAT. | C5: 00009189 | D5: 44349 | F5: =SUM(I5*G5) -> 1294.356 | G5: 1 | H5: =IF(E5="",1,0) -> 1 | I5: 1294.356 | J5: GAFSA | K5: =+D5 -> 44349 | L5: 0000704 | M5: FINANCES
A6: CH | B6: HELA SEMMERI | C6: 00005927 | D6: 43105 | F6: =SUM(I6*G6) -> 522.746 | G6: 1 | H6: =IF(E6="",1,0) -> 1 | I6: 522.746 | J6: MEGRINE | K6: =D6 -> 43105 | L6: 0000507 | M6: FINANCES
A7: CH | B7: ZRIBI MAKRAM | C7: 00006362 | D7: 43284 | F7: =SUM(I7*G7) -> 95.2 | G7: 1 | H7: =IF(E7="",1,0) -> 1 | I7: 95.2 | J7: MEGRINE | K7: =D7 -> 43284 | L7: 0000724 | M7: FINANCES
A8: CH | B8: ZRIBI MAKRAM | C8: 00006375 | D8: 43287 | F8: =SUM(I8*G8) -> 303.45 | G8: 1 | H8: =IF(E8="",1,0) -> 1 | I8: 303.45 | J8: MEGRINE | K8: =D8 -> 43287 | L8: 0000730 | M8: FINANCES
A9: CH | B9: STE BEN MASSOUD FRERES | C9: 00007804 | D9: 43845 | F9: =SUM(I9*G9) -> 60.1 | G9: 1 | H9: =IF(E9="",1,0) -> 1 | I9: 60.1 | J9: MEGRINE | K9: =+D9 -> 43845 | L9: 0006464 | M9: FINANCES
A10: CH | B10: PROCAR TUNISIE | C10: 00007955 | D10: 43900 | F10: =SUM(I10*G10) -> 115.083 | G10: 1 | H10: =IF(E10="",1,0) -> 1 | I10: 115.083 | J10: MEGRINE | K10: =+D10 -> 43900 | L10: 0007329 | M10: FINANCES
A11: CH | B11: SAJA PURE | C11: 00008475 | D11: 44111 | F11: =SUM(I11*G11) -> 356.167 | G11: 1 | H11: =IF(E11="",1,0) -> 1 | I11: 356.167 | J11: MEGRINE | K11: =+D11 -> 44111 | L11: 0007512 | M11: FINANCES
A12: CH | B12: STE DRIDI AUTO | C12: 00008771 | D12: 44204 | F12: =SUM(I12*G12) -> 193.51 | G12: 1 | H12: =IF(E12="",1,0) -> 1 | I12: 193.51 | J12: MEGRINE | K12: =+D12 -> 44204 | L12: 0007673 | M12: FINANCES
A13: CH | B13: STE DRIDI AUTO | C13: 00008802 | D13: 44217 | F13: =SUM(I13*G13) -> 591.248 | G13: 1 | H13: =IF(E13="",1,0) -> 1 | I13: 591.248 | J13: MEGRINE | K13: =+D13 -> 44217 | L13: 0007688 | M13: FINANCES
A14: CH | B14: STE NOORTEX | C14: 00008880 | D14: 44239 | F14: =SUM(I14*G14) -> 180.885 | G14: 1 | H14: =IF(E14="",1,0) -> 1 | I14: 180.885 | J14: MEGRINE | K14: =+D14 -> 44239 | L14: 0007729 | M14: FINANCES
A15: CH | B15: STE DRIDI AUTO | C15: 00008906 | D15: 44244 | F15: =SUM(I15*G15) -> 655.349 | G15: 1 | H15: =IF(E15="",1,0) -> 1 | I15: 655.349 | J15: MEGRINE | K15: =+D15 -> 44244 | L15: 0007743 | M15: FINANCES
A16: CH | B16: SIB KCHAOU | C16: 00008939 | D16: 44258 | F16: =SUM(I16*G16) -> 2592.071 | G16: 1 | H16: =IF(E16="",1,0) -> 1 | I16: 2592.071 | J16: MEGRINE | K16: =+D16 -> 44258 | L16: 0007761 | M16: FINANCES
A17: CH | B17: Ma羡re Nabil dabboussi | C17: 00008973 | D17: 44271 | F17: =SUM(I17*G17) -> 982.255 | G17: 1 | H17: =IF(E17="",1,0) -> 1 | I17: 982.255 | J17: MEGRINE | K17: =+D17 -> 44271 | L17: 0007778 | M17: FINANCES
A18: CH | B18: TOTAL TUNISIE | C18: 00008975 | D18: 44271 | F18: =SUM(I18*G18) -> 32163.88 | G18: 1 | H18: =IF(E18="",1,0) -> 1 | I18: 32163.88 | J18: MEGRINE | K18: =+D18 -> 44271 | L18: 0007780 | M18: FINANCES
A19: CH | B19: FBI | C19: 00009035 | D19: 44295 | F19: =SUM(I19*G19) -> 337.97 | G19: 1 | H19: =IF(E19="",1,0) -> 1 | I19: 337.97 | J19: MEGRINE | K19: =+D19 -> 44295 | L19: 0007803 | M19: FINANCES
A20: CH | B20: TOTAL TUNISIE | C20: 00009037 | D20: 44295 | F20: =SUM(I20*G20) -> 15933.085 | G20: 1 | H20: =IF(E20="",1,0) -> 1 | I20: 15933.085 | J20: MEGRINE | K20: =+D20 -> 44295 | L20: 0007805 | M20: FINANCES
... A36: CH | B36: FOURNISSEUR HORS EXPLOITAT. | C36: 00009190 | D36: 44349 | F36: =SUM(I36*G36) -> 749.378 | G36: 1 | H36: =IF(E36="",1,0) -> 1 | I36: 749.378 | J36: SFAX | K36: =+D36 -> 44349 | L36: 0000801 | M36: FINANCES
A37: CH | B37: FOURNISSEUR HORS EXPLOITAT. | C37: 00009198 | D37: 44351 | E37: 44351 | F37: =SUM(I37*G37) -> 380.323 | G37: 1 | H37: =IF(E37="",1,0) -> 0 | I37: 380.323 | J37: JENDOUBA | K37: =+D37 -> 44351 | L37: 0000385
A38: CH | B38: FOURN ACHATS COMPTANT | C38: 00008979 | D38: 44272 | E38: 44280 | F38: =SUM(I38*G38) -> 241.95 | G38: 1 | H38: =IF(E38="",1,0) -> 0 | I38: 241.95 | J38: MEGRINE | K38: =+D38 -> 44272 | L38: 0007783
A39: CH | B39: R.FINANCE MEGRINE | C39: 00009152 | D39: 44341 | E39: 44344 | F39: =SUM(I39*G39) -> 0 | G39: 1 | H39: =IF(E39="",1,0) -> 0 | I39: 0 | J39: MEGRINE | K39: =+D39 -> 44341 | L39: 0007862
A40: CH | B40: TUNISIE AUTOROUTES | C40: 00009192 | D40: 44349 | E40: 44351 | F40: =SUM(I40*G40) -> 270.6 | G40: 1 | H40: =IF(E40="",1,0) -> 0 | I40: 270.6 | J40: MEGRINE | K40: =+D40 -> 44349 | L40: 0007881
A41: CH | B41: FOURN ACHATS COMPTANT | C41: 00009193 | D41: 44350 | E41: 44351 | F41: =SUM(I41*G41) -> 198.6 | G41: 1 | H41: =IF(E41="",1,0) -> 0 | I41: 198.6 | J41: MEGRINE | K41: =+D41 -> 44350 | L41: 0007882
A42: CH | B42: ALPHA FORD | C42: 00009200 | D42: 44351 | E42: 44351 | F42: =SUM(I42*G42) -> 180.806 | G42: 1 | H42: =IF(E42="",1,0) -> 0 | I42: 180.806 | J42: MEGRINE | K42: =+D42 -> 44351 | L42: 0007885
F43: =SUM(I43*G43) -> 0 | G43: 1 | H43: =IF(E43="",1,0) -> 1
F44: =SUM(I44*G44) -> 0 | G44: 1 | H44: =IF(E44="",1,0) -> 1
F45: =SUM(I45*G45) -> 0 | G45: 1 | H45: =IF(E45="",1,0) -> 1
F46: =SUM(I46*G46) -> 0 | G46: 1 | H46: =IF(E46="",1,0) -> 1
F47: =SUM(I47*G47) -> 0 | G47: 1 | H47: =IF(E47="",1,0) -> 1
F48: =SUM(I48*G48) -> 0 | G48: 1 | H48: =IF(E48="",1,0) -> 1
F49: =SUM(I49*G49) -> 0 | G49: 1 | H49: =IF(E49="",1,0) -> 1
F50: =SUM(I50*G50) -> 0 | G50: 1 | H50: =IF(E50="",1,0) -> 1
F51: =SUM(I51*G51) -> 0 | G51: 1 | H51: =IF(E51="",1,0) -> 1
F52: =SUM(I52*G52) -> 0 | G52: 1 | H52: =IF(E52="",1,0) -> 1
F53: =SUM(I53*G53) -> 0 | G53: 1 | H53: =IF(E53="",1,0) -> 1
F54: =SUM(I54*G54) -> 0 | G54: 1 | H54: =IF(E54="",1,0) -> 1
... F63: =SUM(I63*G63) -> 0 | G63: 1 | H63: =IF(E63="",1,0) -> 1

Sheet TIP
A1: TYPE | B1: DESIGN | C1: OP N° | D1: DATE-OP | E1: DATE-RECU | F1: MT OUV | G1: REG | I1: MT | J1: Échéance | K1: N° CHQ | L1: STATUT
A2: CH | B2: PNA | C2: 00000404 | D2: 43469 | F2: =SUM(I2*G2) -> 319.52 | G2: 1 | H2: =IF(E2="",1,0) -> 1 | I2: 319.52 | J2: =+D2 -> 43469 | K2: 0000343 | L2: FINANCES
A3: CH | B3: SOCOOPEC | C3: 00000403 | D3: 43469 | F3: =SUM(I3*G3) -> 631.295 | G3: 1 | H3: =IF(E3="",1,0) -> 1 | I3: 631.295 | J3: =+D3 -> 43469 | K3: 0000342 | L3: FINANCES
A4: CH | B4: SOCOOPEC | C4: 00000415 | D4: 43481 | F4: =SUM(I4*G4) -> 62.739 | G4: 1 | H4: =IF(E4="",1,0) -> 1 | I4: 62.739 | J4: =+D4 -> 43481 | K4: 0000350 | L4: FINANCES
A5: CH | B5: SOGIM | C5: 00000485 | D5: 43741 | F5: =SUM(I5*G5) -> 141.02 | G5: 1 | H5: =IF(E5="",1,0) -> 1 | I5: 141.02 | J5: =+D5 -> 43741 | K5: 0000386 | L5: FINANCES
A6: VI | B6: RECETTE DES FINANCES | C6: 00000583 | D6: 44343 | F6: =SUM(I6*G6) -> 384.222 | G6: 1 | H6: =IF(E6="",1,0) -> 1 | I6: 384.222 | J6: =+D6 -> 44343 | K6: VI00113
A7: CH | B7: FOURNISSEUR HORS EXPLOITAT. | C7: 00000563 | D7: 44222 | F7: =SUM(I7*G7) -> 142.187 | G7: 1 | H7: =IF(E7="",1,0) -> 1 | I7: 142.187 | J7: =+D7 -> 44222 | K7: 0000413 | L7: FINANCES
F8: =SUM(I8*G8) -> 0 | G8: 1 | H8: =IF(E8="",1,0) -> 1
F9: =SUM(I9*G9) -> 0 | G9: 1 | H9: =IF(E9="",1,0) -> 1
F10: =SUM(I10*G10) -> 0 | G10: 1 | H10: =IF(E10="",1,0) -> 1
F11: =SUM(I11*G11) -> 0 | G11: 1 | H11: =IF(E11="",1,0) -> 1

Sheet NBI
A1: TYPE | B1: DESIGN | C1: OP N° | D1: DATE-OP | E1: DATE-RECU | F1: MT OUV | G1: REG | I1: MT | J1: Échéance | K1: N° CHQ | L1: STATUT
A2: VI | B2: RECETTE DES FINANCES | C2: 00000274 | D2: 44343 | F2: =SUM(I2*G2) -> 640.084 | G2: 1 | H2: =IF(E2="",1,0) -> 1 | I2: 640.084 | J2: =+D2 -> 44343 | K2: VI00100
F3: =SUM(I3*G3) -> 0 | G3: 1 | H3: =IF(E3="",1,0) -> 1
F4: =SUM(I4*G4) -> 0 | G4: 1 | H4: =IF(E4="",1,0) -> 1
F5: =SUM(I5*G5) -> 0 | G5: 1 | H5: =IF(E5="",1,0) -> 1
F6: =SUM(I6*G6) -> 0 | G6: 1 | H6: =IF(E6="",1,0) -> 1
F7: =SUM(I7*G7) -> 0 | G7: 1 | H7: =IF(E7="",1,0) -> 1
F8: =SUM(I8*G8) -> 0 | G8: 1 | H8: =IF(E8="",1,0) -> 1
F9: =SUM(I9*G9) -> 0 | G9: 1 | H9: =IF(E9="",1,0) -> 1
F10: =SUM(I10*G10) -> 0 | G10: 1 | H10: =IF(E10="",1,0) -> 1
F11: =SUM(I11*G11) -> 0 | G11: 1 | H11: =IF(E11="",1,0) -> 1
F12: =SUM(I12*G12) -> 0 | G12: 1 | H12: =IF(E12="",1,0) -> 1
F13: =SUM(I13*G13) -> 0 | G13: 1 | H13: =IF(E13="",1,0) -> 1
F14: =SUM(I14*G14) -> 0 | G14: 1 | H14: =IF(E14="",1,0) -> 1
... F20: =SUM(I20*G20) -> 0 | G20: 1 | H20: =IF(E20="",1,0) -> 1

Sheet FH
A1: TYPE | B1: DESIGN | C1: OP N° | D1: DATE-OP | E1: DATE-RECU | F1: MT OUV | G1: REG | I1: MT | J1: Échéance | K1: N° CHQ | L1: STATUT
F2: =SUM(I2*G2) -> 0 | G2: 1 | H2: =IF(E2="",1,0) -> 1
F3: =SUM(I3*G3) -> 0 | G3: 1 | H3: =IF(E3="",1,0) -> 1
F4: =SUM(I4*G4) -> 0 | G4: 1 | H4: =IF(E4="",1,0) -> 1
F5: =SUM(I5*G5) -> 0 | G5: 1 | H5: =IF(E5="",1,0) -> 1
F6: =SUM(I6*G6) -> 0 | G6: 1 | H6: =IF(E6="",1,0) -> 1
F7: =SUM(I7*G7) -> 0 | G7: 1 | H7: =IF(E7="",1,0) -> 1
F8: =SUM(I8*G8) -> 0 | G8: 1 | H8: =IF(E8="",1,0) -> 1
F9: =SUM(I9*G9) -> 0 | G9: 1 | H9: =IF(E9="",1,0) -> 1
F10: =SUM(I10*G10) -> 0 | G10: 1 | H10: =IF(E10="",1,0) -> 1
F11: =SUM(I11*G11) -> 0 | G11: 1 | H11: =IF(E11="",1,0) -> 1
F12: =SUM(I12*G12) -> 0 | G12: 1 | H12: =IF(E12="",1,0) -> 1
F13: =SUM(I13*G13) -> 0 | G13: 1 | H13: =IF(E13="",1,0) -> 1
F14: =SUM(I14*G14) -> 0 | G14: 1 | H14: =IF(E14="",1,0) -> 1

Sheet I Z
A1: TYPE | B1: DESIGN | C1: OP N° | D1: DATE-OP | E1: DATE-RECU | F1: MT OUV | G1: REG | I1: MT | J1: Échéance | K1: N° CHQ | L1: STATUT
A2: CH | B2: Mahdi GUERMAZI | C2: 00000274 | D2: 44057 | F2: =SUM(I2*G2) -> 5051.932 | G2: 1 | H2: =IF(E2="",1,0) -> 1 | I2: 5051.932 | J2: =+D2 -> 44057 | K2: 0000240 | L2: EN SIGNATURE
A3: VI | B3: RECETTE DES FINANCES | C3: 00000285 | D3: 44343 | F3: =SUM(I3*G3) -> 1240.483 | G3: 1 | H3: =IF(E3="",1,0) -> 1 | I3: 1240.483 | J3: =+D3 -> 44343 | K3: VI00019
G4: 1 | H4: =IF(E4="",1,0) -> 1

Sheet HAZEM
A1: SITUATION HAZEM 2020
A3: TOTAL CRASSE | C3: KG | D3: 0 | F3: 0 | G3: 0 | H3: 0
A4: TOTAL DECHET BATTERIE | C4: KG | D4: =SUM(D12:D12) -> 0 | F4: =SUM(F12:F12) -> 0 | G4: =SUM(G12:G12) -> 0 | H4: =SUM(H12:H12) -> 0
A5: TOTAL ETAIN | C5: KG | D5: =+D13 -> 0 | F5: =+F13 -> 0 | G5: =+G13 -> 0 | H5: =+H13 -> 0
A6: TOTAL INOX | C6: KG | D6: =+D14 -> 0 | F6: =+F14 -> 0 | G6: =+G14 -> 0 | H6: =+H14 -> 0
A7: TOTAL VIEUX PLOMB | C7: KG | D7: =SUM(D15:D15) -> 0 | F7: =SUM(F15:F15) -> 0 | G7: =SUM(G15:G15) -> 0 | H7: =SUM(H15:H15) -> 0
A8: TOTAL | F8: =SUM(F3:F7) -> 0 | G8: =SUM(G3:G7) -> 0 | H8: =SUM(H3:H7) -> 0
A9: REGLEMENT RECU | H9: 0
A10: RESTE A PAYER | H10: =+H8-H9 -> 0

Sheet Feuil1
G3: 5899.928
A5: 43904 | B5: DECHET BATTERIE | C5: KG | D5: 40620 | E5: 2.2 | F5: =D5*E5 -> 89364 | G5: =+F5*0.19 -> 16979.16 | H5: =+F5+G5 -> 106343.16
A6: 43911 | B6: DECHET BATTERIE | C6: KG | D6: 41440 | E6: 2.2 | F6: =D6*E6 -> 91168 | G6: =+F6*0.19 -> 17321.92 | H6: =+F6+G6 -> 108489.92
A7: 43881 | B7: ETAIN | C7: KG | D7: 3271 | E7: 37 | F7: =D7*E7 -> 121027 | G7: =+F7*0.19 -> 22995.13 | H7: =+F7+G7+0.6 -> 144022.73
A8: 43900 | B8: PLOMB | C8: KG | D8: 6511 | E8: 4.4 | F8: =D8*E8 -> 28648.4 | G8: =+F8*0.19 -> 5443.196 | H8: =+F8+G8 -> 34091.596
A10: 43939 | B10: PLOMB | C10: KG | D10: 33380 | E10: 4.2 | F10: =D10*E10 -> 140196 | G10: =+F10*0.19 -> 26637.24 | H10: =+F10+G10 -> 166833.24

Sheet Feuil2
A1: Kais - STA NOUR
A2: 43893 | B2: CRASSE | C2: KG | D2: 36180 | E2: 1.5 | F2: =+D2*E2 -> 54270 | G2: =+F2*0.19 -> 10311.3 | H2: =+F2+G2+0.6 -> 64581.9
A3: 43900 | B3: CRASSE | C3: KG | D3: 37460 | E3: 1.5 | F3: =+D3*E3 -> 56190 | G3: =+F3*0.19 -> 10676.1 | H3: =+F3+G3 -> 66866.1
A4: 43992 | B4: CRASSE | C4: KG | D4: 35260 | E4: 1.4 | F4: =+D4*E4 -> 49364 | G4: =+F4*0.19 -> 9379.16 | H4: =+F4+G4 -> 58743.16
F5: =SUM(F2:F4) -> 159824
A6: TVA A PAYER 14% | F6: =F5*0.14 -> 22375.36

Sheet Feuil3
B1: DATE | C1: ARTICLE | D1: UNITE | E1: QUANTITE | F1: P ACHAT | G1: TOTAL HT | H1: TVA | I1: TOTAL TTC
A2: KAIS TAYACHI | B2: 43881 | C2: ETAIN | D2: KG | E2: 3271 | F2: 39 | G2: =E2*F2 -> 127569 | H2: =+G2*0.19 -> 24238.11 | I2: =+G2+H2+0.6 -> 151807.71
B3: 44009 | C3: ETAIN | D3: KG | E3: 1205 | F3: 30.5 | G3: =E3*F3 -> 36752.5 | H3: =+G3*0.19 -> 6982.975 | I3: =+G3+H3+0.6 -> 43736.075
B4: 44019 | C4: DECHET BATTERIE | D4: KG | E4: 41800 | F4: 2 | G4: =E4*F4 -> 83600 | H4: =+G4*0.19 -> 15884 | I4: =+G4+H4+0.6 -> 99484.6
B5: 44023 | C5: DECHET BATTERIE | D5: KG | E5: 42560 | F5: 1.9 | G5: =E5*F5 -> 80864 | H5: =+G5*0.19 -> 15364.16 | I5: =+G5+H5+0.6 -> 96228.76
B6: 44026 | C6: PLOMB | D6: KG | E6: 3900 | F6: 3.9 | G6: =E6*F6 -> 15210 | H6: =+G6*0.19 -> 2889.9 | I6: =+G6+H6+0.6 -> 18100.5
A8: VALDEC | B8: 44018 | C8: CRASSE | D8: KG | E8: 33700 | F8: 1.4 | G8: =+E8*F8 -> 47180 | H8: =+G8*0.19 -> 8964.2 | I8: =+G8+H8 -> 56144.2
B9: 44020 | C9: CRASSE | D9: KG | E9: 34820 | F9: 1.4 | G9: =+E9*F9 -> 48748 | H9: =+G9*0.19 -> 9262.12 | I9: =+G9+H9 -> 58010.12
B10: 44025 | C10: CRASSE | D10: KG | E10: 35040 | F10: 1.4 | G10: =+E10*F10 -> 49056 | H10: =+G10*0.19 -> 9320.64 | I10: =+G10+H10 -> 58376.64

Sheet Feuil4
A1: FOURNISSEUR | B1: KAIS TAYACHI
A2: CODE FOURNISSEUR | B2: L10200
A3: PLOMB | B3: 3.9
A4: CRASSE | B4: 1.4
A5: ETAIN | B5: SELON ANALYSE
A6: DECHET PLAQUE | B6: 1.85
A8: FOURNISSEUR | B8: SOTRAM
A9: CODE FOURNISSEUR | B9: L10162
A10: DECHET PLAQUE | B10: 1.85
A12: FOURNISSEUR | B12: KAMMOUN
A13: CODE FOURNISSEUR | B13: L10197
A14: DECHET PLAQUE | B14: 1.85
A16: TRANSPORTEUR | B16: HAMZI NAOUFEL
A17: CODE FOURNISSEUR | B17: L10192
A18: PLOMB | B18: A FIXER PAR LA DIRECTION GENERAL
A19: CRASSE
A20: ETAIN
A21: DECHET PLAQUE

Sheet Feuil5
A1: Africa industrie
A3: Devis du 19/04/2019 | G3: Facture
B5: Quantité | C5: PU | D5: Total Ht | E5: Total TTC | H5: Quantité | I5: PU | J5: Total Ht | K5: Total TTC | N5: =+D6+D7+D8 -> 109320 | O5: =+J6+J8 -> 48840
A6: Divers travaux | B6: 1 | C6: 7440 | D6: =B6*C6 -> 7440 | E6: =B6*C6*1.19 -> 8853.6 | G6: Divers travaux | H6: 1 | I6: 7440 | J6: =H6*I6 -> 7440 | K6: =H6*I6*1.19 -> 8853.6 | N6: =+N5*0.19 -> 20770.8 | O6: =+O5*0.19 -> 9279.6 | Q6: =+N6-O6 -> 11491.2
A7: Racks | B7: 360 | C7: 205 | D7: =B7*C7 -> 73800 | E7: =B7*C7*1.19 -> 87822
A8: Chariots | B8: 36 | C8: 780 | D8: =B8*C8 -> 28080 | E8: =B8*C8*1.19 -> 33415.2 | G8: Chariots | H8: 36 | I8: 1150 | J8: =H8*I8 -> 41400 | K8: =H8*I8*1.19 -> 49266
A10: Total Devis TTC | E10: =SUM(E6:E9) -> 130090.8 | G10: Total Facturation TTC | K10: =SUM(K6:K9) -> 58119.6
A12: Paiement recu | B12: 43584 | Q12: =+B21-B31 -> 11090.2
Q13: =+Q12*0.19 -> 2107.138
A14: Cheque | B14: 30000
A15: Traite 25/05/2019 | B15: 25000 | J15: =B19-K10 -> 46880.4
A16: Traite 25/06/2019 | B16: 25000
A17: Traite 25/07/2019 | B17: 25000
A19: Total Paiement | B19: =SUM(B14:B18) -> 105000
A21: Reste à facturer | B21: =E10-K10 -> 71971.2 | C21: On as demandé à Monsieur Riadh d'attendre avant de facturer pour lui communiquer le libellé et la date | N21: =+B21/1.19 -> 60480 | O21: =+B21-N21 -> 11491.2 | P21: =+O21-B30 -> 1770.8
A22: Maitenant M. Riadh veut facturer tout le reste sur Inter Machine alors que le paiement est en totalite sur Africa Industrie
A24: Reste à payer | B24: =E10-B19 -> 25090.8
A27: RESTE A FACTURER HT | B27: =+D6+D7+D8-J6-J8 -> 60480
A28: ACHAT 3 MOTEUR | B28: 9320
A29: RELIQUAT HT | B29: =+B27-B28 -> 51160
A30: TVA | B30: =+B29*0.19 -> 9720.4
A31: TOTAL FACTURE | B31: =+B30+B29+0.6 -> 60881
A36: Facture
B38: Quantité | C38: PU | D38: Total Ht | E38: Total TTC
A39: Divers travaux | B39: 1 | C39: 7440 | D39: =B39*C39 -> 7440 | E39: =B39*C39*1.19+0.6 -> 8854.2
A40: FILTRE | D40: =B29 -> 51160 | E40: =+D40*1.19+0.6 -> 60881
A41: Chariots | B41: 36 | C41: 1150 | D41: =B41*C41 -> 41400 | E41: =B41*C41*1.19+0.6 -> 49266.6
A43: Total Facturation TTC | E43: =SUM(E39:E42) -> 119001.8 | H43: =+E40-E45 -> 46879.2
A44: PAIEMENT RECU | E44: =+B19 -> 105000
A45: RESTE A PAYER | E45: =+E43-E44 -> 14001.8

Sheet SIA
A1: SIA Italie | B1: F2000039 | C1: 44049 | D1: EUR | E1: 97194.08
A3: PREVISION | E3: REGLEMENT
A4: AVANCE | C4: 29246.16 | E4: 44049 | F4: 29196.16 | H4: 50 EURO FRAIS STB
A5: CHEQUE 1 | B5: 44082 | C5: 13648 | E5: 44083 | F5: 13648
A6: CHEQUE 2 | B6: 44089 | C6: 13648 | E6: 44099 | F6: 13598 | H6: 50 EURO FRAIS STB
A7: CHEQUE 3 | B7: 44096 | C7: 13648 | E7: 44110 | F7: 13598 | H7: 50 EURO FRAIS STB
A8: CHEQUE 4 | B8: 44103 | C8: 13648 | E8: 44118 | F8: 13648
A9: CHEQUE 5 | B9: 44110 | C9: 12979.16
C10: =SUM(C4:C9) -> 96817.32 | F10: =SUM(F4:F9) -> 83688.16

Sheet AUTRE FACTURE
A1: Code Frs | B1: DATE | C1: DESIGNATION | D1: Qté | E1: P.U | F1: MT.HT | H1: TVA 15% | I1: TVA 4% | J1: TOTAL TTC | L1: REGLEMENT
A2: SOTRAM | B2: 43888 | C2: CRASSE | D2: 26080 | E2: 1.5 | F2: =+D2*E2 -> 39120 | H2: =+F2*0.15 -> 5868 | I2: =+F2*0.04 -> 1564.8 | J2: =+F2+H2+I2+0.6 -> 46553.4 | L2: =30000*3 -> 90000
A3: SOTRAM | B3: 43917 | C3: CRASSE | D3: 31280 | E3: 1.5 | F3: =+D3*E3 -> 46920 | H3: =+F3*0.15 -> 7038 | I3: =+F3*0.04 -> 1876.8 | J3: =+F3+H3+I3+0.6 -> 55835.4 | L3: 53378.55 | N3: TVA OK
A4: SOTRAM | B4: 43923 | C4: CRASSE | D4: 37180 | E4: 1.5 | F4: =+D4*E4 -> 55770 | H4: =+F4*0.15 -> 8365.5 | I4: =+F4*0.04 -> 2230.8 | J4: =+F4+H4+I4+0.6 -> 66366.9 | L4: 60000
A5: SOTRAM | B5: 43937 | C5: CRASSE | D5: 31390 | E5: 1.5 | F5: =+D5*E5 -> 47085 | H5: =+F5*0.15 -> 7062.75 | I5: =+F5*0.04 -> 1883.4 | J5: =+F5+H5+I5+0.6 -> 56031.75 | L5: 60000 | N5: KABBOUBI
A6: SOTRAM | B6: 43948 | C6: CRASSE | D6: 35260 | E6: 1.5 | F6: =+D6*E6 -> 52890 | H6: =+F6*0.15 -> 7933.5 | I6: =+F6*0.04 -> 2115.6 | J6: =+F6+H6+I6+0.6 -> 62939.7 | L6: 60000
A7: SOTRAM | B7: 43981 | C7: CRASSE | D7: 42320 | E7: 1.4 | F7: =+D7*E7 -> 59248 | H7: =+F7*0.15 -> 8887.2 | I7: =+F7*0.04 -> 2369.92 | J7: =+F7+H7+I7+0.6 -> 70505.72 | L7: 60000
A8: SOTRAM | B8: 43987 | C8: CRASSE | D8: 39160 | E8: 1.4 | F8: =+D8*E8 -> 54824 | H8: =+F8*0.15 -> 8223.6 | I8: =+F8*0.04 -> 2192.96 | J8: =+F8+H8+I8+0.6 -> 65241.16 | L8: 40095.48
D9: =SUM(D2:D8) -> 242670 | F9: =SUM(F2:F8) -> 355857 | H9: =SUM(H2:H8) -> 53378.55 | I9: =SUM(I2:I8) -> 14234.28 | J9: =SUM(J2:J8) -> 423474.03
L10: =SUM(L2:L9) -> 423474.03
L11: =J9-L10 -> 0
H13: TVA 16% | I13: TVA 3% | J13: TOTAL TTC | L13: REGLEMENT
A14: KAIS | B14: 43888 | C14: CRASSE DE PLOMB | D14: 29940 | E14: 1.5 | F14: 44910 | H14: =+F14*0.16 -> 7185.6 | I14: =+F14*0.03 -> 1347.3 | J14: =+F14+H14+I14+0.6 -> 53443.5 | L14: 69300
A15: KAIS | B15: 43922 | C15: CRASSE DE PLOMB | D15: 38960 | E15: 1.5 | F15: 58440 | H15: =+F15*0.16 -> 9350.4 | I15: =+F15*0.03 -> 1753.2 | J15: =+F15+H15+I15+0.6 -> 69544.2 | L15: =21000+23000+24500+22500 -> 91000
A16: KAIS | B16: 43931 | C16: CRASSE DE PLOMB | D16: 31320 | E16: 1.5 | F16: 46980 | H16: =+F16*0.16 -> 7516.8 | I16: =+F16*0.03 -> 1409.4 | J16: =+F16+H16+I16+0.6 -> 55906.8 | L16: =41999.999+40609.137+39999.999 -> 122609.14
A17: KAIS | B17: 43941 | C17: CRASSE DE PLOMB | D17: 27150 | E17: 1.5 | F17: 40725 | H17: =+F17*0.16 -> 6516 | I17: =+F17*0.03 -> 1221.75 | J17: =+F17+H17+I17+0.6 -> 48463.35 | L17: 55595.52 | N17: TVA OK
A18: KAIS | B18: 43946 | C18: CRASSE DE PLOMB | D18: 27250 | E18: 1.5 | F18: 40875 | H18: =+F18*0.16 -> 6540 | I18: =+F18*0.03 -> 1226.25 | J18: =+F18+H18+I18+0.6 -> 48641.85 | L18: =38000+35000+32000 -> 105000
A19: KAIS | B19: 43949 | C19: CRASSE DE PLOMB | D19: 41060 | E19: 1.4 | F19: 57484 | H19: =+F19*0.16 -> 9197.44 | I19: =+F19*0.03 -> 1724.52 | J19: =+F19+H19+I19+0.6 -> 68406.56 | L19: =35000+38000+35000 -> 108000
A20: KAIS | B20: 43991 | C20: CRASSE DE PLOMB | D20: 41470 | E20: 1.4 | F20: 58058 | H20: =+F20*0.16 -> 9289.28 | I20: =+F20*0.03 -> 1741.74 | J20: =+F20+H20+I20+0.6 -> 69089.62 | L20: 55919.2 | N20: TVA OK
H21: =SUM(H14:H20) -> 55595.52 | I21: =SUM(I14:I20) -> 10424.16 | J21: =SUM(J14:J20) -> 413495.88 | L21: =34687.099+48641.85+24671.05 -> 108000
J22: 358833.9 | L22: =41000+37735.51+34089.62 -> 112825.13
L23: 101522.84 | N23: CHQ AVANCE HAKIM
L24: 100000 | N24: CHQ AVANCE KAIS
A25: KAIS | B25: 43931 | C25: CRASSE DE PLOMB | D25: 32690 | E25: 1.5 | F25: 49035 | H25: 7845.6 | I25: 1471.05 | J25: 58352.25 | L25: =33819.114+36720.208+31738.12 -> 102277.44 | N25: RESTE 1 254,669
A26: KAIS | B26: 43938 | C26: CRASSE DE PLOMB | D26: 35360 | E26: 1.5 | F26: 53040 | H26: =+F26*0.16 -> 8486.4 | I26: =+F26*0.03 -> 1591.2 | J26: =+F26+H26+I26+0.6 -> 63118.2 | L26: =SUM(L14:L25) -> 1132049.3
A27: KAIS | B27: 43941 | C27: CRASSE DE PLOMB | D27: 32320 | E27: 1.5 | F27: 48480 | H27: 7756.8 | I27: 1454.4 | J27: 57691.8 | L27: =J21+J22+J32-L26 -> 56183.766 | N27: RESTE A SOLDER
A28: KAIS | B28: 43944 | C28: CRASSE DE PLOMB | D28: 35770 | E28: 1.5 | F28: 53655 | H28: =+F28*0.16 -> 8584.8 | I28: =+F28*0.03 -> 1609.65 | J28: =+F28+H28+I28+0.6 -> 63850.05
A29: KAIS | B29: 43946 | C29: CRASSE DE PLOMB | D29: 29350 | E29: 1.5 | F29: 44025 | H29: 7044 | I29: 1320.75 | J29: 52390.35
A30: KAIS | B30: 43949 | C30: CRASSE DE PLOMB | D30: 33300 | E30: 1.5 | F30: 49950 | H30: 7992 | I30: 1498.5 | J30: 59441.1
A31: KAIS | B31: 43991 | C31: CRASSE DE PLOMB | D31: 36650 | E31: 1.4 | F31: 51310 | H31: 8209.6 | I31: 1539.3 | J31: 61059.5
H32: =SUM(H24:H31) -> 55919.2 | I32: =SUM(I24:I31) -> 10484.85 | J32: =SUM(J24:J31) -> 415903.25
A35: SOTRAM | B35: 44162 | C35: BATTERIES USAGE | D35: 32200 | E35: 1.6 | F35: =+D35*E35*1.01 -> 52035.2 | H35: =+F35*0.16 -> 8325.632 | I35: =+F35*0.03 -> 1561.056 | J35: =+F35+H35+I35 -> 61921.888 | K35: TVA OK
A36: SOTRAM | B36: 44180 | C36: BATTERIES USAGE | D36: 28700 | E36: 1.7 | F36: =+D36*E36*1.01 -> 49277.9 | H36: =+F36*0.16 -> 7884.464 | I36: =+F36*0.03 -> 1478.337 | J36: =+F36+H36+I36 -> 58640.701
A37: SOTRAM | B37: 44195 | C37: BATTERIES USAGE | D37: 29850 | E37: 1.7 | F37: =+D37*E37*1.01 -> 51252.45 | H37: =+F37*0.16 -> 8200.392 | I37: =+F37*0.03 -> 1537.5735 | J37: =+F37+H37+I37 -> 60990.415
A39: KAIS | B39: 44135 | C39: BATTERIE USAGE | D39: 268700 | E39: 1.62 | F39: =+D39*E39 -> 435294 | H39: =+F39*0.16 -> 69647.04 | I39: =+F39*0.03 -> 13058.82 | J39: =+F39+H39+I39+0.6 -> 518000.46
A40: KAIS | B40: 44165 | C40: BATTERIE USAGE | D40: 346530 | E40: 1.62 | F40: =+D40*E40 -> 561378.6 | H40: =+F40*0.16 -> 89820.576 | I40: =+F40*0.03 -> 16841.358 | J40: =+F40+H40+I40+0.6 -> 668041.13
A41: KAIS | B41: 44196 | C41: BATTERIE USAGE | D41: 330520 | E41: 1.65 | F41: =+D41*E41 -> 545358 | H41: =+F41*0.16 -> 87257.28 | I41: =+F41*0.03 -> 16360.74 | J41: =+F41+H41+I41+0.6 -> 648976.62
H42: =SUM(H39:H41) -> 246724.9 | I42: =SUM(I39:I41) -> 46260.918 | J42: =SUM(J39:J41) -> 1835018.2
F43: TVA PAYE | H43: =45000+42059.4+39665.496 -> 126724.9

Sheet SOTRAPRO
A1: SOTRAPRO
A3: ALPHA MEDIA
A4: TOTAL DES TRAVAUX | B4: 625681.25
A5: PAIEMENT ALPHA | B5: 322941.57
A6: PAIEMENT GERANT | B6: 184213.2
A7: RESTE A PAYER | B7: 118526.48
A9: VILLA
A10: TOTAL DES TRAVAUX | B10: 140019.52 | C10: A CONFIRMER
A11: PAIEMENT RECU | B11: 20000
A12: RESTE A PAYER | B12: 120019.52 | C12: A CONFIRMER
A14: NOUR
A15: TOTAL DES TRAVAUX | B15: 10087.233
A16: RESTE A PAYER | B16: 10087.233
A18: NET A PAYER | B18: =B16+B12+B7 -> 248633.23
A20: PAIEMENT RECU
A21: TRAITE | B21: 20000 | C21: 43687 | D21: STA NOUR
A22: TRAITE | B22: 20000 | C22: 43718 | D22: STA NOUR
A23: TRAITE | B23: 20000 | C23: 43748 | D23: I Z
A24: TRAITE | B24: 20000 | C24: 43794 | D24: STA NOUR
A25: TRAITE | B25: 20000 | C25: 43824 | D25: STA NOUR
A26: TRAITE | B26: 20000 | C26: 43855 | D26: STA NOUR
A27: CHQ 5079 | B27: 50000 | C27: 43824 | D27: STA NOUR
A28: CHQ 5079 | B28: 40000 | C28: 43941 | D28: STA NOUR
B29: =SUM(B21:B28) -> 210000
A31: SOLDE A PAYER | B31: =B29-B18 -> -38633.233

Sheet Feuil6
A1: Crédit | B1: Échéance | C1: Principal | D1: Intérêt | E1: Total | S1: ECART
A2: 500000 | B2: 43921 | C2: 41666.667 | D2: 7439.039 | E2: =SUM(C2:D2) -> 49105.706 | G2: 20/10/2020 | H2: 20/10/2020 | I2: REMBOURSEMENT PRINCIPAL A L'ECHEA | J2: Z0325538400 | K2: -41666.667 | M2: 20/10/2020 | N2: 20/10/2020 | O2: REMBOURSEMENT INTERET A L'ECHEANC | P2: Z0325538400 | Q2: -7424.294 | S2: =Q2+D2 -> 14.745
A3: 1150000 | B3: 43921 | C3: 95833.333 | D3: 17109.791 | E3: =SUM(C3:D3) -> 112943.12 | G3: 20/10/2020 | H3: 20/10/2020 | I3: REMBOURSEMENT PRINCIPAL A L'ECHEA | J3: Z0325538232 | K3: -95833.333 | M3: 20/10/2020 | N3: 20/10/2020 | O3: REMBOURSEMENT INTERET A L'ECHEANC | P3: Z0325538232 | Q3: -17075.876 | S3: =Q3+D3 -> 33.915
A4: 1000000 | B4: 43921 | C4: 83333.333 | D4: 14878.079 | E4: =SUM(C4:D4) -> 98211.412 | G4: 20/10/2020 | H4: 20/10/2020 | I4: REMBOURSEMENT PRINCIPAL A L'ECHEA | J4: Z0325538172 | K4: -83333.333 | M4: 20/10/2020 | N4: 20/10/2020 | O4: REMBOURSEMENT INTERET A L'ECHEANC | P4: Z0325538172 | Q4: -14848.588 | S4: =Q4+D4 -> 29.491
A5: 350000 | B5: 43921 | C5: 29166.667 | D5: 5207.328 | E5: =SUM(C5:D5) -> 34373.995 | G5: 20/10/2020 | H5: 20/10/2020 | I5: REMBOURSEMENT PRINCIPAL A L'ECHEA | J5: Z0325538350 | K5: -29166.667 | M5: 20/10/2020 | N5: 20/10/2020 | O5: REMBOURSEMENT INTERET A L'ECHEANC | P5: Z0325538350 | Q5: -5197.006 | S5: =Q5+D5 -> 10.322
A6: 500000 | B6: 43921 | C6: 41666.667 | D6: 7439.039 | E6: =SUM(C6:D6) -> 49105.706 | G6: 20/10/2020 | H6: 20/10/2020 | I6: REMBOURSEMENT PRINCIPAL A L'ECHEA | J6: Z0325538305 | K6: -41666.667 | M6: 20/10/2020 | N6: 20/10/2020 | O6: REMBOURSEMENT INTERET A L'ECHEANC | P6: Z0325538305 | Q6: -7424.294 | S6: =Q6+D6 -> 14.745
A7: Total 03/2020 | C7: =SUM(C2:C6) -> 291666.67 | D7: =SUM(D2:D6) -> 52073.276 | E7: =SUM(C7:D7) -> 343739.94
A8: 2500000 | B8: 43951 | C8: 208333.33 | D8: 51848.958 | E8: =SUM(C8:D8) -> 260182.29 | G8: 20/10/2020 | H8: 20/10/2020 | I8: REMBOURSEMENT PRINCIPAL A L'ECHEA | J8: Z0325538268 | K8: -208333.33 | M8: 20/10/2020 | N8: 20/10/2020 | O8: REMBOURSEMENT INTERET A L'ECHEANC | P8: Z0325538268 | Q8: -56816.146 | S8: =Q8+D8 -> -4967.188
A9: 1250000 | B9: 43951 | D9: 27500 | E9: =SUM(C9:D9) -> 27500 | M9: 20/10/2020 | N9: 20/10/2020 | O9: REMBOURSEMENT INTERET A L'ECHEANC | P9: Z0325538443 | Q9: -28408.073 | S9: =Q9+D9 -> -908.073
A10: Total 04/2020 | C10: =SUM(C8:C8) -> 208333.33 | D10: =SUM(D8:D9) -> 79348.958 | E10: =SUM(C10:D10) -> 287682.29
A11: 500000 | B11: 44012 | D11: 5719.097 | E11: =SUM(C11:D11) -> 5719.097 | M11: 20/10/2020 | N11: 20/10/2020 | O11: REMBOURSEMENT INTERET A L'ECHEANC | P11: Z0325538411 | Q11: -5833.479 | S11: =Q11+D11 -> -114.382
A12: 1150000 | B12: 44012 | D12: 13153.924 | E12: =SUM(C12:D12) -> 13153.924 | M12: 20/10/2020 | N12: 20/10/2020 | O12: REMBOURSEMENT INTERET A L'ECHEANC | P12: Z0325538235 | Q12: -13417.002 | S12: =Q12+D12 -> -263.078
A13: 1000000 | B13: 44012 | D13: 11438.194 | E13: =SUM(C13:D13) -> 11438.194 | M13: 20/10/2020 | N13: 20/10/2020 | O13: REMBOURSEMENT INTERET A L'ECHEANC | P13: Z0325538188 | Q13: -11666.958 | S13: =Q13+D13 -> -228.764
A14: 350000 | B14: 44012 | D14: 4003.368 | E14: =SUM(C14:D14) -> 4003.368 | M14: 20/10/2020 | N14: 20/10/2020 | O14: REMBOURSEMENT INTERET A L'ECHEANC | P14: Z0325538359 | Q14: -4083.435 | S14: =Q14+D14 -> -80.067
A15: 500000 | B15: 44012 | D15: 5719.097 | E15: =SUM(C15:D15) -> 5719.097 | M15: 20/10/2020 | N15: 20/10/2020 | O15: REMBOURSEMENT INTERET A L'ECHEANC | P15: Z0325538308 | Q15: -5833.479 | S15: =Q15+D15 -> -114.382
A16: Total 06/2020 | C16: =SUM(C11:C15) -> 0 | D16: =SUM(D11:D15) -> 40033.68 | E16: =SUM(C16:D16) -> 40033.68
A17: 2500000 | B17: 44043 | D17: 48182.87 | E17: =SUM(C17:D17) -> 48182.87 | M17: 20/10/2020 | N17: 20/10/2020 | O17: REMBOURSEMENT INTERET A L'ECHEANC | P17: Z0325538281 | Q17: -48182.87 | S17: =Q17+D17 -> 0
A18: 1250000 | B18: 44043 | C18: 104166.67 | D18: 26500.579 | E18: =SUM(C18:D18) -> 130667.25 | G18: 20/10/2020 | H18: 20/10/2020 | I18: REMBOURSEMENT PRINCIPAL A L'ECHEA | J18: Z0325538446 | K18: -104166.67 | M18: 20/10/2020 | N18: 20/10/2020 | O18: REMBOURSEMENT INTERET A L'ECHEANC | P18: Z0325538446 | Q18: -26500.579 | S18: =Q18+D18 -> 0
A19: Total 07/2020 | C19: =SUM(C17:C18) -> 104166.67 | D19: =SUM(D17:D18) -> 74683.449 | E19: =SUM(E17:E18) -> 178850.12
A20: 500000 | B20: 44104 | C20: 41666.667 | D20: 5775.556 | E20: =SUM(C20:D20) -> 47442.223 | G20: 20/10/2020 | H20: 20/10/2020 | I20: REMBOURSEMENT PRINCIPAL A L'ECHEA | J20: Z0325538416 | K20: -41666.667 | M20: 20/10/2020 | N20: 20/10/2020 | O20: REMBOURSEMENT INTERET A L'ECHEANC | P20: Z0325538416 | Q20: -5784.5 | S20: =Q20+D20 -> -8.944
A21: 1150000 | B21: 44104 | C21: 95833.333 | D21: 13283.778 | E21: =SUM(C21:D21) -> 109117.11 | G21: 20/10/2020 | H21: 20/10/2020 | I21: REMBOURSEMENT PRINCIPAL A L'ECHEA | J21: Z0325538243 | K21: -95833.333 | M21: 20/10/2020 | N21: 20/10/2020 | O21: REMBOURSEMENT INTERET A L'ECHEANC | P21: Z0325538243 | Q21: -13304.35 | S21: =Q21+D21 -> -20.572
A22: 1000000 | B22: 44104 | C22: 83333.333 | D22: 11551.111 | E22: =SUM(C22:D22) -> 94884.444 | G22: 20/10/2020 | H22: 20/10/2020 | I22: REMBOURSEMENT PRINCIPAL A L'ECHEA | J22: Z0325538196 | K22: -83333.333 | M22: 20/10/2020 | N22: 20/10/2020 | O22: REMBOURSEMENT INTERET A L'ECHEANC | P22: Z0325538196 | Q22: -11569 | S22: =Q22+D22 -> -17.889
A23: 350000 | B23: 44104 | C23: 29166.667 | D23: 4042.889 | E23: =SUM(C23:D23) -> 33209.556 | G23: 20/10/2020 | H23: 20/10/2020 | I23: REMBOURSEMENT PRINCIPAL A L'ECHEA | J23: Z0325538369 | K23: -29166.667 | M23: 20/10/2020 | N23: 20/10/2020 | O23: REMBOURSEMENT INTERET A L'ECHEANC | P23: Z0325538369 | Q23: -4049.15 | S23: =Q23+D23 -> -6.261
A24: 500000 | B24: 44104 | C24: 41666.667 | D24: 5775.556 | E24: =SUM(C24:D24) -> 47442.223 | G24: 20/10/2020 | H24: 20/10/2020 | I24: REMBOURSEMENT PRINCIPAL A L'ECHEA | J24: Z0325538313 | K24: -41666.667 | M24: 20/10/2020 | N24: 20/10/2020 | O24: REMBOURSEMENT INTERET A L'ECHEANC | P24: Z0325538313 | Q24: -5784.5 | S24: =Q24+D24 -> -8.944
A25: Total 07/2020 | C25: =SUM(C20:C24) -> 291666.67 | D25: =SUM(D20:D24) -> 40428.89 | E25: =SUM(E20:E24) -> 332095.56

Sheet Feuil7
B1: QUANTITE | C1: P U | D1: TOTAL HT
A2: BATTERIES USAGE | B2: 20913 | C2: 1.8 | D2: =+B2*C2 -> 37643.4 | F2: =+D2*1.19 -> 44795.646
B3: 4009 | C3: 1.9 | D3: =+B3*C3 -> 7617.1 | F3: =+D3*1.19 -> 9064.349
A5: PLOMB | B5: 7842 | C5: 4.7 | D5: =+B5*C5 -> 36857.4 | F5: =+D5*1.19 -> 43860.306
B6: 338 | C6: 5 | D6: =+B6*C6 -> 1690 | F6: =+D6*1.19 -> 2011.1
B7: =1577+16 -> 1593 | C7: 4.4 | D7: =+B7*C7 -> 7009.2 | F7: =+D7*1.19 -> 8340.948
A9: CRASSE | B9: 6972 | C9: 1.6 | D9: =+B9*C9 -> 11155.2 | F9: =+D9*1.19 -> 13274.688
A11: ETAIN | B11: 2048 | C11: 34 | D11: =+B11*C11 -> 69632 | F11: =+D11*1.19 -> 82862.08
B12: 783 | C12: 36.5 | D12: =+B12*C12 -> 28579.5 | F12: =+D12*1.19 -> 34009.605
A14: PLAQUES | B14: 14474 | C14: 2.35 | D14: =+B14*C14 -> 34013.9 | F14: =+D14*1.19 -> 40476.541

Sheet Feuil8

Sheet Feuil9
