Workbook

Sheet 09-2022
B1: SND | D1: SNA | J1: TIP | K1: N B I | M1: SNR
B2: STB MEG | C2: QNB | D2: STB | E2: STB Zriba | F2: STB MEG | G2: QNB | H2: EURO MEG | I2: $ MEG | J2: STB MEG | K2: STB | L2: EURO MEG | M2: STB MEG
A3: SOLDE au 21/09/2022 | B3: -189741.3 | C3: 211592.39 | D3: 3113.935 | E3: 13990.431 | F3: -2879794.3 | G3: 525991.67 | H3: 95109.6 | I3: 4.21 | J3: -824.904 | K3: -5417.96 | L3: 5.69 | M3: -8298.662
A4: EN COURS | B4: =SUM(B5:B8) -> 20578.604 | C4: =SUM(C5:C8) -> 0 | D4: =SUM(D5:D8) -> 0 | E4: =SUM(E5:E8) -> 332.6 | F4: =SUM(F5:F8) -> 0 | G4: =SUM(G5:G8) -> 0 | H4: =SUM(H5:H8) -> 220300 | I4: =SUM(I5:I8) -> 0 | ... M4: =SUM(M5:M8) -> 0
A5: Cheque | B5: 20578.604 | E5: 332.6
A6: Escompte
A7: Espece | H7: =140300+80000 -> 220300
A8: Virement
A9: Previsions | B9: =B10+B11+B12+B13+B14+B25 -> 841341.8 | C9: =C10+C11+C12+C13+C14+C25 -> 75000 | D9: =D10+D11+D12+D13+D14 -> 0 | E9: =E10+E11+E12+E13+E14 -> 1000 | F9: =F14+F10+F11+F12+F13 -> 5729000 | G9: =G14+G10+G11+G12+G13 -> 465000 | H9: =H14 -> 129408.26 | I9: =I14 -> 0 | J9: =J10+J11+J13+J14+J23+J30 -> 10000 | K9: =K10+K11+K13+K14+K23+K30 -> 15000 | L9: =L10+L11+L13+L14+L23+L30 -> 0 | M9: =M10+M11+M13+M14+M24+M30 -> 4075000
A10: Cheque PF | B10: =CT!D264 -> 691341.8 | E10: 1000 | F10: =B70-E10 -> 854000 | G10: =+C70 -> 285000 | J10: =D74+F74 -> 10000 | K10: =+F73+D73 -> 15000 | M10: =H74+J74 -> 0
A11: Espece | C11: 30000
A12: Cheque V | C12: 45000 | G12: 180000
A13: Escompte | B13: 150000
A14: Virement | B14: 0 | D14: =SUM(D15:D30) -> 0 | E14: =SUM(E15:E30) -> 0 | F14: =SUM(F15:F32) -> 4875000 | G14: =SUM(G15:G32) -> 0 | H14: =SUM(H15:H31) -> 129408.26 | I14: =SUM(I15:I31) -> 0 | J14: =SUM(J15:J21) -> 0 | K14: =SUM(K15:K21) -> 0 | L14: =SUM(L15:L30) -> 0 | M14: =SUM(M15:M23) -> 0
A15: Vente Devise | F15: =H71*3.28 -> 0
A16: Maribat
A17: MONBAT | H17: =+EXPORT!M84+EXPORT!M85+EXPORT!M86+EXPORT!M87 -> 129408.26
A18: Allemagne
A19: HYSY
A20: ITALY
A21: Errafik
A22: COTE D'IVOIRE
A23: CREDIT DE GESTION | F23: 2300000
A24: CMT | F24: 1000000 | M24: 2500000
A25: RESTITUTION TVA
A26: PRIME INVESTISSEMENT
A27: MCNE
A28: BILLET DE TRESORERIE
A29: C C A | F29: =+M80 -> 1575000
A30: AUGMENTATION CAPITAL | M30: =F72 -> 1575000
A31: Placement
A32: CMT
A33: Depenses | B33: =B34+B51+B82 -> #REF! | C33: =C34+C51+C82 -> 285000 | D33: =D34+D51+D82 -> 0 | E33: =E34+E51+E82 -> #REF! | F33: =F34+F51+F82 -> #REF! | G33: =G34+G51+G82 -> 718755.84 | H33: =H34+H51+H82 -> 349678.15 | I33: =I34+I51+I82 -> 0 | ... M33: =M34+M51+M82 -> 3471250
A34: Import | D34: =SUM(D35:D50) -> 0 | E34: =SUM(E35:E50) -> 0 | F34: =SUM(F35:F50) -> 914780.16 | G34: =SUM(G35:G50) -> 718755.84 | H34: =SUM(H35:H50) -> 349678.15 | I34: =SUM(I35:I50) -> 0 | J34: =SUM(J35:J50) -> 0 | K34: =SUM(K35:K50) -> 0 | ... M34: =SUM(M35:M50) -> 0
A35: MICROPOROUS
A36: MECONDOR
A37: MONBAT | H37: =+etranger!C40+etranger!C41+etranger!C42 -> 132228.71
A38: NANJING YAT LC
A39: YUCRY | H39: =+etranger!C54 -> 14500
A40: JIANGSU | F40: =+ENGAGEMENT!J3*3.2*0.56 -> 914780.16 | G40: =+ENGAGEMENT!J3*3.2*0.44 -> 718755.84
...

Sheet etranger
A1: =TODAY() -> 45309
A2: TAUX EURO/TND | C2: 44592 | D2: 3.23577
A3: TAUX USD/TND | C3: 44592 | D3: 2.90265
A4: TAUX GBP/TND | C4: 44592 | D4: 3.88906
A5: TAUX CNY/TND | C5: 44592 | D5: 0.45623
A7: S N A
A8: ACCUMA 09 | B8: EUR | C8: 62660.52 | D8: =+C8*$D$2 -> 202755.03 | E8: 44665 | F8: =E8+90 -> 44755
A9: ACCUMA 10 | B9: EUR | C9: 19178.03 | D9: =+C9*$D$2 -> 62055.694 | E9: 44691 | F9: =E9+90 -> 44781
A10: ACCUMA 11 | B10: EUR | C10: 28936.53 | D10: =+C10*$D$2 -> 93631.956 | E10: 44699 | F10: =E10+90 -> 44789
A11: ACCUMA 12 | B11: EUR | C11: 40471.43 | D11: =+C11*$D$2 -> 130956.24 | E11: 44708 | F11: =E11+90 -> 44798
A12: ACCUMA 13 | B12: EUR | C12: 34429.67 | D12: =+C12*$D$2 -> 111406.49 | E12: 44712 | F12: =E12+90 -> 44802
A13: ACCUMA 14 | B13: EUR | C13: 11631.36 | D13: =+C13*$D$2 -> 37636.406 | E13: 44742 | F13: =E13+90 -> 44832
A14: ACCUMA 15 | B14: EUR | C14: 26975.23 | D14: =+C14*$D$2 -> 87285.64 | E14: 44753 | F14: =E14+90 -> 44843
A15: ACCUMA 16 | B15: EUR | C15: 43440.12 | D15: =+C15*$D$2 -> 140562.24 | E15: 44757 | F15: =E15+90 -> 44847
A16: ACCUMA 17 | B16: EUR | C16: 40898.18 | D16: =+C16*$D$2 -> 132337.1 | E16: 44777 | F16: =E16+90 -> 44867
A17: ACCUMA 18 | B17: EUR | C17: 12795.77 | D17: =+C17*$D$2 -> 41404.169 | E17: 44778 | F17: =E17+90 -> 44868
A18: ACCUMA 19 | B18: EUR | C18: 14911.41 | D18: =+C18*$D$2 -> 48249.893 | E18: 44796 | F18: =E18+90 -> 44886
A19: ACCUMA 20 | B19: EUR | C19: 47195.93 | D19: =+C19*$D$2 -> 152715.17 | E19: 44799 | F19: =E19+90 -> 44889
A20: ACCUMA 21 | B20: EUR | C20: 37793.41 | D20: =+C20*$D$2 -> 122290.78 | E20: 44804 | F20: =E20+90 -> 44894
A22: TOTAL | C22: =SUM(C8:C21) -> 421317.59
A25: TOTAL | C25: =SUM(C24) -> 0
A29: TOTAL | C29: =SUM(C27:C28) -> 0
A31: MICROPOROUS 05 | B31: EUR | C31: 38546.45 | D31: =+C31*D2 -> 124727.45 | E31: 44781 | F31: =+E31+90 -> 44871
A33: TOTAL | C33: =SUM(C31:C32) -> 38546.45
A35: SOVEMA 3 | B35: EUR | C35: 5641.9 | D35: =+C35*D2 -> 18255.891 | E35: 44749 | F35: =+E35+30 -> 44779
A38: TOTAL | C38: =SUM(C35:C37) -> 5641.9
A40: MONBAT 03 | B40: EUR | C40: 64425 | D40: =+C40*D2 -> 208464.48 | E40: 44622 | F40: =+E40+60 -> 44682
A41: MONBAT 04 | B41: EUR | C41: 35280.63 | D41: =+C41*D2 -> 114160 | E41: 44679 | F41: =+E41+60 -> 44739
A42: MONBAT 05 | B42: EUR | C42: =30960.64+1562.44 -> 32523.08 | D42: =+C42*D2 -> 105237.21 | E42: 44712 | F42: =+E42+60 -> 44772
A43: MONBAT 06 | B43: EUR | C43: 33720 | D43: =+C43*D2 -> 109110.16 | E43: 44729 | F43: =+E43+60 -> 44789
A44: MONBAT 07 | B44: EUR | C44: 60762.65 | D44: =+C44*D2 -> 196613.96 | E44: 44741 | F44: =+E44+60 -> 44801
A45: MONBAT 08 | B45: EUR | C45: 33740 | D45: =+C45*D2 -> 109174.88 | E45: 44741 | F45: =+E45+60 -> 44801
A48: TOTAL | C48: =SUM(C40:C47) -> 260451.36
A52: TOTAL | C52: =SUM(C50:C51) -> 0
A54: YUCRY | B54: EUR | C54: 14500 | D54: =+C54*D2 -> 46918.665 | E54: 44726 | F54: =+E54 -> 44726
A55: TOTAL | C55: =SUM(C54:C54) -> 14500
A58: TOTAL | C58: =SUM(C57:C57) -> 0
A61: TOTAL | C61: =SUM(C60:C60) -> 0
A64: TOTAL | C64: =SUM(C63:C63) -> 0
A66: NANJIN YAT | B66: CNY | C66: 950000 | D66: =+C66*D5 -> 433418.5 | F66: 44372 | H66: =C66*0.9 -> 855000 | J66: =+C66-H66 -> 95000
...

Sheet CMT
B2: SNA-NOUR
B3: ECHEANCIER 2021
B5: Crédit | D5: Échéance | E5: Principal | F5: Intérêt | G5: Total | H5: PP | I5: INT
B6: STB Meg | C6: 2500000 | D6: 44592 | F6: 31678.241 | G6: =SUM(E6:F6) -> 31678.241
B7: STB Meg | C7: 1250000 | D7: 44592 | E7: 104166.67 | F7: 18101.852 | G7: =SUM(E7:F7) -> 122268.52
B8: Total 01/2021 | E8: =SUM(E6:E7) -> 104166.67 | F8: =SUM(F6:F7) -> 49780.093 | G8: =SUM(G6:G7) -> 153946.76
B9: STB Meg | C9: 500000 | D9: 44651 | E9: 41666.667 | F9: 2656.25 | G9: =SUM(E9:F9) -> 44322.917
B10: STB Meg | C10: 1150000 | D10: 44651 | E10: 95833.333 | F10: 6109.375 | G10: =SUM(E10:F10) -> 101942.71
B11: STB Meg | C11: 1000000 | D11: 44651 | E11: 83333.333 | F11: 5312.5 | G11: =SUM(E11:F11) -> 88645.833
B12: STB Meg | C12: 350000 | D12: 44651 | E12: 29166.667 | F12: 1859.375 | G12: =SUM(E12:F12) -> 31026.042
B13: STB Meg | C13: 500000 | D13: 44651 | E13: 41666.667 | F13: 2656.25 | G13: =SUM(E13:F13) -> 44322.917
B14: Total 03/2021 | E14: =SUM(E9:E13) -> 291666.67 | F14: =SUM(F9:F13) -> 18593.75 | G14: =SUM(E14:F14) -> 310260.42
B15: STB Meg | C15: 2500000 | D15: 44681 | E15: 208333.33 | F15: 30645.255 | G15: =SUM(E15:F15) -> 238978.59
B16: STB Meg | C16: 1250000 | D16: 44681 | F16: 15322.627 | G16: =SUM(E16:F16) -> 15322.627
B17: Total 04/2021 | E17: =SUM(E15:E16) -> 208333.33 | F17: =SUM(F15:F16) -> 45967.882 | G17: =SUM(E17:F17) -> 254301.22
B18: STB Meg | C18: 500000 | D18: 44742 | F18: 1790.509 | G18: =SUM(E18:F18) -> 1790.509
B19: STB Meg | C19: 1150000 | D19: 44742 | F19: 4118.171 | G19: =SUM(E19:F19) -> 4118.171
B20: STB Meg | C20: 1000000 | D20: 44742 | F20: 3581.019 | G20: =SUM(E20:F20) -> 3581.019
B21: STB Meg | C21: 350000 | D21: 44742 | F21: 1253.356 | G21: =SUM(E21:F21) -> 1253.356
B22: STB Meg | C22: 500000 | D22: 44742 | F22: 1790.509 | G22: =SUM(E22:F22) -> 1790.509
B23: Total 06/2021 | E23: =SUM(E18:E22) -> 0 | F23: =SUM(F18:F22) -> 12533.564 | G23: =SUM(E23:F23) -> 12533.564
B24: STB Meg | C24: 2500000 | D24: 44773 | F24: 27152.778 | G24: =SUM(E24:F24) -> 27152.778
B25: STB Meg | C25: 1250000 | D25: 44773 | E25: 104166.17 | F25: 15839.12 | G25: =SUM(E25:F25) -> 120005.29
B26: Total 07/2021 | E26: =SUM(E24:E25) -> 104166.17 | F26: =SUM(F24:F25) -> 42991.898 | G26: =SUM(G24:G25) -> 147158.07
B27: STB Meg | C27: 500000 | D27: 44834 | E27: 41666.667 | F27: 1810.185 | G27: =SUM(E27:F27) -> 43476.852
B28: STB Meg | C28: 1150000 | D28: 44834 | E28: 95833.333 | F28: 4163.426 | G28: =SUM(E28:F28) -> 99996.759
B29: STB Meg | C29: 1000000 | D29: 44834 | E29: 83333.333 | F29: 3620.37 | G29: =SUM(E29:F29) -> 86953.703
B30: STB Meg | C30: 350000 | D30: 44834 | E30: 29166.667 | F30: 1267.13 | G30: =SUM(E30:F30) -> 30433.797
B31: STB Meg | C31: 500000 | D31: 44834 | E31: 41666.667 | F31: 1810.185 | G31: =SUM(E31:F31) -> 43476.852
B32: Total 09/2021 | E32: =SUM(E27:E31) -> 291666.67 | F32: =SUM(F27:F31) -> 12671.296 | G32: =SUM(E32:F32) -> 304337.96
B33: STB Meg | C33: 2500000 | D33: 44865 | E33: 208333.33 | F33: 27152.778 | G33: =SUM(E33:F33) -> 235486.11
B34: STB Meg | C34: 1250000 | D34: 44865 | F34: 13576.389 | G34: =SUM(E34:F34) -> 13576.389
B35: Total 10/2021 | E35: =SUM(E33:E34) -> 208333.33 | F35: =SUM(F33:F34) -> 40729.167 | G35: =SUM(E35:F35) -> 249062.5
B36: STB Meg | C36: 500000 | D36: 44926 | F36: 905.093 | G36: =SUM(E36:F36) -> 905.093
B37: STB Meg | C37: 1150000 | D37: 44926 | F37: 2081.713 | G37: =SUM(E37:F37) -> 2081.713
B38: STB Meg | C38: 1000000 | D38: 44926 | F38: 1810.185 | G38: =SUM(E38:F38) -> 1810.185
B39: STB Meg | C39: 350000 | D39: 44926 | F39: 633.565 | G39: =SUM(E39:F39) -> 633.565
B40: STB Meg | C40: 500000 | D40: 44926 | F40: 905.093 | G40: =SUM(E40:F40) -> 905.093
B41: Total 12/2021 | E41: =SUM(E36:E40) -> 0 | F41: =SUM(F36:F40) -> 6335.649 | G41: =SUM(E41:F41) -> 6335.649
B43: TOTAL 2021 | E43: =E41+E35+E32+E26+E23+E17+E14+E8 -> 1208332.8 | F43: =F41+F35+F32+F26+F23+F17+F14+F8 -> 229603.3 | G43: =G41+G35+G32+G26+G23+G17+G14+G8 -> 1437936.1

Sheet EXPORT
A2: CLIENT | B2: Facture | H2: MCNE | K2: REGLEMENT | M2: DIFFERENCE
B3: Numéro | C3: Date | D3: DEV | E3: MONTANT | F3: TND | G3: Échéance | H3: Montant | I3: DATE MEP | J3: ECHEANCE | K3: Montant | L3: Date
A4: ERRAFIK | B4: FN190050 | C4: 43650 | D4: EUR | E4: 80487.84 | F4: =+E4*3.2573 -> 262173.04 | G4: =+C4+60 -> 43710 | K4: =17160.49+23220.56+11522.21+25585.18 -> 77488.44 | M4: =E4-K4 -> 2999.4
A5: ERRAFIK | B5: FN190089 | C5: 43808 | D5: EUR | E5: 72000.6 | F5: =E5*3.17075 -> 228295.9 | G5: =+C5+60 -> 43868 | M5: =E5-K5 -> 72000.6
A6: ERRAFIK | B6: FN190091 | C6: 43820 | D6: EUR | E6: 69278.3 | F6: =+E6*3.1659 -> 219328.17 | G6: =+C6+60 -> 43880 | K6: =54606.25+14672.05 -> 69278.3 | M6: =E6-K6 -> 0
A7: ERRAFIK | B7: FN200025 | C7: 43955 | D7: EUR | E7: 168227.2 | F7: =+E7*3.1521 -> 530268.96 | G7: =+C7+60 -> 44015 | K7: =168000+227.2 -> 168227.2 | M7: =E7-K7 -> 0
A8: NOURAKKUMULATOREN | B8: FP200006 | C8: 43970 | D8: EUR | E8: 15734.26 | F8: =E8*3.16385 -> 49780.839 | G8: =+C8+60 -> 44030 | K8: =16027.1-13984.3+13691.46 -> 15734.26 | M8: =E8-K8 -> 0
A9: NOURAKKUMULATOREN | B9: FN200031 | C9: 44012 | D9: EUR | E9: 15834.73 | F9: =+E9*3.20945 -> 50820.774 | G9: =+C9+60 -> 44072 | K9: =14010.96-13691.46+3000+5000+5985+1530.23 -> 15834.73 | M9: =E9-K9 -> 0
A10: NOURAKKUMULATOREN | B10: FN200034 | C10: 44036 | D10: EUR | E10: 12626.18 | F10: =+E10*3.22895 -> 40769.304 | G10: =+C10+60 -> 44096 | K10: =10062.44+2563.74 -> 12626.18 | M10: =E10-K10 -> 0
A11: NOURAKKUMULATOREN | B11: FN200040 | C11: 44050 | D11: EUR | E11: 22494.77 | F11: =+E11*3.23755 -> 72827.943 | G11: =+C11+60 -> 44110 | K11: =4370.53+7668.83+10455.41 -> 22494.77 | M11: =E11-K11 -> 0
A12: NOURAKKUMULATOREN | B12: FN200042 | C12: 44070 | D12: EUR | E12: 11215.72 | F12: =+E12*3.24325 -> 36375.384 | G12: =+C12+60 -> 44130 | K12: 11215.72 | M12: =E12-K12 -> 0
A13: NOURAKKUMULATOREN | B13: FN200045 | C13: 44077 | D13: EUR | E13: 12083.83 | F13: =+E13*3.24375 -> 39196.924 | G13: =+C13+60 -> 44137 | K13: 12083.83 | M13: =E13-K13 -> 0
A14: ERRAFIK | B14: FN200048 | C14: 44090 | D14: EUR | E14: 81646.9 | F14: =+E14*3.25965 -> 266140.32 | G14: =+C14+60 -> 44150 | K14: =47799.42+33847.48 -> 81646.9 | M14: =E14-K14 -> 0
A15: NOURAKKUMULATOREN | B15: FN200049 | C15: 44096 | D15: EUR | E15: 15922.43 | F15: =+E15*3.2507 -> 51759.043 | G15: =+C15+60 -> 44156 | K15: 15922.43 | M15: =E15-K15 -> 0
A16: NOURAKKUMULATOREN | B16: FN200052 | C16: 44109 | D16: EUR | E16: 16380.5 | F16: =+E16*3.2461 -> 53172.741 | G16: =+C16+60 -> 44169 | K16: =9428.61+2000+3000+1951.89 -> 16380.5 | M16: =E16-K16 -> 0
A17: NOURAKKUMULATOREN | B17: FN200053 | C17: 44109 | D17: EUR | E17: 27320 | F17: =E17*3.24845 -> 88747.654 | G17: =+C17+60 -> 44169 | K17: =5000-1951.89+3500+20771.89 -> 27320 | M17: =E17-K17 -> 0
A18: ERRAFIK | B18: FN200054 | C18: 44116 | D18: EUR | E18: 39840 | F18: =+E18*3.25305 -> 129601.51 | G18: =+C18+60 -> 44176 | K18: =16152.52+23687.48 -> 39840 | M18: =E18-K18 -> 0
A19: NOURAKKUMULATOREN | B19: FN200055 | C19: 44118 | D19: EUR | E19: 8621 | F19: =+E19*3.2505 -> 28022.561 | G19: =+C19+60 -> 44178 | K19: =26500-20771.89+2892.89 -> 8621 | M19: =E19-K19 -> 0
A20: ERRAFIK | B20: FN200056 | C20: 44130 | D20: EUR | E20: 86254.36 | F20: =+E20*3.25165 -> 280468.99 | G20: =+C20+60 -> 44190 | K20: =26312.52+59941.84 -> 86254.36 | M20: =E20-K20 -> 0
A21: ERRAFIK | B21: FN200059 | C21: 44137 | D21: EUR | E21: 83717.44 | F21: =+E21*3.23415 -> 270754.76 | G21: =+C21+60 -> 44197 | K21: =80000-227.2 -> 79772.8 | M21: =E21-K21 -> 3944.64 | N21: GERMENT
A22: NOURAKKUMULATOREN | B22: FN200061 | C22: 44148 | D22: EUR | E22: 15106 | F22: =+E22*3.2508 -> 49106.585 | G22: =+C22+60 -> 44208 | K22: =15826.5-2892.89+2172.39 -> 15106 | M22: =E22-K22 -> 0
A23: NOURAKKUMULATOREN | B23: FN200063 | C23: 44155 | D23: EUR | E23: 10412.61 | F23: =+E23*3.2515 -> 33856.601 | G23: =+C23+60 -> 44215 | K23: 10412.61 | M23: =E23-K23 -> 0
A24: NOURAKKUMULATOREN | B24: FN200068 | C24: 44168 | D24: EUR | E24: 9195.5 | F24: =+E24*3.2789 -> 30151.125 | G24: =+C24+60 -> 44228 | K24: 9195.5 | M24: =E24-K24 -> 0
A25: NOURAKKUMULATOREN | B25: FN200069 | C25: 44175 | D25: EUR | E25: 8960 | F25: =+E25*3.2833 -> 29418.368 | G25: =+C25+60 -> 44235 | K25: =25243.6-2172.39-10412.61-9195.5+5000+496.9 -> 8960 | M25: =E25-K25 -> 0
A26: ERRAFIK | B26: FN200067 | C26: 44166 | D26: EUR | E26: 89529.3 | F26: =+E26*3.291 -> 294640.93 | G26: =+C26+60 -> 44226 | K26: =65058.16+24471.14 -> 89529.3 | M26: =E26-K26 -> 0
A27: NOURAKKUMULATOREN | B27: FN210001 | C27: 44200 | D27: EUR | E27: 16027.1 | F27: =+E27*3.2928 -> 52774.035 | G27: =+C27+60 -> 44260 | K27: =15842.75-496.9+681.25 -> 16027.1 | M27: =E27-K27 -> 0
A28: MARIBAT | B28: FN210002 | C28: 44204 | D28: EUR | E28: 98359.84 | F28: =+E28*3.2861 -> 323220.27 | G28: =+C28+60 -> 44264 | K28: 98224.34 | M28: =E28-K28 -> 135.5
A29: ERRAFIK | B29: FN210004 | C29: 44214 | D29: EUR | E29: 90735.6 | F29: =+E29*3.2825 -> 297839.61 | G29: =+C29+60 -> 44274 | K29: 90735.6 | M29: =E29-K29 -> 0
A30: NOURAKKUMULATOREN | B30: FN210006 | C30: 44228 | D30: EUR | E30: 14010.96 | F30: =+E30*3.2787 -> 45937.735 | G30: =+C30+60 -> 44288 | K30: =9659.75+4351.21 -> 14010.96 | M30: =E30-K30 -> 0
A31: ERRAFIK | B31: FN210007 | C31: 44231 | D31: EUR | E31: 87121.2 | F31: =+E31*3.2695 -> 284842.76 | G31: =+C31+60 -> 44291 | K31: =38293.26+48827.94 -> 87121.2 | M31: =E31-K31 -> 0
A32: ERRAFIK | B32: FN210009 | C32: 44240 | D32: EUR | E32: 80224.4 | F32: =+E32*3.2837 -> 263432.86 | G32: =+C32+60 -> 44300 | K32: 78828.92 | M32: =E32-K32 -> 1395.48 | N32: LC
A33: ERRAFIK | B33: FN210010 | C33: 44249 | D33: EUR | E33: 88106.32 | F33: =+E33*3.2837 -> 289314.72 | G33: =+C33+60 -> 44309 | K33: =45172.06+42934.26 -> 88106.32 | M33: =E33-K33 -> 0
A34: ERRAFIK | B34: FN210014 | C34: 44266 | D34: EUR | E34: 88650.92 | F34: =+E34*3.2809 -> 290854.8 | G34: =+C34+60 -> 44326 | K34: =33845.18+54805.74 -> 88650.92 | M34: =E34-K34 -> 0
A35: NOURAKKUMULATOREN | B35: FN210015 | C35: 44270 | D35: EUR | E35: 11592.67 | F35: =+E35*3.2809 -> 38034.391 | G35: =+C35+60 -> 44330 | K35: =1248.79+8993.7+1350.18 -> 11592.67 | M35: =E35-K35 -> 0
A36: ERRAFIK | B36: FN210017 | C36: 44278 | D36: EUR | E36: 85322.5 | F36: =+E36*3.2742 -> 279362.93 | G36: =+C36+60 -> 44338 | K36: 84910.1 | M36: =E36-K36 -> 412.4
A37: NOURAKKUMULATOREN | B37: FN210018 | C37: 44285 | D37: EUR | E37: 6934.27 | F37: =+E37*3.2732 -> 22697.253 | G37: =+C37+60 -> 44345 | K37: =6090.12+844.15 -> 6934.27 | M37: =E37-K37 -> 0
A38: ERRAFIK | B38: FN210020 | C38: 44287 | D38: EUR | E38: 90868.75 | F38: =+E38*3.2742 -> 297522.46 | G38: =+C38+60 -> 44347 | K38: 90868.75 | M38: =E38-K38 -> 0
A39: ERRAFIK | B39: FN210021 | C39: 44293 | D39: EUR | E39: 90819 | F39: =+E39*3.2877 -> 298585.63 | G39: =+C39+60 -> 44353 | K39: 90347.56 | M39: =E39-K39 -> 471.44 | N39: LC
A40: NOURAKKUMULATOREN | B40: FN210022 | C40: 44305 | D40: EUR | E40: 7668.83 | F40: =+E40*3.3053 -> 25347.784 | G40: =+C40+60 -> 44365 | K40: =7331.85+336.98 -> 7668.83 | M40: =E40-K40 -> 0
A41: NOURAKKUMULATOREN | B41: FN210027 | C41: 44319 | D41: EUR | E41: 59106 | F41: =+E41*3.3136 -> 195853.64 | G41: =+C41+60 -> 44379 | K41: =17545.32+18121+22137.2+1302.48 -> 59106 | M41: =E41-K41 -> 0
...

Sheet CT
A1: Adr fact | B1: Nom | C1: Echeance | D1: Amount
A2: 4R12227 | B2: HAKIM BEN SADOK KHEMIS | C2: 44806 | D2: 225
A3: 4R13151 | B3: SMART CAR SERVICES | C3: 44811 | D3: 2531.151
A4: 1R05237 | B4: SOCIETE ZGOLLI TRAC | C4: 44812 | D4: 171.389
A5: 4S12082 | B5: STE BSA VOYAGES | C5: 44816 | D5: 917.78
A6: 4R12227 | B6: HAKIM BEN SADOK KHEMIS | C6: 44819 | D6: 145
A7: 1R06126 | B7: NAILA BEN AHMED JEMAI | C7: 44819 | D7: 2000
A8: 1R05103 | B8: JALEL BEN AHMED EL GABSI | C8: 44819 | D8: 114.84
A9: 1S02041 | B9: SOCIETE DE ROUTE ET BATIMENT | C9: 44824 | D9: 6421.818
A10: 1R02272 | B10: AHMED ALI IMEN | C10: 44824 | D10: 9000
A11: 7R20020 | B11: ELKHALDI ANIS B MED LAKHDHAR | C11: 44826 | D11: 2680.955
A12: 6R23139 | B12: AWADNI MAATOUG | C12: 44826 | D12: 930
A13: 3R18160 | B13: S M E A | C13: 44826 | D13: 5441.605
... A263: 8R11109 | B263: SOCIETE " BSPIA " | C263: 44834 | D263: 1685.973
A264: CHEQUE 09/2022 | D264: =SUM(D2:D263) -> 691341.8
A265: 6R21178 | B265: STE B.ABDESSALEM PIECES AUTO | C265: 44835 | D265: 3000
A266: 7R22048 | B266: STE SUD EQUIPEMENT GENERALE | C266: 44835 | D266: 7477.372
A267: 7R22039 | B267: STE AL BARAKA EQUIP.GENERALE | C267: 44835 | D267: 10299.921
A268: 7R22039 | B268: STE AL BARAKA EQUIP.GENERALE | C268: 44835 | D268: 15992.407
A269: 4R13145 | B269: STE GALAXY DE SRVICES | C269: 44835 | D269: 2000
A270: 4R13137 | B270: STE CENTRE NAOUALI SERVICES | C270: 44835 | D270: 1518.233
A271: 3R15047 | B271: STE ELWASAT | C271: 44835 | D271: 2105
A272: 3R15047 | B272: STE ELWASAT | C272: 44835 | D272: 1700
A273: 3R18438 | B273: MOUNIR AROUS | C273: 44835 | D273: 2295.063
A274: 3R15019 | B274: FERJANI FATHALLAH | C274: 44835 | D274: 1440
A275: 1R05181 | B275: MAJED BEN MED HAMMAMI | C275: 44835 | D275: 3000
A276: 1R05231 | B276: STE RAWCHEM AUTO PARTS | C276: 44835 | D276: 532.88
... A797: 8R09044 | B797: KOUKI FAOUZI | C797: 44865 | D797: 3585.793
A798: CHEQUE 10/2022 | D798: =SUM(D265:D797) -> 1587970.5
A799: 6R23165 | B799: NASRALLAH BELGACEM B.HOUCH | C799: 44866 | D799: 3000
A800: 6R21197 | B800: KOTNI ALI BEN SALAH | C800: 44866 | D800: 578.087
A801: 6R23155 | B801: STE EQUIP.INDUSTRIEL & MARIT | C801: 44866 | D801: 1000
A802: 7R22048 | B802: STE SUD EQUIPEMENT GENERALE | C802: 44866 | D802: 4896.829
A803: 4R13115 | B803: SOCIETE WORLD PARTS | C803: 44866 | D803: 1500
A804: 3R18442 | B804: SEIFEDDINE BEN ALI | C804: 44866 | D804: 3070
A805: 3R15047 | B805: STE ELWASAT | C805: 44866 | D805: 1000
A806: 8R09088 | B806: STE BEN MECHRI AUTO PIECES | C806: 44866 | D806: 5959.947
A807: 8R10052 | B807: STE MAIS | C807: 44866 | D807: 2086.218
A808: 6R21178 | B808: STE B.ABDESSALEM PIECES AUTO | C808: 44867 | D808: 1340.232
A809: 4R13151 | B809: SMART CAR SERVICES | C809: 44867 | D809: 1788.688
...

Sheet TR 
A1: Adr fact | B1: Nom | C1: Echéance | D1: Montant
A2: 7R19052 | B2: ISMAIL BEN OTHMAN KARAOULI | C2: 44803 | D2: 1487.525
A3: 7S22006 | B3: STE BELMABROUK DES TRAVAUX | C3: 44805 | D3: 16242.403
A4: 7R19052 | B4: ISMAIL BEN OTHMAN KARAOULI | C4: 44834 | D4: 1061.717
A5: 7S22007 | B5: STE BOUAJILA ALI DE TP | C5: 44844 | D5: 22809.979
A6: 4R12220 | B6: LOTFI BEN MOHAMED KRIAA | C6: 44865 | D6: 3855.137
A7: 7R22002 | B7: STE GLE DE COMMERCE PIECES | C7: 44865 | D7: 3307.18
A8: 4R14015 | B8: STE EL GHARBI EQUIP.GENERAL | C8: 44879 | D8: 2500
A9: 3R18331 | B9: STE SCAPA | C9: 44885 | D9: 3895
A10: 4R12182 | B10: S T A A S | C10: 44885 | D10: 1766.101
A11: 4R14015 | B11: STE EL GHARBI EQUIP.GENERAL | C11: 44886 | D11: 2500
A12: 3R18338 | B12: STE COMPTOIR SFAXIEN PIECES | C12: 44895 | D12: 2165.6
A13: 3R18331 | B13: STE SCAPA | C13: 44895 | D13: 3893.523
... A41: 4R13147 | B41: STE KACEM ET FRERES | C41: 44971 | D41: 24938.263
A42: TOTAL TRAITE | D42: =SUM(D2:D41) -> 163060.93

Sheet SNA
A1: TYPE | B1: DESIGN | C1: OP N° | D1: DATE-OP | E1: DATE-RECU | F1: MT OUV | G1: REG | I1: MT | J1: Échéance | K1: Agence | L1: N° CHQ
A2: CH | B2: SALAIRE | C2: 00012403 | D2: 43320 | E2: 43322 | F2: =SUM(I2*G2) -> 46.744 | G2: 1 | H2: =IF(E2="",1,0) -> 0 | I2: 46.744 | J2: =D2 -> 43320 | K2: MEGRINE | L2: 0002362
A3: CH | B3: SALAIRE | C3: 00012564 | D3: 43361 | E3: 43410 | F3: =SUM(I3*G3) -> 46.759 | G3: 1 | H3: =IF(E3="",1,0) -> 0 | I3: 46.759 | J3: =+D3 -> 43361 | K3: MEGRINE | L3: 0002491
A4: CH | B4: SALAIRE HADJI RIHAB | C4: 00012719 | D4: 43391 | E4: 43712 | F4: =SUM(I4*G4) -> 35.703 | G4: 1 | H4: =IF(E4="",1,0) -> 0 | I4: 35.703 | J4: 43391 | K4: MEGRINE | L4: 0002610
A5: CH | B5: SALAIRE | C5: 00013343 | D5: 43530 | E5: 43532 | F5: =SUM(I5*G5) -> 536.393 | G5: 1 | H5: =IF(E5="",1,0) -> 0 | I5: 536.393 | J5: =+D5 -> 43530 | K5: MEGRINE | L5: 0003261
A6: CH | B6: IRPP | C6: 00013492 | D6: 43550 | E6: 43554 | F6: =SUM(I6*G6) -> 598.751 | G6: 1 | H6: =IF(E6="",1,0) -> 0 | I6: 598.751 | J6: =+D6 -> 43550 | K6: MEGRINE | L6: 0003379
A7: CH | B7: IRPP | C7: 00013500 | D7: 43550 | E7: 43554 | F7: =SUM(I7*G7) -> 1107.198 | G7: 1 | H7: =IF(E7="",1,0) -> 0 | I7: 1107.198 | J7: =+D7 -> 43550 | K7: MEGRINE | L7: 0003387
A8: CH | B8: IRPP | C8: 00013501 | D8: 43550 | E8: 43554 | F8: =SUM(I8*G8) -> 222.528 | G8: 1 | H8: =IF(E8="",1,0) -> 0 | I8: 222.528 | J8: =+D8 -> 43550 | K8: MEGRINE | L8: 0003388
A9: CH | B9: IRPP | C9: 00013506 | D9: 43550 | E9: 43554 | F9: =SUM(I9*G9) -> 103.777 | G9: 1 | H9: =IF(E9="",1,0) -> 0 | I9: 103.777 | J9: =+D9 -> 43550 | K9: MEGRINE | L9: 0003393
A10: CH | B10: IRPP | C10: 00013509 | D10: 43550 | E10: 43554 | F10: =SUM(I10*G10) -> 82.738 | G10: 1 | H10: =IF(E10="",1,0) -> 0 | I10: 82.738 | J10: =+D10 -> 43550 | K10: MEGRINE | L10: 0003396
A11: CH | B11: POUR ECRITURE HORS EXPLOITAT | C11: 00015490 | D11: 43901 | E11: 43903 | F11: =SUM(I11*G11) -> 11.249 | G11: 1 | H11: =IF(E11="",1,0) -> 0 | I11: 11.249 | J11: =+D11 -> 43901 | K11: MEGRINE | L11: 0004937
A12: CH | B12: LA POSTE | C12: 00016688 | D12: 44125 | F12: =SUM(I12*G12) -> 0 | G12: 1 | H12: =IF(E12="",1,0) -> 1 | I12: 0 | J12: =+D12 -> 44125 | K12: MEGRINE | L12: 0005880
A13: CH | B13: POUR ECRITURE HORS EXPLOITAT | C13: 00017179 | D13: 44188 | E13: 44190 | F13: =SUM(I13*G13) -> 257.143 | G13: 1 | H13: =IF(E13="",1,0) -> 0 | I13: 257.143 | J13: =+D13 -> 44188 | K13: MEGRINE | L13: 0006294
A14: CH | B14: STAM | C14: 00017815 | D14: 44279 | F14: =SUM(I14*G14) -> 0 | G14: 1 | H14: =IF(E14="",1,0) -> 1 | I14: 0 | J14: =+D14 -> 44279 | K14: MEGRINE | L14: 0006832
A15: CH | B15: AST (AVENIR SERVICE TRANSPOR | C15: 00018440 | D15: 44392 | F15: =SUM(I15*G15) -> 0 | G15: 1 | H15: =IF(E15="",1,0) -> 1 | I15: 0 | J15: =+D15 -> 44392 | K15: MEGRINE | L15: 0007349
A16: CH | B16: INNORPI | C16: 00018545 | D16: 44413 | F16: =SUM(I16*G16) -> 0 | G16: 1 | H16: =IF(E16="",1,0) -> 1 | I16: 0 | J16: =+D16 -> 44413 | K16: MEGRINE | L16: 0007368
A17: CH | B17: IFC (INTERNATIONAL FREIGHT | C17: 00018663 | D17: 44434 | F17: =SUM(I17*G17) -> 0 | G17: 1 | H17: =IF(E17="",1,0) -> 1 | I17: 0 | J17: =+D17 -> 44434 | K17: MEGRINE | L17: 0007402
A18: CH | B18: I F C | C18: 00018816 | D18: 44456 | F18: =SUM(I18*G18) -> 0 | G18: 1 | H18: =IF(E18="",1,0) -> 1 | I18: 0 | J18: =+D18 -> 44456 | K18: MEGRINE | L18: 0007436
A19: CH | B19: SEA LOG | C19: 00018831 | D19: 44460 | E19: 44462 | F19: =SUM(I19*G19) -> 0 | G19: 1 | H19: =IF(E19="",1,0) -> 0 | I19: 0 | J19: =+D19 -> 44460 | K19: MEGRINE | L19: 0007440
A20: CH | B20: Trans Glory Tunise | C20: 00020498 | D20: 44704 | F20: =SUM(I20*G20) -> 0 | G20: 1 | H20: =IF(E20="",1,0) -> 1 | I20: 0 | J20: =+D20 -> 44704 | K20: MEGRINE | L20: 0007906
A21: CH | B21: CMA CGM | C21: 00020540 | D21: 44713 | F21: =SUM(I21*G21) -> 0 | G21: 1 | H21: =IF(E21="",1,0) -> 1 | I21: 0 | J21: =+D21 -> 44713 | K21: MEGRINE | L21: 0007949
A22: CH | B22: GENMAR | C22: 00020808 | D22: 44749 | F22: =SUM(I22*G22) -> 0 | G22: 1 | H22: =IF(E22="",1,0) -> 1 | I22: 0 | J22: =+D22 -> 44749 | K22: MEGRINE | L22: 0008178
A23: CH | B23: GENMAR | C23: 00020810 | D23: 44749 | F23: =SUM(I23*G23) -> 0 | G23: 1 | H23: =IF(E23="",1,0) -> 1 | I23: 0 | J23: =+D23 -> 44749 | K23: MEGRINE | L23: 0008180
A24: CH | B24: LA DOUANE | C24: 00020817 | D24: 44749 | F24: =SUM(I24*G24) -> 0 | G24: 1 | H24: =IF(E24="",1,0) -> 1 | I24: 0 | J24: =+D24 -> 44749 | K24: MEGRINE | L24: 0008187
A25: CH | B25: GERMANETTI | C25: 00021462 | D25: 44846 | F25: =SUM(I25*G25) -> 0 | G25: 1 | H25: =IF(E25="",1,0) -> 1 | I25: 0 | J25: =+D25 -> 44846 | K25: MEGRINE | L25: 0008740
A26: CH | B26: TUNISHIP | C26: 00021472 | D26: 44847 | F26: =SUM(I26*G26) -> 0 | G26: 1 | H26: =IF(E26="",1,0) -> 1 | I26: 0 | J26: =+D26 -> 44847 | K26: MEGRINE | L26: 0008749
A27: CH | B27: MAERSK TUNISIE | C27: 00021479 | D27: 44847 | F27: =SUM(I27*G27) -> 0 | G27: 1 | H27: =IF(E27="",1,0) -> 1 | I27: 0 | J27: =+D27 -> 44847 | K27: MEGRINE | L27: 0008756
A28: CH | B28: POUR ECRITURE HORS EXPLOITAT | C28: 00021656 | D28: 44869 | F28: =SUM(I28*G28) -> 73.627 | G28: 1 | H28: =IF(E28="",1,0) -> 1 | I28: 73.627 | J28: =+D28 -> 44869 | K28: MEGRINE | L28: 0008897
A29: CH | B29: POUR ECRITURE HORS EXPLOITAT | C29: 00021661 | D29: 44869 | F29: =SUM(I29*G29) -> 239.289 | G29: 1 | H29: =IF(E29="",1,0) -> 1 | I29: 239.289 | J29: =+D29 -> 44869 | K29: MEGRINE | L29: 0008903
A30: CH | B30: GROUPMENT MEDECIN DE TRAVAIL | C30: 00021662 | D30: 44869 | F30: =SUM(I30*G30) -> 4766.38 | G30: 1 | H30: =IF(E30="",1,0) -> 1 | I30: 4766.38 | J30: =+D30 -> 44869 | K30: MEGRINE | L30: 0008904
A31: CH | B31: FOURNISSEURS ACHATS | C31: 00021669 | D31: 44872 | F31: =SUM(I31*G31) -> 850 | G31: 1 | H31: =IF(E31="",1,0) -> 1 | I31: 850 | J31: =+D31 -> 44872 | K31: MEGRINE | L31: 0008909
... A50: CH | B50: LA POSTE | C50: 00022848 | D50: 45033 | F50: =SUM(I50*G50) -> 0 | G50: 1 | H50: =IF(E50="",1,0) -> 1 | I50: 0 | J50: =+D50 -> 45033 | K50: MEGRINE | L50: 0009858
A51: CH | B51: FOURNISSEURS ACHATS | C51: 00022958 | D51: 45051 | F51: =SUM(I51*G51) -> 160 | G51: 1 | H51: =IF(E51="",1,0) -> 1 | I51: 160 | J51: 45050 | K51: MEGRINE | L51: 0009950
A52: CH | B52: BSA | C52: 00022961 | D52: 45051 | F52: =SUM(I52*G52) -> 0 | G52: 0 | H52: =IF(E52="",1,0) -> 1 | I52: 3112.353 | J52: 45051 | K52: MEGRINE | L52: 0009952
A53: CH | B53: SPHD-SELMA PRODUITS | C53: 00022972 | D53: 45054 | F53: =SUM(I53*G53) -> 0 | G53: 0 | H53: =IF(E53="",1,0) -> 1 | I53: 119.524 | J53: 45054 | K53: MEGRINE | L53: 0009962
A54: CH | B54: 2RE | C54: 00022978 | D54: 45054 | F54: =SUM(I54*G54) -> 0 | G54: 0 | H54: =IF(E54="",1,0) -> 1 | I54: 237.68 | J54: 45054 | K54: MEGRINE | L54: 0009967
A55: CH | B55: MFN AUTOMATION-SARL | C55: 00022985 | D55: 45054 | F55: =SUM(I55*G55) -> 0 | G55: 0 | H55: =IF(E55="",1,0) -> 1 | I55: 432.613 | J55: 45054 | K55: MEGRINE | L55: 0009972
A56: CH | B56: ESILAB | C56: 00023007 | D56: 45055 | F56: =SUM(I56*G56) -> 0 | G56: 0 | H56: =IF(E56="",1,0) -> 1 | I56: 628.13 | J56: 45055 | K56: MEGRINE | L56: 0009995
A57: CH | B57: BSA | C57: 00023013 | D57: 45056 | F57: =SUM(I57*G57) -> 0 | G57: 0 | H57: 0 | I57: 403.22 | J57: =+D57 -> 45056 | K57: MEGRINE | L57: 0010001
A58: CH | B58: STE TOP ETANCHEITE | C58: 00023092 | D58: 45069 | F58: =SUM(I58*G58) -> 0 | G58: 0 | H58: =IF(E58="",1,0) -> 1 | I58: 324.228 | J58: 45069 | K58: MEGRINE | L58: 0010026
...

Sheet SND
A1: TYPE | B1: DESIGN | C1: OP N° | D1: DATE-OP | E1: DATE-RECU | F1: MT OUV | G1: REG | I1: MT | J1: Banque | K1: Échéance | L1: N° CHQ | M1: STATUT
A2: CH | B2: HELA SEMMERI | C2: 00005927 | D2: 43105 | F2: =SUM(I2*G2) -> 522.746 | G2: 1 | H2: =IF(E2="",1,0) -> 1 | I2: 522.746 | J2: MEGRINE | K2: =D2 -> 43105 | L2: 0000507 | M2: FINANCES
A3: CH | B3: FOURNISSEUR HORS EXPLOITAT. | C3: 00011129 | D3: 45008 | F3: =SUM(I3*G3) -> 436.741 | G3: 1 | H3: =IF(E3="",1,0) -> 1 | I3: 436.741 | L3: 0000614
A4: CH | B4: FOURNISSEUR HORS EXPLOITAT. | C4: 00011143 | D4: 45020 | F4: =SUM(I4*G4) -> 257.67 | G4: 1 | H4: =IF(E4="",1,0) -> 1 | I4: 257.67 | L4: 0000615
A5: CH | B5: FOURNISSEUR HORS EXPLOITAT. | C5: 00011273 | D5: 45058 | F5: =SUM(I5*G5) -> 478.506 | G5: 1 | H5: =IF(E5="",1,0) -> 1 | I5: 478.506 | L5: 0000622
A6: CH | B6: ZRIBI MAKRAM | C6: 00006362 | D6: 43284 | F6: =SUM(I6*G6) -> 95.2 | G6: 1 | H6: =IF(E6="",1,0) -> 1 | I6: 95.2 | J6: MEGRINE | K6: =D6 -> 43284 | L6: 0000724 | M6: FINANCES
A7: CH | B7: ZRIBI MAKRAM | C7: 00006375 | D7: 43287 | F7: =SUM(I7*G7) -> 303.45 | G7: 1 | H7: =IF(E7="",1,0) -> 1 | I7: 303.45 | J7: MEGRINE | K7: =D7 -> 43287 | L7: 0000730 | M7: FINANCES
A8: CH | B8: FOURNISSEUR HORS EXPLOITAT. | C8: 00011141 | D8: 45014 | F8: =SUM(I8*G8) -> 1223.413 | G8: 1 | H8: =IF(E8="",1,0) -> 1 | I8: 1223.413 | L8: 0000883
A9: CH | B9: FOURNISSEUR HORS EXPLOITAT. | C9: 00011198 | D9: 45035 | F9: =SUM(I9*G9) -> 559.604 | G9: 1 | H9: =IF(E9="",1,0) -> 1 | I9: 559.604 | L9: 0000888
A10: CH | B10: FOURNISSEUR HORS EXPLOITAT. | C10: 00011276 | D10: 45063 | F10: =SUM(I10*G10) -> 494.125 | G10: 1 | H10: =IF(E10="",1,0) -> 1 | I10: 494.125 | L10: 0000894
A11: CH | B11: FOURNISSEUR HORS EXPLOITAT. | C11: 00011083 | D11: 44985 | F11: =SUM(I11*G11) -> 1340.396 | G11: 1 | H11: =IF(E11="",1,0) -> 1 | I11: 1340.396 | J11: GAFSA | K11: =+D11 -> 44985 | L11: 0000895
A12: CH | B12: FOURNISSEUR HORS EXPLOITAT. | C12: 00011279 | D12: 45063 | F12: =SUM(I12*G12) -> 36.4 | G12: 1 | H12: =IF(E12="",1,0) -> 1 | I12: 36.4 | L12: 0000895
A13: CH | B13: FOURNISSEUR HORS EXPLOITAT. | C13: 00011144 | D13: 45020 | F13: =SUM(I13*G13) -> 554.825 | G13: 1 | H13: =IF(E13="",1,0) -> 1 | I13: 554.825 | L13: 0000901
A14: CH | B14: FOURNISSEUR HORS EXPLOITAT. | C14: 00011197 | D14: 45035 | F14: =SUM(I14*G14) -> 420.5 | G14: 1 | H14: =IF(E14="",1,0) -> 1 | I14: 420.5 | L14: 0000906
A15: CH | B15: FOURNISSEUR HORS EXPLOITAT. | C15: 00011236 | D15: 45050 | F15: =SUM(I15*G15) -> 778.798 | G15: 1 | H15: =IF(E15="",1,0) -> 1 | I15: 778.798 | L15: 0000909
A16: CH | B16: FOURNISSEUR HORS EXPLOITAT. | C16: 00011277 | D16: 45063 | F16: =SUM(I16*G16) -> 461.689 | G16: 1 | H16: =IF(E16="",1,0) -> 1 | I16: 461.689 | L16: 0000913
A17: CH | B17: FOURNISSEUR HORS EXPLOITAT. | C17: 00011084 | D17: 44985 | F17: =SUM(I17*G17) -> 2240.363 | G17: 1 | H17: =IF(E17="",1,0) -> 1 | I17: 2240.363 | J17: SFAX | K17: =+D17 -> 44985 | L17: 0001603
A18: CH | B18: FOURNISSEUR HORS EXPLOITAT. | C18: 00011142 | D18: 45020 | F18: =SUM(I18*G18) -> 710.914 | G18: 1 | H18: =IF(E18="",1,0) -> 1 | I18: 710.914 | L18: 0001608
A19: CH | B19: FOURNISSEUR HORS EXPLOITAT. | C19: 00011278 | D19: 45063 | F19: =SUM(I19*G19) -> 362.345 | G19: 1 | H19: =IF(E19="",1,0) -> 1 | I19: 362.345 | L19: 0001617
A20: CH | B20: FOURNISSEUR HORS EXPLOITAT. | C20: 00011280 | D20: 45063 | F20: =SUM(I20*G20) -> 1705.406 | G20: 1 | H20: =IF(E20="",1,0) -> 1 | I20: 1705.406 | L20: 0001618
A21: CH | B21: FOURNISSEUR HORS EXPLOITAT. | C21: 00011121 | D21: 45006 | F21: =SUM(I21*G21) -> 1669.098 | G21: 1 | H21: =IF(E21="",1,0) -> 1 | I21: 1669.098 | L21: 0002177
A22: CH | B22: FOURNISSEUR HORS EXPLOITAT. | C22: 00011230 | D22: 45049 | F22: =SUM(I22*G22) -> 659.498 | G22: 1 | H22: =IF(E22="",1,0) -> 1 | I22: 659.498 | L22: 0002186
A23: CH | B23: FOURNISSEUR HORS EXPLOITAT. | C23: 00011244 | D23: 45055 | F23: =SUM(I23*G23) -> 1146.895 | G23: 1 | H23: =IF(E23="",1,0) -> 1 | I23: 1146.895 | L23: 0002188
A24: CH | B24: STE BEN MASSOUD FRERES | C24: 00007804 | D24: 43845 | F24: =SUM(I24*G24) -> 60.1 | G24: 1 | H24: =IF(E24="",1,0) -> 1 | I24: 60.1 | J24: MEGRINE | K24: =+D24 -> 43845 | L24: 0006464 | M24: FINANCES
A25: CH | B25: PROCAR TUNISIE | C25: 00007955 | D25: 43900 | F25: =SUM(I25*G25) -> 115.083 | G25: 1 | H25: =IF(E25="",1,0) -> 1 | I25: 115.083 | J25: MEGRINE | K25: =+D25 -> 43900 | L25: 0007329 | M25: FINANCES
A26: CH | B26: ATCM | C26: 00010713 | D26: 44859 | F26: =SUM(I26*G26) -> 0 | G26: 1 | H26: =IF(E26="",1,0) -> 1 | I26: 0 | J26: MEGRINE | K26: =+D26 -> 44859 | L26: 0008400
A27: CH | B27: FOURN ACHATS COMPTANT | C27: 00011046 | D27: 44974 | F27: =SUM(I27*G27) -> 541.401 | G27: 1 | H27: =IF(E27="",1,0) -> 1 | I27: 541.401 | J27: MEGRINE | K27: =+D27 -> 44974 | L27: 0008443
A28: CH | B28: Ma羡re Nabil dabboussi | C28: 00011002 | D28: 44956 | F28: =SUM(I28*G28) -> 577.15 | G28: 1 | H28: =IF(E28="",1,0) -> 1 | I28: 577.15 | J28: MEGRINE | K28: =+D28 -> 44956 | L28: 0008520
A29: CH | B29: STE OUBAY PIECES AUTOMOBILES | C29: 00011064 | D29: 44981 | F29: =SUM(I29*G29) -> 1827.452 | G29: 1 | H29: =IF(E29="",1,0) -> 1 | I29: 1827.452 | J29: MEGRINE | K29: =+D29 -> 44981 | L29: 0008526
A30: CH | B30: FOURN ACHATS COMPTANT | C30: 00011068 | D30: 44981 | F30: =SUM(I30*G30) -> 525.39 | G30: 1 | H30: =IF(E30="",1,0) -> 1 | I30: 525.39 | J30: MEGRINE | K30: =+D30 -> 44981 | L30: 0008530
A31: CH | B31: REFLEX NUMERIQUE | C31: 00011088 | D31: 44986 | F31: =SUM(I31*G31) -> 902.425 | G31: 1 | H31: =IF(E31="",1,0) -> 1 | I31: 902.425 | J31: MEGRINE | K31: =+D31 -> 44986 | L31: 0008538
A32: CH | B32: FOURN ACHATS COMPTANT | C32: 00011116 | D32: 45000 | F32: =SUM(I32*G32) -> 729.531 | G32: 1 | H32: =IF(E32="",1,0) -> 1 | I32: 729.531 | L32: 0008545
A33: ch | B33: FBI | C33: 00011140 | D33: 45013 | F33: =SUM(I33*G33) -> 3634.32 | G33: 1 | H33: =IF(E33="",1,0) -> 1 | I33: 3634.32 | L33: 0008548
A34: CH | B34: FOURN ACHATS COMPTANT | C34: 00011148 | D34: 45021 | F34: =SUM(I34*G34) -> 0 | G34: 1 | H34: =IF(E34="",1,0) -> 1 | I34: 0 | L34: 0009122
A35: CH | B35: FOURN ACHATS COMPTANT | C35: 00011150 | D35: 45021 | F35: =SUM(I35*G35) -> 0 | G35: 1 | H35: 1 | I35: 0 | L35: 0009124
A36: CH | B36: FOURN ACHATS COMPTANT | C36: 00011152 | D36: 45021 | F36: =SUM(I36*G36) -> 0 | G36: 1 | H36: =IF(E36="",1,0) -> 1 | I36: 0 | L36: 0009126
A37: CH | B37: S. T. E. G. | C37: 00011174 | D37: 45028 | F37: =SUM(I37*G37) -> 301 | G37: 1 | H37: =IF(E37="",1,0) -> 1 | I37: 301 | L37: 0009132
A38: CH | B38: S. T. E. G. | C38: 00011176 | D38: 45028 | F38: =SUM(I38*G38) -> 1930 | G38: 1 | H38: =IF(E38="",1,0) -> 1 | I38: 1930 | L38: 0009154
A39: CH | B39: JEBALI HAMED | C39: 00011177 | D39: 45028 | F39: =SUM(I39*G39) -> 80 | G39: 1 | H39: =IF(E39="",1,0) -> 1 | I39: 80 | L39: 0009155
A40: CH | B40: STE OUBAY PIECES AUTOMOBILES | C40: 00011178 | D40: 45028 | F40: =SUM(I40*G40) -> 344.59 | G40: 1 | H40: =IF(E40="",1,0) -> 1 | I40: 344.59 | L40: 0009156
...

Sheet TIP
A1: TYPE | B1: DESIGN | C1: OP N° | D1: DATE-OP | E1: DATE-RECU | F1: MT OUV | G1: REG | I1: MT | J1: Échéance | K1: N° CHQ | L1: STATUT
A2: CH | B2: SFAXIEN INDUSTRI.AUTOMOBILE | C2: 00000718 | D2: 45069 | F2: =SUM(I2*G2) -> 315.973 | G2: 1 | H2: =IF(E2="",1,0) -> 1 | I2: 315.973 | J2: =D2 -> 45069 | K2: 0000770
A3: CH | B3: FBI | C3: 00000733 | D3: 45090 | F3: =SUM(I3*G3) -> 2389.712 | G3: 1 | H3: =IF(E3="",1,0) -> 1 | I3: 2389.712 | J3: =D3 -> 45090 | K3: 0000788
A4: CH | B4: TUNICOM | C4: 00000741 | D4: 45111 | F4: =SUM(I4*G4) -> 0 | G4: 0 | H4: =IF(E4="",1,0) -> 1 | I4: 590.05 | J4: =D4 -> 45111 | K4: 0000796
A5: CH | B5: GENERAL INCENDIE | C5: 00000747 | D5: 45118 | F5: =SUM(I5*G5) -> 3535.29 | G5: 1 | H5: =IF(E5="",1,0) -> 1 | I5: 3535.29 | J5: =D5 -> 45118 | K5: 0000451
A6: CH | B6: PLOMB PI INDUSTRIELLE | C6: 00000754 | D6: 45190 | F6: =SUM(I6*G6) -> 0 | G6: 0 | H6: =IF(E6="",1,0) -> 1 | I6: 888.902 | J6: =D6 -> 45190 | K6: 0000456
A7: CH | B7: EQUIPEMENT MODERNE INDUSTRIE | C7: 00000755 | D7: 45190 | F7: =SUM(I7*G7) -> 0 | G7: 0 | H7: =IF(E7="",1,0) -> 1 | I7: 845.299 | J7: =D7 -> 45190 | K7: 0000457
A8: CH | B8: PROSID | C8: 00000756 | D8: 45190 | F8: =SUM(I8*G8) -> 4715.04 | G8: 1 | H8: =IF(E8="",1,0) -> 1 | I8: 4715.04 | J8: =D8 -> 45190 | K8: 0000458
A9: CH | B9: FOURNISSEUR HORS EXPLOITAT. | C9: 00000757 | D9: 45194 | F9: =SUM(I9*G9) -> 75 | G9: 1 | H9: =IF(E9="",1,0) -> 1 | I9: 75 | J9: =D9 -> 45194 | K9: 0000459
A10: CH | B10: COMPTOIR AGRICOLE INDUSTRIEL | C10: 00000758 | D10: 45195 | F10: =SUM(I10*G10) -> 0 | G10: 0 | H10: =IF(E10="",1,0) -> 1 | I10: 6503.738 | J10: =D10 -> 45195 | K10: 0000460
A11: CH | B11: DELTA ELECTRICAL SOLUTIONS | C11: 00000759 | D11: 45195 | F11: =SUM(I11*G11) -> 0 | G11: 0 | H11: =IF(E11="",1,0) -> 1 | I11: 9815.367 | J11: =D11 -> 45195 | K11: 0000461
A12: CH | B12: CMG BAYOUDH | C12: 00000760 | D12: 45195 | F12: =SUM(I12*G12) -> 0 | G12: 0 | H12: =IF(E12="",1,0) -> 1 | I12: 1885.95 | J12: =D12 -> 45195 | K12: 0000462
A13: CH | B13: PROSID | C13: 00000761 | D13: 45195 | F13: =SUM(I13*G13) -> 4763.828 | G13: 1 | H13: =IF(E13="",1,0) -> 1 | I13: 4763.828 | J13: =D13 -> 45195 | K13: 0000463
... A29: CH | B29: LA COMPETENCE INDUSTRIELLE | C29: 00000777 | D29: 45233 | F29: =SUM(I29*G29) -> 0 | G29: 0 | H29: =IF(E29="",1,0) -> 1 | I29: 4917.18 | J29: =D29 -> 45233 | K29: 0000476
F30: =SUM(I30*G30) -> 0 | G30: 1 | H30: =IF(E30="",1,0) -> 1
F31: =SUM(I31*G31) -> 0 | G31: 1 | H31: =IF(E31="",1,0) -> 1
F32: =SUM(I32*G32) -> 0 | G32: 1 | H32: =IF(E32="",1,0) -> 1
F33: =SUM(I33*G33) -> 0 | G33: 1 | H33: =IF(E33="",1,0) -> 1
F34: =SUM(I34*G34) -> 0 | G34: 1 | H34: =IF(E34="",1,0) -> 1
F35: =SUM(I35*G35) -> 0 | G35: 1 | H35: =IF(E35="",1,0) -> 1
F36: =SUM(I36*G36) -> 0 | G36: 1 | H36: =IF(E36="",1,0) -> 1
F37: =SUM(I37*G37) -> 0 | G37: 1 | H37: =IF(E37="",1,0) -> 1
F38: =SUM(I38*G38) -> 0 | G38: 1 | H38: =IF(E38="",1,0) -> 1
F39: =SUM(I39*G39) -> 0 | G39: 1 | H39: =IF(E39="",1,0) -> 1
F40: =SUM(I40*G40) -> 0 | G40: 1 | H40: =IF(E40="",1,0) -> 1
F41: =SUM(I41*G41) -> 0 | G41: 1 | H41: =IF(E41="",1,0) -> 1
F42: =SUM(I42*G42) -> 0 | G42: 1 | H42: 1
F43: =SUM(I43*G43) -> 0 | G43: 1 | H43: =IF(E43="",1,0) -> 1
F44: =SUM(I44*G44) -> 0 | G44: 1 | H44: =IF(E44="",1,0) -> 1
F45: =SUM(I45*G45) -> 0 | G45: 1 | H45: =IF(E45="",1,0) -> 1
F46: =SUM(I46*G46) -> 0 | G46: 1 | H46: =IF(E46="",1,0) -> 1
F47: =SUM(I47*G47) -> 0 | G47: 1 | H47: =IF(E47="",1,0) -> 1
F48: =SUM(I48*G48) -> 0 | G48: 1 | H48: =IF(E48="",1,0) -> 1
F49: =SUM(I49*G49) -> 0 | G49: 1 | H49: =IF(E49="",1,0) -> 1
F50: =SUM(I50*G50) -> 0 | G50: 1 | H50: =IF(E50="",1,0) -> 1
F51: =SUM(I51*G51) -> 0 | G51: 1 | H51: =IF(E51="",1,0) -> 1
F52: =SUM(I52*G52) -> 0 | G52: 1 | H52: =IF(E52="",1,0) -> 1
F53: =SUM(I53*G53) -> 0 | G53: 1 | H53: =IF(E53="",1,0) -> 1
F54: =SUM(I54*G54) -> 0 | G54: 1 | H54: =IF(E54="",1,0) -> 1
... F69: =SUM(I69*G69) -> 0 | G69: 1 | H69: =IF(E69="",1,0) -> 1
...

Sheet NBI
A1: TYPE | B1: DESIGN | C1: OP N° | D1: DATE-OP | E1: DATE-RECU | F1: MT OUV | G1: REG | I1: MT | J1: Échéance | K1: N° CHQ | L1: STATUT
F2: =SUM(I2*G2) -> 0 | G2: 1 | H2: =IF(E2="",1,0) -> 1
F3: =SUM(I3*G3) -> 0 | G3: 1 | H3: =IF(E3="",1,0) -> 1
F4: =SUM(I4*G4) -> 0 | G4: 1 | H4: =IF(E4="",1,0) -> 1
F5: =SUM(I5*G5) -> 0 | G5: 1 | H5: =IF(E5="",1,0) -> 1
F6: =SUM(I6*G6) -> 0 | G6: 1 | H6: =IF(E6="",1,0) -> 1
F7: =SUM(I7*G7) -> 0 | G7: 1 | H7: =IF(E7="",1,0) -> 1
F8: =SUM(I8*G8) -> 0 | G8: 1 | H8: =IF(E8="",1,0) -> 1
F9: =SUM(I9*G9) -> 0 | G9: 1 | H9: =IF(E9="",1,0) -> 1
F10: =SUM(I10*G10) -> 0 | G10: 1 | H10: =IF(E10="",1,0) -> 1
F11: =SUM(I11*G11) -> 0 | G11: 1 | H11: =IF(E11="",1,0) -> 1
F12: =SUM(I12*G12) -> 0 | G12: 1 | H12: =IF(E12="",1,0) -> 1
F13: =SUM(I13*G13) -> 0 | G13: 1 | H13: =IF(E13="",1,0) -> 1

Sheet Feuil1
A1: Prix d'achat Batterie, Plomb et Etain 10/01/2022
B3: KAIS TAYACHI | C3: SLIM AYADI | D3: LINA METAL | E3: SOTRAM
A4: BATTERIES USAGEES | B4: 1.9 | C4: 1.9 | D4: 1.9 | E4: 1.9
A5: PLOMB TUBE
A6: PLOMB D'ŒUVRE
A7: ETAIN PUR

Sheet NOUR AKKU
A1: due date | B1: Amount | C1: amount received | D1: date received | F1: balance
A2: 44409 | B2: 5330 | C2: 5000 | D2: 44454 | F2: =B2-C2 -> 330
A3: 44440 | B3: 5330 | C3: 5600 | D3: 44494 | F3: =F2+B3-C3 -> 60
A4: 44470 | B4: 5330 | C4: 8176 | D4: 44538 | F4: =F3+B4-C4 -> -2786
A5: 44501 | B5: 5330 | C5: =7000+4000 -> 11000 | D5: 44649 | F5: =F4+B5-C5 -> -8456
A6: 44531 | B6: 5330 | C6: 6000 | D6: 44666 | F6: =F5+B6-C6 -> -9126
A7: 44562 | B7: 5330 | C7: 4000 | D7: 44713 | F7: =F6+B7-C7 -> -7796
A8: 44593 | B8: 5330 | C8: 9615.86 | D8: 44768 | F8: =F7+B8-C8 -> -12081.86
A9: 44621 | B9: 5330 | C9: 5000 | D9: 44830 | F9: =F8+B9-C9 -> -11751.86
A10: 44652 | B10: 5330 | C10: 5000 | D10: 44889 | F10: =F9+B10-C10 -> -11421.86
A11: 44682 | B11: 5330 | C11: 5000 | D11: 44953 | F11: =F10+B11-C11 -> -11091.86
A12: 44713 | B12: 5330 | C12: 2000 | D12: 45040 | F12: =F11+B12-C12 -> -7761.86
A13: 44743 | B13: 5330 | C13: 8000 | D13: 45044 | F13: =F12+B13-C13 -> -10431.86
A14: 44774 | B14: 5330 | C14: 6000 | D14: 45131 | F14: =F13+B14-C14 -> -11101.86
A15: 44805 | B15: 5330 | F15: =F14+B15-C15 -> -5771.86
A16: 44835 | B16: 5330 | F16: =F15+B16-C16 -> -441.86
A17: 44866 | B17: 5330 | F17: =F16+B17-C17 -> 4888.14
A18: 44896 | B18: 5330 | F18: =F17+B18-C18 -> 10218.14
A19: 44927 | B19: 5330 | F19: =F18+B19-C19 -> 15548.14
A20: 44958 | B20: 5330 | F20: =F19+B20-C20 -> 20878.14
A21: 44986 | B21: 5330 | F21: =F20+B21-C21 -> 26208.14
A22: 45017 | B22: 5330 | F22: =F21+B22-C22 -> 31538.14
A23: 45047 | B23: 5330 | F23: =F22+B23-C23 -> 36868.14
A24: 45078 | B24: 5330 | F24: =F23+B24-C24 -> 42198.14
A25: 45108 | B25: 5330 | F25: =F24+B25-C25 -> 47528.14
A26: 45139 | B26: 5330 | F26: =F25+B26-C26 -> 52858.14
... A31: 45292 | B31: 5430 | F31: =F30+B31-C31 -> 79608.14
B32: =SUM(B2:B31) -> 160000 | C32: =SUM(C2:C31) -> 80391.86

Sheet ENGAGEMENT
A1: SOCIETE | B1: FOURNISSEUR | C1: MARCHANDISES | D1: DEVISE | E1: MONTANT FACT | F1: AVANCE | G1: DATE AVANCE | H1: DATE LIVRAISON | I1: DATE REGLEMENT | J1: MONTANT REGLEMENT
A2: SNA | B2: SOVEMA | C2: MOULES | D2: EUR | E2: 52150 | F2: =15645+10430 -> 26075 | G2: 44665 | H2: =+G2+150 -> 44815 | I2: =+H2 -> 44815 | J2: =+E2-F2 -> 26075
A3: SNA | B3: JIANGSU | C3: PUNCHING | D3: USD | E3: 567200 | F3: 0 | H3: 44727 | I3: 44834 | J3: =+E3*0.9 -> 510480
I4: =+I3+90 -> 44924 | J4: =+E3*0.1 -> 56720
A6: SNR | B6: BOTOU | C6: WET SCRUBBER | D6: USD | E6: 9363 | F6: 0 | H6: 44696 | I6: 44696 | J6: 9363 | K6: PAYEE | L6: T = 3,21 | M6: 44760
A7: SNR | B7: DROSS | C7: UNITE DE FUSION DE PLOMB | D7: EUR | E7: 555000 | F7: 166500 | G7: 44658 | H7: =+G7+180 -> 44838 | I7: 44838 | J7: 222000
I8: =+H7+180 -> 45018 | J8: 166500
A9: SNR | B9: STC | C9: CASSE BATTERIE | D9: EUR | E9: 740000 | F9: 222000 | G9: 44657 | H9: =+G9+180 -> 44837 | I9: =+H9 -> 44837 | J9: 413000
I10: =+I9+60 -> 44897 | J10: 52500
I11: =+I9+120 -> 44957 | J11: 52500

Sheet POLO SEDAN
A1: CONTRAT N°311449
A2: POLO SEDAN
A3: N° | B3: Date | C3: PRINCIPAL | D3: INTERET | E3: TVA | F3: FRAIS | G3: TOTAL TTC
A4: 1 | B4: 44722 | C4: 1784.196 | D4: 103.439 | E4: =(C4+D4)*0.19 -> 358.65065 | F4: 0.6 | G4: =SUM(C4:F4) -> 2246.8856
A5: =+A4+1 -> 2 | B5: 44752 | C5: 1272.455 | D5: 615.18 | E5: =(C5+D5)*0.19 -> 358.65065 | F5: 2.215 | G5: =SUM(C5:F5) -> 2248.5006
A6: =+A5+1 -> 3 | B6: 44783 | C6: 1287.3 | D6: 600.335 | E6: =(C6+D6)*0.19 -> 358.65065 | F6: 2.215 | G6: =SUM(C6:F6) -> 2248.5006
A7: =+A6+1 -> 4 | B7: 44814 | C7: 1302.319 | D7: 585.316 | E7: =(C7+D7)*0.19 -> 358.65065 | F7: 2.215 | G7: =SUM(C7:F7) -> 2248.5006
A8: =+A7+1 -> 5 | B8: 44844 | C8: 1317.512 | D8: 570.123 | E8: =(C8+D8)*0.19 -> 358.65065 | F8: 2.215 | G8: =SUM(C8:F8) -> 2248.5006
A9: =+A8+1 -> 6 | B9: 44875 | C9: 1332.883 | D9: 554.752 | E9: =(C9+D9)*0.19 -> 358.65065 | F9: 2.215 | G9: =SUM(C9:F9) -> 2248.5006
A10: =+A9+1 -> 7 | B10: 44905 | C10: 1348.434 | D10: 539.201 | E10: =(C10+D10)*0.19 -> 358.65065 | F10: 2.215 | G10: =SUM(C10:F10) -> 2248.5006
A11: =+A10+1 -> 8 | B11: 44936 | C11: 1364.165 | D11: 523.47 | E11: =(C11+D11)*0.19 -> 358.65065 | F11: 2.215 | G11: =SUM(C11:F11) -> 2248.5006
A12: =+A11+1 -> 9 | B12: 44967 | C12: 1380.081 | D12: 507.554 | E12: =(C12+D12)*0.19 -> 358.65065 | F12: 2.215 | G12: =SUM(C12:F12) -> 2248.5006
A13: =+A12+1 -> 10 | B13: 44995 | C13: 1396.181 | D13: 491.454 | E13: =(C13+D13)*0.19 -> 358.65065 | F13: 2.215 | G13: =SUM(C13:F13) -> 2248.5006
A14: =+A13+1 -> 11 | B14: 45026 | C14: 1412.47 | D14: 475.165 | E14: =(C14+D14)*0.19 -> 358.65065 | F14: 2.215 | G14: =SUM(C14:F14) -> 2248.5006
A15: =+A14+1 -> 12 | B15: 45056 | C15: 1428.949 | D15: 458.686 | E15: =(C15+D15)*0.19 -> 358.65065 | F15: 2.215 | G15: =SUM(C15:F15) -> 2248.5006
A16: =+A15+1 -> 13 | B16: 45087 | C16: 1445.62 | D16: 442.015 | E16: =(C16+D16)*0.19 -> 358.65065 | F16: 2.215 | G16: =SUM(C16:F16) -> 2248.5006
... A39: =+A38+1 -> 36 | B39: 45787 | C39: 1887.623 | D39: 0.012 | E39: =(C39+D39)*0.19 -> 358.65065 | F39: 2.215 | G39: =SUM(C39:F39) -> 2248.5006
A40: Total | C40: =SUM(C4:C39) -> 56400.552 | D40: =SUM(D4:D39) -> 11554.308 | E40: =SUM(E4:E39) -> 12911.423 | F40: =SUM(F4:F39) -> 78.125 | G40: =SUM(G4:G39) -> 80944.408
A41: Règlement | C41: =C4+C5+C6+C7 -> 5646.27 | D41: =D4+D5+D6+D7 -> 1904.27 | E41: =E4+E5+E6+E7 -> 1434.6026 | F41: =F4+F5+F6+F7 -> 7.245 | G41: =G4+G5+G6+G7 -> 8992.3876
A42: Restant dû | C42: =+C40-C41 -> 50754.282 | D42: =+D40-D41 -> 9650.038 | E42: =+E40-E41 -> 11476.821 | F42: =+F40-F41 -> 70.88 | G42: =+G40-G41 -> 71952.021

Sheet SWIFT
A1: CONTRAT N°311502
A2: SUZUKI SWIFT
A3: N° | B3: Date | C3: PRINCIPAL | D3: INTERET | E3: TVA | F3: FRAIS | G3: TOTAL TTC
A4: 1 | B4: 44767 | C4: 1310.819 | D4: 46.382 | E4: =(C4+D4)*0.19 -> 257.86819 | F4: 0.6 | G4: =SUM(C4:F4) -> 1615.6692
A5: =+A4+1 -> 2 | B5: 44798 | C5: 914.887 | D5: 442.314 | E5: =(C5+D5)*0.19 -> 257.86819 | F5: 3.215 | G5: =SUM(C5:F5) -> 1618.2842
A6: =+A5+1 -> 3 | B6: 44829 | C6: 925.561 | D6: 431.64 | E6: =(C6+D6)*0.19 -> 257.86819 | F6: 3.215 | G6: =SUM(C6:F6) -> 1618.2842
A7: =+A6+1 -> 4 | B7: 44859 | C7: 936.359 | D7: 420.842 | E7: =(C7+D7)*0.19 -> 257.86819 | F7: 3.215 | G7: =SUM(C7:F7) -> 1618.2842
A8: =+A7+1 -> 5 | B8: 44890 | C8: 947.283 | D8: 409.918 | E8: =(C8+D8)*0.19 -> 257.86819 | F8: 3.215 | G8: =SUM(C8:F8) -> 1618.2842
A9: =+A8+1 -> 6 | B9: 44920 | C9: 958.335 | D9: 398.866 | E9: =(C9+D9)*0.19 -> 257.86819 | F9: 3.215 | G9: =SUM(C9:F9) -> 1618.2842
A10: =+A9+1 -> 7 | B10: 44951 | C10: 969.515 | D10: 387.686 | E10: =(C10+D10)*0.19 -> 257.86819 | F10: 3.215 | G10: =SUM(C10:F10) -> 1618.2842
A11: =+A10+1 -> 8 | B11: 44982 | C11: 980.826 | D11: 376.375 | E11: =(C11+D11)*0.19 -> 257.86819 | F11: 3.215 | G11: =SUM(C11:F11) -> 1618.2842
A12: =+A11+1 -> 9 | B12: 45010 | C12: 992.269 | D12: 364.932 | E12: =(C12+D12)*0.19 -> 257.86819 | F12: 3.215 | G12: =SUM(C12:F12) -> 1618.2842
A13: =+A12+1 -> 10 | B13: 45041 | C13: 1003.846 | D13: 353.355 | E13: =(C13+D13)*0.19 -> 257.86819 | F13: 3.215 | G13: =SUM(C13:F13) -> 1618.2842
A14: =+A13+1 -> 11 | B14: 45071 | C14: 1015.557 | D14: 341.644 | E14: =(C14+D14)*0.19 -> 257.86819 | F14: 3.215 | G14: =SUM(C14:F14) -> 1618.2842
A15: =+A14+1 -> 12 | B15: 45102 | C15: 1027.406 | D15: 329.795 | E15: =(C15+D15)*0.19 -> 257.86819 | F15: 3.215 | G15: =SUM(C15:F15) -> 1618.2842
A16: =+A15+1 -> 13 | B16: 45132 | C16: 1039.392 | D16: 317.809 | E16: =(C16+D16)*0.19 -> 257.86819 | F16: 3.215 | G16: =SUM(C16:F16) -> 1618.2842
... A39: =+A38+1 -> 36 | B39: 45833 | C39: 1357.189 | D39: 0.012 | E39: =(C39+D39)*0.19 -> 257.86819 | F39: 3.215 | G39: =SUM(C39:F39) -> 1618.2842
A40: Total | C40: =SUM(C4:C39) -> 40579.639 | D40: =SUM(D4:D39) -> 8279.597 | E40: =SUM(E4:E39) -> 9283.2548 | F40: =SUM(F4:F39) -> 113.125 | G40: =SUM(G4:G39) -> 58255.616
A41: Règlement | C41: =+C4+C5 -> 2225.706 | D41: =+D4+D5 -> 488.696 | E41: =+E4+E5 -> 515.73638 | F41: =+F4+F5 -> 3.815 | G41: =+G4+G5 -> 3233.9534
A42: Restant dû | C42: =+C40-C41 -> 38353.933 | D42: =+D40-D41 -> 7790.901 | E42: =+E40-E41 -> 8767.5185 | F42: =+F40-F41 -> 109.31 | G42: =+G40-G41 -> 55021.662

Sheet CIAZ
A1: CONTRAT N°311510
A2: SUZUKI CIAZ
A3: N° | B3: Date | C3: PRINCIPAL | D3: INTERET | E3: TVA | F3: FRAIS | G3: TOTAL TTC
A4: 1 | B4: 44783 | C4: 1875.061 | D4: 65.335 | E4: =(C4+D4)*0.19 -> 368.67524 | F4: 0.6 | G4: =SUM(C4:F4) -> 2309.6712 | H4: CHEQUE
A5: =+A4+1 -> 2 | B5: 44814 | C5: 1308.021 | D5: 632.375 | E5: =(C5+D5)*0.19 -> 368.67524 | F5: 2.215 | G5: =SUM(C5:F5) -> 2311.2862
A6: =+A5+1 -> 3 | B6: 44844 | C6: 1323.282 | D6: 617.114 | E6: =(C6+D6)*0.19 -> 368.67524 | F6: 2.215 | G6: =SUM(C6:F6) -> 2311.2862
A7: =+A6+1 -> 4 | B7: 44875 | C7: 1338.72 | D7: 601.676 | E7: =(C7+D7)*0.19 -> 368.67524 | F7: 2.215 | G7: =SUM(C7:F7) -> 2311.2862
A8: =+A7+1 -> 5 | B8: 44905 | C8: 1354.338 | D8: 586.058 | E8: =(C8+D8)*0.19 -> 368.67524 | F8: 2.215 | G8: =SUM(C8:F8) -> 2311.2862
A9: =+A8+1 -> 6 | B9: 44936 | C9: 1370.139 | D9: 570.257 | E9: =(C9+D9)*0.19 -> 368.67524 | F9: 2.215 | G9: =SUM(C9:F9) -> 2311.2862
A10: =+A9+1 -> 7 | B10: 44967 | C10: 1386.124 | D10: 554.272 | E10: =(C10+D10)*0.19 -> 368.67524 | F10: 2.215 | G10: =SUM(C10:F10) -> 2311.2862
A11: =+A10+1 -> 8 | B11: 44995 | C11: 1402.295 | D11: 538.101 | E11: =(C11+D11)*0.19 -> 368.67524 | F11: 2.215 | G11: =SUM(C11:F11) -> 2311.2862
A12: =+A11+1 -> 9 | B12: 45026 | C12: 1418.655 | D12: 521.741 | E12: =(C12+D12)*0.19 -> 368.67524 | F12: 2.215 | G12: =SUM(C12:F12) -> 2311.2862
A13: =+A12+1 -> 10 | B13: 45056 | C13: 1435.206 | D13: 505.19 | E13: =(C13+D13)*0.19 -> 368.67524 | F13: 2.215 | G13: =SUM(C13:F13) -> 2311.2862
A14: =+A13+1 -> 11 | B14: 45087 | C14: 1451.95 | D14: 488.446 | E14: =(C14+D14)*0.19 -> 368.67524 | F14: 2.215 | G14: =SUM(C14:F14) -> 2311.2862
A15: =+A14+1 -> 12 | B15: 45117 | C15: 1468.89 | D15: 471.506 | E15: =(C15+D15)*0.19 -> 368.67524 | F15: 2.215 | G15: =SUM(C15:F15) -> 2311.2862
A16: =+A15+1 -> 13 | B16: 45148 | C16: 1486.027 | D16: 454.369 | E16: =(C16+D16)*0.19 -> 368.67524 | F16: 2.215 | G16: =SUM(C16:F16) -> 2311.2862
... A39: =+A38+1 -> 36 | B39: 45848 | C39: 1940.385 | D39: 0.011 | E39: =(C39+D39)*0.19 -> 368.67524 | F39: 2.215 | G39: =SUM(C39:F39) -> 2311.2862
A40: Total | C40: =SUM(C4:C39) -> 58018.007 | D40: =SUM(D4:D39) -> 11836.249 | E40: =SUM(E4:E39) -> 13272.309 | F40: =SUM(F4:F39) -> 78.125 | G40: =SUM(G4:G39) -> 83204.69
A41: Règlement | C41: 0 | D41: 0 | E41: 0 | F41: 0 | G41: 0
A42: Restant dû | C42: =+C40-C41 -> 58018.007 | D42: =+D40-D41 -> 11836.249 | E42: =+E40-E41 -> 13272.309 | F42: =+F40-F41 -> 78.125 | G42: =+G40-G41 -> 83204.69

Sheet CT 10
A1: Chèq. | B1: Adr fact | C1: Nom | D1: Amount | E1: Date | F1: ar__dte02 | G1: Remarque
A2: 23601510 | B2: 6r21178 | C2: STE B.ABDESSALEM PIECES AUTO | D2: 3000 | E2: 45188 | F2: 45188 | G2: p/bna+gabes-5465367
A3: 23601567 | B3: 6r21178 | C3: STE B.ABDESSALEM PIECES AUTO | D3: 3000 | E3: 45197 | F3: 45197 | G3: p/bna+gabes-5465369
A4: 23302055 | B4: 3R18430 | C4: FATHI BEN FRADJ AZOUZI | D4: 1000 | E4: 45198 | F4: 45198 | G4: P/STB+SFAX-0000372
A5: 23601575 | B5: 6r21178 | C5: STE B.ABDESSALEM PIECES AUTO | D5: 3000 | E5: 45198 | F5: 45198 | G5: p/bna+gabes-5465370
A6: 23801444 | B6: 1S10001 | C6: STE MARJA DE DEVELOPPEMENT | D6: 1155.275 | E6: 45198 | F6: 45198 | G6: P/BT+BOUSALEM-1304991
A7: 23701329 | B7: 7S19026 | C7: STE BEN YOUNES DE TRANSPORT | D7: 345.576 | E7: 45199 | F7: 45199 | G7: P/STB+METLAOUI-0003974
A8: 23125551 | B8: 1R05024 | C8: OUARDA HALLOUMI-TOTAL | D8: 541.367 | E8: 45198 | F8: 45200 | G8: P/BT+BORJ CEDRIA-09015
A9: 23401917 | B9: 4R12227 | C9: HAKIM BEN SADOK KHEMIS | D9: 690 | E9: 45190 | F9: 45200 | G9: D/BIAT+SOUSSE-0000822
A10: 23601507 | B10: 6R23187 | C10: STE NALOUTI SRCES.PETROLIERE | D10: 3780.485 | E10: 45188 | F10: 45202 | G10: P/BT+MEDNINE-0620125
A11: 23801470 | B11: 8R09006 | C11: GHARBI JALEL BEN BRAHIM | D11: 5200 | E11: 45203 | F11: 45203 | G11: P/BTE+BEJA-6670080
A12: 23302100 | B12: 3R15047 | C12: STE ELWASAT | D12: 260 | E12: 45205 | F12: 45205 | G12: D/UBCI+MAHDIA-4828525
A13: 23124872 | B13: 1R05186 | C13: STE AFRICA DES PIECES AUTOS | D13: 14265.784 | E13: 45121 | F13: 45206 | G13: P/ATB+ZAGHOUAN-7843807
... A1696: 23401967 | B1696: 4R13149 | C1696: STE BEN AISSA AUTO | D1696: 4000 | E1696: 45197 | F1696: 45371 | G1696: D/BT+JEMMAL-1274012

Sheet TR
A1: Référence | B1: Lot | C1: Statut | D1: Adr fact | E1: Nom | F1: Bq | G1: Mé | H1: Effet le | I1: Echéance | J1: Dev | K1: Montant | L1: Mont ouvert | M1: Traite Payé
A2: 23304355 | B2: 444173 | C2: Approuvé | D2: 3R18068 | E2: MOHAMED GHARIANI | F2: S3 | G2: TR | H2: 45194 | I2: 45199 | J2: TND | K2: 22305.798 | L2: 22305.798 | M2: 009849130516
A3: 23127913 | B3: 443132 | C3: Approuvé | D3: 1S02146 | E3: STE AGRICOLE SIDI OTHMANE | F3: 12 | G3: TR | H3: 45184 | I3: 45227 | J3: TND | K3: 595.851 | L3: 595.851 | M3: 009724572428
A4: 23127914 | B4: 443133 | C4: Approuvé | D4: 1S02149 | E4: STE AGRICOLE SAOUEF | F4: 12 | G4: TR | H4: 45184 | I4: 45227 | J4: TND | K4: 1585.675 | L4: 1585.675 | M4: 009724572234
A5: 23804128 | B5: 441861 | C5: Approuvé | D5: 8R09076 | E5: STE TUN DE PRODUITS AGRICOLE | F5: S8 | G5: TR | H5: 45173 | I5: 45227 | J5: TND | K5: 3287.359 | L5: 3287.359 | M5: 009804398966
A6: 23127879 | B6: 438208 | C6: Approuvé | D6: 1R04124 | E6: STE PIECES RECHANGES "SPJA" | F6: 12 | G6: TR | H6: 45168 | I6: 45229 | J6: TND | K6: 2385.073 | L6: 2385.073 | M6: 009808031810
A7: 23127912 | B7: 443130 | C7: Approuvé | D7: 1G01004 | E7: SOCIETE ENNAJAH | F7: 12 | G7: TR | H7: 45184 | I7: 45229 | J7: TND | K7: 720.017 | L7: 720.017 | M7: 009724572331
A8: 23127917 | B8: 443185 | C8: Approuvé | D8: 1R06034 | E8: ETABLISSEMENTS AUPEICLE | F8: 12 | G8: TR | H8: 45184 | I8: 45229 | J8: TND | K8: 5161.641 | L8: 5161.641 | M8: 009808034041
A9: 23127940 | B9: 443776 | C9: Approuvé | D9: 1R06028 | E9: TAREK BEN KHEMAIES LAHBIB | F9: 12 | G9: TR | H9: 45190 | I9: 45229 | J9: TND | K9: 8516.921 | L9: 8516.921 | M9: 009808034138
A10: 23127941 | B10: 443819 | C10: Approuvé | D10: 1R05035 | E10: SAIDA SARRAY VEUVE FENINA | F10: 12 | G10: TR | H10: 45190 | I10: 45229 | J10: TND | K10: 12942.832 | L10: 12942.832 | M10: 009808033168
A11: 23304344 | B11: 443127 | C11: Approuvé | D11: 3R12001 | E11: STE FATHALLAH PNEUMATIQUE | F11: S3 | G11: TR | H11: 45184 | I11: 45229 | J11: TND | K11: 2675.03 | L11: 2675.03 | M11: 009861276177
A12: 23804123 | B12: 438181 | C12: Approuvé | D12: 8R10037 | E12: WALID BEN HABIB CHORFI | F12: S8 | G12: TR | H12: 45168 | I12: 45229 | J12: TND | K12: 4148.739 | L12: 4148.739 | M12: 009600078166
A13: 23127890 | B13: 438223 | C13: Approuvé | D13: 1R02205 | E13: AUTO ZARGA | F13: 12 | G13: TR | H13: 45168 | I13: 45230 | J13: TND | K13: 1623.607 | L13: 1623.607 | M13: 009858622839
A14: 23127896 | B14: 441692 | C14: Approuvé | D14: 1R02143 | E14: STE COMPTOIR CYRINE-MARIEM | F14: 12 | G14: TR | H14: 45170 | I14: 45230 | J14: TND | K14: 1699.001 | L14: 1699.001 | M14: 007579408019
A15: 23127900 | B15: 441756 | C15: Approuvé | D15: 1R02038 | E15: SPECIALITE PIECES ELEC. AUTO | F15: 12 | G15: TR | H15: 45171 | I15: 45230 | J15: TND | K15: 6634.459 | L15: 6634.459 | M15: 009815478403
A16: 23127901 | B16: 442060 | C16: Approuvé | D16: 1s02111 | E16: INTERMETAL | F16: 12 | G16: TR | H16: 45175 | I16: 45230 | J16: TND | K16: 2027.131 | L16: 2027.131 | M16: 009815840892
A17: 23127919 | B17: 443294 | C17: Approuvé | D17: 1R02234 | E17: STE JAPAN MOTORS COMPANY | F17: 12 | G17: TR | H17: 45187 | I17: 45230 | J17: TND | K17: 3000 | L17: 3000 | M17: 009730220156
A18: 23304307 | B18: 437212 | C18: Approuvé | D18: 3R18074 | E18: S I A BEN JEMAA ET CIE | F18: S3 | G18: TR | H18: 45159 | I18: 45230 | J18: TND | K18: 4273.164 | L18: 4273.164 | M18: 009833017652
A19: 23304352 | B19: 443914 | C19: Approuvé | D19: 3R18112 | E19: SOCIETE AMMOUS ET CIE | F19: S3 | G19: TR | H19: 45191 | I19: 45230 | J19: TND | K19: 2154.882 | L19: 2154.882 | M19: 009817306077
A20: 23404237 | B20: 437790 | C20: Approuvé | D20: 4R12284 | E20: LETAIEF KHAL BECHIR | F20: S4 | G20: TR | H20: 45164 | I20: 45230 | J20: TND | K20: 2315.99 | L20: 2315.99 | M20: 009822378595
A21: 23404261 | B21: 442367 | C21: Approuvé | D21: 4S12021 | E21: SOTUDIS | F21: S4 | G21: TR | H21: 45177 | I21: 45230 | J21: TND | K21: 16838.773 | L21: 16838.773 | M21: 009790223289
A22: 23604135 | B22: 437895 | C22: Approuvé | D22: 6R23048 | E22: TAIEB GHRIBI | F22: S6 | G22: TR | H22: 45166 | I22: 45230 | J22: TND | K22: 3082.113 | L22: 3082.113 | M22: 009314118577
A23: 23604138 | B23: 437899 | C23: Approuvé | D23: 6R23146 | E23: ZAMMOURIA FATMA EPS MANSOURI | F23: S6 | G23: TR | H23: 45166 | I23: 45230 | J23: TND | K23: 791.077 | L23: 791.077 | M23: 009771561847
A24: 23704040 | B24: 437858 | C24: Approuvé | D24: 7R22002 | E24: STE GLE DE COMMERCE PIECES | F24: S7 | G24: TR | H24: 45164 | I24: 45230 | J24: TND | K24: 3875.756 | L24: 3875.756 | M24: 009628001653
A25: 23804120 | B25: 437438 | C25: Approuvé | D25: 8R11111 | E25: SONAF | F25: S8 | G25: TR | H25: 45161 | I25: 45230 | J25: TND | K25: 1847.803 | L25: 1847.803 | M25: 009343539356
A26: 23804121 | B26: 437561 | C26: Approuvé | D26: 8R09094 | E26: STE AMDOOS PARTS COMPANY | F26: S8 | G26: TR | H26: 45161 | I26: 45230 | J26: TND | K26: 4412.484 | L26: 4412.484 | M26: 009534390251
A27: 23127907 | B27: 442770 | C27: Approuvé | D27: 1R02009 | E27: ETS.BEN JOMAA AUTOS | F27: 12 | G27: TR | H27: 45182 | I27: 45231 | J27: TND | K27: 1348.745 | L27: 1348.745 | M27: 009756025648
A28: 23127884 | B28: 438210 | C28: Approuvé | D28: 1R03186 | E28: STE PIECES AUTO NAIMA "PAN" | F28: 12 | G28: TR | H28: 45168 | I28: 45232 | J28: TND | K28: 649.747 | L28: 649.747 | M28: 009812506226
A29: 23127892 | B29: 438225 | C29: Approuvé | D29: 1R05212 | E29: STE BICHIOU BRICO HOME | F29: 12 | G29: TR | H29: 45168 | I29: 45232 | J29: TND | K29: 4300 | L29: 4300 | M29: 009543427256
A30: 23127875 | B30: 437938 | C30: Approuvé | D30: 1S18011 | E30: SOCIETE CHAABANE ET CIE | F30: 12 | G30: TR | H30: 45166 | I30: 45233 | J30: TND | K30: 14893.025 | L30: 14893.025 | M30: 009816643276
A31: 23127882 | B31: 438210 | C31: Approuvé | D31: 1R03186 | E31: STE PIECES AUTO NAIMA "PAN" | F31: 12 | G31: TR | H31: 45168 | I31: 45234 | J31: TND | K31: 649.747 | L31: 649.747 | M31: 009808030646
A32: 23127908 | B32: 442770 | C32: Approuvé | D32: 1R02009 | E32: ETS.BEN JOMAA AUTOS | F32: 12 | G32: TR | H32: 45182 | I32: 45236 | J32: TND | K32: 1348.745 | L32: 1348.745 | M32: 009756025551
A33: 23127883 | B33: 438210 | C33: Approuvé | D33: 1R03186 | E33: STE PIECES AUTO NAIMA "PAN" | F33: 12 | G33: TR | H33: 45168 | I33: 45238 | J33: TND | K33: 649.747 | L33: 649.747 | M33: 009812506129
A34: 23127887 | B34: 438210 | C34: Approuvé | D34: 1R03186 | E34: STE PIECES AUTO NAIMA "PAN" | F34: 12 | G34: TR | H34: 45168 | I34: 45240 | J34: TND | K34: 649.747 | L34: 649.747 | M34: 009812506032
A35: 23127891 | B35: 438225 | C35: Approuvé | D35: 1R05212 | E35: STE BICHIOU BRICO HOME | F35: 12 | G35: TR | H35: 45168 | I35: 45240 | J35: TND | K35: 4334.088 | L35: 4334.088 | M35: 009543427159
A36: 23127936 | B36: 443585 | C36: Approuvé | D36: 1S01236 | E36: CARTHAGE CEMENT SA | F36: 12 | G36: TR | H36: 45189 | I36: 45240 | J36: TND | K36: 5911.33 | L36: 5911.33 | M36: 009820623283
