Workbook

Sheet 9,26,6
A1: Date Facture | B1: Numéro Facture | C1: Code Client | D1: Nom Client | E1: Montant Net HT | F1: Tot, Taxes | G1: Timbre | H1: Montant TTC
A2: 44564 | B2: F3220001 | C2: 3S18066 | D2: STE MAROUA ESSAFA TRANSPORT | E2: 171.5 | F2: 32.585 | G2: 0.6 | H2: 204.685 | I2: =VLOOKUP(B2,'27,4'!A:K,11,0) -> 204.685
A3: 44564 | B3: F8220001 | C3: 8X01000 | D3: CLIENT PASSAGER JENDOUBA | E3: 185.5 | F3: 35.245 | G3: 0.6 | H3: 221.345 | I3: =VLOOKUP(B3,'27,4'!A:K,11,0) -> 221.345
A4: 44564 | B4: GT220006 | C4: 1R02270 | D4: STE TAHRI STATION SERVICES | E4: 0 | F4: 0 | G4: 0 | H4: 0 | I4: =VLOOKUP(B4,'27,4'!A:K,11,0) -> 0
A5: 44565 | B5: F3220002 | C5: 3R18266 | D5: S A P O M | E5: 416.615 | F5: 79.157 | G5: 0.6 | H5: 496.372 | I5: =VLOOKUP(B5,'27,4'!A:K,11,0) -> 496.372
A6: 44565 | B6: F3220003 | C6: 3G12001 | D6: S T E G- GARAGE REG. DE SFAX | E6: 171.5 | F6: 32.585 | G6: 0.6 | H6: 204.685 | I6: =VLOOKUP(B6,'27,4'!A:K,11,0) -> 204.685
A7: 44565 | B7: F3220004 | C7: 3S18050 | D7: OTD CHAAL | E7: 714.104 | F7: 135.68 | G7: 0.6 | H7: 850.384 | I7: =VLOOKUP(B7,'27,4'!A:K,11,0) -> 0
A8: 44565 | B8: F3220005 | C8: 3X06000 | D8: CLIENT SG - SFAX | E8: 83.385 | F8: 15.843 | G8: 0.6 | H8: 99.828 | I8: =VLOOKUP(B8,'27,4'!A:K,11,0) -> 99.828
A9: 44565 | B9: F3220006 | C9: 3X06000 | D9: CLIENT SG - SFAX | E9: 21.866 | F9: 4.155 | G9: 0.6 | H9: 26.621 | I9: =VLOOKUP(B9,'27,4'!A:K,11,0) -> 26.621
A10: 44565 | B10: F3220007 | C10: 3X06000 | D10: CLIENT SG - SFAX | E10: 72.888 | F10: 13.849 | G10: 0.6 | H10: 87.337 | I10: =VLOOKUP(B10,'27,4'!A:K,11,0) -> 87.337
A11: 44565 | B11: F3220008 | C11: 3X06000 | D11: CLIENT SG - SFAX | E11: 87.465 | F11: 16.618 | G11: 0.6 | H11: 104.683 | I11: =VLOOKUP(B11,'27,4'!A:K,11,0) -> 104.683
A12: 44565 | B12: F3220009 | C12: 3X06000 | D12: CLIENT SG - SFAX | E12: 78.838 | F12: 14.979 | G12: 0.6 | H12: 94.417 | I12: =VLOOKUP(B12,'27,4'!A:K,11,0) -> 94.417
A13: 44565 | B13: F4220001 | C13: 4R13116 | D13: AHMED BEN ALI TEKAYA | E13: 100.088 | F13: 19.017 | G13: 0.6 | H13: 119.705 | I13: =VLOOKUP(B13,'27,4'!A:K,11,0) -> 119.705
... A3791: 44651 | B3791: NV220300 | C3791: 1R01579 | D3791: MARSA BATTERIES | E3791: 0 | F3791: 0 | G3791: 0 | H3791: 0 | I3791: =VLOOKUP(B3791,'27,4'!A:K,11,0) -> 0
H3793: =SUBTOTAL(9,H2:H3792) -> 2632773

Sheet 27,4
A1: Référence | B1: Type | C1: Adr fact | D1: Nom | E1: Date | F1: Effet le | G1: Payé | H1: Représ 1 | I1: Dev | J1: Montant | K1: Montant imputé
A2: AC220001 | B2: Fact | C2: 3A01002 | D2: C R D A SFAX | E2: 44567 | F2: 44567 | G2: 44568 | H2: LA | I2: TND | J2: -159.311 | K2: -159.311 | M2: =VLOOKUP(A2,'9,26,6'!B:H,7,FALSE) -> -159.311
A3: AC220003 | B3: Fact | C3: 1A04002 | D3: MIN FINANCES-D.GEN. DOUANES | E3: 44586 | F3: 44586 | G3: 44609 | H3: LA | I3: TND | J3: -4833.78 | K3: -4833.78 | M3: =VLOOKUP(A3,'9,26,6'!B:H,7,FALSE) -> #N/A
A4: AC220008 | B4: Fact | C4: 1S03017 | D4: TOTAL TUNISIE | E4: 44613 | F4: 44613 | G4: 44649 | H4: LS | I4: TND | J4: -1835.58 | K4: -1835.58 | M4: =VLOOKUP(A4,'9,26,6'!B:H,7,FALSE) -> #N/A
A5: AC220004 | B5: Fact | C5: 8R09067 | D5: SOCIETE GENERAL DE PNEUS | E5: 44594 | F5: 44594 | G5: 44602 | H5: L80-02 | I5: TND | J5: -5462.1 | K5: -5462.1 | M5: =VLOOKUP(A5,'9,26,6'!B:H,7,FALSE) -> -5462.1
A6: AC220005 | B6: Fact | C6: 1P01000 | D6: PERSONNEL NOUR | E6: 44596 | F6: 44596 | I6: TND | J6: -250.719 | K6: 0 | M6: =VLOOKUP(A6,'9,26,6'!B:H,7,FALSE) -> #N/A
A7: AC220006 | B7: Fact | C7: 3R18068 | D7: MOHAMED GHARIANI | E7: 44607 | F7: 44607 | G7: 44637 | H7: L30-01 | I7: TND | J7: -27696.06 | K7: -27696.06 | M7: =VLOOKUP(A7,'9,26,6'!B:H,7,FALSE) -> -27696.06
A8: AC220007 | B8: Fact | C8: 1G12001 | D8: S.T.E.G. | E8: 44608 | F8: 44608 | G8: 44608 | H8: LS | I8: TND | J8: -1121.58 | K8: -1121.58 | M8: =VLOOKUP(A8,'9,26,6'!B:H,7,FALSE) -> #N/A
A9: AC220010 | B9: Fact | C9: 1G01008 | D9: TRANSPOOL | E9: 44620 | F9: 44620 | G9: 44621 | H9: LS | I9: TND | J9: -860.881 | K9: -860.881 | M9: =VLOOKUP(A9,'9,26,6'!B:H,7,FALSE) -> #N/A
A10: AC220009 | B10: Fact | C10: 4S12039 | D10: COMPTOIR GENERAL DE BATIMENT | E10: 44616 | F10: 44616 | G10: 44664 | H10: LS | I10: TND | J10: -174.137 | K10: -174.137 | M10: =VLOOKUP(A10,'9,26,6'!B:H,7,FALSE) -> -174.137
A11: AC220002 | B11: Fact | C11: 1S03023 | D11: LOUKIL VEHICULES INDUSTRIELS | E11: 44579 | F11: 44579 | G11: 44579 | H11: LS | I11: TND | J11: -456.762 | K11: -456.762 | M11: =VLOOKUP(A11,'9,26,6'!B:H,7,FALSE) -> #N/A
A12: AC220011 | B12: Fact | C12: 7T19001 | D12: STE.REG. DE TRAN. ELGOUAFEL | E12: 44630 | F12: 44630 | H12: LS | I12: TND | J12: -7973.6 | K12: 0 | M12: =VLOOKUP(A12,'9,26,6'!B:H,7,FALSE) -> -7973.6
A13: AC220012 | B13: Fact | C13: 1R01597 | D13: CHEBBI HEDIA | E13: 44645 | F13: 44645 | H13: L20-04 | I13: TND | J13: -457.62 | K13: 0 | M13: =VLOOKUP(A13,'9,26,6'!B:H,7,FALSE) -> -457.62
A14: AC220013 | B14: Fact | C14: 1R01579 | D14: MARSA BATTERIES | E14: 44645 | F14: 44645 | G14: 44651 | H14: L20-04 | I14: TND | J14: -492.66 | K14: -492.66 | M14: =VLOOKUP(A14,'9,26,6'!B:H,7,FALSE) -> -492.66
A15: F3220001 | B15: Fact | C15: 3S18066 | D15: STE MAROUA ESSAFA TRANSPORT | E15: 44564 | F15: 44564 | G15: 44572 | H15: LS | I15: TND | J15: 204.685 | K15: 204.685 | M15: =VLOOKUP(A15,'9,26,6'!B:H,7,FALSE) -> 204.685
A16: F3220002 | B16: Fact | C16: 3R18266 | D16: S A P O M | E16: 44565 | F16: 44565 | G16: 44585 | H16: L30 | I16: TND | J16: 496.372 | K16: 496.372 | M16: =VLOOKUP(A16,'9,26,6'!B:H,7,FALSE) -> 496.372
A17: F3220003 | B17: Fact | C17: 3G12001 | D17: S T E G- GARAGE REG. DE SFAX | E17: 44565 | F17: 44565 | G17: 44618 | H17: LS | I17: TND | J17: 204.685 | K17: 204.685 | M17: =VLOOKUP(A17,'9,26,6'!B:H,7,FALSE) -> 204.685
A18: F3220004 | B18: Fact | C18: 3S18050 | D18: OTD CHAAL | E18: 44565 | F18: 44565 | H18: LS | I18: TND | J18: 850.384 | K18: 0 | M18: =VLOOKUP(A18,'9,26,6'!B:H,7,FALSE) -> 850.384
A19: F3220005 | B19: Fact | C19: 3X06000 | D19: CLIENT SG - SFAX | E19: 44565 | F19: 44565 | G19: 44568 | H19: L30-01 | I19: TND | J19: 99.828 | K19: 99.828 | M19: =VLOOKUP(A19,'9,26,6'!B:H,7,FALSE) -> 99.828
A20: F3220006 | B20: Fact | C20: 3X06000 | D20: CLIENT SG - SFAX | E20: 44565 | F20: 44565 | G20: 44568 | H20: L30-01 | I20: TND | J20: 26.621 | K20: 26.621 | M20: =VLOOKUP(A20,'9,26,6'!B:H,7,FALSE) -> 26.621
A21: F3220007 | B21: Fact | C21: 3X06000 | D21: CLIENT SG - SFAX | E21: 44565 | F21: 44565 | G21: 44568 | H21: L30-01 | I21: TND | J21: 87.337 | K21: 87.337 | M21: =VLOOKUP(A21,'9,26,6'!B:H,7,FALSE) -> 87.337
A22: F3220008 | B22: Fact | C22: 3X06000 | D22: CLIENT SG - SFAX | E22: 44565 | F22: 44565 | G22: 44568 | H22: L30-01 | I22: TND | J22: 104.683 | K22: 104.683 | M22: =VLOOKUP(A22,'9,26,6'!B:H,7,FALSE) -> 104.683
A23: F3220009 | B23: Fact | C23: 3X06000 | D23: CLIENT SG - SFAX | E23: 44565 | F23: 44565 | G23: 44568 | H23: L30-01 | I23: TND | J23: 94.417 | K23: 94.417 | M23: =VLOOKUP(A23,'9,26,6'!B:H,7,FALSE) -> 94.417
A24: F3220010 | B24: Fact | C24: 3R18438 | D24: MOUNIR AROUS | E24: 44566 | F24: 44566 | G24: 44566 | H24: L30 | I24: TND | J24: 1855.378 | K24: 1855.378 | M24: =VLOOKUP(A24,'9,26,6'!B:H,7,FALSE) -> 1855.378
A25: F3220011 | B25: Fact | C25: 3X01000 | D25: CLIENT PASSAGER SFAX | E25: 44567 | F25: 44567 | G25: 44568 | H25: L30-01 | I25: TND | J25: 304.05 | K25: 304.05 | M25: =VLOOKUP(A25,'9,26,6'!B:H,7,FALSE) -> 304.05
A26: F3220012 | B26: Fact | C26: 3X06000 | D26: CLIENT SG - SFAX | E26: 44567 | F26: 44567 | G26: 44568 | H26: L30-01 | I26: TND | J26: 83.291 | K26: 83.291 | M26: =VLOOKUP(A26,'9,26,6'!B:H,7,FALSE) -> 83.291
A27: F3220013 | B27: Fact | C27: 3R18430 | D27: FATHI BEN FRADJ AZOUZI | E27: 44567 | F27: 44567 | G27: 44581 | H27: L30-02 | I27: TND | J27: 1431.036 | K27: 1431.036 | M27: =VLOOKUP(A27,'9,26,6'!B:H,7,FALSE) -> 1431.036
A28: F3220014 | B28: Fact | C28: 3R15041 | D28: BEN NACEUR MED TAHAR B ALI | E28: 44567 | F28: 44567 | G28: 44568 | H28: L30-02 | I28: TND | J28: 934.619 | K28: 934.619 | M28: =VLOOKUP(A28,'9,26,6'!B:H,7,FALSE) -> 934.619
A29: F3220015 | B29: Fact | C29: 3R15041 | D29: BEN NACEUR MED TAHAR B ALI | E29: 44567 | F29: 44567 | G29: 44568 | H29: L30-02 | I29: TND | J29: 513.159 | K29: 513.159 | M29: =VLOOKUP(A29,'9,26,6'!B:H,7,FALSE) -> 513.159
A30: F3220016 | B30: Fact | C30: 3R15046 | D30: HASSEN ABDELHAKIM B FREDJ | E30: 44568 | F30: 44568 | G30: 44595 | H30: L30-02 | I30: TND | J30: 2131.313 | K30: 2131.313 | M30: =VLOOKUP(A30,'9,26,6'!B:H,7,FALSE) -> 2131.313
A31: F3220017 | B31: Fact | C31: 1P01000 | D31: PERSONNEL NOUR | E31: 44568 | F31: 44568 | G31: 44573 | I31: TND | J31: 162.567 | K31: 162.567 | M31: =VLOOKUP(A31,'9,26,6'!B:H,7,FALSE) -> 162.567
A32: F3220018 | B32: Fact | C32: 3R18036 | D32: HADHRI MOUHED BEN HAMOUDA | E32: 44569 | F32: 44569 | G32: 44573 | H32: L30-02 | I32: TND | J32: 135.759 | K32: 135.759 | M32: =VLOOKUP(A32,'9,26,6'!B:H,7,FALSE) -> 135.759
A33: F3220019 | B33: Fact | C33: 3X06000 | D33: CLIENT SG - SFAX | E33: 44569 | F33: 44569 | G33: 44573 | H33: L30-01 | I33: TND | J33: 99.828 | K33: 99.828 | M33: =VLOOKUP(A33,'9,26,6'!B:H,7,FALSE) -> 99.828
A34: F3220020 | B34: Fact | C34: 3G12001 | D34: S T E G- GARAGE REG. DE SFAX | E34: 44571 | F34: 44571 | G34: 44610 | H34: LS | I34: TND | J34: 243.967 | K34: 243.967 | M34: =VLOOKUP(A34,'9,26,6'!B:H,7,FALSE) -> 243.967
A35: F3220021 | B35: Fact | C35: 3R15043 | D35: KERKENI NIZAR B ALI | E35: 44571 | F35: 44571 | G35: 44651 | H35: L30-02 | I35: TND | J35: 1814.443 | K35: 160.064 | M35: =VLOOKUP(A35,'9,26,6'!B:H,7,FALSE) -> 1814.443
A36: F3220022 | B36: Fact | C36: 3R18430 | D36: FATHI BEN FRADJ AZOUZI | E36: 44571 | F36: 44571 | G36: 44581 | H36: L30-02 | I36: TND | J36: 1331.866 | K36: 1331.866 | M36: =VLOOKUP(A36,'9,26,6'!B:H,7,FALSE) -> 1331.866
A37: F3220023 | B37: Fact | C37: 3R15042 | D37: BADREDDDINE MED.B AHMED | E37: 44572 | F37: 44572 | G37: 44658 | H37: L30-02 | I37: TND | J37: 2179.979 | K37: 1280 | M37: =VLOOKUP(A37,'9,26,6'!B:H,7,FALSE) -> 2179.979
A38: F3220024 | B38: Fact | C38: 3R18433 | D38: AMAL SALEM | E38: 44572 | F38: 44572 | G38: 44595 | H38: L30-02 | I38: TND | J38: 2382.926 | K38: 2382.926 | M38: =VLOOKUP(A38,'9,26,6'!B:H,7,FALSE) -> 2382.926
A39: F3220025 | B39: Fact | C39: 3R18402 | D39: MOHAMED ALI BEN ANAS B.ZINA | E39: 44572 | F39: 44572 | G39: 44572 | H39: L30-02 | I39: TND | J39: 1044.166 | K39: 1044.166 | M39: =VLOOKUP(A39,'9,26,6'!B:H,7,FALSE) -> 1044.166
A40: F3220026 | B40: Fact | C40: 3X06000 | D40: CLIENT SG - SFAX | E40: 44572 | F40: 44572 | G40: 44573 | H40: L30-01 | I40: TND | J40: 167.346 | K40: 167.346 | M40: =VLOOKUP(A40,'9,26,6'!B:H,7,FALSE) -> 167.346
...

Sheet Feuil3
A2: IMC22000 | B2: Note | C2: 1X02000 | D2: CLIENT PASSAGER - MEGRINE | E2: 44600 | F2: 44600 | G2: 44601 | H2: LS | I2: TND | J2: 169.318 | K2: 169.318
A3: IMP22000 | B3: Note | C3: 3R15047 | D3: STE ELWASAT | E3: 44571 | F3: 44571 | G3: 44580 | H3: L30-02 | I3: TND | J3: 2000 | K3: 2000
A4: IMP22001 | B4: Note | C4: 4R14081 | D4: STE AMEN CAR DU CENTRE | E4: 44571 | F4: 44571 | G4: 44611 | H4: L40-02 | I4: TND | J4: 2000 | K4: 2000
A5: IMP22002 | B5: Note | C5: 1R04155 | D5: ABDELKARIM CHEBBI | E5: 44571 | F5: 44571 | G5: 44575 | H5: L20-03 | I5: TND | J5: 4211.502 | K5: 4211.502
A6: IMP22003 | B6: Note | C6: 8R10038 | D6: STE MECHERGUI D'EQUIP. AUTOS | E6: 44578 | F6: 44578 | G6: 44586 | H6: L80 | I6: TND | J6: 3704.776 | K6: 3704.776
A7: IMP22004 | B7: Note | C7: 4R14081 | D7: STE AMEN CAR DU CENTRE | E7: 44581 | F7: 44581 | H7: L40-02 | I7: TND | J7: 2054.75 | K7: 0
A8: IMP22005 | B8: Note | C8: 4R12227 | D8: HAKIM BEN SADOK KHEMIS | E8: 44582 | F8: 44582 | G8: 44592 | H8: L40-01 | I8: TND | J8: 1000 | K8: 1000
A9: IMP22006 | B9: Note | C9: 4R14081 | D9: STE AMEN CAR DU CENTRE | E9: 44585 | F9: 44585 | H9: L40-02 | I9: TND | J9: 1920.5 | K9: 0
A10: IMP22007 | B10: Note | C10: 3r18401 | D10: TAHER BEN AMOR MAHJOUBI | E10: 44585 | F10: 44585 | H10: L30-02 | I10: TND | J10: 6251.101 | K10: 0
A11: IMP22008 | B11: Note | C11: 1X01000 | D11: CLIENT PASSAGER ASJ | E11: 44585 | F11: 44585 | G11: 44592 | H11: LS | I11: TND | J11: 3000 | K11: 3000
A12: IMP22009 | B12: Note | C12: 4R14081 | D12: STE AMEN CAR DU CENTRE | E12: 44585 | F12: 44585 | H12: L40-02 | I12: TND | J12: 2996.39 | K12: 0
A13: IMP22010 | B13: Note | C13: 1R09019 | D13: ALI BEN BRAHIM HAMMAMI | E13: 44585 | F13: 44585 | G13: 44590 | H13: L20-02 | I13: TND | J13: 2700 | K13: 2700
A14: IMP22011 | B14: Note | C14: 4R14081 | D14: STE AMEN CAR DU CENTRE | E14: 44585 | F14: 44585 | H14: L40-02 | I14: TND | J14: 2513.697 | K14: 0
A15: IMP22012 | B15: Note | C15: 4R12104 | D15: STE.MAGHR. DE PIECES DE RECH | E15: 44593 | F15: 44593 | G15: 44596 | H15: L40-02 | I15: TND | J15: 1108.793 | K15: 1108.793
A16: IMP22013 | B16: Note | C16: 3R14079 | D16: BAAZAOUI SALAH | E16: 44593 | F16: 44593 | G16: 44594 | H16: L30-02 | I16: TND | J16: 1124 | K16: 1124
A17: IMP22014 | B17: Note | C17: 1S04018 | D17: STE ABDELKAFI PIECES DE | E17: 44593 | F17: 44593 | G17: 44624 | H17: LS | I17: TND | J17: 1500 | K17: 1500
A18: IMP22015 | B18: Note | C18: 1R09019 | D18: ALI BEN BRAHIM HAMMAMI | E18: 44593 | F18: 44593 | G18: 44602 | H18: L20-02 | I18: TND | J18: 2000 | K18: 2000
A19: IMP22016 | B19: Note | C19: 1R09019 | D19: ALI BEN BRAHIM HAMMAMI | E19: 44593 | F19: 44593 | H19: L20-02 | I19: TND | J19: 2793.923 | K19: 0
A20: IMP22017 | B20: Note | C20: 4R14081 | D20: STE AMEN CAR DU CENTRE | E20: 44593 | F20: 44593 | H20: L40-02 | I20: TND | J20: 2054.75 | K20: 0
A21: IMP22018 | B21: Note | C21: 1R04155 | D21: ABDELKARIM CHEBBI | E21: 44593 | F21: 44593 | G21: 44595 | H21: L20-03 | I21: TND | J21: 3000 | K21: 3000
A22: IMP22019 | B22: Note | C22: 1S01311 | D22: STE BODO BETON | E22: 44596 | F22: 44596 | G22: 44596 | H22: LS | I22: TND | J22: 2438.731 | K22: 2438.731
A23: IMP22020 | B23: Note | C23: 1S04018 | D23: STE ABDELKAFI PIECES DE | E23: 44596 | F23: 44596 | G23: 44603 | H23: LS | I23: TND | J23: 1500 | K23: 1500
A24: IMP22021 | B24: Note | C24: 1X01000 | D24: CLIENT PASSAGER ASJ | E24: 44599 | F24: 44599 | G24: 44601 | H24: LS | I24: TND | J24: 3000 | K24: 3000
A25: IMP22022 | B25: Note | C25: 1R01551 | D25: GENERALE ELECT.AUTOMOBILE | E25: 44599 | F25: 44599 | G25: 44602 | H25: L20-04 | I25: TND | J25: 23346.577 | K25: 23346.577
A26: IMP22023 | B26: Note | C26: 1R03192 | D26: STE ROULEMENT SUD | E26: 44600 | F26: 44600 | G26: 44613 | H26: L20-04 | I26: TND | J26: 842.564 | K26: 842.564
A27: IMP22024 | B27: Note | C27: 1R09019 | D27: ALI BEN BRAHIM HAMMAMI | E27: 44603 | F27: 44603 | G27: 44613 | H27: L20-02 | I27: TND | J27: 2000 | K27: 2000
A28: IMP22025 | B28: Note | C28: 4R15060 | D28: STE LIZIDI ACCESSOIRES AUTOS | E28: 44606 | F28: 44606 | G28: 44620 | H28: L40-01 | I28: TND | J28: 1800 | K28: 1800
A29: IMP22026 | B29: Note | C29: 4R15060 | D29: STE LIZIDI ACCESSOIRES AUTOS | E29: 44610 | F29: 44610 | G29: 44623 | H29: L40-01 | I29: TND | J29: 1800 | K29: 1800
A30: IMP22027 | B30: Note | C30: 1r01556 | D30: STE PIECES.RECH.FRANCAISE | E30: 44615 | F30: 44615 | H30: L20-04 | I30: TND | J30: 9466.469 | K30: 0
A31: IMP22028 | B31: Note | C31: 1R02298 | D31: STE QUALITY SPARE PARTS | E31: 44615 | F31: 44615 | G31: 44624 | H31: L20-02 | I31: TND | J31: 2078.103 | K31: 2078.103
A32: IMP22029 | B32: Note | C32: 1R09019 | D32: ALI BEN BRAHIM HAMMAMI | E32: 44619 | F32: 44619 | H32: L20-02 | I32: TND | J32: 2000 | K32: 0
A33: IMP22030 | B33: Note | C33: 1X01000 | D33: CLIENT PASSAGER ASJ | E33: 44619 | F33: 44619 | H33: LS | I33: TND | J33: 3000 | K33: 0
A34: IMP22031 | B34: Note | C34: 1R09019 | D34: ALI BEN BRAHIM HAMMAMI | E34: 44619 | F34: 44619 | H34: L20-02 | I34: TND | J34: 2505.454 | K34: 0
A35: IMP22032 | B35: Note | C35: 8R09086 | D35: BEN MECHRI SALAH B KHOUMAIES | E35: 44621 | F35: 44621 | G35: 44631 | H35: L80-02 | I35: TND | J35: 2223.032 | K35: 2223.032
A36: IMP22033 | B36: Note | C36: 4R14081 | D36: STE AMEN CAR DU CENTRE | E36: 44621 | F36: 44621 | H36: L40-02 | I36: TND | J36: 3315.191 | K36: 0
A37: IMP22034 | B37: Note | C37: 1R02302 | D37: STE BOU SABAT AUTO | E37: 44621 | F37: 44621 | H37: L20-07 | I37: TND | J37: 787.869 | K37: 0
A38: IMP22035 | B38: Note | C38: 1R01551 | D38: GENERALE ELECT.AUTOMOBILE | E38: 44621 | F38: 44621 | G38: 44627 | H38: L20-04 | I38: TND | J38: 7638 | K38: 7638
A39: IMP22036 | B39: Note | C39: 1R01551 | D39: GENERALE ELECT.AUTOMOBILE | E39: 44621 | F39: 44621 | G39: 44630 | H39: L20-04 | I39: TND | J39: 28869.696 | K39: 28869.696
A40: IMP22037 | B40: Note | C40: 8R09006 | D40: GHARBI JALEL BEN BRAHIM | E40: 44621 | F40: 44621 | G40: 44631 | H40: L80-02 | I40: TND | J40: 14221.874 | K40: 14221.874
A41: IMP22038 | B41: Note | C41: 1R02208 | D41: STE OULED AHMED DE PIECES | E41: 44621 | F41: 44621 | G41: 44650 | H41: L20-07 | I41: TND | J41: 3593.873 | K41: 3593.873
...

Sheet Feuil4
A1: Référence | B1: Type | C1: Adr fact | D1: Nom | E1: Date | F1: Effet le | G1: Payé | H1: Représ 1 | I1: Dev | J1: Montant | K1: Montant imputé
A2: AC220002 | B2: Fact | C2: 1S03023 | D2: LOUKIL VEHICULES INDUSTRIELS | E2: 44579 | F2: 44579 | G2: 44579 | H2: LS | I2: TND | J2: -456.762 | K2: -456.762 | M2: #N/A
A3: AC220003 | B3: Fact | C3: 1A04002 | D3: MIN FINANCES-D.GEN. DOUANES | E3: 44586 | F3: 44586 | G3: 44609 | H3: LA | I3: TND | J3: -4833.78 | K3: -4833.78 | M3: #N/A
A4: AC220007 | B4: Fact | C4: 1G12001 | D4: S.T.E.G. | E4: 44608 | F4: 44608 | G4: 44608 | H4: LS | I4: TND | J4: -1121.58 | K4: -1121.58 | M4: #N/A
A5: AC220008 | B5: Fact | C5: 1S03017 | D5: TOTAL TUNISIE | E5: 44613 | F5: 44613 | G5: 44649 | H5: LS | I5: TND | J5: -1835.58 | K5: -1835.58 | M5: #N/A
A6: AC220010 | B6: Fact | C6: 1G01008 | D6: TRANSPOOL | E6: 44620 | F6: 44620 | G6: 44621 | H6: LS | I6: TND | J6: -860.881 | K6: -860.881 | M6: #N/A
A7: FS200001 | B7: Fact | C7: 1X02000 | D7: CLIENT PASSAGER - MEGRINE | E7: 44564 | F7: 44564 | G7: 44564 | H7: LS | I7: TND | J7: 239.195 | K7: 239.195 | M7: #N/A
A8: FS200002 | B8: Fact | C8: 1X01000 | D8: CLIENT PASSAGER ASJ | E8: 44564 | F8: 44564 | G8: 44564 | H8: LS | I8: TND | J8: 280.845 | K8: 280.845 | M8: #N/A
A9: FS200003 | B9: Fact | C9: 1X02000 | D9: CLIENT PASSAGER - MEGRINE | E9: 44564 | F9: 44564 | G9: 44564 | H9: LS | I9: TND | J9: 166.01 | K9: 166.01 | M9: #N/A
A10: FS200004 | B10: Fact | C10: 1X02000 | D10: CLIENT PASSAGER - MEGRINE | E10: 44564 | F10: 44564 | G10: 44564 | H10: LS | I10: TND | J10: 166.01 | K10: 166.01 | M10: #N/A
A11: FS200005 | B11: Fact | C11: 1X02000 | D11: CLIENT PASSAGER - MEGRINE | E11: 44564 | F11: 44564 | G11: 44564 | H11: LS | I11: TND | J11: 239.195 | K11: 239.195 | M11: #N/A
A12: FS200006 | B12: Fact | C12: 1X05000 | D12: CLIENT SG | E12: 44564 | F12: 44564 | G12: 44564 | H12: LS | I12: TND | J12: 40.019 | K12: 40.019 | M12: #N/A
A13: FS200007 | B13: Fact | C13: 1X01000 | D13: CLIENT PASSAGER ASJ | E13: 44564 | F13: 44564 | G13: 44564 | H13: LS | I13: TND | J13: 188.62 | K13: 188.62 | M13: #N/A
... A25: FS200019 | B25: Fact | C25: 1X02000 | D25: CLIENT PASSAGER - MEGRINE | E25: 44564 | F25: 44564 | G25: 44564 | H25: LS | I25: TND | J25: 158.275 | K25: 158.275 | M25: #N/A
A26: FS200020 | B26: Fact | C26: 1P01000 | D26: PERSONNEL NOUR | E26: 44564 | F26: 44564 | G26: 44564 | I26: TND | J26: 286.424 | K26: 286.424 | M26: #N/A
A27: FS200021 | B27: Fact | C27: 1X05000 | D27: CLIENT SG | E27: 44564 | F27: 44564 | G27: 44564 | H27: LS | I27: TND | J27: 99.668 | K27: 99.668 | M27: #N/A
A28: FS200022 | B28: Fact | C28: 1X01000 | D28: CLIENT PASSAGER ASJ | E28: 44564 | F28: 44564 | G28: 44564 | H28: LS | I28: TND | J28: 1393.376 | K28: 1393.376 | M28: #N/A
A29: FS200023 | B29: Fact | C29: 1X05000 | D29: CLIENT SG | E29: 44564 | F29: 44564 | G29: 44564 | H29: LS | I29: TND | J29: 79.438 | K29: 79.438 | M29: #N/A
A30: FS200024 | B30: Fact | C30: 1S01216 | D30: SOSTEM | E30: 44564 | F30: 44564 | G30: 44637 | H30: LS | I30: TND | J30: 429 | K30: 429 | M30: #N/A
A31: FS200025 | B31: Fact | C31: 1S01216 | D31: SOSTEM | E31: 44564 | F31: 44564 | G31: 44637 | H31: LS | I31: TND | J31: 214.8 | K31: 214.8 | M31: #N/A
A32: FS200026 | B32: Fact | C32: 1P01000 | D32: PERSONNEL NOUR | E32: 44564 | F32: 44564 | G32: 44564 | I32: TND | J32: 173.969 | K32: 173.969 | M32: #N/A
A33: FS200027 | B33: Fact | C33: 1X01000 | D33: CLIENT PASSAGER ASJ | E33: 44564 | F33: 44564 | G33: 44564 | H33: LS | I33: TND | J33: 755.06 | K33: 755.06 | M33: #N/A
A34: FS200028 | B34: Fact | C34: 1S01267 | D34: STE CONFIANCE VOYAGES | E34: 44565 | F34: 44565 | G34: 44650 | H34: LS | I34: TND | J34: 210.308 | K34: 210.308 | M34: #N/A
A35: FS200029 | B35: Fact | C35: 1X05000 | D35: CLIENT SG | E35: 44565 | F35: 44565 | G35: 44565 | H35: LS | I35: TND | J35: 110.973 | K35: 110.973 | M35: #N/A
A36: FS200030 | B36: Fact | C36: 1X02000 | D36: CLIENT PASSAGER - MEGRINE | E36: 44565 | F36: 44565 | G36: 44565 | H36: LS | I36: TND | J36: 239.195 | K36: 239.195 | M36: #N/A
A37: FS200031 | B37: Fact | C37: 1S05021 | D37: STE AMARA RAPIDES SERVICES | E37: 44565 | F37: 44565 | G37: 44663 | H37: LS | I37: TND | J37: 192.22 | K37: 192.22 | M37: #N/A
A38: FS200032 | B38: Fact | C38: 1X05000 | D38: CLIENT SG | E38: 44565 | F38: 44565 | G38: 44565 | H38: LS | I38: TND | J38: 40.019 | K38: 40.019 | M38: #N/A
A39: FS200033 | B39: Fact | C39: 1X01000 | D39: CLIENT PASSAGER ASJ | E39: 44565 | F39: 44565 | G39: 44565 | H39: LS | I39: TND | J39: 298.1 | K39: 298.1 | M39: #N/A
A40: FS200034 | B40: Fact | C40: 1X02000 | D40: CLIENT PASSAGER - MEGRINE | E40: 44565 | F40: 44565 | G40: 44565 | H40: LS | I40: TND | J40: 158.275 | K40: 158.275 | M40: #N/A
A41: FS200035 | B41: Fact | C41: 1X02000 | D41: CLIENT PASSAGER - MEGRINE | E41: 44565 | F41: 44565 | G41: 44565 | H41: LS | I41: TND | J41: 234.863 | K41: 234.863 | M41: #N/A
A42: FS200036 | B42: Fact | C42: 1X05000 | D42: CLIENT SG | E42: 44565 | F42: 44565 | G42: 44565 | H42: LS | I42: TND | J42: 143.525 | K42: 143.525 | M42: #N/A
A43: FS200037 | B43: Fact | C43: 1X05000 | D43: CLIENT SG | E43: 44565 | F43: 44565 | G43: 44565 | H43: LS | I43: TND | J43: 40.808 | K43: 40.808 | M43: #N/A
A44: FS200038 | B44: Fact | C44: 1X05000 | D44: CLIENT SG | E44: 44565 | F44: 44565 | G44: 44565 | H44: LS | I44: TND | J44: 308.399 | K44: 308.399 | M44: #N/A
A45: FS200039 | B45: Fact | C45: 1P01000 | D45: PERSONNEL NOUR | E45: 44565 | F45: 44565 | G45: 44565 | I45: TND | J45: 197.615 | K45: 197.615 | M45: #N/A
A46: FS200040 | B46: Fact | C46: 1X05000 | D46: CLIENT SG | E46: 44565 | F46: 44565 | G46: 44565 | H46: LS | I46: TND | J46: 122.031 | K46: 122.031 | M46: #N/A
A47: FS200041 | B47: Fact | C47: 1X02000 | D47: CLIENT PASSAGER - MEGRINE | E47: 44565 | F47: 44565 | G47: 44565 | H47: LS | I47: TND | J47: 234.863 | K47: 234.863 | M47: #N/A
A48: FS200042 | B48: Fact | C48: 1x01000 | D48: CLIENT PASSAGER ASJ | E48: 44565 | F48: 44565 | G48: 44565 | H48: LS | I48: TND | J48: 237.898 | K48: 237.898 | M48: #N/A
A49: FS200043 | B49: Fact | C49: 1X05000 | D49: CLIENT SG | E49: 44565 | F49: 44565 | G49: 44565 | H49: LS | I49: TND | J49: 125.217 | K49: 125.217 | M49: #N/A
A50: FS200044 | B50: Fact | C50: 1g20005 | D50: STE LOGISTIQUES MAG.GENERAL | E50: 44565 | F50: 44565 | G50: 44634 | H50: LS | I50: TND | J50: 173.15 | K50: 173.15 | M50: #N/A
A51: FS200045 | B51: Fact | C51: 1s02060 | D51: STE DES PROD. SIDERURGIQUES | E51: 44566 | F51: 44566 | G51: 44616 | H51: LS | I51: TND | J51: 536.57 | K51: 536.57 | M51: #N/A
...
