Workbook

Sheet liste client
A1: Client | B1: Nom tri | C1: Téléphone | D1: Ville Etat | E1: Postal
A2: 1A01001 | B2: MIN AGR.-SER.TRANSPORTS | D2: TUNIS
A3: 1A01002 | B3: INS.NAT.RECH.AGRON-INRAT | D3: TUNIS
A4: 1A01003 | B4: REGIE SONDAGES HYDRAULIQU | D4: MEGRINE | E4: 2033
A5: 1A01004 | B5: MIN AGR.-D.DES RESS. EN E | D5: TUNIS
A6: 1A01006 | B6: MIN AGR.-C R D A BEN AR | C6: 71 295-195 | D6: BEN AROUS
A7: 1A01007 | B7: COMM.REG.DEVEL.AGR. NABEU | C7: 72 285-337 | D7: NABEUL | E7: 8000
A8: 1A01008 | B8: MIN AGR.-C.R.D.A DE ZAGHO | D8: ZAGHOUAN
A9: 1A01009 | B9: INST.NLE.AGRON. DE TUNISI | D9: TUNIS
A10: 1A01010 | B10: MIN.AGR.- DIR. D.G.B G. | C10: 72 679-801 | D10: TUNIS
A11: 1A01011 | B11: INSTIT.NAT. R.G.R.E.F | D11: ARIANA
A12: 1A01013 | B12: BUR.CONT.UNI. PROD.AGRIC. | D12: TUNIS
A13: 1A01014 | B13: AG. VULGARI. & FORM. AGRI | D13: TUNIS
A14: 1a01016 | B14: MIN.EQUIPEMENT D.REG.ARIA | C14: 71 610-387 | D14: ARIANA
A15: 1A01019 | B15: MIN.FONCT.PUB ET GOUVERNA | C15: 70 728-644 | D15: TUNIS | E15: 1006
A16: 1A01024 | B16: Min Eq Dir Ponts Chaussée | C16: 71391398 | D16: tunis
A17: 1A01026 | B17: C.R.D.A DE TUNIS | C17: 71 574-178 | D17: TUNIS
A18: 1A01027 | B18: MINISTERE DE L'AGRICULTUR | C18: 71 295-973 | D18: TUNIS
A19: 1A01028 | B19: MIN.AGRICULTURE CRDA BIZE | C19: 72 431-438 | D19: BIZERTE
A20: 1A01029 | B20: M.AGRIC. DIR GLE DE CONSE | C20: 71 287-192 | D20: TUNIS
A21: 1A01030 | B21: MIN.AGRICULTURE INST.REC | C21: 71 798-244 | D21: TUNIS | E21: 1002
A22: 1A01031 | B22: C R D A ARIANA | C22: 71 562-400 | D22: BARDO | E22: 2000
A23: 1A01032 | B23: DIR.REG.EQUIPEMENT SILIAN | C23: 78 872-501 | D23: SILIANA | E23: 6100
A24: 1A01033 | B24: MINISTERE DE L'EQUIPEMENT | D24: TUNIS
A25: 1A01034 | B25: MIN.TECH.COM&ECONO.NUMERI | C25: 71 485-480 | D25: TUNIS | E25: 1002
A26: 1A02003 | B26: MIN EQUIP.-SER.ENT. ROUT. | D26: TUNIS
A27: 1A02004 | B27: MIN EQUIP.&HABIT-D.REG.TU | D27: TUNIS
A28: 1A02005 | B28: MIN EQUIP.&HABIT-S.EXPL. | D28: TUNIS
A29: 1A02006 | B29: MIN EQUIP.&HABIT-S.ENT.RO | D29: TUNIS
A30: 1A02010 | B30: MIN.EQUIP. DIR.REG. ZAGHO | C30: 72 675-155 | D30: ZAGHOUAN
A31: 1A02011 | B31: MIN.EQUIP. DIR.REG. MANNO | C31: 71 608-398 | D31: MANNOUBA | E31: 2010
A32: 1A02012 | B32: CENTRE D'ESSAIS ET DES TE | C32: 71 490-789 | D32: TUNIS | E32: 1009
A33: 1A02013 | B33: CENTRE REG.CONTROLES.IMPO | C33: 71 311-034 | D33: BEN AROUS | E33: 2063
A34: 1A03001 | B34: MIN INTER.-PROTECTION CIV | C34: 71 760-211 | D34: TUNIS
A35: 1A03002 | B35: MIN INTER.-D.GEN. GARDE N | C35: 71 795-000 | D35: TUNIS
A36: 1A03003 | B36: MIN INTER.-DIR. TRANSMISS | C36: 71 333-000 | D36: TUNIS
A37: 1A03004 | B37: MIN.INTER.- D.GLE.SURETE | C37: 71 795-020 | D37: TUNIS
A38: 1A03005 | B38: MIN INTER.-D.AFF.ADM.&FIN | D38: TUNIS
A39: 1A03007 | B39: DIR.GLE.PRISONS ET REEDUC | C39: 71 830-300 | D39: TUNIS
A40: 1A03008 | B40: MIN.DE L'INTERIEUR SERVIC | C40: 71 795-000 | D40: TUNIS
A41: 1A03009 | B41: MINISTERE DE L'INTERIEUR | C41: 71 600-133 | D41: MANNOUBA
A42: 1A03010 | B42: PRISON CIVILE DE MORNAG | C42: 71 360-407 | D42: BEN AROUS | E42: 2090
A43: 1A03011 | B43: GARDE DOUANIERE | C43: 79 328-900 | D43: BEN AROUS | E43: 2096
A44: 1A04001 | B44: MIN FINANCES | D44: TUNIS
A45: 1A04002 | B45: MIN FINANCES-D.GEN. DOUAN | D45: TUNIS
A46: 1A04003 | B46: C.R.D.A MANNOUBA | C46: 71 624-408 | D46: MANNOUBA
A47: 1A05003 | B47: OFFICE NATIONALE DES POST | C47: 71 393-372 | D47: TUNIS
A48: 1A05005 | B48: DIR REG EQUIPEMENT BEN AR | C48: 71 387-411 | D48: BEN AROUS
A49: 1A06001 | B49: MIN DU COMMERCE | D49: TUNIS
A50: 1A06002 | B50: MIN INDIST.ET COMMERCE | C50: 71 909-278 | D50: TUNIS
A51: 1A06003 | B51: ADM.REG.EQUIP.AMG.HA.BIZE | C51: 72 431-066 | D51: BIZERTE | E51: 7000
A52: 1A07001 | B52: MIN. DES AFFAIRES SOCIALE | C52: 71 847-500 | D52: TUNIS
A53: 1A08003 | B53: CEL. TRANSP. JEUNES SPORT | C53: 70 614-480 | D53: MANNOUBA
A54: 1A08004 | B54: MIN.DE LA JEUNESSE ET SPO | C54: 71 753-584 | D54: TUNIS
A55: 1A08005 | B55: CENTRE NAT.FOR. RECYC.CAD | C55: 71 467-274 | D55: RADES | E55: 2098
A56: 1A08006 | B56: CENT.NAT.MAINT.MIN.EDUCAT | C56: 71 290-292 | D56: HAMMEM LIF | E56: 2050
A57: 1A08007 | B57: CENT.ETDE JURIQUE&JUDICIA | C57: 71 849-321 | D57: BELVEDERE | E57: 1002
A58: 1A09001 | B58: MIN DE LA CULTURE | D58: TUNIS
A59: 1A10001 | B59: PRESIDENCE DE LA REPUBLIQ | C59: 71 566-247 | D59: TUNIS
A60: 1A11001 | B60: M. DEF.NAT.-D.MAT.ROUL.&E | D60: TUNIS
A61: 1A11002 | B61: D.ACHAT&TRANSIT ARMEE DE | D61: TUNIS
A62: 1A11007 | B62: MINISTERE DEFENSE NATIONA | C62: 71 760-900 | D62: TUNIS
A63: 1A11009 | B63: MIN.DEF.NLE CENTRE MILITA | C63: 71 564-466 | D63: TUNIS
A64: 1A11010 | B64: MIN.DEFENSE NATIONALE | D64: TUNIS | E64: 2045
A65: 1A11011 | B65: MIN.DEF.NAT.DIR.GEN.TRAN. | C65: 71 560-488 | D65: TUNIS | E65: 1068
A66: 1A11012 | B66: MINISTERE DEFENSE NATIONA | C66: 72 460-126 | D66: MENZEL BOU | E66: 7039
A67: 1A11013 | B67: MIN.DEF.NLE DIRECT.GENERA | C67: 58 511-899 | D67: TUNIS
A68: 1A12001 | B68: MIN ENSEIGNEMENT SUPERIEU | D68: TUNIS
A69: 1A13002 | B69: PRESIDENCE DU GOUVERNEMEN | C69: 98 642-266 | D69: TUNIS | E69: 1020
A70: 1A14001 | B70: MIN EDUCATION NATIONALE | C70: 71 568-832 | D70: TUNIS
A71: 1A15001 | B71: MIN D'ENVIRONNEMENT | C71: 70 728-644 | D71: ARIANA
A72: 1A18001 | B72: MINISTERE DES DOMAINES DE | C72: 71 340-945 | D72: TUNIS
A73: 1A20001 | B73: MINISTERE DE LA JUSTICE | C73: 71 788-724 | D73: TUNIS
A74: 1A21002 | B74: MINISTERE DE LA SANTE | C74: 71 577-176 | D74: TUNIS
A75: 1A22001 | B75: MIN. D'INDUSTRIE & D'ENER | C75: 71 782-742 | D75: TUNIS
A76: 1A22002 | B76: MIN.ENRGIE.MINES&ENGIE.RE | C76: 71 900-898 | D76: TUNIS | E76: 1002
A77: 1A23001 | B77: MIN.DES AFFAIRES ETRANGER | C77: 71 847-500 | D77: TUNIS
A78: 1A24001 | B78: MINISTERE DU TOURISME | C78: 71 341-077 | D78: TUNIS | E78: 1001
A79: 1C00001 | B79: GARDE NATIONALE
A80: 1C00002 | B80: STEG
A81: 1C00003 | B81: OACA
A82: 1C00004 | B82: METRO LEGER DE TUNIS
A83: 1C00005 | B83: PROTECTION CIVILE
A84: 1C00006 | B84: SONEDE MEGRINE
A85: 1C00007 | B85: TELECOM MAHDIA
A86: 1C00008 | B86: STEG SOUSSE DISTRICT NORD
A87: 1C00009 | B87: SONEDE SOUSSE
A88: 1C00010 | B88: MINISTERE DE L'AGRICULTUR | C88: 71 297-842 | D88: Tunisie
A89: 1C00011 | B89: MINISTERE AGRICULTURE EGT
A90: 1C00012 | B90: OFFICE NATIONAL DES MINES
A91: 1G00001 | B91: STA NOUR | D91: MEGRINE | E91: 2033
A92: 1G01003 | B92: SOCIETE DE NUTRITION ANIM | C92: 71 454-545 | D92: BEN AROUS
A93: 1G01004 | B93: SOCIETE ENNAJAH | C93: 72 256-172 | D93: BEN AROUS
A94: 1G01006 | B94: SOCIETE CEDRIA | C94: 71 454-545 | D94: EZZAHRA
A95: 1G01007 | B95: SOCIETE SABA | C95: 79 214-100 | D95: BEN AROUS
A96: 1G01008 | B96: TRANSPOOL | D96: BEN AROUS
A97: 1G01009 | B97: EL MAZRAA | D97: TUNIS
A98: 1G01010 | B98: AGENCE TUNIS AFRIQUE PRES | C98: 71 889-000 | D98: TUNIS
A99: 1G01011 | B99: SOTETEL | C99: 71 941-100 | D99: CHARGUIA 2 | E99: 1080
A100: 1G01012 | B100: AGENCE NAT.PROTEC.ENVIRNM | C100: 71 233-600 | D100: TUNIS | E100: 1003
...

Sheet Feuil1
A1: CODE CLIENT
A2: 6R21205 | B2: =+VLOOKUP(A2,'liste client'!A:B,2,FALSE) -> GHRIBI HOUCINE BEN AMMAR
A3: 1R02308 | B3: =+VLOOKUP(A3,'liste client'!A:B,2,FALSE) -> STE VERT AUTO
A4: 7S19011 | B4: =+VLOOKUP(A4,'liste client'!A:B,2,FALSE) -> STE TUN.TRANS.PROD.MINIER
A5: 1A11012 | B5: =+VLOOKUP(A5,'liste client'!A:B,2,FALSE) -> MINISTERE DEFENSE NATIONA
A6: 1A01010 | B6: =+VLOOKUP(A6,'liste client'!A:B,2,FALSE) -> MIN.AGR.- DIR. D.G.B G.
A7: 8R08057 | B7: =+VLOOKUP(A7,'liste client'!A:B,2,FALSE) -> SALIHA BT MOKHTAR B.MOHAM
A8: 1R02309 | B8: =+VLOOKUP(A8,'liste client'!A:B,2,FALSE) -> STE COGEPA BE AROUS
A9: 3R15051 | B9: =+VLOOKUP(A9,'liste client'!A:B,2,FALSE) -> BEN CHAABEN ZIED B TAIEB
A10: 1R05242 | B10: =+VLOOKUP(A10,'liste client'!A:B,2,FALSE) -> STE DILINA MOTEUR
A11: 1R01617 | B11: =+VLOOKUP(A11,'liste client'!A:B,2,FALSE) -> JAMEL BEN ALI TRIKI
A12: 1A02012 | B12: =+VLOOKUP(A12,'liste client'!A:B,2,FALSE) -> CENTRE D'ESSAIS ET DES TE
A13: 3S18029 | B13: =+VLOOKUP(A13,'liste client'!A:B,2,FALSE) -> GROUPE CHIMIQUE TUNISIEN
... A51: 1G20007 | B51: =+VLOOKUP(A51,'liste client'!A:B,2,FALSE) -> STE CONSULTING MANAG.SERV
