Workbook

Sheet liste client
A1: Client | B1: Nom tri | C1: Téléphone | D1: Ville Etat | E1: Postal
A2: 1A01001 | B2: MIN AGR.-SER.TRANSPORTS | D2: TUNIS
A3: 1A01002 | B3: INS.NAT.RECH.AGRON-INRAT | D3: TUNIS
A4: 1A01003 | B4: REGIE SONDAGES HYDRAULIQU | D4: MEGRINE | E4: 2033
A5: 1A01004 | B5: MIN AGR.-D.DES RESS. EN E | D5: TUNIS
A6: 1A01006 | B6: MIN AGR.-C R D A BEN AR | C6: 71 295-195 | D6: BEN AROUS
A7: 1A01007 | B7: COMM.REG.DEVEL.AGR. NABEU | C7: 72 285-337 | D7: NABEUL | E7: 8000
A8: 1A01008 | B8: MIN AGR.-C.R.D.A DE ZAGHO | D8: ZAGHOUAN
A9: 1A01009 | B9: INST.NLE.AGRON. DE TUNISI | D9: TUNIS
A10: 1A01010 | B10: MIN.AGR.- DIR. D.G.B G. | C10: 72 679-801 | D10: TUNIS
A11: 1A01011 | B11: INSTIT.NAT. R.G.R.E.F | D11: ARIANA
A12: 1A01013 | B12: BUR.CONT.UNI. PROD.AGRIC. | D12: TUNIS
A13: 1A01014 | B13: AG. VULGARI. & FORM. AGRI | D13: TUNIS
A14: 1a01016 | B14: MIN.EQUIPEMENT D.REG.ARIA | C14: 71 610-387 | D14: ARIANA
A15: 1A01019 | B15: MIN.FONCT.PUB ET GOUVERNA | C15: 70 728-644 | D15: TUNIS | E15: 1006
A16: 1A01024 | B16: Min Eq Dir Ponts Chaussée | C16: 71391398 | D16: tunis
A17: 1A01026 | B17: C.R.D.A DE TUNIS | C17: 71 574-178 | D17: TUNIS
A18: 1A01027 | B18: MINISTERE DE L'AGRICULTUR | C18: 71 295-973 | D18: TUNIS
A19: 1A01028 | B19: MIN.AGRICULTURE CRDA BIZE | C19: 72 431-438 | D19: BIZERTE
A20: 1A01029 | B20: M.AGRIC. DIR GLE DE CONSE | C20: 71 287-192 | D20: TUNIS
A21: 1A01030 | B21: MIN.AGRICULTURE INST.REC | C21: 71 798-244 | D21: TUNIS | E21: 1002
A22: 1A01031 | B22: C R D A ARIANA | C22: 71 562-400 | D22: BARDO | E22: 2000
A23: 1A01032 | B23: DIR.REG.EQUIPEMENT SILIAN | C23: 78 872-501 | D23: SILIANA | E23: 6100
A24: 1A01033 | B24: MINISTERE DE L'EQUIPEMENT | D24: TUNIS
A25: 1A01034 | B25: MIN.TECH.COM&ECONO.NUMERI | C25: 71 485-480 | D25: TUNIS | E25: 1002
A26: 1A02003 | B26: MIN EQUIP.-SER.ENT. ROUT. | D26: TUNIS
A27: 1A02004 | B27: MIN EQUIP.&HABIT-D.REG.TU | D27: TUNIS
A28: 1A02005 | B28: MIN EQUIP.&HABIT-S.EXPL. | D28: TUNIS
A29: 1A02006 | B29: MIN EQUIP.&HABIT-S.ENT.RO | D29: TUNIS
A30: 1A02010 | B30: MIN.EQUIP. DIR.REG. ZAGHO | C30: 72 675-155 | D30: ZAGHOUAN
A31: 1A02011 | B31: MIN.EQUIP. DIR.REG. MANNO | C31: 71 608-398 | D31: MANNOUBA | E31: 2010
A32: 1A02012 | B32: CENTRE D'ESSAIS ET DES TE | C32: 71 490-789 | D32: TUNIS | E32: 1009
A33: 1A02013 | B33: CENTRE REG.CONTROLES.IMPO | C33: 71 311-034 | D33: BEN AROUS | E33: 2063
A34: 1A03001 | B34: MIN INTER.-PROTECTION CIV | C34: 71 760-211 | D34: TUNIS
A35: 1A03002 | B35: MIN INTER.-D.GEN. GARDE N | C35: 71 795-000 | D35: TUNIS
A36: 1A03003 | B36: MIN INTER.-DIR. TRANSMISS | C36: 71 333-000 | D36: TUNIS
A37: 1A03004 | B37: MIN.INTER.- D.GLE.SURETE | C37: 71 795-020 | D37: TUNIS
A38: 1A03005 | B38: MIN INTER.-D.AFF.ADM.&FIN | D38: TUNIS
A39: 1A03007 | B39: DIR.GLE.PRISONS ET REEDUC | C39: 71 830-300 | D39: TUNIS
A40: 1A03008 | B40: MIN.DE L'INTERIEUR SERVIC | C40: 71 795-000 | D40: TUNIS
...

Sheet Feuil1
A1: CODE CLIENT
A2: 6R21205 | B2: =+VLOOKUP(A2,'liste client'!A:B,2,FALSE) -> GHRIBI HOUCINE BEN AMMAR
A3: 1R02308 | B3: =+VLOOKUP(A3,'liste client'!A:B,2,FALSE) -> STE VERT AUTO
A4: 7S19011 | B4: =+VLOOKUP(A4,'liste client'!A:B,2,FALSE) -> STE TUN.TRANS.PROD.MINIER
A5: 1A11012 | B5: =+VLOOKUP(A5,'liste client'!A:B,2,FALSE) -> MINISTERE DEFENSE NATIONA
A6: 1A01010 | B6: =+VLOOKUP(A6,'liste client'!A:B,2,FALSE) -> MIN.AGR.- DIR. D.G.B G.
A7: 8R08057 | B7: =+VLOOKUP(A7,'liste client'!A:B,2,FALSE) -> SALIHA BT MOKHTAR B.MOHAM
A8: 1R02309 | B8: =+VLOOKUP(A8,'liste client'!A:B,2,FALSE) -> STE COGEPA BE AROUS
A9: 3R15051 | B9: =+VLOOKUP(A9,'liste client'!A:B,2,FALSE) -> BEN CHAABEN ZIED B TAIEB
A10: 1R05242 | B10: =+VLOOKUP(A10,'liste client'!A:B,2,FALSE) -> STE DILINA MOTEUR
A11: 1R01617 | B11: =+VLOOKUP(A11,'liste client'!A:B,2,FALSE) -> JAMEL BEN ALI TRIKI
A12: 1A02012 | B12: =+VLOOKUP(A12,'liste client'!A:B,2,FALSE) -> CENTRE D'ESSAIS ET DES TE
A13: 3S18029 | B13: =+VLOOKUP(A13,'liste client'!A:B,2,FALSE) -> GROUPE CHIMIQUE TUNISIEN
... A51: 1G20007 | B51: =+VLOOKUP(A51,'liste client'!A:B,2,FALSE) -> STE CONSULTING MANAG.SERV
