Workbook

Sheet Balance Clt  31-12-24
A1: Code Clt | B1: Client | C1: SoldeDebut | D1: Debit | E1: Credit | F1: Variation | G1: SoldeFin
A2: 10001 | B2: STE TNNE DES A | C2: 0 | D2: 8932897 | E2: 8903523.5 | F2: =D2-E2 -> 29373.56 | G2: =C2+F2 -> 29373.56
A3: 10002 | B3: FONDERIE EL HA | C3: 0 | D3: 2302931.1 | E3: 2302931.1 | F3: =D3-E3 -> 0 | G3: =C3+F3 -> 0
A4: 10003 | B4: STE NOUR DISTR | C4: 0 | D4: =313196295.831+3183785.922 -> 3.1638008e+08 | E4: =303281119.093+41931.024 -> 3.0332305e+08 | F4: =D4-E4 -> 13057032 | G4: =C4+F4 -> 13057032
A5: 10006 | B5: STE.TECH.ET IN | C5: 0 | D5: 84628.441 | E5: 67763.137 | F5: =D5-E5 -> 16865.304 | G5: =C5+F5 -> 16865.304
A6: 10007 | B6: NOUR BATTERIES | C6: 0 | D6: 714646.95 | E6: 613621.08 | F6: =D6-E6 -> 101025.88 | G6: =C6+F6 -> 101025.88
A7: 10008 | B7: MED OIL COMPAG | C7: 0 | D7: 10299.625 | E7: 10299.625 | F7: =D7-E7 -> 0 | G7: =C7+F7 -> 0
A8: 10009 | B8: SOCIETE ACHREF | C8: 0 | D8: 7340.556 | E8: 6410.131 | F8: =D8-E8 -> 930.425 | G8: =C8+F8 -> 930.425
A9: 10010 | B9: STE ECOPLAST T | C9: 0 | D9: 1279326.3 | E9: 1111207.4 | F9: =D9-E9 -> 168118.86 | G9: =C9+F9 -> 168118.86
A10: 10011 | B10: SOCIETE MEDEX | C10: 0 | D10: 38031.12 | E10: 38157.106 | F10: =D10-E10 -> -125.986 | G10: =C10+F10 -> -125.986
A11: 10012 | B11: STE TNNE DES A | C11: 0 | D11: 1304906.5 | E11: 1304630 | F11: =D11-E11 -> 276.44 | G11: =C11+F11 -> 276.44
A12: 10014 | B12: STE DAMMAK SER | C12: 0 | D12: 34204.266 | E12: 34204.266 | F12: =D12-E12 -> 0 | G12: =C12+F12 -> 0
A13: 10016 | B13: SOCIETE NOUR R | C13: 0 | D13: 691846.26 | E13: 658001.05 | F13: =D13-E13 -> 33845.214 | G13: =C13+F13 -> 33845.214
A14: 10017 | B14: RayaEzedine be | C14: 0 | D14: 22601 | E14: 22601 | F14: =D14-E14 -> 0 | G14: =C14+F14 -> 0
A15: 10018 | B15: START AD | C15: 0 | D15: 43044.374 | E15: 0 | F15: =D15-E15 -> 43044.374 | G15: =C15+F15 -> 43044.374
A16: 10019 | B16: SOCIETE AKUMPL | C16: 0 | D16: 297999.47 | E16: 194597.42 | F16: =D16-E16 -> 103402.05 | G16: =C16+F16 -> 103402.05
... A18: 19999 | B18: PESONNEL SNA | C18: 0 | D18: 1.8 | E18: 0 | F18: =D18-E18 -> 1.8 | G18: =C18+F18 -> 1.8
A19: 1A11012 | B19: MINISTERE DEFE | C19: 0 | D19: 98178.57 | E19: 98178.57 | F19: =D19-E19 -> 0 | G19: =C19+F19 -> 0
A20: 7S01001 | B20: CIE DE PHOSPHA | C20: 0 | D20: 98364.184 | E20: 73501.89 | F20: =D20-E20 -> 24862.294 | G20: =C20+F20 -> 24862.294
A21: 7S19002 | B21: CIE DE PHOSPHA | C21: 0 | D21: 788662.11 | E21: 706392.86 | F21: =D21-E21 -> 82269.247 | G21: =C21+F21 -> 82269.247
A22: 7S19011 | B22: STE TNNE TRANS | C22: 0 | D22: 149709.7 | E22: 149648.2 | F22: =D22-E22 -> 61.5 | G22: =C22+F22 -> 61.5 | I22: PROVISIONNEE | J22: =+G22 -> 61.5
A23: X033001 | B23: LITTORAL BATTE | C23: 0 | D23: 8297507.6 | E23: 7087086.4 | F23: =D23-E23 -> 1210421.1 | G23: =C23+F23 -> 1210421.1
A24: X033002 | B24: ACCUSPLUS | C24: 0 | D24: 189414.92 | E24: 189414.92 | F24: =D24-E24 -> 0 | G24: =C24+F24 -> 0
A25: X033003 | B25: OUEST BATTERIE | C25: 0 | D25: 2360365.2 | E25: 1837492.2 | F25: =D25-E25 -> 522873.02 | G25: =C25+F25 -> 522873.02
A26: X033004 | B26: PROXITECH SAS | C26: 0 | D26: 7952226.8 | E26: 7109567.2 | F26: =D26-E26 -> 842659.62 | G26: =C26+F26 -> 842659.62
A27: X033005 | B27: DT BATTERIES D | C27: 0 | D27: 892052.01 | E27: 715171.86 | F27: =D27-E27 -> 176880.15 | G27: =C27+F27 -> 176880.15
A28: X033006 | B28: WILMOT | C28: 0 | D28: 179106.59 | E28: 179106.58 | F28: =D28-E28 -> 0.017 | G28: =C28+F28 -> 0.017
A29: X033007 | B29: ACM Technologi | C29: 0 | D29: 542438.16 | E29: 542438.16 | F29: =D29-E29 -> 0 | G29: =C29+F29 -> 0
A30: X033008 | B30: Direct batteri | C30: 0 | D30: 538630.41 | E30: 184258.09 | F30: =D30-E30 -> 354372.32 | G30: =C30+F30 -> 354372.32
A31: X033009 | B31: ENERGYS BATTER | C31: 0 | D31: 350501.84 | E31: 172753.69 | F31: =D31-E31 -> 177748.15 | G31: =C31+F31 -> 177748.15
A32: X039003 | B32: MED ENERGY BAT | C32: 0 | D32: 4617242.6 | E32: 4499087.6 | F32: =D32-E32 -> 118155.02 | G32: =C32+F32 -> 118155.02 | I32: PROVISIONNEE | J32: 100409.94
A33: X039005 | B33: SIA INDUSTRIA | C33: 0 | D33: 1996227.6 | E33: 1729052.1 | F33: =D33-E33 -> 267175.43 | G33: =C33+F33 -> 267175.43
A34: X044001 | B34: UROMET LTD | C34: 0 | D34: 89.748 | E34: 89.748 | F34: =D34-E34 -> 0 | G34: =C34+F34 -> 0
A35: X048001 | B35: BATCAR Sp.J | C35: 0 | D35: 1067869 | E35: 1067869 | F35: =D35-E35 -> -0.00099999993 | G35: =C35+F35 -> -0.00099999993
A36: X049002 | B36: BATTERIEDIENST | C36: 0 | D36: 1776924.2 | E36: 1768214 | F36: =D36-E36 -> 8710.257 | G36: =C36+F36 -> 8710.257
A37: X049003 | B37: NOUR AKKUMULAT | C37: 0 | D37: 5853409 | E37: 5629648.2 | F37: =D37-E37 -> 223760.78 | G37: =C37+F37 -> 223760.78
A38: X049004 | B38: HYSY TECHNICK | C38: 0 | D38: 81767.437 | E38: 81767.437 | F38: =D38-E38 -> 0 | G38: =C38+F38 -> 0
A39: X086001 | B39: NANJING YAT FE | C39: 0 | D39: 1169.053 | E39: 1169.053 | F39: =D39-E39 -> 0 | G39: =C39+F39 -> 0
A40: X212010 | B40: MARIBAT | C40: 0 | D40: 19755166 | E40: 19745001 | F40: =D40-E40 -> 10165.661 | G40: =C40+F40 -> 10165.661
A41: X212011 | B41: STE SUD-EST D' | C41: 0 | D41: 9446380.9 | E41: 9446381 | F41: =D41-E41 -> -0.07 | G41: =C41+F41 -> -0.07
A42: X213001 | B42: EURL BOUSBA TR | C42: 0 | D42: 94943.192 | E42: 94943.192 | F42: =D42-E42 -> 0 | G42: =C42+F42 -> 0
A43: X213002 | B43: EURL EL HARAMA | C43: 0 | D43: 2167652.2 | E43: 2030190.6 | F43: =D43-E43 -> 137461.61 | G43: =C43+F43 -> 137461.61
A44: X213003 | B44: SPA OLYMPIA IN | C44: 0 | D44: 145589.6 | E44: 145589.6 | F44: =D44-E44 -> 0 | G44: =C44+F44 -> 0
... A66: X973001 | B66: NADHEERA TRADI | C66: 0 | D66: 241753.93 | E66: 246069.56 | F66: =D66-E66 -> -4315.632 | G66: =C66+F66 -> -4315.632
C67: =SUM(C2:C66) -> 0 | D67: =SUM(D2:D66) -> 5.5162367e+08 | E67: =SUM(E2:E66) -> 5.2790883e+08 | F67: =SUM(F2:F66) -> 23714836 | G67: =SUM(G2:G66) -> 23714836

Sheet Justif Clt Etrangers 31-12-24
A1: Référence | B1: Client | D1: Eff Date | E1: Montant | F1: Montant appliqué | G1: Montant ouvert | H1: solde Fin | I1: Montant en devise | J1: 3.3209 | K1: G/P CHANGE
A3: FN190017 | B3: X039003 | C3: MED ENERGY BATTERIES | D3: 43542 | E3: 205221.63 | F3: 138770.05 | G3: 66451.578 | H3: =+H2+G3 -> 66451.578 | I3: 19565.01 | J3: =+I3*$J$1 -> 64973.442 | K3: =+J3-G3 -> -1478.1363
A4: FN170058 | B4: X039003 | C4: MED ENERGY BATTERIES | D4: 43075 | E4: 42680.114 | F4: 0 | G4: 42680.114 | H4: =+G4+H3 -> 109131.69 | I4: 14634.52 | J4: =+I4*$J$1 -> 48599.777 | K4: =+J4-G4 -> 5919.6635
A5: FN170025 | B5: X039003 | C5: MED ENERGY BATTERIES | D5: 42906 | E5: 145078.11 | F5: 136054.79 | G5: 9023.322 | H5: =+G5+H4 -> 118155.01 | I5: 3295.95 | J5: =+I5*$J$1 -> 10945.52 | K5: =+J5-G5 -> 1922.1984 | L5: =SUM(K3:K5) -> 6363.7255
A8: FN200047 | B8: X039005 | C8: SIA INDUSTRIA ACCUMULATORI | D8: 44083 | E8: 146611.95 | F8: 132340.88 | G8: 14271.072 | H8: =+G8+H7 -> 14271.072 | I8: 4379.04 | J8: =+I8*$J$1 -> 14542.354 | K8: =+J8-G8 -> 271.28194
A9: FN190076 | B9: X039005 | C9: SIA INDUSTRIA ACCUMULATORI | D9: 43767 | E9: 188554.16 | F9: 0 | G9: 188554.16 | H9: =+H8+G9 -> 202825.23 | I9: 59886.98 | J9: =+I9*$J$1 -> 198878.67 | K9: =+J9-G9 -> 10324.515
A10: FN190068 | B10: X039005 | C10: SIA INDUSTRIA ACCUMULATORI | D10: 43721 | E10: 174730.71 | F10: 110380.53 | G10: 64350.181 | H10: =+G10+H9 -> 267175.41 | I10: 20336.63 | J10: =+I10*$J$1 -> 67535.915 | K10: =+J10-G10 -> 3185.7336 | M10: déclaré en faillite le 11/02/2022 | Q10: Il s'agit d'un frs aussi,
A11: FN190038 | B11: X039005 | C11: SIA INDUSTRIA ACCUMULATORI | D11: 43629 | E11: 179570.37 | F11: 179570.34 | G11: 0.027 | H11: =+G11+H10 -> 267175.44
A14: FN180005 | B14: X049002 | C14: BATTERIEDIENST UWEHEMPE | D14: 43147 | E14: 215508.46 | F14: 206311 | G14: 9197.462 | H14: =+G14 -> 9197.462 | I14: 3120.64 | J14: =+I14*$J$1 -> 10363.333 | K14: =+J14-G14 -> 1165.8714 | L14: =SUM(K14:K14) -> 1165.8714
A17: FN220035 | B17: X049003 | C17: NOUR AKKUMULATOREN GmbH | D17: 44720 | E17: 48778.83 | F17: 0 | G17: 48778.83 | H17: =+G17 -> 48778.83 | I17: 15019.5 | J17: =+I17*$J$1 -> 49878.258 | K17: =+J17-G17 -> 1099.4276
A18: FN220028 | B18: X049003 | C18: NOUR AKKUMULATOREN GmbH | D18: 44700 | E18: 63853.824 | F18: 0 | G18: 63853.824 | H18: =+G18+H17 -> 112632.65 | I18: 19835 | J18: =+I18*$J$1 -> 65870.052 | K18: =+J18-G18 -> 2016.2275
A19: FN220024 | B19: X049003 | C19: NOUR AKKUMULATOREN GmbH | D19: 44678 | E19: 56624.368 | F19: 0 | G19: 56624.368 | H19: =+G19+H18 -> 169257.02 | I19: 17521 | J19: =+I19*$J$1 -> 58185.489 | K19: =+J19-G19 -> 1561.1209
A20: FN220022 | B20: X049003 | C20: NOUR AKKUMULATOREN GmbH | D20: 44652 | E20: 52045.514 | F20: 0 | G20: 52045.514 | H20: =+G20+H19 -> 221302.54 | I20: 15884 | J20: =+I20*$J$1 -> 52749.176 | K20: =+J20-G20 -> 703.6616
A21: FN220016 | B21: X049003 | C21: NOUR AKKUMULATOREN GmbH | D21: 44636 | E21: 74895.57 | F21: 72437.323 | G21: 2458.247 | H21: =+G21+H20 -> 223760.78 | I21: 755.57 | J21: =+I21*$J$1 -> 2509.1724 | K21: =+J21-G21 -> 50.925413 | L21: =SUM(K17:K21) -> 5431.363
A25: FN110017 | B25: X212010 | C25: MARIBAT | D25: 40680 | E25: 10165.661 | F25: 0 | G25: 10165.661 | H25: =+G25 -> 10165.661 | I25: 3095.79 | J25: =+I25*$J$1 -> 10280.809 | K25: =+J25-G25 -> 115.14801 | L25: =SUM(K25:K25) -> 115.14801
A27: FN160077 | B27: X213002 | C27: EURL EL HARAMAIENE | D27: 42703 | E27: 137461.61 | F27: 0 | G27: 137461.61 | H27: =+G27+H26 -> 137461.61 | I27: 41861.8 | J27: =+I27*$J$1 -> 139018.85 | K27: =+J27-G27 -> 1557.2436 | L27: =SUM(K27:K27) -> 1557.2436
A29: FN160024 | B29: X216002 | C29: [SCIT] | D29: 42472 | E29: 97834.41 | F29: 97345.238 | G29: 489.172 | H29: =+G29+H28 -> 489.172
A31: ND200001 | B31: X216003 | C31: ITN | D31: 44104 | E31: -9500 | F31: 0 | G31: -9500 | H31: =+G31+H30 -> -9500
A34: FN200059 | B34: X218004 | C34: ERRAFIK ELDAYEM | D34: 44137 | E34: 270754.76 | F34: 257997.2 | G34: =+E34-F34 -> 12757.558 | H34: =+G34+H33 -> 12757.558 | I34: 3944.64 | J34: =+I34*$J$1 -> 13099.755 | K34: =+J34-G34 -> 342.19698
A35: FN190091 | B35: X218004 | C35: ERRAFIK ELDAYEM | D35: 43820 | E35: 219328.17 | F35: 0 | G35: =+E35-F35 -> 219328.17 | H35: =+G35+H34 -> 232085.73 | I35: 69278.3 | J35: =+I35*$J$1 -> 230066.31 | K35: =+J35-G35 -> 10738.136
A36: FN190089 | B36: X218004 | C36: ERRAFIK ELDAYEM | D36: 43808 | E36: 228295.9 | F36: 210153.82 | G36: =+E36-F36 -> 18142.08 | H36: =+G36+H35 -> 250227.81 | I36: 5721.7 | J36: =+I36*$J$1 -> 19001.194 | K36: =+J36-G36 -> 859.11353
A37: FN230001 | B37: X218004 | C37: ERRAFIK ELDAYEM | D37: 44935 | E37: 287480.04 | F37: 253732.46 | G37: 33747.579 | H37: =+G37+H36 -> 283975.39 | I37: 10256.22 | J37: =+I37*$J$1 -> 34059.881 | K37: =+J37-G37 -> 312.302
A38: FN230033 | B38: X218004 | C38: ERRAFIK ELDAYEM | D38: 45002 | E38: 325344.92 | F38: 0 | G38: =+E38-F38 -> 325344.92 | H38: =+G38+H37 -> 609320.31 | I38: 99130.08 | J38: =+I38*$J$1 -> 329201.08 | K38: =+J38-G38 -> 3856.1597 | L38: =SUM(K34:K38) -> 16107.909
A42: FN240187 | B42: X033001 | C42: LITTORAL BATTERIES | D42: 45589 | E42: 175789.24 | F42: 0 | G42: =E42 -> 175789.24 | H42: =+H41+G42 -> 175789.24 | I42: 52250.58 | J42: =+I42*$J$1 -> 173518.95 | K42: =+J42-G42 -> -2270.2879
A43: FN240188 | B43: X033001 | C43: LITTORAL BATTERIES | D43: 45589 | E43: 178953.71 | F43: 0 | G43: =E43 -> 178953.71 | H43: =+H42+G43 -> 354742.95 | I43: 53191.17 | J43: =+I43*$J$1 -> 176642.56 | K43: =+J43-G43 -> -2311.1565
A44: FN240189 | B44: X033001 | C44: LITTORAL BATTERIES | D44: 45589 | E44: 178457.74 | F44: 0 | G44: =E44 -> 178457.74 | H44: =+H43+G44 -> 533200.69 | I44: 53043.75 | J44: =+I44*$J$1 -> 176152.99 | K44: =+J44-G44 -> -2304.7506
A45: FN240219 | B45: X033001 | C45: LITTORAL BATTERIES | D45: 45622 | E45: 168225.84 | F45: 0 | G45: =E45 -> 168225.84 | H45: =+H44+G45 -> 701426.53 | I45: 50475.07 | J45: =+I45*$J$1 -> 167622.66 | K45: =+J45-G45 -> -603.17704
A46: FN240220 | B46: X033001 | C46: LITTORAL BATTERIES | D46: 45622 | E46: 169635.83 | F46: 0 | G46: =E46 -> 169635.83 | H46: =+H45+G46 -> 871062.36 | I46: 50898.13 | J46: =+I46*$J$1 -> 169027.6 | K46: =+J46-G46 -> -608.23308
A47: FN240238 | B47: X033001 | C47: LITTORAL BATTERIES | D47: 45657 | E47: 169296.51 | F47: 0 | G47: =E47 -> 169296.51 | H47: =+H46+G47 -> 1040358.9 | I47: 50854.3 | J47: =+I47*$J$1 -> 168882.04 | K47: =+J47-G47 -> -414.46213
A48: FN240239 | B48: X033001 | C48: LITTORAL BATTERIES | D48: 45657 | E48: 170616.01 | F48: 0 | G48: =E48 -> 170616.01 | H48: =+H47+G48 -> 1210974.9 | I48: 51250.66 | J48: =+I48*$J$1 -> 170198.32 | K48: =+J48-G48 -> -417.69321 | L48: =SUM(K42:K48) -> -8929.7605
A52: FN240208 | B52: X033003 | C52: OUEST BATTERIES | D52: 45611 | E52: 173085.68 | F52: 0 | G52: =E52 -> 173085.68 | H52: =+H51+G52 -> 173085.68 | I52: 51635 | J52: =+I52*$J$1 -> 171474.67 | K52: =+J52-G52 -> -1611.0125
A53: FN240209 | B53: X033003 | C53: OUEST BATTERIES | D53: 45612 | E53: 171951.47 | F53: 0 | G53: =E53 -> 171951.47 | H53: =+H52+G53 -> 345037.15 | I53: 51296.64 | J53: =+I53*$J$1 -> 170351.01 | K53: =+J53-G53 -> -1600.4552
A54: FN240210 | B54: X033003 | C54: OUEST BATTERIES | D54: 45612 | E54: 177835.88 | F54: 0 | G54: =E54 -> 177835.88 | H54: =+H53+G54 -> 522873.03 | I54: 53052.08 | J54: =+I54*$J$1 -> 176180.65 | K54: =+J54-G54 -> -1655.2245 | L54: =SUM(K52:K54) -> -4866.6923
A57: FN240205 | B57: X218006 | C57: ALPHADEAL | D57: 45604 | E57: 712245.07 | F57: 0 | G57: =E57 -> 712245.07 | H57: =+H56+G57 -> 712245.07 | I57: 212078.69 | J57: =+I57*$J$1 -> 704292.12 | K57: =+J57-G57 -> -7952.9504
A58: FN240234 | B58: X218006 | C58: ALPHADEAL | D58: 45657 | E58: 414700.21 | F58: 0 | G58: =E58 -> 414700.21 | H58: =+H57+G58 -> 1126945.3 | I58: 124661.88 | J58: =+I58*$J$1 -> 413989.64 | K58: =+J58-G58 -> -710.57271 | L58: =SUM(K57:K58) -> -8663.5231
A61: FN190001 | B61: X222001 | C61: SIMTEL SARL | D61: 43480 | E61: 173045.26 | F61: 79240.75 | G61: 93804.511 | H61: =+G61+H60 -> 93804.511 | I61: 27227.2 | J61: =+I61*$J$1 -> 90418.808 | K61: =+J61-G61 -> -3385.7025 | L61: =SUM(K61) -> -3385.7025
A64: AC210011 | B64: X359001 | C64: MONBAT | D64: 44407 | E64: -611.345 | F64: 0 | G64: =+E64-F64 -> -611.345 | H64: =+H63+G64 -> -611.345 | I64: -186 | J64: =+I64*$J$1 -> -617.6874 | K64: =+J64-G64 -> -6.3424
A65: FN210047 | B65: X359001 | C65: MONBAT | D65: 44385 | E65: 613.317 | F65: 0 | G65: =+E65-F65 -> 613.317 | H65: =+H64+G65 -> 1.972 | I65: 186 | J65: =+I65*$J$1 -> 617.6874 | K65: =+J65-G65 -> 4.3704
A66: FN190058 | B66: X359001 | C66: MONBAT | D66: 43683 | E66: 699.765 | F66: 0 | G66: =+E66-F66 -> 699.765 | H66: =+H65+G66 -> 701.737 | I66: 220 | J66: =+I66*$J$1 -> 730.598 | K66: =+J66-G66 -> 30.833
A67: FN240186 | B67: X359001 | C67: MONBAT | D67: 45575 | E67: 226082.13 | F67: 0 | G67: =+E67-F67 -> 226082.13 | H67: =+H66+G67 -> 226783.87 | I67: 66974.4 | J67: =+I67*$J$1 -> 222415.28 | K67: =+J67-G67 -> -3666.848
A68: FN240211 | B68: X359001 | C68: MONBAT | D68: 45614 | E68: 236087.83 | F68: 0 | G68: =+E68-F68 -> 236087.83 | H68: =+H67+G68 -> 462871.7 | I68: 70664.88 | J68: =+I68*$J$1 -> 234671 | K68: =+J68-G68 -> -1416.831
A69: FN240222 | B69: X359001 | C69: MONBAT | D69: 45624 | E69: 242310.03 | F69: 0 | G69: =+E69-F69 -> 242310.03 | H69: =+H68+G69 -> 705181.73 | I69: 72829.2 | J69: =+I69*$J$1 -> 241858.49 | K69: =+J69-G69 -> -451.54072
A70: FN240233 | B70: X359001 | C70: MONBAT | D70: 45657 | E70: 233313.09 | F70: 0 | G70: =+E70-F70 -> 233313.09 | H70: =+H69+G70 -> 938494.82 | I70: 70167.24 | J70: =+I70*$J$1 -> 233018.39 | K70: =+J70-G70 -> -294.70268
A71: FN240240 | B71: X359001 | C71: MONBAT | D71: 45657 | E71: 232282.83 | F71: 0 | G71: =+E71-F71 -> 232282.83 | H71: =+H70+G71 -> 1170777.6 | I71: 69933.11 | J71: =+I71*$J$1 -> 232240.86 | K71: =+J71-G71 -> -41.960001
A72: FN240241 | B72: X359001 | C72: MONBAT | D72: 45657 | E72: 235188.97 | F72: 0 | G72: =+E72-F72 -> 235188.97 | H72: =+H71+G72 -> 1405966.6 | I72: 70808.06 | J72: =+I72*$J$1 -> 235146.49 | K72: =+J72-G72 -> -42.484546
A73: FN240244 | B73: X359001 | C73: MONBAT | D73: 45657 | E73: 231572.34 | F73: 0 | G73: =+E73-F73 -> 231572.34 | H73: =+H72+G73 -> 1637539 | I73: 69652.1 | J73: =+I73*$J$1 -> 231307.66 | K73: =+J73-G73 -> -264.67811
A74: FN240245 | B74: X359001 | C74: MONBAT | D74: 45657 | E74: 234661.32 | F74: 0 | G74: =+E74-F74 -> 234661.32 | H74: =+H73+G74 -> 1872200.3 | I74: 70581.2 | J74: =+I74*$J$1 -> 234393.11 | K74: =+J74-G74 -> -268.20892
A75: FN240246 | B75: X359001 | C75: MONBAT | D75: 45657 | E75: 232667.59 | F75: 0 | G75: =+E75-F75 -> 232667.59 | H75: =+H74+G75 -> 2104867.9 | I75: 69981.53 | J75: =+I75*$J$1 -> 232401.66 | K75: =+J75-G75 -> -265.93002 | L75: =SUM(K64:K75) -> -6684.3231
A78: FN140001 | B78: X964002 | C78: STEF CO GENERAL TRA DE BATTER | D78: 41643 | E78: 95331.108 | F78: 0 | G78: 95331.108 | H78: =+G78+H77 -> 95331.108 | I78: 29031.61 | J78: =+I78*$J$1 -> 96411.074 | K78: =+J78-G78 -> 1079.9656 | M78: 060819 FN190058 I 06082019 220.000 220.000 | N78: en litige avec le client
A82: FN240195 | B82: X033004 | C82: PROXITECH SAS | D82: 45596 | E82: 171151.34 | F82: 0 | G82: =+E82-F82 -> 171151.34 | H82: =+H81+G82 -> 171151.34 | I82: 48814 | J82: =+I82*$J$1 -> 162106.41 | K82: =+J82-G82 -> -9044.9244
A83: FN240196 | B83: X033004 | C83: PROXITECH SAS | D83: 45596 | E83: 170463.26 | F83: 0 | G83: =+E83-F83 -> 170463.26 | H83: =+H82+G83 -> 341614.6 | I83: 50586.66 | J83: =+I83*$J$1 -> 167993.24 | K83: =+J83-G83 -> -2470.0218
A84: FN240212 | B84: X033004 | C84: PROXITECH SAS | D84: 45615 | E84: 169701.68 | F84: 0 | G84: =+E84-F84 -> 169701.68 | H84: =+H83+G84 -> 511316.28 | I84: 50794.44 | J84: =+I84*$J$1 -> 168683.26 | K84: =+J84-G84 -> -1018.4282
A85: FN240213 | B85: X033004 | C85: PROXITECH SAS | D85: 45615 | E85: 169007.5 | F85: 0 | G85: =+E85-F85 -> 169007.5 | H85: =+H84+G85 -> 680323.78 | I85: 50657.73 | J85: =+I85*$J$1 -> 168229.26 | K85: =+J85-G85 -> -778.24644
A86: FN240236 | B86: X033004 | C86: PROXITECH SAS | D86: 45657 | E86: 162335.84 | F86: 0 | G86: =+E86-F86 -> 162335.84 | H86: =+H85+G86 -> 842659.62 | I86: 50862.21 | J86: =+I86*$J$1 -> 168908.31 | K86: =+J86-G86 -> 6572.4752 | L86: =SUM(K82:K86) -> -6739.1457
A90: FN240226 | B90: X213007 | C90: MATADOR FAB | D90: 45657 | E90: 276368.68 | F90: 0 | G90: =+E90-F90 -> 276368.68 | H90: =+H89+G90 -> 276368.68 | I90: 83115.9 | J90: =+I90*$J$1 -> 276019.59 | K90: =+J90-G90 -> -349.08669
A91: FN240227 | B91: X213007 | C91: MATADOR FAB | D91: 45657 | E91: 276368.68 | F91: 0 | G91: =+E91-F91 -> 276368.68 | H91: =+H90+G91 -> 552737.36 | I91: 83115.9 | J91: =+I91*$J$1 -> 276019.59 | K91: =+J91-G91 -> -349.08669
A92: FN240228 | B92: X213007 | C92: MATADOR FAB | D92: 45657 | E92: 276368.68 | F92: 0 | G92: =+E92-F92 -> 276368.68 | H92: =+H91+G92 -> 829106.04 | I92: 83115.9 | J92: =+I92*$J$1 -> 276019.59 | K92: =+J92-G92 -> -349.08669
A93: FN240229 | B93: X213007 | C93: MATADOR FAB | D93: 45657 | E93: 276368.68 | F93: 0 | G93: =+E93-F93 -> 276368.68 | H93: =+H92+G93 -> 1105474.7 | I93: 83115.9 | J93: =+I93*$J$1 -> 276019.59 | K93: =+J93-G93 -> -349.08669
A94: FN240230 | B94: X213007 | C94: MATADOR FAB | D94: 45657 | E94: 276368.68 | F94: 0 | G94: =+E94-F94 -> 276368.68 | H94: =+H93+G94 -> 1381843.4 | I94: 83115.9 | J94: =+I94*$J$1 -> 276019.59 | K94: =+J94-G94 -> -349.08669
A95: FN240231 | B95: X213007 | C95: MATADOR FAB | D95: 45657 | E95: 276368.68 | F95: 0 | G95: =+E95-F95 -> 276368.68 | H95: =+H94+G95 -> 1658212.1 | I95: 83115.9 | J95: =+I95*$J$1 -> 276019.59 | K95: =+J95-G95 -> -349.08669
A96: FN240232 | B96: X213007 | C96: MATADOR FAB | D96: 45657 | E96: 276368.68 | F96: 0 | G96: =+E96-F96 -> 276368.68 | H96: =+H95+G96 -> 1934580.8 | I96: 83115.9 | J96: =+I96*$J$1 -> 276019.59 | K96: =+J96-G96 -> -349.08669 | L96: =SUM(K90:K96) -> -2443.6068
A100: FN240221 | B100: X033005 | C100: DT BATTERIES D | D100: 45624 | E100: 176880.15 | F100: 0 | G100: =E100-F100 -> 176880.15 | H100: =E100-F100 -> 176880.15 | I100: 53071.74 | J100: =+I100*$J$1 -> 176245.94 | K100: =+J100-G100 -> -634.20763 | L100: =SUM(K100) -> -634.20763
A103: FN240022 | B103: X359002 | C103: START BATTERIE | D103: 45330 | E103: 44378.949 | F103: 0 | G103: =E103-F103 -> 44378.949 | H103: =+H102+G103 -> 44378.949 | I103: 13154.97 | J103: =+I103*$J$1 -> 43686.34 | K103: =+J103-G103 -> -692.60913
A104: FN240145 | B104: X359002 | C104: START BATTERIE | D104: 45478 | E104: 10763.432 | F104: 0 | G104: =E104-F104 -> 10763.432 | H104: =+H103+G104 -> 55142.381 | I104: 3196.6 | J104: =+I104*$J$1 -> 10615.589 | K104: =+J104-G104 -> -147.84306
A105: FN240206 | B105: X359002 | C105: START BATTERIE | D105: 45597 | E105: 16627.002 | F105: 0 | G105: =E105-F105 -> 16627.002 | H105: =+H104+G105 -> 71769.383 | I105: 4935 | J105: =+I105*$J$1 -> 16388.642 | K105: =+J105-G105 -> -238.3605 | L105: =SUM(K103:K105) -> -1078.8127
A109: FN240242 | B109: X033009 | C109: ENERGYS BATTER | D109: 45657 | E109: 177748.15 | F109: 0 | G109: =+E109-F109 -> 177748.15 | H109: =H108+G109 -> 177748.15 | I109: 53514.42 | J109: =+I109*$J$1 -> 177716.04 | K109: =+J109-G109 -> -32.108622 | L109: =SUM(K109) -> -32.108622
A112: FN240066 | B112: X033008 | C112: Direct batteri | D112: 45386 | E112: 188652.87 | F112: 184258.08 | G112: =+E112-F112 -> 4394.783 | H112: =+H108+G112 -> 4394.783 | I112: 1302.93 | J112: =+I112*$J$1 -> 4326.9002 | K112: =+J112-G112 -> -67.882763
A113: FN240207 | B113: X033008 | C113: Direct batteri | D113: 45601 | E113: 176529.64 | F113: 0 | G113: =+E113-F113 -> 176529.64 | H113: =+H112+G113 -> 180924.42 | I113: 52395.12 | J113: =+I113*$J$1 -> 173998.95 | K113: =+J113-G113 -> -2530.684
A114: FN240243 | B114: X033008 | C114: Direct batteri | D114: 45657 | E114: 173447.9 | F114: 0 | G114: =+E114-F114 -> 173447.9 | H114: =+H113+G114 -> 354372.32 | I114: 52219.75 | J114: =+I114*$J$1 -> 173416.57 | K114: =+J114-G114 -> -31.332225 | L114: =SUM(K112:K114) -> -2629.899
A116: X973001 22582002 | B116: X973001 | C116: NADHEERA TRADING EST | D116: 44924 | E116: -61334.028 | F116: 0 | G116: -61334.028 | H116: =+G116+H115 -> -61334.028
A117: FN220102 | B117: X973001 | C117: NADHEERA TRADING EST | D117: 44921 | E117: 190515.06 | F117: 133496.67 | G117: 57018.397 | H117: =+G117+H116 -> -4315.631
B118: X225001 | H118: -1212.69 | K118: GAIN DE CHANGE | L118: =SUM(L1:L117) -> -15346.522

Sheet PROV CLIENTS 2024
A1: ETAT DES PROVISIONS CLIENTS SNA AU 31-12-2024
A3: DateEffet | B3: Libelle | C3: RefPiece | D3: % | E3: Credit
A4: 44561 | B4: PROV CLTS:7S19011 | C4: STE TNNE TRANS | D4: 1 | E4: 61.5
A5: 44561 | B5: PROV CLTS:X039003 | C5: MED ENERGY BATTERIES | D5: 1 | E5: 100409.94
A6: 44561 | B6: PROV CLTS:X039005 | C6: SIA INDUSTRIA ACCUMULATORI | D6: 1 | E6: 8092.653
A7: 44561 | B7: PROV CLTS:X049002 | C7: BATTERIEDIENST UWEHEMPE | D7: 1 | E7: 9197.462
A8: 44561 | B8: PROV CLTS:X212010 | C8: MARIBAT | D8: 1 | E8: 10260.171
A9: 44561 | B9: PROV CLTS:X213002 | C9: EURL EL HARAMAIENE | D9: 1 | E9: 137461.61
A10: 44561 | B10: PROV CLTS:X216002 | C10: [SCIT] | D10: 1 | E10: 489.172
A11: 44561 | B11: PROV CLTS:X222001 | C11: SIMTEL SARL | D11: 1 | E11: 93804.511
A12: 44561 | B12: PROV CLTS:X359001 | C12: MONBAT | D12: 1 | E12: 699.765
A13: 44561 | B13: PROV CLTS:X964002 | C13: STEF CO GENERAL TRA DE BATTER | D13: 1 | E13: 95331.108
A14: 44926 | B14: PROV CLTS:X212010 | C14: MARIBAT | D14: 1 | E14: 1321.26
A15: 45657 | B15: PROV CLTS:X049003 | C15: NOUR AKKUMULATOREN GmbH | D15: 1 | E15: 223760.78
A16: 45657 | B16: PROV CLTS:X208004 | C16: ERRAFIK ELDAYEM | D16: 0.41 | E16: 250227.81
E17: =SUM(E4:E16) -> 931117.74

Sheet Balance Frs Etrangers 31-12-24
A3: CompteAux | B3: Libelle | C3: SoldeDebut | D3: Debit | E3: Credit | F3: Variation | G3: SoldeFin
A4: E10001 | B4: A C C U M A | C4: 0 | D4: 28951575 | E4: 29426024 | F4: =+D4-E4 -> -474449.34 | G4: =+C4+F4 -> -474449.34
A5: E10032 | B5: AKÜMSAN | C5: 0 | D5: 2787609.1 | E5: 2890632 | F5: =+D5-E5 -> -103022.87 | G5: =+C5+F5 -> -103022.87
A6: E10036 | B6: ACCUMALUX | C6: 0 | D6: 2606671.2 | E6: 2836681.5 | F6: =+D6-E6 -> -230010.25 | G6: =+C6+F6 -> -230010.25
A7: E10045 | B7: GLATFELTER | C7: 0 | D7: 1444104.6 | E7: 1459713.6 | F7: =+D7-E7 -> -15609 | G7: =+C7+F7 -> -15609
A8: E10050 | B8: KRINES EOOD | C8: 0 | D8: 28922.085 | E8: 36946.644 | F8: =+D8-E8 -> -8024.559 | G8: =+C8+F8 -> -8024.559
A9: E10052 | B9: METACONCEPT | C9: 0 | D9: 3131048.4 | E9: 3507253.3 | F9: =+D9-E9 -> -376204.97 | G9: =+C9+F9 -> -376204.97
A10: E10077 | B10: HEMPE | C10: 0 | D10: 59081.2 | E10: 61371.254 | F10: =+D10-E10 -> -2290.054 | G10: =+C10+F10 -> -2290.054
A11: E10078 | B11: MICROPOROUS Gm | C11: 0 | D11: 4922943.9 | E11: 5168742.8 | F11: =+D11-E11 -> -245798.95 | G11: =+C11+F11 -> -245798.95
A12: E10081 | B12: QUANZHOU YUCRY | C12: 0 | D12: 341045.84 | E12: 413138.71 | F12: =+D12-E12 -> -72092.866 | G12: =+C12+F12 -> -72092.866
A13: E10083 | B13: S.I.A INDUSTRI | C13: 0 | D13: 0 | E13: 259568.15 | F13: =+D13-E13 -> -259568.15 | G13: =+C13+F13 -> -259568.15
A14: E10084 | B14: MONBAT BATTERI | C14: 0 | D14: 6099800.4 | E14: 9221609.3 | F14: =+D14-E14 -> -3121808.8 | G14: =+C14+F14 -> -3121808.8
A15: E10085 | B15: SARL GNR INDUS | C15: 0 | D15: 37195.802 | E15: 39014.29 | F15: =+D15-E15 -> -1818.488 | G15: =+C15+F15 -> -1818.488
... A32: E80059 | B32: EFFICHARGE | C32: 0 | D32: 145064.39 | E32: 230027.51 | F32: =+D32-E32 -> -84963.12 | G32: =+C32+F32 -> -84963.12

Sheet Justif Frs Etrangers 31-12-24
A1: Tiers | B1: NomFRS | C1: Date | D1: Piece | E1: Description | F1: Debit | G1: Credit | H1: Solde | I1: Montant DEVISE | K1: Actualisation
A2: E10001 | B2: A C C U M A | C2: 45532 | D2: A2403000 | E2: AP240828008046 | G2: 29149.43 | H2: =+IF(A2=A1,H1+F2-G2,F2-G2) -> -29149.43 | I2: 8638.02 | J2: =+I2*'COURS BCT 31-12-2024'!$F$9 -> 28686.001 | K2: =SUM(K4:K1048576) -> -58062.453
A3: E10001 | B3: A C C U M A | C3: 45532 | D3: A2403039 | E3: AP240828008061 | G3: 41395.55 | H3: =+IF(A3=A2,H2+F3-G3,F3-G3) -> -70544.98 | I3: 12270.62 | J3: =+I3*'COURS BCT 31-12-2024'!$F$9 -> 40749.502
A4: E10001 | B4: A C C U M A | C4: 45533 | D4: A2403053 | E4: AP240829008081 | G4: 51713.359 | H4: =+IF(A4=A3,H3+F4-G4,F4-G4) -> -122258.34 | I4: 15324.52 | J4: =+I4*'COURS BCT 31-12-2024'!$F$9 -> 50891.198 | O4: =N4-G4 -> -51713.359
A5: E10001 | B5: A C C U M A | C5: 45533 | D5: A2403065 | E5: AP240829008102 | G5: 43399.159 | H5: =+IF(A5=A4,H4+F5-G5,F5-G5) -> -165657.5 | I5: 12854.63 | J5: =+I5*'COURS BCT 31-12-2024'!$F$9 -> 42688.941
A6: E10001 | B6: A C C U M A | C6: 45553 | D6: A2403314 | E6: AP240918008784 | G6: 44888.307 | H6: =+IF(A6=A5,H5+F6-G6,F6-G6) -> -210545.81 | I6: 13264.67 | J6: =+I6*'COURS BCT 31-12-2024'!$F$9 -> 44050.643
A7: E10001 | B7: A C C U M A | C7: 45553 | D7: A2403316 | E7: AP240918008786 | G7: 68718.516 | H7: =+IF(A7=A6,H6+F7-G7,F7-G7) -> -279264.32 | I7: 20306.59 | J7: =+I7*'COURS BCT 31-12-2024'!$F$9 -> 67436.155
A8: E10001 | B8: A C C U M A | C8: 45565 | D8: A2403613 | E8: AP240930009614 | G8: 58581.26 | H8: =+IF(A8=A7,H7+F8-G8,F8-G8) -> -337845.58 | I8: 17353.04 | J8: =+I8*'COURS BCT 31-12-2024'!$F$9 -> 57627.711
A9: E10001 | B9: A C C U M A | C9: 45582 | D9: A2403824 | E9: AP241017010070 | G9: 48401.316 | H9: =+IF(A9=A8,H8+F9-G9,F9-G9) -> -386246.9 | I9: 14279.57 | J9: =+I9*'COURS BCT 31-12-2024'!$F$9 -> 47421.024
A10: E10001 | B10: A C C U M A | C10: 45651 | D10: A2404859 | E10: AP241225012717 | G10: 45413.231 | H10: =+IF(A10=A9,H9+F10-G10,F10-G10) -> -431660.13 | I10: 13639.45 | J10: =+I10*'COURS BCT 31-12-2024'!$F$9 -> 45295.25
A11: E10001 | B11: A C C U M A | C11: 45651 | D11: A2404865 | E11: AP241225012723 | G11: 42789.213 | H11: =+IF(A11=A10,H10+F11-G11,F11-G11) -> -474449.34 | I11: 12837.47 | J11: =+I11*'COURS BCT 31-12-2024'!$F$9 -> 42631.954
A12: Total E10001 | B12: E10001 | F12: =SUBTOTAL(9,F2:F11) -> 0 | G12: =SUBTOTAL(9,G2:G11) -> 474449.34 | H12: =+F12-G12 -> -474449.34 | I12: =SUM(I2:I11) -> 140768.58 | J12: =SUM(J2:J11) -> 467478.38 | K12: =+H12+J12 -> -6970.9637
A13: E10032 | B13: AKÜMSAN | C13: 45644 | D13: A2404712 | E13: AP241218012268 | G13: 103022.87 | H13: =+IF(A13=A12,H12+F13-G13,F13-G13) -> -103022.87 | I13: 30983.39 | J13: =+I13*'COURS BCT 31-12-2024'!$F$9 -> 102892.74
A14: Total E10032 | B14: E10032 | F14: =SUBTOTAL(9,F9:F13) -> 0 | G14: =SUBTOTAL(9,G13) -> 103022.87 | H14: =SUBTOTAL(9,H13) -> -103022.87 | I14: =SUM(I9:I13) -> 212508.46 | J14: =SUM(J13) -> 102892.74 | K14: =+H14+J14 -> -130.13015 | L14: 311218 F1802282 V DIFF DE RE 010319 842.160 842.16
A15: E10036 | B15: ACCUMALUX | C15: 45626 | D15: A2404381 | E15: AP241130011696 | G15: 121398.53 | H15: =+IF(A15=A14,H14+F15-G15,F15-G15) -> -121398.53 | I15: 36336.53 | J15: =+I15*'COURS BCT 31-12-2024'!$F$9 -> 120669.98 | O15: =N15-F15 -> 0
A16: E10036 | B16: ACCUMALUX | C16: 45650 | D16: A2404821 | E16: AP241224012683 | G16: 108611.73 | H16: =+IF(A16=A15,H15+F16-G16,F16-G16) -> -230010.26 | I16: 32585.31 | J16: =+I16*'COURS BCT 31-12-2024'!$F$9 -> 108212.56
A17: Total E10036 | B17: E10036 | F17: =SUBTOTAL(9,F15:F16) -> 0 | G17: =SUBTOTAL(9,G15:G16) -> 230010.26 | H17: =+F17-G17 -> -230010.26 | I17: =SUM(I15:I16) -> 68921.84 | J17: =SUM(J15:J16) -> 228882.54 | K17: =+H17+J17 -> -1127.7175
A18: E10045 | B18: GLATFELTER | C18: 45649 | D18: A2404790 | E18: AP241223012598 | F18: 21704.616 | H18: =+IF(A18=A17,H17+F18-G18,F18-G18) -> 21704.616 | I18: -6540.49 | J18: =+I18*'COURS BCT 31-12-2024'!$F$9 -> -21720.313
A19: E10045 | B19: GLATFELTER | C19: 45651 | D19: A2404878 | E19: AP241225012746 | G19: 37313.615 | H19: =+IF(A19=A18,H18+F19-G19,F19-G19) -> -15608.999 | I19: 11190 | J19: =+I19*'COURS BCT 31-12-2024'!$F$9 -> 37160.871
A20: Total E10045 | B20: E10045 | F20: =SUBTOTAL(9,F18:F19) -> 21704.616 | G20: =SUBTOTAL(9,G18:G19) -> 37313.615 | H20: =+F20-G20 -> -15608.999 | I20: =SUM(I17:I18) -> 62381.35 | J20: =SUM(J18:J19) -> 15440.558 | K20: =+H20+J20 -> -168.44124
A21: E10050 | B21: KRINES EOOD | C21: 45650 | D21: A2404809 | E21: AP241224012671 | G21: 8024.559 | H21: =+IF(A21=A15,H15+F21-G21,F21-G21) -> -8024.559 | I21: 2407.5 | J21: =+I21*'COURS BCT 31-12-2024'!$F$9 -> 7995.0667
A22: Total E10050 | B22: E10050 | F22: =SUBTOTAL(9,F21) -> 0 | G22: =SUBTOTAL(9,G21) -> 8024.559 | H22: =+F22-G22 -> -8024.559 | I22: =SUM(I21) -> 2407.5 | J22: =SUM(J21) -> 7995.0667 | K22: =+H22+J22 -> -29.49225
A23: E10052 | B23: METACONCEPT | C23: 45596 | D23: A2404139 | E23: AP241031010951 | G23: 126034.47 | H23: =+IF(A23=A17,H17+F23-G23,F23-G23) -> -126034.47 | I23: 37509.7 | J23: =+I23*'COURS BCT 31-12-2024'!$F$9 -> 124565.96
A24: E10052 | B24: METACONCEPT | C24: 45610 | D24: A2404207 | E24: AP241114011112 | G24: 250170.5 | H24: =+IF(A24=A18,H18+F24-G24,F24-G24) -> -250170.5 | I24: 74158.65 | J24: =+I24*'COURS BCT 31-12-2024'!$F$9 -> 246273.46
A25: Total E10052 | B25: E10052 | F25: =SUBTOTAL(9,F23:F24) -> 0 | G25: =SUBTOTAL(9,G23:G24) -> 376204.96 | H25: =+F25-G25 -> -376204.96 | I25: =SUM(I23) -> 37509.7 | J25: =SUM(J23:J24) -> 370839.42 | K25: =+H25+J25 -> -5365.5415
A26: E10077 | B26: HEMPE | C26: 43830 | D26: S1902771 | E26: TRANSACT FOURNISSEUR | G26: 2290.055 | H26: =+IF(A26=A12,H12+F26-G26,F26-G26) -> -2290.055 | I26: 716 | J26: =+I26*'COURS BCT 31-12-2024'!$F$9 -> 2377.7644 | O26: =N26-G26 -> -2290.055
A27: Total E10077 | B27: E10077 | F27: =SUBTOTAL(9,F26:F26) -> 0 | G27: =SUBTOTAL(9,G26:G26) -> 2290.055 | H27: =+F27-G27 -> -2290.055 | I27: =SUM(I26) -> 716 | J27: =SUM(J26) -> 2377.7644 | K27: =+H27+J27 -> 87.7094
A28: E10078 | B28: MICROPOROUS GmbH | C28: 45626 | D28: A2404405 | E28: AP241130011725 | G28: 129386.1 | H28: =+IF(A28=A27,H27+F28-G28,F28-G28) -> -129386.1 | I28: 38371.3 | J28: =+I28*'COURS BCT 31-12-2024'!$F$9 -> 127427.25 | O28: =N28-F28 -> 0
A29: E10078 | B29: MICROPOROUS GmbH | C29: 45650 | D29: A2404835 | E29: AP241224012696 | G29: 116412.85 | H29: =+IF(A29=A28,H28+F29-G29,F29-G29) -> -245798.96 | I29: 34968.79 | J29: =+I29*'COURS BCT 31-12-2024'!$F$9 -> 116127.85
A30: Total E10078 | B30: E10078 | F30: =SUBTOTAL(9,F28:F29) -> 0 | G30: =SUBTOTAL(9,G28:G29) -> 245798.96 | H30: =+F30-G30 -> -245798.96 | I30: =SUM(I28:I29) -> 73340.09 | J30: =SUM(J28:J29) -> 243555.1 | K30: =+H30+J30 -> -2243.8501
A31: E10081 | B31: QUANZHOU YUCRY | C31: 45433 | D31: A2401523 | E31: AP240521004372 | G31: 6126.023 | H31: =+IF(A31=A30,H30+F31-G31,F31-G31) -> -6126.023 | I31: 1950 | J31: =+I31*'COURS BCT 31-12-2024'!$F$9 -> 6475.755
A32: E10081 | B32: QUANZHOU YUCRY | C32: 45443 | D32: A2401720 | E32: AP240531005005 | G32: 6105.158 | H32: =+IF(A32=A31,H31+F32-G32,F32-G32) -> -12231.181 | I32: 1950 | J32: =+I32*'COURS BCT 31-12-2024'!$F$9 -> 6475.755
A33: E10081 | B33: QUANZHOU YUCRY | C33: 45497 | D33: A2402600 | E33: AP240724007005 | G33: 6083.22 | H33: =+IF(A33=A32,H32+F33-G33,F33-G33) -> -18314.401 | I33: 1950 | J33: =+I33*'COURS BCT 31-12-2024'!$F$9 -> 6475.755
A34: E10081 | B34: QUANZHOU YUCRY | C34: 45534 | D34: A2403142 | E34: AP240830008375 | G34: 53778.465 | H34: =+IF(A34=A33,H33+F34-G34,F34-G34) -> -72092.866 | I34: 17550 | J34: =+I34*'COURS BCT 31-12-2024'!$F$9 -> 58281.795
A35: Total E10081 | B35: E10081 | F35: =SUBTOTAL(9,F31:F34) -> 0 | G35: =SUBTOTAL(9,G31:G34) -> 72092.866 | H35: =+F35-G35 -> -72092.866 | I35: =SUM(I30:I31) -> 75290.09 | J35: =SUM(J31:J34) -> 77709.06 | K35: =+H35+J35 -> 5616.194
A36: E10083 | B36: S.I.A INDUSTRIA ACCUMULATORI | C36: 44104 | D36: A0201820 | E36: TRANSACT FOURNISSEUR | G36: 259568.15 | H36: =+IF(A36=A30,H30+F36-G36,F36-G36) -> -259568.15 | I36: 80151.97 | J36: =+I36*'COURS BCT 31-12-2024'!$F$9 -> 266176.68 | L36: voir solde client | O36: =N36-G36 -> -259568.15
A37: Total E10083 | B37: E10083 | F37: =SUBTOTAL(9,F36:F36) -> 0 | G37: =SUBTOTAL(9,G36:G36) -> 259568.15 | H37: =+F37-G37 -> -259568.15 | I37: =SUM(I36) -> 80151.97 | J37: =SUM(J36) -> 266176.68
A38: E10084 | B38: MONBAT BATTERIES | C38: 44773 | D38: C2201712 | E38: TRANSACT FOURNISSEUR | G38: 107382.61 | H38: =+IF(A38=A37,H37+F38-G38,F38-G38) -> -107382.61 | I38: 33740 | J38: =+I38*'COURS BCT 31-12-2024'!$F$9 -> 112047.17
A39: E10084 | B39: MONBAT BATTERIES | C39: 44957 | D39: 5723570006 | E39: VR DU 04/001/23 | F39: 109338.79 | H39: =+IF(A39=A38,H38+F39-G39,F39-G39) -> 1956.175 | I39: -33720 | J39: =+I39*'COURS BCT 31-12-2024'!$F$9 -> -111980.75
A40: E10084 | B40: MONBAT BATTERIES | C40: 44957 | D40: 5723570007 | E40: VR DU 04/01/23 | F40: 63.653 | H40: =+IF(A40=A39,H39+F40-G40,F40-G40) -> 2019.828 | I40: -20 | J40: =+I40*'COURS BCT 31-12-2024'!$F$9 -> -66.418
A41: E10084 | B41: MONBAT BATTERIES | C41: 45016 | D41: D2300834 | E41: TRANSACT FOURNISSEUR | G41: 6096.795 | H41: =+IF(A41=A40,H40+F41-G41,F41-G41) -> -4076.967 | I41: 1854.2 | J41: =+I41*'COURS BCT 31-12-2024'!$F$9 -> 6157.6128 | O41: =N41-G41 -> -6096.795
A42: E10084 | B42: MONBAT BATTERIES | C42: 45443 | D42: A2401963 | E42: AP240531005452 | G42: 3593.31 | H42: =+IF(A42=A41,H41+F42-G42,F42-G42) -> -7670.277 | I42: 1061.9 | J42: =+I42*'COURS BCT 31-12-2024'!$F$9 -> 3526.4637
A43: E10084 | B43: MONBAT BATTERIES | C43: 45471 | D43: A2402205 | E43: AP240628005959 | G43: 167136.34 | H43: =+IF(A43=A42,H42+F43-G43,F43-G43) -> -174806.61 | I43: 49366.1 | J43: =+I43*'COURS BCT 31-12-2024'!$F$9 -> 163939.88
A44: E10084 | B44: MONBAT BATTERIES | C44: 45471 | D44: A2402208 | E44: AP240628005960 | G44: 166486.66 | H44: =+IF(A44=A43,H43+F44-G44,F44-G44) -> -341293.28 | I44: 49174.21 | J44: =+I44*'COURS BCT 31-12-2024'!$F$9 -> 163302.63
A45: E10084 | B45: MONBAT BATTERIES | C45: 45471 | D45: A2402211 | E45: AP240628005964 | G45: 166880.62 | H45: =+IF(A45=A44,H44+F45-G45,F45-G45) -> -508173.9 | I45: 49290.57 | J45: =+I45*'COURS BCT 31-12-2024'!$F$9 -> 163689.05
A46: E10084 | B46: MONBAT BATTERIES | C46: 45471 | D46: A2402209 | E46: AP240628005962 | G46: 166037.39 | H46: =+IF(A46=A45,H45+F46-G46,F46-G46) -> -674211.28 | I46: 49041.51 | J46: =+I46*'COURS BCT 31-12-2024'!$F$9 -> 162861.95
A47: E10084 | B47: MONBAT BATTERIES | C47: 45527 | D47: 5724570133 | E47: AP240823007807 | F47: 665890.96 | H47: =+IF(A47=A46,H46+F47-G47,F47-G47) -> -8320.321 | I47: -196680.39 | J47: =+I47*'COURS BCT 31-12-2024'!$F$9 -> -653155.91
A48: E10084 | B48: MONBAT BATTERIES | C48: 45559 | D48: A2403418 | E48: AP240924009123 | G48: 178654.94 | H48: =+IF(A48=A47,H47+F48-G48,F48-G48) -> -186975.26 | I48: 52921.47 | J48: =+I48*'COURS BCT 31-12-2024'!$F$9 -> 175746.91
A49: E10084 | B49: MONBAT BATTERIES | C49: 45559 | D49: A2403419 | E49: AP240924009124 | G49: 178677.26 | H49: =+IF(A49=A48,H48+F49-G49,F49-G49) -> -365652.52 | I49: 52928.08 | J49: =+I49*'COURS BCT 31-12-2024'!$F$9 -> 175768.86
A50: E10084 | B50: MONBAT BATTERIES | C50: 45565 | D50: A2403641 | E50: AP240930009643 | G50: 11163.794 | H50: =+IF(A50=A49,H49+F50-G50,F50-G50) -> -376816.32 | I50: 3305 | J50: =+I50*'COURS BCT 31-12-2024'!$F$9 -> 10975.575
A51: E10084 | B51: MONBAT BATTERIES | C51: 45583 | D51: A2403857 | E51: AP241018010098 | G51: 173734.68 | H51: =+IF(A51=A50,H50+F51-G51,F51-G51) -> -550550.99 | I51: 51342.31 | J51: =+I51*'COURS BCT 31-12-2024'!$F$9 -> 170502.68
A52: E10084 | B52: MONBAT BATTERIES | C52: 45583 | D52: A2403856 | E52: AP241018010099 | G52: 170660.56 | H52: =+IF(A52=A51,H51+F52-G52,F52-G52) -> -721211.55 | I52: 50509.97 | J52: =+I52*'COURS BCT 31-12-2024'!$F$9 -> 167738.56
A53: E10084 | B53: MONBAT BATTERIES | C53: 45583 | D53: A2403858 | E53: AP241018010100 | G53: 174264.72 | H53: =+IF(A53=A52,H52+F53-G53,F53-G53) -> -895476.28 | I53: 51498.95 | J53: =+I53*'COURS BCT 31-12-2024'!$F$9 -> 171022.86
A54: E10084 | B54: MONBAT BATTERIES | C54: 45583 | D54: A2403860 | E54: AP241018010101 | G54: 174867.35 | H54: =+IF(A54=A53,H53+F54-G54,F54-G54) -> -1070343.6 | I54: 51677.04 | J54: =+I54*'COURS BCT 31-12-2024'!$F$9 -> 171614.28
A55: E10084 | B55: MONBAT BATTERIES | C55: 45583 | D55: A2403859 | E55: AP241018010102 | G55: 170227.78 | H55: =+IF(A55=A54,H54+F55-G55,F55-G55) -> -1240571.4 | I55: 50381.88 | J55: =+I55*'COURS BCT 31-12-2024'!$F$9 -> 167313.19
A56: E10084 | B56: MONBAT BATTERIES | C56: 45583 | D56: A2403861 | E56: AP241018010103 | G56: 170284.54 | H56: =+IF(A56=A55,H55+F56-G56,F56-G56) -> -1410855.9 | I56: 50398.68 | J56: =+I56*'COURS BCT 31-12-2024'!$F$9 -> 167368.98
A57: E10084 | B57: MONBAT BATTERIES | C57: 45583 | D57: A2403863 | E57: AP241018010104 | G57: 169830.47 | H57: =+IF(A57=A56,H56+F57-G57,F57-G57) -> -1580686.4 | I57: 50264.29 | J57: =+I57*'COURS BCT 31-12-2024'!$F$9 -> 166922.68
A58: E10084 | B58: MONBAT BATTERIES | C58: 45583 | D58: A2403864 | E58: AP241018010105 | G58: 170312.92 | H58: =+IF(A58=A57,H57+F58-G58,F58-G58) -> -1750999.3 | I58: 50407.08 | J58: =+I58*'COURS BCT 31-12-2024'!$F$9 -> 167396.87
A59: E10084 | B59: MONBAT BATTERIES | C59: 45583 | D59: A2403862 | E59: AP241018010106 | G59: 174678.57 | H59: =+IF(A59=A58,H58+F59-G59,F59-G59) -> -1925677.9 | I59: 51621.25 | J59: =+I59*'COURS BCT 31-12-2024'!$F$9 -> 171429.01
... A67: E10084 | B67: MONBAT BATTERIES | C67: 45626 | D67: A2404430 | E67: AP241130011750 | G67: 67473 | H67: =+IF(A67=A66,H66+F67-G67,F67-G67) -> -3121808.8 | I67: 20000 | J67: =+I67*'COURS BCT 31-12-2024'!$F$9 -> 66418
A68: Total E10084 | B68: E10084 | F68: =SUM(F38:F67) -> 775293.4 | G68: =SUM(G38:G67) -> 3897102.2 | H68: =+F68-G68 -> -3121808.8 | I68: =SUM(I38:I67) -> 924982.14 | J68: =SUM(J38:J67) -> 3071773.2 | K68: =+H68+J68 -> -50035.655
A69: E10085 | B69: SARL GNR INDUSTRIES | C69: 44553 | D69: P2102935 | E69: TRANSACT FOURNISSEUR | G69: 1818.488 | H69: =+IF(A69=A68,H68+F69-G69,F69-G69) -> -1818.488 | I69: 560 | J69: =+I69*'COURS BCT 31-12-2024'!$F$9 -> 1859.704 | O69: =N69-G69 -> -1818.488
A70: Total E10085 | B70: E10085 | F70: =SUBTOTAL(9,F69:F69) -> 0 | G70: =SUBTOTAL(9,G69:G69) -> 1818.488 | H70: =+F70-G70 -> -1818.488 | I70: =SUM(I69) -> 560 | J70: =SUM(J69) -> 1859.704 | K70: =+H70+J70 -> 41.216
A71: E10087 | B71: DIXON PREMIUM | C71: 45656 | D71: A2404947 | E71: AP241230013047 | G71: 607468.87 | H71: =+IF(A71=A70,H70+F71-G71,F71-G71) -> -607468.87 | I71: 182458.7 | J71: =+I71*'COURS BCT 31-12-2024'!$F$9 -> 605927.1
A72: Total E10087 | B72: E10087 | F72: =SUM(F71) -> 0 | G72: =SUM(G71) -> 607468.87 | H72: =+F72-G72 -> -607468.87 | I72: =SUM(I44:I47) -> -49174.1 | J72: =+J71 -> 605927.1 | K72: =+H72+J72 -> -1541.7762
A73: E10088 | B73: AKUMPLAST JSC | C73: 45596 | D73: A2404117 | E73: AP241031010939 | G73: 33303.309 | H73: =+IF(A73=A72,H72+F73-G73,F73-G73) -> -33303.309 | I73: 9858.3 | J73: =+I73*'COURS BCT 31-12-2024'!$F$9 -> 32738.428
A74: E10088 | B74: AKUMPLAST JSC | C74: 45596 | D74: A2404129 | E74: AP241031010942 | G74: 33652.615 | H74: =+IF(A74=A73,H73+F74-G74,F74-G74) -> -66955.924 | I74: 9961.7 | J74: =+I74*'COURS BCT 31-12-2024'!$F$9 -> 33081.81
A75: E10088 | B75: AKUMPLAST JSC | C75: 45626 | D75: A2404617 | E75: AP241130012105 | G75: 51398.592 | H75: =+IF(A75=A74,H74+F75-G75,F75-G75) -> -118354.52 | I75: 15376.6 | J75: =+I75*'COURS BCT 31-12-2024'!$F$9 -> 51064.151
A76: E10088 | B76: AKUMPLAST JSC | C76: 45645 | D76: A2404736 | E76: AP241219012337 | G76: 38020.856 | H76: =+IF(A76=A75,H75+F76-G76,F76-G76) -> -156375.37 | I76: 11434.5 | J76: =+I76*'COURS BCT 31-12-2024'!$F$9 -> 37972.831
A77: E10088 | B77: AKUMPLAST JSC | C77: 45645 | D77: A2404738 | E77: AP241219012338 | G77: 33123.649 | H77: =+IF(A77=A76,H76+F77-G77,F77-G77) -> -189499.02 | I77: 9961.7 | J77: =+I77*'COURS BCT 31-12-2024'!$F$9 -> 33081.81
A78: E10088 | B78: AKUMPLAST JSC | C78: 45645 | D78: A2404739 | E78: AP241219012340 | G78: 32779.833 | H78: =+IF(A78=A77,H77+F78-G78,F78-G78) -> -222278.85 | I78: 9858.3 | J78: =+I78*'COURS BCT 31-12-2024'!$F$9 -> 32738.428
A79: Total E10088 | B79: E10088 | F79: =SUM(F73:F78) -> 0 | G79: =SUM(G73:G78) -> 222278.85 | H79: =+F79-G79 -> -222278.85 | I79: =SUM(I73:I78) -> 66451.1 | J79: =SUM(J73:J78) -> 220677.46 | K79: =+H79+J79 -> -1601.396
A80: E10089 | B80: ELBAT | C80: 45610 | D80: A2404206 | E80: AP241114011113 | G80: 1356527.1 | H80: =+IF(A80=A79,H79+F80-G80,F80-G80) -> -1356527.1 | I80: 402297.51 | J80: =+I80*'COURS BCT 31-12-2024'!$F$9 -> 1335989.8
A81: E10089 | B81: ELBAT | C81: 45651 | D81: A2404868 | E81: AP241225012726 | G81: 1000170.8 | H81: =+IF(A81=A80,H80+F81-G81,F81-G81) -> -2356697.9 | I81: 300794.19 | J81: =+I81*'COURS BCT 31-12-2024'!$F$9 -> 998907.43
A82: E10089 | B82: ELBAT | C82: 45651 | D82: 5724570226 | E82: AP241225012745 | F82: 986624.17 | H82: =+IF(A82=A81,H81+F82-G82,F82-G82) -> -1370073.7 | I82: -292597.51 | J82: =+I82*'COURS BCT 31-12-2024'!$F$9 -> -971687.07
A83: E10089 | B83: ELBAT | C83: 45657 | D83: A2405046 | E83: AP241231013155 | G83: 2036641.1 | H83: =+IF(A83=A82,H82+F83-G83,F83-G83) -> -3406714.8 | I83: 611723.34 | J83: =+I83*'COURS BCT 31-12-2024'!$F$9 -> 2031472
A84: Total E10089 | B84: E10089 | F84: =SUM(F80:F83) -> 986624.17 | G84: =SUM(G80:G83) -> 4393339 | H84: =+F84-G84 -> -3406714.8 | I84: =SUM(I80:I83) -> 1022217.5 | J84: =SUM(J80:J83) -> 3394682.2 | K84: =+H84+J84 -> -12032.583
A85: E20013 | B85: ELINOIL HELLENIC PETROLEUM | C85: 44165 | D85: A0202407 | E85: ELINOIL1 | G85: 13360.584 | H85: =+IF(A85=A70,H70+F85-G85,F85-G85) -> -13360.584 | I85: 4199.57 | J85: =+I85*'COURS BCT 31-12-2024'!$F$9 -> 13946.352
A86: Total E20013 | B86: E20013 | F86: =SUBTOTAL(9,F85:F85) -> 0 | G86: =SUBTOTAL(9,G85:G85) -> 13360.584 | H86: =+F86-G86 -> -13360.584 | I86: =SUM(I85:I85) -> 4199.57 | J86: =SUM(J85:J85) -> 13946.352 | K86: =+H86+J86 -> 585.76801
A87: E30002 | B87: MED ENERGY BATTERY | C87: 42369 | D87: B0002527 | E87: MED ENERGY | G87: 17745.075 | H87: =+IF(A87=A86,H86+F87-G87,F87-G87) -> -17745.075 | I87: 8100 | J87: =+I87*#REF! -> #REF! | L87: dossier de compensation qui va être déposé auprés de la bct
A88: Total E30002 | B88: E30002 | F88: =SUBTOTAL(9,F87:F87) -> 0 | G88: =SUBTOTAL(9,G87:G87) -> 17745.075 | H88: =+F88-G88 -> -17745.075 | I88: =SUM(I87) -> 8100 | J88: =SUM(J87) -> #REF!
A89: E60031 | B89: Nour Akkumulatoren GmbH | C89: 43555 | D89: S1900518 | E89: TRANSACT FOURNISSEUR | G89: 2421.384 | H89: =+IF(A89=A88,H88+F89-G89,F89-G89) -> -2421.384 | I89: =235+208+270 -> 713 | J89: =+I89*#REF! -> #REF! | L89: non reglé puisque son compte client est débiteur
A90: Total E60031 | B90: E60031 | F90: =SUBTOTAL(9,F89:F89) -> 0 | G90: =SUBTOTAL(9,G89:G89) -> 2421.384 | H90: =+F90-G90 -> -2421.384 | I90: =SUM(I89) -> 713 | J90: =SUM(J89) -> #REF!
A91: E80018 | B91: SOVEMA | C91: 40086 | D91: N0000832 | E91: TRANSACT FOURNISSEUR | G91: 6071.004 | H91: =+IF(A91=A90,H90+F91-G91,F91-G91) -> -6071.004 | I91: 3229 | L91: frs qui ne va pas être payée : à ne pas actualiser
A92: E80018 | B92: SOVEMA | C92: 40228 | D92: A0000047 | E92: TRANSACT FOURNISSEUR | G92: 941.378 | H92: =+IF(A92=A91,H91+F92-G92,F92-G92) -> -7012.382 | I92: 501.6 | J92: =+I92*'COURS BCT 31-12-2024'!$F$9 -> 1665.7634
A93: E80018 | B93: SOVEMA | C93: 40242 | D93: A0000117 | E93: SOVEMA3 | G93: 831.072 | H93: =+IF(A93=A92,H92+F93-G93,F93-G93) -> -7843.454 | I93: 440 | J93: =+I93*'COURS BCT 31-12-2024'!$F$9 -> 1461.196
A94: E80018 | B94: SOVEMA | C94: 40505 | D94: A0001575 | E94: SOVEMA-10 | G94: 615.4525 | H94: =+IF(A94=A93,H93+F94-G94,F94-G94) -> -8458.9065 | I94: 325 | J94: =+I94*'COURS BCT 31-12-2024'!$F$9 -> 1079.2925
A95: E80018 | B95: SOVEMA | C95: 40658 | D95: G0000631 | E95: TRANSACT FOURNISSEUR | G95: 3400.339 | H95: =+IF(A95=A94,H94+F95-G95,F95-G95) -> -11859.245 | I95: 1759.6 | J95: =+I95*'COURS BCT 31-12-2024'!$F$9 -> 5843.4556
A96: E80018 | B96: SOVEMA | C96: 40670 | D96: G0000609 | E96: sovema1-11 | G96: 2808.2105 | H96: =+IF(A96=A95,H95+F96-G96,F96-G96) -> -14667.456 | I96: 1461.62 | J96: =+I96*'COURS BCT 31-12-2024'!$F$9 -> 4853.8939
A97: E80018 | B97: SOVEMA | C97: 41425 | D97: L0000680 | E97: SOVEMA | G97: 5352.0036 | H97: =+IF(A97=A96,H96+F97-G97,F97-G97) -> -20019.46 | I97: 2517.5 | J97: =+I97*'COURS BCT 31-12-2024'!$F$9 -> 8360.3657
A98: E80018 | B98: SOVEMA | C98: 41843 | D98: E0001097 | E98: TRANSACT FOURNISSEUR | G98: 5224.3252 | H98: =+IF(A98=A97,H97+F98-G98,F98-G98) -> -25243.785 | I98: 2253.71 | J98: =+I98*'COURS BCT 31-12-2024'!$F$9 -> 7484.3455
A99: E80018 | B99: SOVEMA | C99: 43131 | D99: F1800219 | E99: SOVEMA1 | G99: 2043.193 | H99: =+IF(A99=A98,H98+F99-G99,F99-G99) -> -27286.978 | I99: 693.76 | J99: =+I99*'COURS BCT 31-12-2024'!$F$9 -> 2303.9076
A100: E80018 | B100: SOVEMA | C100: 44803 | D100: 5722570065 | E100: AV DU 19/04/22 | F100: 50841.557 | H100: =+IF(A100=A99,H99+F100-G100,F100-G100) -> 23554.579 | I100: -15645 | J100: =+I100*'COURS BCT 31-12-2024'!$F$9 -> -51955.48
A101: E80018 | B101: SOVEMA | C101: 44921 | D101: 5722570091 | E101: VR 12/12/2022 | F101: 33894.371 | H101: =+IF(A101=A100,H100+F101-G101,F101-G101) -> 57448.95 | I101: -10430 | J101: =+I101*'COURS BCT 31-12-2024'!$F$9 -> -34636.987
A102: E80018 | B102: SOVEMA | C102: 44943 | D102: D2300012 | E102: TRANSACT FOURNISSEUR | G102: 171010.28 | H102: =+IF(A102=A101,H101+F102-G102,F102-G102) -> -113561.33 | I102: 52150 | J102: =+I102*'COURS BCT 31-12-2024'!$F$9 -> 173184.93
A103: E80018 | B103: SOVEMA | C103: 45046 | D103: 5723570034 | E103: VR DU 07/04/2023 | F103: 69672.408 | H103: =+IF(A103=A102,H102+F103-G103,F103-G103) -> -43888.922 | I103: -20865 | J103: =+I103*'COURS BCT 31-12-2024'!$F$9 -> -69290.579
A104: E80018 | B104: SOVEMA | C104: 45230 | D104: 5723570092 | E104: AP090624001135 | F104: 85505.14 | H104: =+IF(A104=A103,H103+F104-G104,F104-G104) -> 41616.218 | I104: -26075 | J104: =+I104*'COURS BCT 31-12-2024'!$F$9 -> -86592.467
A105: E80018 | B105: SOVEMA | C105: 45412 | D105: A2401355 | E105: AP240430003855 | G105: 235138.12 | H105: =+IF(A105=A104,H104+F105-G105,F105-G105) -> -193521.9 | I105: 69550 | J105: =+I105*'COURS BCT 31-12-2024'!$F$9 -> 230968.6
A106: E80018 | B106: SOVEMA | C106: 45473 | D106: 5724570110 | E106: AP240704006380 | F106: 33449.357 | H106: =+IF(A106=A105,H105+F106-G106,F106-G106) -> -160072.54 | I106: -9885 | J106: =+I106*'COURS BCT 31-12-2024'!$F$9 -> -32827.096
A107: E80018 | B107: SOVEMA | C107: 45624 | D107: 5724570209 | E107: AP241128011673 | F107: 164596.68 | H107: =+IF(A107=A106,H106+F107-G107,F107-G107) -> 4524.1392 | I107: -48685 | J107: =+I107*'COURS BCT 31-12-2024'!$F$9 -> -161678.02
...

Sheet COURS BCT 31-12-2024
A1: Cours Moyens des Devises Cotées en dinar tunisien
A2: sur le Marché des Changes interbancaire
A4: (Opérations en Compte et au Comptant)
A6: Journée | B6: Code devise | C6: Monnaie | D6: Sigle | E6: Unité | F6: Valeur
A7: 45657 | B7: 840 | C7: DOLLAR DES USA | D7: USD | E7: 1 | F7: 3.1845
A8: 45657 | B8: 826 | C8: LIVRE STERLING | D8: GBP | E8: 1 | F8: 4.0053
A9: 45657 | B9: 978 | C9: EURO | D9: EUR | E9: 1 | F9: 3.3209
A10: 45657 | B10: 156 | C10: Yuan Chinois | D10: CNY | E10: 1 | F10: 0.4377
