Workbook

Sheet RECAP
C3: CA 2025 | D3: LOCAL | E3: EXPORT | F3: TOTAL | H3: CLIENT
C4: JANVIER | D4: =+BATTERY!C7 -> 2810024 | E4: =+BATTERY!C69 -> 5516260 | F4: =+E4+D4 -> 8326284 | H4: ACM TECHNOLOGIES | I4: =+BATTERY!O55 -> 361817
C5: FÉVRIER | D5: =+BATTERY!D7 -> 2629344 | E5: =+BATTERY!D69 -> 4531191 | F5: =+E5+D5 -> 7160535 | H5: ALPHADEAL | I5: =+BATTERY!O51 -> 5599296
C6: MARS | D6: =+BATTERY!E7 -> 2705305 | E6: =+BATTERY!E69 -> 4755146 | F6: =+E6+D6 -> 7460451 | H6: DIRECT BATTERIES | I6: =+BATTERY!O43 -> 736664
C7: AVRIL | D7: =+BATTERY!F7 -> 2552482 | E7: =+BATTERY!F69 -> 5849288 | F7: =+E7+D7 -> 8401770 | H7: DT BATTERIE D'ARMOR | I7: 700202
C8: MAI | D8: =+BATTERY!G7 -> 3663131 | E8: =+BATTERY!G69 -> 4544333 | F8: =+E8+D8 -> 8207464 | H8: LITTORAL | I8: =+BATTERY!O19 -> 4057771
C9: JUIN | D9: =+BATTERY!H7 -> 3952919 | E9: =+BATTERY!H69 -> 4866181 | F9: =+E9+D9 -> 8819100 | H9: LUBATEX | I9: =+BATTERY!O31 -> 937860
C10: JUILLET | D10: =+BATTERY!I7 -> 4258784 | E10: =+BATTERY!I69 -> 5681776 | F10: =+E10+D10 -> 9940560 | H10: MATADOR | I10: =+PLAQUE!O7 -> 24415824
C11: AOÛT | D11: =+BATTERY!J7 -> 5238466 | E11: =+BATTERY!J69 -> 4896964 | F11: =+E11+D11 -> 10135430 | H11: MONBAT | I11: =+BATTERY!O59 -> 6776500
C12: SEPTEMBRE | D12: =+BATTERY!K7 -> 5096454 | E12: =+BATTERY!K69 -> 5892870 | F12: =+E12+D12 -> 10989324 | H12: OUEST BATTERIES | I12: =+BATTERY!O23 -> 1255425
C13: OCTOBRE | D13: =+BATTERY!L7 -> 4647613 | E13: =+BATTERY!L69 -> 5848017 | F13: =+E13+D13 -> 10495630 | H13: PROXITEC | I13: =+BATTERY!O15 -> 3472479
C14: NOVEMBRE | D14: =+BATTERY!M7 -> 4490771 | E14: =+BATTERY!M69 -> 5899765 | F14: =+E14+D14 -> 10390536 | H14: NEXT POWER | I14: =+BATTERY!O64 -> 3206030
C15: DÉCEMBRE | D15: =+BATTERY!N7 -> 3983021 | E15: =+BATTERY!N69 -> 5493789 | F15: =+E15+D15 -> 9476810 | H15: AMOURI GROUP | I15: =+BATTERY!O47 -> 11353070
C16: TOTAL | D16: =SUM(D4:D15) -> 46028314 | E16: =SUM(E4:E15) -> 63775580 | F16: =SUM(F4:F15) -> 109803894 | H16: NEW CUSTEMER KENYA | I16: =+BATTERY!O39 -> 492386
H17: NEW CUSTEMER | I17: =+BATTERY!O27 -> 410256
H18: Total général | I18: =SUM(I4:I17) -> 63775580

Sheet BATTERY
A2: Budget 2025
F3: LOCAL
C5: JANVIER | D5: FEVRIER | E5: MARS | F5: AVRIL | G5: MAI | H5: JUIN | I5: JUILLET | J5: AOUT | K5: SEPTEMBRE | L5: OCTOBRE | M5: NOVEMBRE | N5: DECEMBRE | O5: TOTAL
A6: SND | B6: QTS VENDU | C6: 13854 | D6: 12942 | E6: 13505 | F6: 13067 | G6: 18231 | H6: 20105 | I6: 21789 | J6: 26669 | K6: 24211 | L6: 21896 | M6: 21071 | N6: 18800 | O6: =+SUM(C6:N6) -> 226140
B7: CA | C7: 2810024 | D7: 2629344 | E7: 2705305 | F7: 2552482 | G7: 3663131 | H7: 3952919 | I7: 4258784 | J7: 5238466 | K7: 5096454 | L7: 4647613 | M7: 4490771 | N7: 3983021 | O7: =+SUM(C7:N7) -> 46028314
F10: EXPORT
C13: JANVIER | D13: FEVRIER | E13: MARS | F13: AVRIL | G13: MAI | H13: JUIN | I13: JUILLET | J13: AOUT | K13: SEPTEMBRE | L13: OCTOBRE | M13: NOVEMBRE | N13: DECEMBRE | O13: TOTAL
A14: PROXITECH | B14: QTS VENDU | C14: 3710 | D14: 3710 | E14: 1855 | F14: 1855 | H14: 1855 | I14: 1855 | J14: 3710 | K14: 3710 | L14: 3710 | M14: 3710 | N14: 3710 | O14: =+SUM(C14:N14) -> 33390
B15: CA | C15: 385831 | D15: 385831 | E15: 192915 | F15: 192915 | H15: 192915 | I15: 192915 | J15: 385831 | K15: 385831 | L15: 385831 | M15: 385831 | N15: 385833 | O15: =+SUM(C15:N15) -> 3472479
C17: JANVIER | D17: FEVRIER | E17: MARS | F17: AVRIL | G17: MAI | H17: JUIN | I17: JUILLET | J17: AOUT | K17: SEPTEMBRE | L17: OCTOBRE | M17: NOVEMBRE | N17: DECEMBRE | O17: TOTAL
A18: LITTORAL BATT | B18: QTS VENDU | C18: 3518 | D18: 3518 | E18: 5277 | I18: 3518 | J18: 3518 | K18: 5277 | L18: 5277 | M18: 3518 | N18: 3518 | O18: =+SUM(C18:N18) -> 36939
B19: CA | C19: 386454 | D19: 386454 | E19: 579682 | I19: 386454 | J19: 386454 | K19: 579682 | L19: 579682 | M19: 386454 | N19: 386455 | O19: =+SUM(C19:N19) -> 4057771
C21: JANVIER | D21: FEVRIER | E21: MARS | F21: AVRIL | G21: MAI | H21: JUIN | I21: JUILLET | J21: AOUT | K21: SEPTEMBRE | L21: OCTOBRE | M21: NOVEMBRE | N21: DECEMBRE | O21: TOTAL
A22: Ouest Batteries | B22: QTS VENDU | C22: 3446 | D22: 3446 | L22: 1723 | M22: 1723 | O22: =+SUM(C22:N22) -> 10338
B23: CA | C23: 418475 | D23: 418475 | L23: 209238 | M23: 209237 | O23: =+SUM(C23:N23) -> 1255425
C25: JANVIER | D25: FEVRIER | E25: MARS | F25: AVRIL | G25: MAI | H25: JUIN | I25: JUILLET | J25: AOUT | K25: SEPTEMBRE | L25: OCTOBRE | M25: NOVEMBRE | N25: DECEMBRE | O25: TOTAL
A26: New customer | B26: QTS VENDU | D26: 1129 | H26: 1129 | L26: 1129 | O26: =+SUM(C26:N26) -> 3387
B27: CA | D27: 136752 | H27: 136752 | L27: 136752 | O27: =+SUM(C27:N27) -> 410256
C29: JANVIER | D29: FEVRIER | E29: MARS | F29: AVRIL | G29: MAI | H29: JUIN | I29: JUILLET | J29: AOUT | K29: SEPTEMBRE | L29: OCTOBRE | M29: NOVEMBRE | N29: DECEMBRE | O29: TOTAL
A30: LUBATEX | B30: QTS VENDU | D30: 1428 | F30: 1428 | H30: 1428 | J30: 1428 | L30: 1428 | N30: 1428 | O30: =+SUM(C30:N30) -> 8568
B31: CA | D31: 156310 | F31: 156310 | H31: 156310 | J31: 156310 | L31: 156310 | N31: 156310 | O31: =+SUM(C31:N31) -> 937860
C33: JANVIER | D33: FEVRIER | E33: MARS | F33: AVRIL | G33: MAI | H33: JUIN | I33: JUILLET | J33: AOUT | K33: SEPTEMBRE | L33: OCTOBRE | M33: NOVEMBRE | N33: DECEMBRE | O33: TOTAL
A34: DT Batteries d’Armor | B34: QTS VENDU | C34: 1559 | E34: 1559 | I34: 1559 | M34: 1559 | O34: =+SUM(C34:N34) -> 6236
B35: CA | C35: 175051 | E35: 175051 | I35: 175050 | M35: 175050 | O35: =+SUM(C35:N35) -> 700202
C37: JANVIER | D37: FEVRIER | E37: MARS | F37: AVRIL | G37: MAI | H37: JUIN | I37: JUILLET | J37: AOUT | K37: SEPTEMBRE | L37: OCTOBRE | M37: NOVEMBRE | N37: DECEMBRE | O37: TOTAL
A38: NEW CUSTOMER KINIYA | B38: QTS VENDU | C38: 1428 | G38: 1428 | J38: 1428 | O38: =+SUM(C38:N38) -> 4284
B39: CA | C39: 164129 | G39: 164129 | J39: 164128 | O39: =+SUM(C39:N39) -> 492386
C41: JANVIER | D41: FEVRIER | E41: MARS | F41: AVRIL | G41: MAI | H41: JUIN | I41: JUILLET | J41: AOUT | K41: SEPTEMBRE | L41: OCTOBRE | M41: NOVEMBRE | N41: DECEMBRE | O41: TOTAL
A42: DIRECT BATTERIE | B42: QTS VENDU | E42: 1364 | I42: 1364 | K42: 1364 | N42: 1364 | O42: =+SUM(C42:N42) -> 5456
B43: CA | E43: 184166 | I43: 184166 | K43: 184166 | N43: 184166 | O43: =+SUM(C43:N43) -> 736664
C45: JANVIER | D45: FEVRIER | E45: MARS | F45: AVRIL | G45: MAI | H45: JUIN | I45: JUILLET | J45: AOUT | K45: SEPTEMBRE | L45: OCTOBRE | M45: NOVEMBRE | N45: DECEMBRE | O45: TOTAL
A46: AMOURI GROUP | B46: QTS VENDU | E46: 5607 | F46: 11214 | G46: 11214 | H46: 11214 | I46: 5607 | J46: 5607 | K46: 5607 | L46: 11214 | M46: 5607 | N46: 11214 | O46: =+SUM(C46:N46) -> 84105
B47: CA | E47: 756871 | F47: 1513743 | G47: 1513743 | H47: 1513743 | I47: 756871 | J47: 756871 | K47: 756871 | L47: 1513743 | M47: 756871 | N47: 1513743 | O47: =+SUM(C47:N47) -> 11353070
C49: JANVIER | D49: FEVRIER | E49: MARS | F49: AVRIL | G49: MAI | H49: JUIN | I49: JUILLET | J49: AOUT | K49: SEPTEMBRE | L49: OCTOBRE | M49: NOVEMBRE | N49: DECEMBRE | O49: TOTAL
A50: ALPHADEAL | B50: QTS VENDU | C50: 9365 | F50: 9365 | I50: 9365 | K50: 9365 | M50: 9365 | O50: =+SUM(C50:N50) -> 46825
B51: CA | C51: 1119859 | F51: 1119859 | I51: 1119859 | K51: 1119859 | M51: 1119860 | O51: =+SUM(C51:N51) -> 5599296
C53: JANVIER | D53: FEVRIER | E53: MARS | F53: AVRIL | G53: MAI | H53: JUIN | I53: JUILLET | J53: AOUT | K53: SEPTEMBRE | L53: OCTOBRE | M53: NOVEMBRE | N53: DECEMBRE | O53: TOTAL
A54: ACM Technologie | B54: QTS VENDU | D54: 1689 | J54: 1689 | O54: =+SUM(C54:N54) -> 3378
B55: CA | D55: 180908 | J55: 180909 | O55: =+SUM(C55:N55) -> 361817
C57: JANVIER | D57: FEVRIER | E57: MARS | F57: AVRIL | G57: MAI | H57: JUIN | I57: JUILLET | J57: AOUT | K57: SEPTEMBRE | L57: OCTOBRE | M57: NOVEMBRE | N57: DECEMBRE | O57: TOTAL
...

Sheet PLAQUE
A2: Budget 2025 | E2: Vente Plaque
C5: JANVIER | D5: FEVRIER | E5: MARS | F5: AVRIL | G5: MAI | H5: JUIN | I5: JUILLET | J5: AOUT | K5: SEPTEMBRE | L5: OCTOBRE | M5: NOVEMBRE | N5: DECEMBRE | O5: TOTAL
A6: MATADOR | B6: QTS VENDU | C6: 191668 | D6: 191668 | E6: 191668 | F6: 191668 | G6: 191668 | H6: 191668 | I6: 191668 | J6: 191668 | K6: 191668 | L6: 191668 | M6: 191668 | N6: 191668 | O6: =+SUM(C6:N6) -> 2300016
B7: CA | C7: 2034652 | D7: 2034652 | E7: 2034652 | F7: 2034652 | G7: 2034652 | H7: 2034652 | I7: 2034652 | J7: 2034652 | K7: 2034652 | L7: 2034652 | M7: 2034652 | N7: 2034652 | O7: =+SUM(C7:N7) -> 24415824
