Workbook
Name DateFin1: #REF!
Name DateFin1: #REF!
Name DateFin1: #REF!
Name DateFin1: #REF!
Name DateFin1: #REF!
Name DateFin2: #REF!
Name DateFin2: #REF!
Name DateFin2: #REF!
Name DateFin2: #REF!
Name DateFin2: #REF!
Name DateFin2: #REF!
Name DateFin2: #REF!
Name DateFin2: #REF!
Name DateFin2: #REF!
Name DateFin2: #REF!
Name DateFin2: #REF!
Name DateFin2: #REF!
Name DateFin2: #REF!
Name DateFin2: #REF!
Name DateFin2: #REF!
Name DateFin2: #REF!
Name DateFin2: #REF!
Name DateFin2: #REF!
Name DateFin2: #REF!
Name DateFin2: #REF!
Name DateFin2: #REF!
Name DateFin2: #REF!
Name DateFin2: #REF!
Name DateFin2: #REF!
Name DateFin2: #REF!
Name DateFin2: #REF!
Name DateFin2: #REF!
Name DateFin2: #REF!
Name DateFin2: #REF!
Name DateFin2: #REF!
Name DateFin2: #REF!
Name DateFin2: #REF!
Name Ecrx_CodeGroupeAnalyse: #REF!
Name Ecrx_CodeGroupeAnalyse: #REF!
Name Ecrx_CodeGroupeAnalyse: #REF!
Name Ecrx_CodeGroupeAnalyse: #REF!
Name Ecrx_CodeGroupeAnalyse: #REF!
Name Ecrx_CodeGroupeAnalyse: #REF!
Name Ecrx_CodeGroupeAnalyse: #REF!
Name Ecrx_CodeGroupeAnalyse: #REF!
Name Ecrx_CodeGroupeAnalyse: #REF!
Name Ecrx_CodeGroupeAnalyse: #REF!
Name Ecrx_CodeGroupeAnalyse: #REF!
Name Ecrx_CodeGroupeAnalyse: #REF!
Name Ecrx_CodeGroupeAnalyse: #REF!
Name Ecrx_CodeGroupeAnalyse: #REF!
Name Ecrx_CodeGroupeAnalyse: #REF!
Name Ecrx_CodeGroupeAnalyse: #REF!
Name Ecrx_CodeGroupeAnalyse: #REF!
Name Ecrx_CodeGroupeAnalyse: #REF!
Name Ecrx_CodeGroupeAnalyse: #REF!
Name Ecrx_CodeGroupeAnalyse: #REF!
Name Ecrx_CodeGroupeAnalyse: #REF!
Name Ecrx_CodeGroupeAnalyse: #REF!
Name Ecrx_CodeGroupeAnalyse: #REF!

Sheet OD 01-23
A1: CompteGen | B1: Libelle | C1: SoldeDebut | D1: Debit | E1: Credit | F1: Variation | G1: SoldeFin
A2: 13000000 | B2: RESULT. DE L'EXERCIC. | C2: 0 | D2: 0 | E2: 0 | F2: 0 | G2: 0
A3: 14508000 | B3: AMORT.DES SUBV.D'INV | C3: 0 | D3: 21896.933 | E3: 0 | F3: 21896.933 | G3: 21896.933
A4: 22825000 | C4: 0 | D4: 0 | E4: 0 | F4: 0 | G4: 0
A5: 28130000 | B5: LOGICIELS | C5: 0 | D5: 0 | E5: 498.408 | F5: -498.408 | G5: -498.408
A6: 28216000 | B6: AMOR.AGE.&AME.D.TER | C6: 0 | D6: 0 | E6: 231.89 | F6: -231.89 | G6: -231.89
A7: 28220000 | B7: AMORTISSEMENT/CONS | C7: 0 | D7: 0 | E7: 37206.669 | F7: -37206.669 | G7: -37206.669
A8: 28225000 | B8: AMOR.INS.GEN.AG&A.C | C8: 0 | D8: 0 | E8: 1791.536 | F8: -1791.536 | G8: -1791.536
A9: 28230000 | B9: AMO.INS.TECH.M.OU.IN | C9: 0 | D9: 0 | E9: 4389.771 | F9: -4389.771 | G9: -4389.771
A10: 28234000 | B10: AMORT./MATERIEL IND. | C10: 0 | D10: 0 | E10: 116880.21 | F10: -116880.21 | G10: -116880.21
A11: 28235000 | B11: AMORT./OUTIL.INDUST. | C11: 0 | D11: 0 | E11: 7034.595 | F11: -7034.595 | G11: -7034.595
A12: 28237000 | B12: AMOR./AGC&AMEG.M.O. | C12: 0 | D12: 0 | E12: 1805.746 | F12: -1805.746 | G12: -1805.746
A13: 28240000 | B13: AMORT.MAT.DE TRANS | C13: 0 | D13: 0 | E13: 12427.078 | F13: -12427.078 | G13: -12427.078
A14: 28282000 | B14: AMOR.EQUIP.DE BURE. | C14: 0 | D14: 0 | E14: 4546.049 | F14: -4546.049 | G14: -4546.049
A15: 28283000 | B15: AMORT. MAT.INFORMATIQUES | C15: 0 | D15: 0 | E15: 1898.033 | F15: -1898.033 | G15: -1898.033
A16: 28400000 | B16: Amort.immob.carc.jur.par | C16: 0 | D16: 0 | E16: 6242.013 | F16: -6242.013 | G16: -6242.013
... A62: 73900000 | B62: Quote.parts subv.d'inves | C62: 0 | D62: 0 | E62: 21896.933 | F62: -21896.933 | G62: -21896.933
C63: =SUM(C2:C62) -> 0 | D63: =SUM(D2:D62) -> 15652837 | E63: =SUM(E2:E62) -> 15652837 | F63: =SUM(F2:F62) -> -2.1354936e-09 | G63: =SUM(G2:G62) -> -2.1354936e-09

Sheet BAL 01-23
A1: Compte | B1: Libelle | C1: SoldeDebut | D1: Debit | E1: Crédit | F1: Debit OD | G1: Credit OD | H1: Variation | I1: Solde Fin | J1: Affect° 2023
A2: 10100000 | B2: CAPITAL SOCIAL | C2: -13500000 | D2: 0 | E2: 0 | F2: =SUMIF('OD 01-23'!A:A,A2,'OD 01-23'!D:D) -> 0 | G2: =SUMIF('OD 01-23'!A:A,A2,'OD 01-23'!E:E) -> 0 | H2: =+D2+F2-E2-G2 -> 0 | I2: =+H2+C2 -> -13500000 | J2: Capital social
A3: 11101000 | B3: RESERVES LEGALES | C3: -1200000 | D3: 0 | E3: 0 | F3: =SUMIF('OD 01-23'!A:A,A3,'OD 01-23'!D:D) -> 0 | G3: =SUMIF('OD 01-23'!A:A,A3,'OD 01-23'!E:E) -> 0 | H3: =+D3+F3-E3-G3 -> 0 | I3: =+H3+C3 -> -1200000 | J3: Réserves légales
A4: 12100000 | B4: RESULTAT REPORTES | C4: =-17351323.015645-1208076.033 -> -18559399 | D4: 0 | E4: 0 | F4: =SUMIF('OD 01-23'!A:A,A4,'OD 01-23'!D:D) -> 0 | G4: =SUMIF('OD 01-23'!A:A,A4,'OD 01-23'!E:E) -> 0 | H4: =+D4+F4-E4-G4 -> 0 | I4: =+H4+C4 -> -18559399 | J4: Résultats reportés
A5: 12200000 | B5: ammortisssemnts differes | C5: 0 | D5: 0 | E5: 0 | F5: =SUMIF('OD 01-23'!A:A,A5,'OD 01-23'!D:D) -> 0 | G5: =SUMIF('OD 01-23'!A:A,A5,'OD 01-23'!E:E) -> 0 | H5: =+D5+F5-E5-G5 -> 0 | I5: =+H5+C5 -> 0
A6: 12800000 | B6: MODI.COM.EFF.RLT.REP | C6: 3022190.2 | D6: 0 | E6: 0 | F6: =SUMIF('OD 01-23'!A:A,A6,'OD 01-23'!D:D) -> 0 | G6: =SUMIF('OD 01-23'!A:A,A6,'OD 01-23'!E:E) -> 0 | H6: =+D6+F6-E6-G6 -> 0 | I6: =+H6+C6 -> 3022190.2 | J6: Modification comptable
A7: 13000000 | B7: RESULT. DE L'EXERCIC. | C7: 0 | D7: 0 | E7: 0 | F7: =SUMIF('OD 01-23'!A:A,A7,'OD 01-23'!D:D) -> 0 | G7: =SUMIF('OD 01-23'!A:A,A7,'OD 01-23'!E:E) -> 0 | H7: =+D7+F7-E7-G7 -> 0 | I7: =+H7+C7 -> 0
A8: 14500000 | B8: SUBVENTIONS D'INVES. | C8: -3479108.8 | D8: 0 | E8: 0 | F8: =SUMIF('OD 01-23'!A:A,A8,'OD 01-23'!D:D) -> 0 | G8: =SUMIF('OD 01-23'!A:A,A8,'OD 01-23'!E:E) -> 0 | H8: =+D8+F8-E8-G8 -> 0 | I8: =+H8+C8 -> -3479108.8 | J8: Subvention d'investissement
A9: 14508000 | B9: AMORT.DES SUBV.D'INV | C9: 2356770.1 | D9: 0 | E9: 0 | F9: =SUMIF('OD 01-23'!A:A,A9,'OD 01-23'!D:D) -> 21896.933 | G9: =SUMIF('OD 01-23'!A:A,A9,'OD 01-23'!E:E) -> 0 | H9: =+D9+F9-E9-G9 -> 21896.933 | I9: =+H9+C9 -> 2378667 | J9: Amortissement subvention d'investissement
A10: 15100000 | B10: PROVI.POUR RISQUES | C10: -22564.956 | D10: 0 | E10: 0 | F10: =SUMIF('OD 01-23'!A:A,A10,'OD 01-23'!D:D) -> 0 | G10: =SUMIF('OD 01-23'!A:A,A10,'OD 01-23'!E:E) -> 0 | H10: =+D10+F10-E10-G10 -> 0 | I10: =+H10+C10 -> -22564.956 | J10: Provision pour risque et charges
A11: 16210250 | B11: CREDIT STUSID | C11: 0 | D11: 0 | E11: 0 | F11: =SUMIF('OD 01-23'!A:A,A11,'OD 01-23'!D:D) -> 0 | G11: =SUMIF('OD 01-23'!A:A,A11,'OD 01-23'!E:E) -> 0 | H11: =+D11+F11-E11-G11 -> 0 | I11: =+H11+C11 -> 0
A12: 16210500 | B12: CREDITS STB | C12: -1041666.7 | D12: 0 | E12: 0 | F12: =SUMIF('OD 01-23'!A:A,A12,'OD 01-23'!D:D) -> 0 | G12: =SUMIF('OD 01-23'!A:A,A12,'OD 01-23'!E:E) -> 0 | H12: =+D12+F12-E12-G12 -> 0 | I12: =+H12+C12 -> -1041666.7 | J12: Emprunts
A13: 16210960 | B13: CREDITS B.T.K.D | C13: 0 | D13: 0 | E13: 0 | F13: =SUMIF('OD 01-23'!A:A,A13,'OD 01-23'!D:D) -> 0 | G13: =SUMIF('OD 01-23'!A:A,A13,'OD 01-23'!E:E) -> 0 | H13: =+D13+F13-E13-G13 -> 0 | I13: =+H13+C13 -> 0
A14: 16400000 | B14: EMPT.DET.AS.COND.PA. | C14: -173470.93 | D14: 0 | E14: 0 | F14: =SUMIF('OD 01-23'!A:A,A14,'OD 01-23'!D:D) -> 0 | G14: =SUMIF('OD 01-23'!A:A,A14,'OD 01-23'!E:E) -> 0 | H14: =+D14+F14-E14-G14 -> 0 | I14: =+H14+C14 -> -173470.93 | J14: Emprunts
A15: 18800000 | B15: AUTRES | C15: 0 | D15: 0 | E15: 0 | F15: =SUMIF('OD 01-23'!A:A,A15,'OD 01-23'!D:D) -> 0 | G15: =SUMIF('OD 01-23'!A:A,A15,'OD 01-23'!E:E) -> 0 | H15: =+D15+F15-E15-G15 -> 0 | I15: =+H15+C15 -> 0
A16: 21100000 | B16: INVEST.DE RECH.ET DE | C16: 0 | D16: 0 | E16: 0 | F16: =SUMIF('OD 01-23'!A:A,A16,'OD 01-23'!D:D) -> 0 | G16: =SUMIF('OD 01-23'!A:A,A16,'OD 01-23'!E:E) -> 0 | H16: =+D16+F16-E16-G16 -> 0 | I16: =+H16+C16 -> 0
A17: 21300000 | B17: LOGICIELS | C17: 80409.227 | D17: 0 | E17: 0 | F17: =SUMIF('OD 01-23'!A:A,A17,'OD 01-23'!D:D) -> 0 | G17: =SUMIF('OD 01-23'!A:A,A17,'OD 01-23'!E:E) -> 0 | H17: =+D17+F17-E17-G17 -> 0 | I17: =+H17+C17 -> 80409.227 | J17: Immobilisations corporelles et incorp.
A18: 22000000 | B18: IMMOBIL.CORPORELLES | C18: 0 | D18: 0 | E18: 0 | F18: =SUMIF('OD 01-23'!A:A,A18,'OD 01-23'!D:D) -> 0 | G18: =SUMIF('OD 01-23'!A:A,A18,'OD 01-23'!E:E) -> 0 | H18: =+D18+F18-E18-G18 -> 0 | I18: =+H18+C18 -> 0
A19: 22100000 | B19: TERRAINS | C19: 1275724 | D19: 0 | E19: 0 | F19: =SUMIF('OD 01-23'!A:A,A19,'OD 01-23'!D:D) -> 0 | G19: =SUMIF('OD 01-23'!A:A,A19,'OD 01-23'!E:E) -> 0 | H19: =+D19+F19-E19-G19 -> 0 | I19: =+H19+C19 -> 1275724 | J19: Immobilisations corporelles et incorp.
A20: 22160000 | B20: AGEN.AMENAG.D.TERAI | C20: 161921.54 | D20: 0 | E20: 0 | F20: =SUMIF('OD 01-23'!A:A,A20,'OD 01-23'!D:D) -> 0 | G20: =SUMIF('OD 01-23'!A:A,A20,'OD 01-23'!E:E) -> 0 | H20: =+D20+F20-E20-G20 -> 0 | I20: =+H20+C20 -> 161921.54 | J20: Immobilisations corporelles et incorp.
A21: 22200000 | B21: CONSTURCTIONS | C21: 9027583.1 | D21: 0 | E21: 0 | F21: =SUMIF('OD 01-23'!A:A,A21,'OD 01-23'!D:D) -> 0 | G21: =SUMIF('OD 01-23'!A:A,A21,'OD 01-23'!E:E) -> 0 | H21: =+D21+F21-E21-G21 -> 0 | I21: =+H21+C21 -> 9027583.1 | J21: Immobilisations corporelles et incorp.
A22: 22250000 | B22: INSTAL.GL.AGE.AM.CON | C22: 600750.28 | D22: 250 | E22: 0 | F22: =SUMIF('OD 01-23'!A:A,A22,'OD 01-23'!D:D) -> 0 | G22: =SUMIF('OD 01-23'!A:A,A22,'OD 01-23'!E:E) -> 0 | H22: =+D22+F22-E22-G22 -> 250 | I22: =+H22+C22 -> 601000.28 | J22: Immobilisations corporelles et incorp.
A23: 22300000 | B23: INST.TECH.MAT&OUT.IN | C23: 65870.611 | D23: 0 | E23: 0 | F23: =SUMIF('OD 01-23'!A:A,A23,'OD 01-23'!D:D) -> 0 | G23: =SUMIF('OD 01-23'!A:A,A23,'OD 01-23'!E:E) -> 0 | H23: =+D23+F23-E23-G23 -> 0 | I23: =+H23+C23 -> 65870.611 | J23: Immobilisations corporelles et incorp.
A24: 22310000 | B24: INSTALLATIONS TECHN | C24: 0 | D24: 0 | E24: 0 | F24: =SUMIF('OD 01-23'!A:A,A24,'OD 01-23'!D:D) -> 0 | G24: =SUMIF('OD 01-23'!A:A,A24,'OD 01-23'!E:E) -> 0 | H24: =+D24+F24-E24-G24 -> 0 | I24: =+H24+C24 -> 0
A25: 22340000 | B25: MATERIEL INDUSTRIEL | C25: 21854401 | D25: 192821.13 | E25: 0 | F25: =SUMIF('OD 01-23'!A:A,A25,'OD 01-23'!D:D) -> 0 | G25: =SUMIF('OD 01-23'!A:A,A25,'OD 01-23'!E:E) -> 0 | H25: =+D25+F25-E25-G25 -> 192821.13 | I25: =+H25+C25 -> 22047222 | J25: Immobilisations corporelles et incorp.
A26: 22350000 | B26: OUTILLAGE INDUSTRIEL | C26: 595918.13 | D26: 805 | E26: 0 | F26: =SUMIF('OD 01-23'!A:A,A26,'OD 01-23'!D:D) -> 0 | G26: =SUMIF('OD 01-23'!A:A,A26,'OD 01-23'!E:E) -> 0 | H26: =+D26+F26-E26-G26 -> 805 | I26: =+H26+C26 -> 596723.13 | J26: Immobilisations corporelles et incorp.
A27: 22370000 | B27: AGEN.AME.MAT.OUT.IN | C27: 879252.86 | D27: 0 | E27: 0 | F27: =SUMIF('OD 01-23'!A:A,A27,'OD 01-23'!D:D) -> 0 | G27: =SUMIF('OD 01-23'!A:A,A27,'OD 01-23'!E:E) -> 0 | H27: =+D27+F27-E27-G27 -> 0 | I27: =+H27+C27 -> 879252.86 | J27: Immobilisations corporelles et incorp.
A28: 22400000 | B28: MATERIEL DE TRANSPORT | C28: 1013855.9 | D28: 0 | E28: 61848.025 | F28: =SUMIF('OD 01-23'!A:A,A28,'OD 01-23'!D:D) -> 0 | G28: =SUMIF('OD 01-23'!A:A,A28,'OD 01-23'!E:E) -> 0 | H28: =+D28+F28-E28-G28 -> -61848.025 | I28: =+H28+C28 -> 952007.86 | J28: Immobilisations corporelles et incorp.
A29: 22810000 | B29: INSTAL.GLES.AG.AM.DI | C29: 0 | D29: 0 | E29: 0 | F29: =SUMIF('OD 01-23'!A:A,A29,'OD 01-23'!D:D) -> 0 | G29: =SUMIF('OD 01-23'!A:A,A29,'OD 01-23'!E:E) -> 0 | H29: =+D29+F29-E29-G29 -> 0 | I29: =+H29+C29 -> 0
A30: 22820000 | B30: EQUIPEMENTS DE BURE. | C30: 248575.93 | D30: 0 | E30: 0 | F30: =SUMIF('OD 01-23'!A:A,A30,'OD 01-23'!D:D) -> 0 | G30: =SUMIF('OD 01-23'!A:A,A30,'OD 01-23'!E:E) -> 0 | H30: =+D30+F30-E30-G30 -> 0 | I30: =+H30+C30 -> 248575.93 | J30: Immobilisations corporelles et incorp.
A31: 22830000 | B31: MATERIELS INFORMATIQUES | C31: 157309.57 | D31: 0 | E31: 0 | F31: =SUMIF('OD 01-23'!A:A,A31,'OD 01-23'!D:D) -> 0 | G31: =SUMIF('OD 01-23'!A:A,A31,'OD 01-23'!E:E) -> 0 | H31: =+D31+F31-E31-G31 -> 0 | I31: =+H31+C31 -> 157309.57 | J31: Immobilisations corporelles et incorp.
A32: 23000000 | B32: IMMOBILISATION EN CO | C32: 2e-05 | D32: 0 | E32: 0 | F32: =SUMIF('OD 01-23'!A:A,A32,'OD 01-23'!D:D) -> 0 | G32: =SUMIF('OD 01-23'!A:A,A32,'OD 01-23'!E:E) -> 0 | H32: =+D32+F32-E32-G32 -> 0 | I32: =+H32+C32 -> 2e-05
A33: 23200000 | B33: IMMO.COR.EN COURS | C33: 2440755.5 | D33: 0 | E33: 0 | F33: =SUMIF('OD 01-23'!A:A,A33,'OD 01-23'!D:D) -> 0 | G33: =SUMIF('OD 01-23'!A:A,A33,'OD 01-23'!E:E) -> 0 | H33: =+D33+F33-E33-G33 -> 0 | I33: =+H33+C33 -> 2440755.5 | J33: Immobilisations corporelles et incorp.
A34: 23220000 | B34: CONSTRUC.EN COURS | C34: 7912.234 | D34: 30502.238 | E34: 0 | F34: =SUMIF('OD 01-23'!A:A,A34,'OD 01-23'!D:D) -> 0 | G34: =SUMIF('OD 01-23'!A:A,A34,'OD 01-23'!E:E) -> 0 | H34: =+D34+F34-E34-G34 -> 30502.238 | I34: =+H34+C34 -> 38414.472 | J34: Immobilisations corporelles et incorp.
A35: 23225000 | B35: INST.GEN.A.A.CONS.CO | C35: 0 | D35: 0 | E35: 0 | F35: =SUMIF('OD 01-23'!A:A,A35,'OD 01-23'!D:D) -> 0 | G35: =SUMIF('OD 01-23'!A:A,A35,'OD 01-23'!E:E) -> 0 | H35: =+D35+F35-E35-G35 -> 0 | I35: =+H35+C35 -> 0
A36: 23231000 | B36: INST.TECHNIQ.EN COU | C36: 0 | D36: 0 | E36: 0 | F36: =SUMIF('OD 01-23'!A:A,A36,'OD 01-23'!D:D) -> 0 | G36: =SUMIF('OD 01-23'!A:A,A36,'OD 01-23'!E:E) -> 0 | H36: =+D36+F36-E36-G36 -> 0 | I36: =+H36+C36 -> 0
A37: 23237000 | B37: A.A MAT&OUT.IND.EN C | C37: 0 | D37: 0 | E37: 0 | F37: =SUMIF('OD 01-23'!A:A,A37,'OD 01-23'!D:D) -> 0 | G37: =SUMIF('OD 01-23'!A:A,A37,'OD 01-23'!E:E) -> 0 | H37: =+D37+F37-E37-G37 -> 0 | I37: =+H37+C37 -> 0
A38: 23250000 | B38: Plantations en cours | C38: 0 | D38: 0 | E38: 0 | F38: =SUMIF('OD 01-23'!A:A,A38,'OD 01-23'!D:D) -> 0 | G38: =SUMIF('OD 01-23'!A:A,A38,'OD 01-23'!E:E) -> 0 | H38: =+D38+F38-E38-G38 -> 0 | I38: =+H38+C38 -> 0
A39: 23800000 | B39: AVC&ACP/COM IMM.INC | C39: 0 | D39: 0 | E39: 0 | F39: =SUMIF('OD 01-23'!A:A,A39,'OD 01-23'!D:D) -> 0 | G39: =SUMIF('OD 01-23'!A:A,A39,'OD 01-23'!E:E) -> 0 | H39: =+D39+F39-E39-G39 -> 0 | I39: =+H39+C39 -> 0
A40: 24000000 | B40: IMMOB.A STAT.JUR.PAR | C40: 703370.38 | D40: 0 | E40: 0 | F40: =SUMIF('OD 01-23'!A:A,A40,'OD 01-23'!D:D) -> 0 | G40: =SUMIF('OD 01-23'!A:A,A40,'OD 01-23'!E:E) -> 0 | H40: =+D40+F40-E40-G40 -> 0 | I40: =+H40+C40 -> 703370.38 | J40: Immobilisations corporelles et incorp.
...

Sheet OD 01-24
A1: CompteGen | B1: Libelle | C1: SoldeDebut | D1: Debit | E1: Credit | F1: Variation | G1: SoldeFin
A2: 13000000 | B2: RESULT. DE L'EXERCIC. | C2: -0.0001 | D2: 0 | E2: 0 | F2: 0 | G2: -0.0001
A3: 14508000 | B3: AMORT.DES SUBV.D'INV | C3: 0 | D3: 20282.419 | E3: 0 | F3: 20282.419 | G3: 20282.419
A4: 22825000 | C4: 0.0002 | D4: 0 | E4: 0 | F4: 0 | G4: 0.0002
A5: 28130000 | B5: LOGICIELS | C5: 0.0001 | D5: 0 | E5: 845.58 | F5: -845.58 | G5: -845.5799
A6: 28216000 | B6: AMOR.AGE.&AME.D.TER | C6: 0.0004 | D6: 0 | E6: 231.89 | F6: -231.89 | G6: -231.8896
A7: 28220000 | B7: AMORTISSEMENT/CONS | C7: -0.0002 | D7: 0 | E7: 37813.739 | F7: -37813.739 | G7: -37813.739
A8: 28225000 | B8: AMOR.INS.GEN.AG&A.C | C8: 0.0004 | D8: 0 | E8: 10482.157 | F8: -10482.157 | G8: -10482.157
A9: 28230000 | B9: AMO.INS.TECH.M.OU.IN | C9: 0 | D9: 0 | E9: 2036.497 | F9: -2036.497 | G9: -2036.497
A10: 28231000 | B10: AMORT./INST.TECHNIQ. | C10: 0 | D10: 0 | E10: 74.163 | F10: -74.163 | G10: -74.163
A11: 28234000 | B11: AMORT./MATERIEL IND. | C11: -0.0004 | D11: 0 | E11: 134999.48 | F11: -134999.48 | G11: -134999.48
A12: 28235000 | B12: AMORT./OUTIL.INDUST. | C12: 0 | D12: 0 | E12: 4702.423 | F12: -4702.423 | G12: -4702.423
A13: 28237000 | B13: AMOR./AGC&AMEG.M.O. | C13: -0.0002 | D13: 0 | E13: 1988.929 | F13: -1988.929 | G13: -1988.9292
A14: 28240000 | B14: AMORT.MAT.DE TRANS | C14: -0.0003 | D14: 0 | E14: 14121.329 | F14: -14121.329 | G14: -14121.329
A15: 28282000 | B15: AMOR.EQUIP.DE BURE. | C15: 0.0002 | D15: 0 | E15: 4256.702 | F15: -4256.702 | G15: -4256.7018
A16: 28283000 | B16: AMORT. MAT.INFORMATIQUES | C16: 0.0001 | D16: 0 | E16: 3746.145 | F16: -3746.145 | G16: -3746.1449
... A74: 75600000 | B74: GAINS DE CHANGES | C74: 0 | D74: 0 | E74: 16564.642 | F74: -16564.642 | G74: -16564.642

Sheet BAL 01-24
A2: Compte | B2: Libelle | C2: SoldeDebut | D2: Debit | E2: Crédit | F2: Debit OD | G2: Credit OD | H2: Variation | I2: Solde Fin | J2: Affect° 2024
A3: 10100000 | B3: CAPITAL SOCIAL | C3: -13500000 | D3: 0 | E3: 0 | F3: =SUMIF('OD 01-24'!A:A,A3,'OD 01-24'!D:D) -> 0 | G3: =SUMIF('OD 01-24'!A:A,A3,'OD 01-24'!E:E) -> 0 | H3: =+D3+F3-E3-G3 -> 0 | I3: =+H3+C3 -> -13500000 | J3: Capital social
A4: 11101000 | B4: RESERVES LEGALES | C4: -1200000 | D4: 0 | E4: 0 | F4: =SUMIF('OD 01-24'!A:A,A4,'OD 01-24'!D:D) -> 0 | G4: =SUMIF('OD 01-24'!A:A,A4,'OD 01-24'!E:E) -> 0 | H4: =+D4+F4-E4-G4 -> 0 | I4: =+H4+C4 -> -1200000 | J4: Réserves légales
A5: 12100000 | B5: RESULTAT REPORTES | C5: -22285719 | D5: 0 | E5: 0 | F5: =SUMIF('OD 01-24'!A:A,A5,'OD 01-24'!D:D) -> 0 | G5: =SUMIF('OD 01-24'!A:A,A5,'OD 01-24'!E:E) -> 0 | H5: =+D5+F5-E5-G5 -> 0 | I5: =+H5+C5 -> -22285719 | J5: Résultats reportés
A6: 12200000 | B6: ammortisssemnts differes | C6: 0 | D6: 0 | E6: 0 | F6: =SUMIF('OD 01-24'!A:A,A6,'OD 01-24'!D:D) -> 0 | G6: =SUMIF('OD 01-24'!A:A,A6,'OD 01-24'!E:E) -> 0 | H6: =+D6+F6-E6-G6 -> 0 | I6: =+H6+C6 -> 0
A7: 12800000 | B7: MODI.COM.EFF.RLT.REP | C7: 3126298 | D7: 0 | E7: 0 | F7: =SUMIF('OD 01-24'!A:A,A7,'OD 01-24'!D:D) -> 0 | G7: =SUMIF('OD 01-24'!A:A,A7,'OD 01-24'!E:E) -> 0 | H7: =+D7+F7-E7-G7 -> 0 | I7: =+H7+C7 -> 3126298 | J7: Modification comptable
A8: 13000000 | B8: RESULT. DE L'EXERCIC. | C8: 0 | D8: 0 | E8: 0 | F8: =SUMIF('OD 01-24'!A:A,A8,'OD 01-24'!D:D) -> 0 | G8: =SUMIF('OD 01-24'!A:A,A8,'OD 01-24'!E:E) -> 0 | H8: =+D8+F8-E8-G8 -> 0 | I8: =+H8+C8 -> 0
A9: 14500000 | B9: SUBVENTIONS D'INVES. | C9: -3479108.8 | D9: 0 | E9: 0 | F9: =SUMIF('OD 01-24'!A:A,A9,'OD 01-24'!D:D) -> 0 | G9: =SUMIF('OD 01-24'!A:A,A9,'OD 01-24'!E:E) -> 0 | H9: =+D9+F9-E9-G9 -> 0 | I9: =+H9+C9 -> -3479108.8 | J9: Subvention d'investissement
A10: 14508000 | B10: AMORT.DES SUBV.D'INV | C10: 2662861.8 | D10: 0 | E10: 0 | F10: =SUMIF('OD 01-24'!A:A,A10,'OD 01-24'!D:D) -> 20282.419 | G10: =SUMIF('OD 01-24'!A:A,A10,'OD 01-24'!E:E) -> 0 | H10: =+D10+F10-E10-G10 -> 20282.419 | I10: =+H10+C10 -> 2683144.2 | J10: Amortissement subvention d'investissement
A11: 15100000 | B11: PROVI.POUR RISQUES | C11: -231535.02 | D11: 0 | E11: 0 | F11: =SUMIF('OD 01-24'!A:A,A11,'OD 01-24'!D:D) -> 0 | G11: =SUMIF('OD 01-24'!A:A,A11,'OD 01-24'!E:E) -> 0 | H11: =+D11+F11-E11-G11 -> 0 | I11: =+H11+C11 -> -231535.02 | J11: Provision pour risque et charges
A12: 16210250 | B12: CREDIT STUSID | C12: 0 | D12: 0 | E12: 0 | F12: =SUMIF('OD 01-24'!A:A,A12,'OD 01-24'!D:D) -> 0 | G12: =SUMIF('OD 01-24'!A:A,A12,'OD 01-24'!E:E) -> 0 | H12: =+D12+F12-E12-G12 -> 0 | I12: =+H12+C12 -> 0
A13: 16210500 | B13: CREDITS STB | C13: -2041666.7 | D13: 0 | E13: 0 | F13: =SUMIF('OD 01-24'!A:A,A13,'OD 01-24'!D:D) -> 0 | G13: =SUMIF('OD 01-24'!A:A,A13,'OD 01-24'!E:E) -> 0 | H13: =+D13+F13-E13-G13 -> 0 | I13: =+H13+C13 -> -2041666.7 | J13: Emprunts
A14: 16210960 | B14: CREDITS B.T.K.D | C14: 0 | D14: 0 | E14: 0 | F14: =SUMIF('OD 01-24'!A:A,A14,'OD 01-24'!D:D) -> 0 | G14: =SUMIF('OD 01-24'!A:A,A14,'OD 01-24'!E:E) -> 0 | H14: =+D14+F14-E14-G14 -> 0 | I14: =+H14+C14 -> 0
A15: 16400000 | B15: EMPT.DET.AS.COND.PA. | C15: -103582.69 | D15: 0 | E15: 0 | F15: =SUMIF('OD 01-24'!A:A,A15,'OD 01-24'!D:D) -> 0 | G15: =SUMIF('OD 01-24'!A:A,A15,'OD 01-24'!E:E) -> 0 | H15: =+D15+F15-E15-G15 -> 0 | I15: =+H15+C15 -> -103582.69 | J15: Emprunts
A16: 18800000 | B16: AUTRES | C16: 0 | D16: 0 | E16: 0 | F16: =SUMIF('OD 01-24'!A:A,A16,'OD 01-24'!D:D) -> 0 | G16: =SUMIF('OD 01-24'!A:A,A16,'OD 01-24'!E:E) -> 0 | H16: =+D16+F16-E16-G16 -> 0 | I16: =+H16+C16 -> 0
A17: 21100000 | B17: INVEST.DE RECH.ET DE | C17: 0 | D17: 0 | E17: 0 | F17: =SUMIF('OD 01-24'!A:A,A17,'OD 01-24'!D:D) -> 0 | G17: =SUMIF('OD 01-24'!A:A,A17,'OD 01-24'!E:E) -> 0 | H17: =+D17+F17-E17-G17 -> 0 | I17: =+H17+C17 -> 0
A18: 21300000 | B18: LOGICIELS | C18: 93173.927 | D18: 0 | E18: 0 | F18: =SUMIF('OD 01-24'!A:A,A18,'OD 01-24'!D:D) -> 0 | G18: =SUMIF('OD 01-24'!A:A,A18,'OD 01-24'!E:E) -> 0 | H18: =+D18+F18-E18-G18 -> 0 | I18: =+H18+C18 -> 93173.927 | J18: Immobilisations corporelles et incorp.
A19: 22000000 | B19: IMMOBIL.CORPORELLES | C19: 0 | D19: 0 | E19: 0 | F19: =SUMIF('OD 01-24'!A:A,A19,'OD 01-24'!D:D) -> 0 | G19: =SUMIF('OD 01-24'!A:A,A19,'OD 01-24'!E:E) -> 0 | H19: =+D19+F19-E19-G19 -> 0 | I19: =+H19+C19 -> 0
A20: 22100000 | B20: TERRAINS | C20: 1275724 | D20: 0 | E20: 0 | F20: =SUMIF('OD 01-24'!A:A,A20,'OD 01-24'!D:D) -> 0 | G20: =SUMIF('OD 01-24'!A:A,A20,'OD 01-24'!E:E) -> 0 | H20: =+D20+F20-E20-G20 -> 0 | I20: =+H20+C20 -> 1275724 | J20: Immobilisations corporelles et incorp.
A21: 22160000 | B21: AGEN.AMENAG.D.TERAI | C21: 161921.54 | D21: 0 | E21: 0 | F21: =SUMIF('OD 01-24'!A:A,A21,'OD 01-24'!D:D) -> 0 | G21: =SUMIF('OD 01-24'!A:A,A21,'OD 01-24'!E:E) -> 0 | H21: =+D21+F21-E21-G21 -> 0 | I21: =+H21+C21 -> 161921.54 | J21: Immobilisations corporelles et incorp.
A22: 22200000 | B22: CONSTURCTIONS | C22: 9174898.7 | D22: 0 | E22: 0 | F22: =SUMIF('OD 01-24'!A:A,A22,'OD 01-24'!D:D) -> 0 | G22: =SUMIF('OD 01-24'!A:A,A22,'OD 01-24'!E:E) -> 0 | H22: =+D22+F22-E22-G22 -> 0 | I22: =+H22+C22 -> 9174898.7 | J22: Immobilisations corporelles et incorp.
A23: 22250000 | B23: INSTAL.GL.AGE.AM.CON | C23: 696674.06 | D23: 6883.354 | E23: 0 | F23: =SUMIF('OD 01-24'!A:A,A23,'OD 01-24'!D:D) -> 0 | G23: =SUMIF('OD 01-24'!A:A,A23,'OD 01-24'!E:E) -> 0 | H23: =+D23+F23-E23-G23 -> 6883.354 | I23: =+H23+C23 -> 703557.41 | J23: Immobilisations corporelles et incorp.
A24: 22300000 | B24: INST.TECH.MAT&OUT.IN | C24: 73570.611 | D24: 2800 | E24: 0 | F24: =SUMIF('OD 01-24'!A:A,A24,'OD 01-24'!D:D) -> 0 | G24: =SUMIF('OD 01-24'!A:A,A24,'OD 01-24'!E:E) -> 0 | H24: =+D24+F24-E24-G24 -> 2800 | I24: =+H24+C24 -> 76370.611 | J24: Immobilisations corporelles et incorp.
A25: 22310000 | B25: INSTALLATIONS TECHN | C25: 0 | D25: 2210.924 | E25: 0 | F25: =SUMIF('OD 01-24'!A:A,A25,'OD 01-24'!D:D) -> 0 | G25: =SUMIF('OD 01-24'!A:A,A25,'OD 01-24'!E:E) -> 0 | H25: =+D25+F25-E25-G25 -> 2210.924 | I25: =+H25+C25 -> 2210.924 | J25: Immobilisations corporelles et incorp.
A26: 22340000 | B26: MATERIEL INDUSTRIEL | C26: 24676097 | D26: 20255.85 | E26: 0 | F26: =SUMIF('OD 01-24'!A:A,A26,'OD 01-24'!D:D) -> 0 | G26: =SUMIF('OD 01-24'!A:A,A26,'OD 01-24'!E:E) -> 0 | H26: =+D26+F26-E26-G26 -> 20255.85 | I26: =+H26+C26 -> 24696353 | J26: Immobilisations corporelles et incorp.
A27: 22350000 | B27: OUTILLAGE INDUSTRIEL | C27: 651798.13 | D27: 2690 | E27: 0 | F27: =SUMIF('OD 01-24'!A:A,A27,'OD 01-24'!D:D) -> 0 | G27: =SUMIF('OD 01-24'!A:A,A27,'OD 01-24'!E:E) -> 0 | H27: =+D27+F27-E27-G27 -> 2690 | I27: =+H27+C27 -> 654488.13 | J27: Immobilisations corporelles et incorp.
A28: 22370000 | B28: AGEN.AME.MAT.OUT.IN | C28: 901593.21 | D28: 0 | E28: 0 | F28: =SUMIF('OD 01-24'!A:A,A28,'OD 01-24'!D:D) -> 0 | G28: =SUMIF('OD 01-24'!A:A,A28,'OD 01-24'!E:E) -> 0 | H28: =+D28+F28-E28-G28 -> 0 | I28: =+H28+C28 -> 901593.21 | J28: Immobilisations corporelles et incorp.
A29: 22400000 | B29: MATERIEL DE TRANSPORT | C29: 1176312.6 | D29: 4117.5 | E29: 0 | F29: =SUMIF('OD 01-24'!A:A,A29,'OD 01-24'!D:D) -> 0 | G29: =SUMIF('OD 01-24'!A:A,A29,'OD 01-24'!E:E) -> 0 | H29: =+D29+F29-E29-G29 -> 4117.5 | I29: =+H29+C29 -> 1180430.1 | J29: Immobilisations corporelles et incorp.
A30: 22810000 | B30: INSTAL.GLES.AG.AM.DI | C30: 0 | D30: 0 | E30: 0 | F30: =SUMIF('OD 01-24'!A:A,A30,'OD 01-24'!D:D) -> 0 | G30: =SUMIF('OD 01-24'!A:A,A30,'OD 01-24'!E:E) -> 0 | H30: =+D30+F30-E30-G30 -> 0 | I30: =+H30+C30 -> 0
A31: 22820000 | B31: EQUIPEMENTS DE BURE. | C31: 281171.26 | D31: 12517.12 | E31: 0 | F31: =SUMIF('OD 01-24'!A:A,A31,'OD 01-24'!D:D) -> 0 | G31: =SUMIF('OD 01-24'!A:A,A31,'OD 01-24'!E:E) -> 0 | H31: =+D31+F31-E31-G31 -> 12517.12 | I31: =+H31+C31 -> 293688.38 | J31: Immobilisations corporelles et incorp.
A32: 22830000 | B32: MATERIELS INFORMATIQUES | C32: 243796.17 | D32: 0 | E32: 0 | F32: =SUMIF('OD 01-24'!A:A,A32,'OD 01-24'!D:D) -> 0 | G32: =SUMIF('OD 01-24'!A:A,A32,'OD 01-24'!E:E) -> 0 | H32: =+D32+F32-E32-G32 -> 0 | I32: =+H32+C32 -> 243796.17 | J32: Immobilisations corporelles et incorp.
A33: 23000000 | B33: IMMOBILISATION EN CO | C33: 2e-05 | D33: 0 | E33: 0 | F33: =SUMIF('OD 01-24'!A:A,A33,'OD 01-24'!D:D) -> 0 | G33: =SUMIF('OD 01-24'!A:A,A33,'OD 01-24'!E:E) -> 0 | H33: =+D33+F33-E33-G33 -> 0 | I33: =+H33+C33 -> 2e-05
A34: 23200000 | B34: IMMO.COR.EN COURS | C34: 404721.24 | D34: 0 | E34: 0 | F34: =SUMIF('OD 01-24'!A:A,A34,'OD 01-24'!D:D) -> 0 | G34: =SUMIF('OD 01-24'!A:A,A34,'OD 01-24'!E:E) -> 0 | H34: =+D34+F34-E34-G34 -> 0 | I34: =+H34+C34 -> 404721.24 | J34: Immobilisations corporelles et incorp.
A35: 23220000 | B35: CONSTRUC.EN COURS | C35: 0 | D35: 0 | E35: 0 | F35: =SUMIF('OD 01-24'!A:A,A35,'OD 01-24'!D:D) -> 0 | G35: =SUMIF('OD 01-24'!A:A,A35,'OD 01-24'!E:E) -> 0 | H35: =+D35+F35-E35-G35 -> 0 | I35: =+H35+C35 -> 0 | J35: Immobilisations corporelles et incorp.
A36: 23225000 | B36: INST.GEN.A.A.CONS.CO | C36: 0 | D36: 0 | E36: 0 | F36: =SUMIF('OD 01-24'!A:A,A36,'OD 01-24'!D:D) -> 0 | G36: =SUMIF('OD 01-24'!A:A,A36,'OD 01-24'!E:E) -> 0 | H36: =+D36+F36-E36-G36 -> 0 | I36: =+H36+C36 -> 0
A37: 23231000 | B37: INST.TECHNIQ.EN COU | C37: 0 | D37: 0 | E37: 0 | F37: =SUMIF('OD 01-24'!A:A,A37,'OD 01-24'!D:D) -> 0 | G37: =SUMIF('OD 01-24'!A:A,A37,'OD 01-24'!E:E) -> 0 | H37: =+D37+F37-E37-G37 -> 0 | I37: =+H37+C37 -> 0
A38: 23237000 | B38: A.A MAT&OUT.IND.EN C | C38: 0 | D38: 0 | E38: 0 | F38: =SUMIF('OD 01-24'!A:A,A38,'OD 01-24'!D:D) -> 0 | G38: =SUMIF('OD 01-24'!A:A,A38,'OD 01-24'!E:E) -> 0 | H38: =+D38+F38-E38-G38 -> 0 | I38: =+H38+C38 -> 0
A39: 23250000 | B39: Plantations en cours | C39: 0 | D39: 0 | E39: 0 | F39: =SUMIF('OD 01-24'!A:A,A39,'OD 01-24'!D:D) -> 0 | G39: =SUMIF('OD 01-24'!A:A,A39,'OD 01-24'!E:E) -> 0 | H39: =+D39+F39-E39-G39 -> 0 | I39: =+H39+C39 -> 0
A40: 23800000 | B40: AVC&ACP/COM IMM.INC | C40: 0 | D40: 0 | E40: 0 | F40: =SUMIF('OD 01-24'!A:A,A40,'OD 01-24'!D:D) -> 0 | G40: =SUMIF('OD 01-24'!A:A,A40,'OD 01-24'!E:E) -> 0 | H40: =+D40+F40-E40-G40 -> 0 | I40: =+H40+C40 -> 0
A41: 24000000 | B41: IMMOB.A STAT.JUR.PAR | C41: 770033.76 | D41: 0 | E41: 0 | F41: =SUMIF('OD 01-24'!A:A,A41,'OD 01-24'!D:D) -> 0 | G41: =SUMIF('OD 01-24'!A:A,A41,'OD 01-24'!E:E) -> 0 | H41: =+D41+F41-E41-G41 -> 0 | I41: =+H41+C41 -> 770033.76 | J41: Immobilisations corporelles et incorp.
...

Sheet Stock 31-01-2024
H1: =+SUBTOTAL(9,H4:H3958) -> 15484675
A3: SITE | B3: EMP | C3: Code | D3: Désignation | E3: Unité | F3: Quantité 31/01/2024 | G3: PU | H3: Valeur total | I3: Affectation
A4: 007 | B4: AS01 | C4: 360PMP | D4: PLAQUE M POSITIF | E4: KG | F4: 16007 | G4: 6.8020809 | H4: =+F4*G4 -> 108880.91 | I4: subproduct | L4: Row Labels | M4: Sum of Valeur total
A5: 007 | B5: AS01 | C5: 360PMN | D5: PLAQUE M NEGATIF | E5: KG | F5: 7088 | G5: 6.8542391 | H5: =+F5*G5 -> 48582.847 | I5: subproduct | L5: Finish good | M5: 1579856.8
A6: 007 | B6: AS01 | C6: 600P0004 | D6: PB SB 3.2 | E6: KG | F6: 4000 | G6: 5.6104583 | H6: =+F6*G6 -> 22441.833 | I6: RM | L6: RM | M6: 9671178.3
A7: 007 | B7: CAMION | C7: 10D23255155 | D7: D23-4/5 NR | E7: UN | F7: 3 | G7: 99.291192 | H7: =+F7*G7 -> 297.87358 | I7: RM | L7: spare parts | M7: 694061.89
A8: 007 | B8: CAMION | C8: 10L2B155258 | D8: L2-5/6 PR | E8: UN | F8: 23 | G8: 87.996377 | H8: =+F8*G8 -> 2023.9167 | I8: RM | L8: subproduct | M8: 3539578.2
A9: 007 | B9: CAMION | C9: 10L2H133141 | D9: L2-5/5 GR | E9: UN | F9: 12 | G9: 78.216828 | H9: =+F9*G9 -> 938.60193 | I9: RM | L9: Grand Total | M9: 15484675
A10: 007 | B10: CAMION | C10: 10L3B155258 | D10: L3-6/6 GR | E10: UN | F10: 10 | G10: 106.0052 | H10: =+F10*G10 -> 1060.052 | I10: RM
A11: 007 | B11: CAMION | C11: 10M14 | D11: M14-8/9 GR | E11: UN | F11: 3 | G11: 200 | H11: =+F11*G11 -> 600 | I11: RM
A12: 007 | B12: CAMION | C12: 10NS40 | D12: NS40 N/N | E12: UN | F12: 9 | G12: 78.140734 | H12: =+F12*G12 -> 703.26661 | I12: RM
A13: 007 | B13: CAMION | C13: 21D26 | D13: BAT NF SF D26 OP/NR 5/6 | E13: UN | F13: 9 | G13: 109.42274 | H13: =+F13*G13 -> 984.8047 | I13: RM
A14: 007 | B14: CAMION | C14: 21D31D | D14: BAT NF SF D31 D OP/NR7/8 | E14: UN | F14: 29 | G14: 136.92651 | H14: =+F14*G14 -> 3970.8688 | I14: RM
A15: 007 | B15: CAMION | C15: 21L1B1332 | D15: BAT SF PL1B D GR/GR 4/4 | E15: UN | F15: 17 | G15: 63.717676 | H15: =+F15*G15 -> 1083.2005 | I15: RM
A16: 007 | B16: CAMION | C16: 21L1H1332 | D16: BAT SF PL1H D GR/GR 4/4 | E16: UN | F16: 23 | G16: 65.632973 | H16: =+F16*G16 -> 1509.5584 | I16: RM
A17: 007 | B17: CAMION | C17: 21L5H1332 | D17: BAT SF PL5H D GR/GR 8/8 | E17: UN | F17: 10 | G17: 113.745 | H17: =+F17*G17 -> 1137.45 | I17: RM
A18: 007 | B18: CAMION | C18: 21L6B1551 | D18: BAT SF PL6 LOCAL NR/NR10/10 | E18: UN | F18: 2 | G18: 137.56191 | H18: =+F18*G18 -> 275.12383 | I18: RM
A19: 007 | B19: CAMION | C19: 21NS60 | D19: BAT NF SF NS60 NR/NR 5/6 | E19: UN | F19: 4 | G19: 63.59255 | H19: =+F19*G19 -> 254.3702 | I19: RM
A20: 007 | B20: CAMION | C20: 21PM10 | D20: BAT NF SF M10 GR/GR 5/5 | E20: UN | F20: 11 | G20: 94.482638 | H20: =+F20*G20 -> 1039.309 | I20: RM
A21: 007 | B21: CAMION | C21: 21PM11 | D21: BAT NF SF M11 GR/GR 7/7 | E21: UN | F21: 7 | G21: 107.94313 | H21: =+F21*G21 -> 755.6019 | I21: RM
... A32: 05 | B32: GR01 | C32: 320PBP | D32: grille LB + | E32: KG | F32: 4860 | G32: 7.3343057 | H32: =+F32*G32 -> 35644.726 | I32: RM
A33: 05 | B33: GR01 | C33: 351OGIN | D33: PL OGI- | E33: KG | F33: =560*0.474 -> 265.44 | G33: 7.0506305 | H33: =+F33*G33 -> 1871.5194 | I33: subproduct
A34: 05 | B34: GR01 | C34: 351OGIP | D34: PL OGI+ | E34: KG | F34: =174*0.484 -> 84.216 | G34: 7.665069 | H34: =+F34*G34 -> 645.52145 | I34: subproduct
A35: 05 | B35: GR01 | C35: 351PE274 | D35: PL 274EX | E35: KG | F35: =407*0.82 -> 333.74 | G35: 7.4361531 | H35: =+F35*G35 -> 2481.7417 | I35: subproduct
A36: 05 | B36: GR01 | C36: 351PE289 | D36: PL 289 EX | E36: KG | F36: =937*0.878 -> 822.686 | G36: 7.7544168 | H36: =+F36*G36 -> 6379.4501 | I36: subproduct
A37: 05 | B37: GR01 | C37: 351PE315 | D37: PL 315 EX | E37: KG | F37: =200*1.01 -> 202 | G37: 8.4769599 | H37: =+F37*G37 -> 1712.3459 | I37: subproduct
A38: 05 | B38: GR01 | C38: 351PE399 | D38: PL 399EX | E38: KG | F38: =899*1.194 -> 1073.406 | G38: 8.5028181 | H38: =+F38*G38 -> 9126.976 | I38: subproduct
A39: 05 | B39: GR01 | C39: 351PE429 | D39: PL 429 EX | E39: KG | F39: =76*1.294 -> 98.344 | G39: 8.8322989 | H39: =+F39*G39 -> 868.6036 | I39: subproduct
A40: 05 | B40: GR01 | C40: 351PE534 | D40: PL 534 EX | E40: KG | F40: =670*1.603 -> 1074.01 | G40: 8.8391259 | H40: =+F40*G40 -> 9493.3096 | I40: subproduct
A41: 05 | B41: GR01 | C41: 351PI204 | D41: PL 204 IN | E41: KG | F41: =153*0.96 -> 146.88 | G41: 8.0921513 | H41: =+F41*G41 -> 1188.5752 | I41: subproduct
A42: 05 | B42: GR01 | C42: 351PI274 | D42: PL 274 IN | E42: KG | F42: =58*1.27 -> 73.66 | G42: 7.428387 | H42: =+F42*G42 -> 547.17498 | I42: subproduct
A43: 05 | B43: GR01 | C43: 351PI289 | D43: PL 289 IN | E43: KG | F43: =393*1.345 -> 528.585 | G43: 7.7544168 | H43: =+F43*G43 -> 4098.8684 | I43: subproduct
A44: 05 | B44: GR01 | C44: 351PI399 | D44: PL 399 IN | E44: KG | F44: =494*1.8 -> 889.2 | G44: 7.3772162 | H44: =+F44*G44 -> 6559.8206 | I44: subproduct
A45: 05 | B45: GR01 | C45: 351PI429 | D45: PL 429 IN | E45: KG | F45: =532*1.98 -> 1053.36 | G45: 8.7299647 | H45: =+F45*G45 -> 9195.7956 | I45: subproduct
A46: 05 | B46: GR01 | C46: 351PI534 | D46: PL 534 IN | E46: KG | F46: =310*2.415 -> 748.65 | G46: 8.690209 | H46: =+F46*G46 -> 6505.925 | I46: subproduct
A47: 05 | B47: GR01 | C47: 351PT274 | D47: PL 274 TUB | E47: KG | F47: =52*1.49 -> 77.48 | G47: 6.8178739 | H47: =+F47*G47 -> 528.24887 | I47: subproduct
A48: 05 | B48: GR01 | C48: 351PT315 | D48: PL 315 TUB | E48: KG | F48: =23*1.74 -> 40.02 | G48: 6.8589529 | H48: =+F48*G48 -> 274.4953 | I48: subproduct
A49: 05 | B49: GR01 | C49: 351PT399 | D49: PL 399 TUB | E49: KG | F49: =82*2.212 -> 181.384 | G49: 6.5569279 | H49: =+F49*G49 -> 1189.3218 | I49: subproduct
A50: 05 | B50: GR01 | C50: 351PT534 | D50: PL 534 TUB | E50: KG | F50: =156*2.71 -> 422.76 | G50: 6.2847302 | H50: =+F50*G50 -> 2656.9325 | I50: subproduct
A51: 05 | B51: GR01 | C51: 360PMN | D51: Plaque M- | E51: UN | F51: 23588 | G51: 6.8542391 | H51: =+F51*G51 -> 161677.79 | I51: subproduct
...

Sheet OD 02-23
A1: CompteGen | B1: Libelle | C1: SoldeDebut | D1: Debit | E1: Credit | F1: Variation | G1: SoldeFin
A2: 13000000 | B2: RESULT. DE L'EXERCIC. | C2: 0 | D2: 0 | E2: 0 | F2: 0 | G2: 0
A3: 14508000 | B3: AMORT.DES SUBV.D'INV | C3: 21896.933 | D3: 21896.933 | E3: 0 | F3: 21896.933 | G3: 43793.866
A4: 22825000 | C4: 0 | D4: 0 | E4: 0 | F4: 0 | G4: 0
A5: 28130000 | B5: LOGICIELS | C5: -498.408 | D5: 0 | E5: 465.181 | F5: -465.181 | G5: -963.589
A6: 28216000 | B6: AMOR.AGE.&AME.D.TER | C6: -231.89 | D6: 0 | E6: 216.431 | F6: -216.431 | G6: -448.321
A7: 28220000 | B7: AMORTISSEMENT/CONS | C7: -37206.669 | D7: 0 | E7: 34726.224 | F7: -34726.224 | G7: -71932.893
A8: 28225000 | B8: AMOR.INS.GEN.AG&A.C | C8: -1791.536 | D8: 0 | E8: 4097.312 | F8: -4097.312 | G8: -5888.848
A9: 28230000 | B9: AMO.INS.TECH.M.OU.IN | C9: -4389.771 | D9: 0 | E9: 1672.1 | F9: -1672.1 | G9: -6061.871
A10: 28234000 | B10: AMORT./MATERIEL IND. | C10: -116880.21 | D10: 0 | E10: 109549.5 | F10: -109549.5 | G10: -226429.71
A11: 28235000 | B11: AMORT./OUTIL.INDUST. | C11: -7034.595 | D11: 0 | E11: 6009.539 | F11: -6009.539 | G11: -13044.134
A12: 28237000 | B12: AMOR./AGC&AMEG.M.O. | C12: -1805.746 | D12: 0 | E12: 1685.363 | F12: -1685.363 | G12: -3491.109
A13: 28240000 | B13: AMORT.MAT.DE TRANS | C13: -12427.078 | D13: 0 | E13: 10647.098 | F13: -10647.098 | G13: -23074.176
A14: 28282000 | B14: AMOR.EQUIP.DE BURE. | C14: -4546.049 | D14: 0 | E14: 4171.114 | F14: -4171.114 | G14: -8717.163
A15: 28283000 | B15: AMORT.MAT.INFORMATIQUE | C15: -1898.033 | D15: 0 | E15: 1937.649 | F15: -1937.649 | G15: -3835.682
A16: 28400000 | B16: Amort.immob.carc.jur.par | C16: -6242.013 | D16: 0 | E16: 5825.879 | F16: -5825.879 | G16: -12067.892
... A69: 73900000 | B69: Quote.parts subv.d'inves | C69: -21896.933 | D69: 0 | E69: 21896.933 | F69: -21896.933 | G69: -43793.866
C70: =SUM(C2:C69) -> -2.1354936e-09 | D70: =SUM(D2:D69) -> 31192425 | E70: =SUM(E2:E69) -> 31192425 | F70: =+D70-E70 -> 0 | G70: =+C70+F70 -> -2.1354936e-09

Sheet BAL 02-23
A1: Compte | B1: Libelle | C1: SoldeDebut | D1: Debit | E1: Crédit | F1: Debit OD | G1: Credit OD | H1: Variation | I1: Solde Fin | J1: Affect° 2023
A2: 10100000 | B2: CAPITAL SOCIAL | C2: -13500000 | D2: 0 | E2: 0 | F2: =SUMIF('OD 02-23'!A:A,A2,'OD 02-23'!D:D) -> 0 | G2: =SUMIF('OD 02-23'!A:A,A2,'OD 02-23'!E:E) -> 0 | H2: =+D2+F2-E2-G2 -> 0 | I2: =+H2+C2 -> -13500000 | J2: Capital social
A3: 11101000 | B3: RESERVES LEGALES | C3: -1200000 | D3: 0 | E3: 0 | F3: =SUMIF('OD 02-23'!A:A,A3,'OD 02-23'!D:D) -> 0 | G3: =SUMIF('OD 02-23'!A:A,A3,'OD 02-23'!E:E) -> 0 | H3: =+D3+F3-E3-G3 -> 0 | I3: =+H3+C3 -> -1200000 | J3: Réserves légales
A4: 12100000 | B4: RESULTAT REPORTES | C4: -18559399 | D4: 0 | E4: 0 | F4: =SUMIF('OD 02-23'!A:A,A4,'OD 02-23'!D:D) -> 0 | G4: =SUMIF('OD 02-23'!A:A,A4,'OD 02-23'!E:E) -> 0 | H4: =+D4+F4-E4-G4 -> 0 | I4: =+H4+C4 -> -18559399 | J4: Résultats reportés
A5: 12200000 | B5: ammortisssemnts differes | C5: 0 | D5: 0 | E5: 0 | F5: =SUMIF('OD 02-23'!A:A,A5,'OD 02-23'!D:D) -> 0 | G5: =SUMIF('OD 02-23'!A:A,A5,'OD 02-23'!E:E) -> 0 | H5: =+D5+F5-E5-G5 -> 0 | I5: =+H5+C5 -> 0
A6: 12800000 | B6: MODI.COM.EFF.RLT.REP | C6: 3022190.2 | D6: 0 | E6: 0 | F6: =SUMIF('OD 02-23'!A:A,A6,'OD 02-23'!D:D) -> 0 | G6: =SUMIF('OD 02-23'!A:A,A6,'OD 02-23'!E:E) -> 0 | H6: =+D6+F6-E6-G6 -> 0 | I6: =+H6+C6 -> 3022190.2 | J6: Modification comptable
A7: 13000000 | B7: RESULT. DE L'EXERCIC. | C7: 0 | D7: 0 | E7: 0 | F7: =SUMIF('OD 02-23'!A:A,A7,'OD 02-23'!D:D) -> 0 | G7: =SUMIF('OD 02-23'!A:A,A7,'OD 02-23'!E:E) -> 0 | H7: =+D7+F7-E7-G7 -> 0 | I7: =+H7+C7 -> 0
A8: 14500000 | B8: SUBVENTIONS D'INVES. | C8: -3479108.8 | D8: 0 | E8: 0 | F8: =SUMIF('OD 02-23'!A:A,A8,'OD 02-23'!D:D) -> 0 | G8: =SUMIF('OD 02-23'!A:A,A8,'OD 02-23'!E:E) -> 0 | H8: =+D8+F8-E8-G8 -> 0 | I8: =+H8+C8 -> -3479108.8 | J8: Subvention d'investissement
A9: 14508000 | B9: AMORT.DES SUBV.D'INV | C9: 2378667 | D9: 0 | E9: 0 | F9: =SUMIF('OD 02-23'!A:A,A9,'OD 02-23'!D:D) -> 21896.933 | G9: =SUMIF('OD 02-23'!A:A,A9,'OD 02-23'!E:E) -> 0 | H9: =+D9+F9-E9-G9 -> 21896.933 | I9: =+H9+C9 -> 2400564 | J9: Amortissement subvention d'investissement
A10: 15100000 | B10: PROVI.POUR RISQUES | C10: -22564.956 | D10: 0 | E10: 0 | F10: =SUMIF('OD 02-23'!A:A,A10,'OD 02-23'!D:D) -> 0 | G10: =SUMIF('OD 02-23'!A:A,A10,'OD 02-23'!E:E) -> 0 | H10: =+D10+F10-E10-G10 -> 0 | I10: =+H10+C10 -> -22564.956 | J10: Provision pour risque et charges
A11: 16210250 | B11: CREDIT STUSID | C11: 0 | D11: 0 | E11: 0 | F11: =SUMIF('OD 02-23'!A:A,A11,'OD 02-23'!D:D) -> 0 | G11: =SUMIF('OD 02-23'!A:A,A11,'OD 02-23'!E:E) -> 0 | H11: =+D11+F11-E11-G11 -> 0 | I11: =+H11+C11 -> 0
A12: 16210500 | B12: CREDITS STB | C12: -1041666.7 | D12: 0 | E12: 0 | F12: =SUMIF('OD 02-23'!A:A,A12,'OD 02-23'!D:D) -> 0 | G12: =SUMIF('OD 02-23'!A:A,A12,'OD 02-23'!E:E) -> 0 | H12: =+D12+F12-E12-G12 -> 0 | I12: =+H12+C12 -> -1041666.7 | J12: Emprunts
A13: 16210960 | B13: CREDITS B.T.K.D | C13: 0 | D13: 0 | E13: 0 | F13: =SUMIF('OD 02-23'!A:A,A13,'OD 02-23'!D:D) -> 0 | G13: =SUMIF('OD 02-23'!A:A,A13,'OD 02-23'!E:E) -> 0 | H13: =+D13+F13-E13-G13 -> 0 | I13: =+H13+C13 -> 0
A14: 16400000 | B14: EMPT.DET.AS.COND.PA. | C14: -173470.93 | D14: 0 | E14: 0 | F14: =SUMIF('OD 02-23'!A:A,A14,'OD 02-23'!D:D) -> 0 | G14: =SUMIF('OD 02-23'!A:A,A14,'OD 02-23'!E:E) -> 0 | H14: =+D14+F14-E14-G14 -> 0 | I14: =+H14+C14 -> -173470.93 | J14: Emprunts
A15: 18800000 | B15: AUTRES | C15: 0 | D15: 0 | E15: 0 | F15: =SUMIF('OD 02-23'!A:A,A15,'OD 02-23'!D:D) -> 0 | G15: =SUMIF('OD 02-23'!A:A,A15,'OD 02-23'!E:E) -> 0 | H15: =+D15+F15-E15-G15 -> 0 | I15: =+H15+C15 -> 0
A16: 21100000 | B16: INVEST.DE RECH.ET DE | C16: 0 | D16: 0 | E16: 0 | F16: =SUMIF('OD 02-23'!A:A,A16,'OD 02-23'!D:D) -> 0 | G16: =SUMIF('OD 02-23'!A:A,A16,'OD 02-23'!E:E) -> 0 | H16: =+D16+F16-E16-G16 -> 0 | I16: =+H16+C16 -> 0
A17: 21300000 | B17: LOGICIELS | C17: 80409.227 | D17: 2250 | E17: 0 | F17: =SUMIF('OD 02-23'!A:A,A17,'OD 02-23'!D:D) -> 0 | G17: =SUMIF('OD 02-23'!A:A,A17,'OD 02-23'!E:E) -> 0 | H17: =+D17+F17-E17-G17 -> 2250 | I17: =+H17+C17 -> 82659.227 | J17: Immobilisations corporelles et incorp.
A18: 22000000 | B18: IMMOBIL.CORPORELLES | C18: 0 | D18: 0 | E18: 0 | F18: =SUMIF('OD 02-23'!A:A,A18,'OD 02-23'!D:D) -> 0 | G18: =SUMIF('OD 02-23'!A:A,A18,'OD 02-23'!E:E) -> 0 | H18: =+D18+F18-E18-G18 -> 0 | I18: =+H18+C18 -> 0
A19: 22100000 | B19: TERRAINS | C19: 1275724 | D19: 0 | E19: 0 | F19: =SUMIF('OD 02-23'!A:A,A19,'OD 02-23'!D:D) -> 0 | G19: =SUMIF('OD 02-23'!A:A,A19,'OD 02-23'!E:E) -> 0 | H19: =+D19+F19-E19-G19 -> 0 | I19: =+H19+C19 -> 1275724 | J19: Immobilisations corporelles et incorp.
A20: 22160000 | B20: AGEN.AMENAG.D.TERAI | C20: 161921.54 | D20: 0 | E20: 0 | F20: =SUMIF('OD 02-23'!A:A,A20,'OD 02-23'!D:D) -> 0 | G20: =SUMIF('OD 02-23'!A:A,A20,'OD 02-23'!E:E) -> 0 | H20: =+D20+F20-E20-G20 -> 0 | I20: =+H20+C20 -> 161921.54 | J20: Immobilisations corporelles et incorp.
A21: 22200000 | B21: CONSTURCTIONS | C21: 9027583.1 | D21: 0 | E21: 0 | F21: =SUMIF('OD 02-23'!A:A,A21,'OD 02-23'!D:D) -> 0 | G21: =SUMIF('OD 02-23'!A:A,A21,'OD 02-23'!E:E) -> 0 | H21: =+D21+F21-E21-G21 -> 0 | I21: =+H21+C21 -> 9027583.1 | J21: Immobilisations corporelles et incorp.
A22: 22250000 | B22: INSTAL.GL.AGE.AM.CON | C22: 601000.28 | D22: 0 | E22: 0 | F22: =SUMIF('OD 02-23'!A:A,A22,'OD 02-23'!D:D) -> 0 | G22: =SUMIF('OD 02-23'!A:A,A22,'OD 02-23'!E:E) -> 0 | H22: =+D22+F22-E22-G22 -> 0 | I22: =+H22+C22 -> 601000.28 | J22: Immobilisations corporelles et incorp.
A23: 22300000 | B23: INST.TECH.MAT&OUT.IN | C23: 65870.611 | D23: 0 | E23: 0 | F23: =SUMIF('OD 02-23'!A:A,A23,'OD 02-23'!D:D) -> 0 | G23: =SUMIF('OD 02-23'!A:A,A23,'OD 02-23'!E:E) -> 0 | H23: =+D23+F23-E23-G23 -> 0 | I23: =+H23+C23 -> 65870.611 | J23: Immobilisations corporelles et incorp.
A24: 22310000 | B24: INSTALLATIONS TECHN | C24: 0 | D24: 0 | E24: 0 | F24: =SUMIF('OD 02-23'!A:A,A24,'OD 02-23'!D:D) -> 0 | G24: =SUMIF('OD 02-23'!A:A,A24,'OD 02-23'!E:E) -> 0 | H24: =+D24+F24-E24-G24 -> 0 | I24: =+H24+C24 -> 0
A25: 22340000 | B25: MATERIEL INDUSTRIEL | C25: 22047222 | D25: 14069.731 | E25: 0 | F25: =SUMIF('OD 02-23'!A:A,A25,'OD 02-23'!D:D) -> 0 | G25: =SUMIF('OD 02-23'!A:A,A25,'OD 02-23'!E:E) -> 0 | H25: =+D25+F25-E25-G25 -> 14069.731 | I25: =+H25+C25 -> 22061292 | J25: Immobilisations corporelles et incorp.
A26: 22350000 | B26: OUTILLAGE INDUSTRIEL | C26: 596723.13 | D26: 7595.2 | E26: 0 | F26: =SUMIF('OD 02-23'!A:A,A26,'OD 02-23'!D:D) -> 0 | G26: =SUMIF('OD 02-23'!A:A,A26,'OD 02-23'!E:E) -> 0 | H26: =+D26+F26-E26-G26 -> 7595.2 | I26: =+H26+C26 -> 604318.33 | J26: Immobilisations corporelles et incorp.
A27: 22370000 | B27: AGEN.AME.MAT.OUT.IN | C27: 879252.86 | D27: 0 | E27: 0 | F27: =SUMIF('OD 02-23'!A:A,A27,'OD 02-23'!D:D) -> 0 | G27: =SUMIF('OD 02-23'!A:A,A27,'OD 02-23'!E:E) -> 0 | H27: =+D27+F27-E27-G27 -> 0 | I27: =+H27+C27 -> 879252.86 | J27: Immobilisations corporelles et incorp.
A28: 22400000 | B28: MATERIEL DE TRANSPORT | C28: 952007.86 | D28: 0 | E28: 0 | F28: =SUMIF('OD 02-23'!A:A,A28,'OD 02-23'!D:D) -> 0 | G28: =SUMIF('OD 02-23'!A:A,A28,'OD 02-23'!E:E) -> 0 | H28: =+D28+F28-E28-G28 -> 0 | I28: =+H28+C28 -> 952007.86 | J28: Immobilisations corporelles et incorp.
A29: 22810000 | B29: INSTAL.GLES.AG.AM.DI | C29: 0 | D29: 0 | E29: 0 | F29: =SUMIF('OD 02-23'!A:A,A29,'OD 02-23'!D:D) -> 0 | G29: =SUMIF('OD 02-23'!A:A,A29,'OD 02-23'!E:E) -> 0 | H29: =+D29+F29-E29-G29 -> 0 | I29: =+H29+C29 -> 0
A30: 22820000 | B30: EQUIPEMENTS DE BURE. | C30: 248575.93 | D30: 394 | E30: 0 | F30: =SUMIF('OD 02-23'!A:A,A30,'OD 02-23'!D:D) -> 0 | G30: =SUMIF('OD 02-23'!A:A,A30,'OD 02-23'!E:E) -> 0 | H30: =+D30+F30-E30-G30 -> 394 | I30: =+H30+C30 -> 248969.93 | J30: Immobilisations corporelles et incorp.
A31: 22830000 | B31: MATERIELS INFORMATIQUES | C31: 157309.57 | D31: 4195 | E31: 0 | F31: =SUMIF('OD 02-23'!A:A,A31,'OD 02-23'!D:D) -> 0 | G31: =SUMIF('OD 02-23'!A:A,A31,'OD 02-23'!E:E) -> 0 | H31: =+D31+F31-E31-G31 -> 4195 | I31: =+H31+C31 -> 161504.57 | J31: Immobilisations corporelles et incorp.
A32: 23000000 | B32: IMMOBILISATION EN CO | C32: 2e-05 | D32: 0 | E32: 0 | F32: =SUMIF('OD 02-23'!A:A,A32,'OD 02-23'!D:D) -> 0 | G32: =SUMIF('OD 02-23'!A:A,A32,'OD 02-23'!E:E) -> 0 | H32: =+D32+F32-E32-G32 -> 0 | I32: =+H32+C32 -> 2e-05
A33: 23200000 | B33: IMMO.COR.EN COURS | C33: 2440755.5 | D33: 0 | E33: 0 | F33: =SUMIF('OD 02-23'!A:A,A33,'OD 02-23'!D:D) -> 0 | G33: =SUMIF('OD 02-23'!A:A,A33,'OD 02-23'!E:E) -> 0 | H33: =+D33+F33-E33-G33 -> 0 | I33: =+H33+C33 -> 2440755.5 | J33: Immobilisations corporelles et incorp.
A34: 23220000 | B34: CONSTRUC.EN COURS | C34: 38414.472 | D34: 6197.669 | E34: 0 | F34: =SUMIF('OD 02-23'!A:A,A34,'OD 02-23'!D:D) -> 0 | G34: =SUMIF('OD 02-23'!A:A,A34,'OD 02-23'!E:E) -> 0 | H34: =+D34+F34-E34-G34 -> 6197.669 | I34: =+H34+C34 -> 44612.141 | J34: Immobilisations corporelles et incorp.
A35: 23225000 | B35: INST.GEN.A.A.CONS.CO | C35: 0 | D35: 0 | E35: 0 | F35: =SUMIF('OD 02-23'!A:A,A35,'OD 02-23'!D:D) -> 0 | G35: =SUMIF('OD 02-23'!A:A,A35,'OD 02-23'!E:E) -> 0 | H35: =+D35+F35-E35-G35 -> 0 | I35: =+H35+C35 -> 0
A36: 23231000 | B36: INST.TECHNIQ.EN COU | C36: 0 | D36: 0 | E36: 0 | F36: =SUMIF('OD 02-23'!A:A,A36,'OD 02-23'!D:D) -> 0 | G36: =SUMIF('OD 02-23'!A:A,A36,'OD 02-23'!E:E) -> 0 | H36: =+D36+F36-E36-G36 -> 0 | I36: =+H36+C36 -> 0
A37: 23237000 | B37: A.A MAT&OUT.IND.EN C | C37: 0 | D37: 0 | E37: 0 | F37: =SUMIF('OD 02-23'!A:A,A37,'OD 02-23'!D:D) -> 0 | G37: =SUMIF('OD 02-23'!A:A,A37,'OD 02-23'!E:E) -> 0 | H37: =+D37+F37-E37-G37 -> 0 | I37: =+H37+C37 -> 0
A38: 23250000 | B38: Plantations en cours | C38: 0 | D38: 0 | E38: 0 | F38: =SUMIF('OD 02-23'!A:A,A38,'OD 02-23'!D:D) -> 0 | G38: =SUMIF('OD 02-23'!A:A,A38,'OD 02-23'!E:E) -> 0 | H38: =+D38+F38-E38-G38 -> 0 | I38: =+H38+C38 -> 0
A39: 23800000 | B39: AVC&ACP/COM IMM.INC | C39: 0 | D39: 0 | E39: 0 | F39: =SUMIF('OD 02-23'!A:A,A39,'OD 02-23'!D:D) -> 0 | G39: =SUMIF('OD 02-23'!A:A,A39,'OD 02-23'!E:E) -> 0 | H39: =+D39+F39-E39-G39 -> 0 | I39: =+H39+C39 -> 0
A40: 24000000 | B40: IMMOB.A STAT.JUR.PAR | C40: 703370.38 | D40: 0 | E40: 0 | F40: =SUMIF('OD 02-23'!A:A,A40,'OD 02-23'!D:D) -> 0 | G40: =SUMIF('OD 02-23'!A:A,A40,'OD 02-23'!E:E) -> 0 | H40: =+D40+F40-E40-G40 -> 0 | I40: =+H40+C40 -> 703370.38 | J40: Immobilisations corporelles et incorp.
...

Sheet BAL 03-23
A1: Compte | B1: Libelle | C1: SoldeDebut | D1: Debit | E1: Crédit | F1: Debit OD | G1: Credit OD | H1: Variation | I1: Solde Fin | J1: Affect° 2023
A2: 10100000 | B2: CAPITAL SOCIAL | C2: -13500000 | D2: 0 | E2: 0 | F2: 0 | G2: 0 | H2: 0 | I2: -13500000 | J2: Capital social
A3: 11101000 | B3: RESERVES LEGALES | C3: -1200000 | D3: 0 | E3: 0 | F3: 0 | G3: 0 | H3: 0 | I3: -1200000 | J3: Réserves légales
A4: 12100000 | B4: RESULTAT REPORTES | C4: -18559399 | D4: 0 | E4: 0 | F4: 0 | G4: 0 | H4: 0 | I4: -18559399 | J4: Résultats reportés
A5: 12200000 | B5: ammortisssemnts differes | C5: 0 | D5: 0 | E5: 0 | F5: 0 | G5: 0 | H5: 0 | I5: 0
A6: 12800000 | B6: MODI.COM.EFF.RLT.REP | C6: 3022190.2 | D6: 0 | E6: 0 | F6: 0 | G6: 0 | H6: 0 | I6: 3022190.2 | J6: Modification comptable
A7: 13000000 | B7: RESULT. DE L'EXERCIC. | C7: 0 | D7: 0 | E7: 0 | F7: 0 | G7: 0 | H7: 0 | I7: 0
A8: 14500000 | B8: SUBVENTIONS D'INVES. | C8: -3479108.8 | D8: 0 | E8: 0 | F8: 0 | G8: 0 | H8: 0 | I8: -3479108.8 | J8: Subvention d'investissement
A9: 14508000 | B9: AMORT.DES SUBV.D'INV | C9: 2400564 | D9: 0 | E9: 0 | F9: 21896.933 | G9: 0 | H9: 21896.933 | I9: 2422460.9 | J9: Amortissement subvention d'investissement
A10: 15100000 | B10: PROVI.POUR RISQUES | C10: -22564.956 | D10: 0 | E10: 0 | F10: 0 | G10: 0 | H10: 0 | I10: -22564.956 | J10: Provision pour risque et charges
A11: 16210250 | B11: CREDIT STUSID | C11: 0 | D11: 0 | E11: 0 | F11: 0 | G11: 0 | H11: 0 | I11: 0
A12: 16210500 | B12: CREDITS STB | C12: -1041666.7 | D12: 0 | E12: 0 | F12: 0 | G12: 0 | H12: 0 | I12: -1041666.7 | J12: Emprunts
A13: 16210960 | B13: CREDITS B.T.K.D | C13: 0 | D13: 0 | E13: 0 | F13: 0 | G13: 0 | H13: 0 | I13: 0
A14: 16400000 | B14: EMPT.DET.AS.COND.PA. | C14: -173470.93 | D14: 0 | E14: 61996.023 | F14: 0 | G14: 0 | H14: -61996.023 | I14: -235466.96 | J14: Emprunts
A15: 18800000 | B15: AUTRES | C15: 0 | D15: 0 | E15: 0 | F15: 0 | G15: 0 | H15: 0 | I15: 0
A16: 21100000 | B16: INVEST.DE RECH.ET DE | C16: 0 | D16: 0 | E16: 0 | F16: 0 | G16: 0 | H16: 0 | I16: 0
A17: 21300000 | B17: LOGICIELS | C17: 82659.227 | D17: 0 | E17: 0 | F17: 0 | G17: 0 | H17: 0 | I17: 82659.227 | J17: Immobilisations corporelles et incorp.
A18: 22000000 | B18: IMMOBIL.CORPORELLES | C18: 0 | D18: 0 | E18: 0 | F18: 0 | G18: 0 | H18: 0 | I18: 0
A19: 22100000 | B19: TERRAINS | C19: 1275724 | D19: 0 | E19: 0 | F19: 0 | G19: 0 | H19: 0 | I19: 1275724 | J19: Immobilisations corporelles et incorp.
A20: 22160000 | B20: AGEN.AMENAG.D.TERAI | C20: 161921.54 | D20: 0 | E20: 0 | F20: 0 | G20: 0 | H20: 0 | I20: 161921.54 | J20: Immobilisations corporelles et incorp.
A21: 22200000 | B21: CONSTURCTIONS | C21: 9027583.1 | D21: 0 | E21: 0 | F21: 0 | G21: 0 | H21: 0 | I21: 9027583.1 | J21: Immobilisations corporelles et incorp.
A22: 22250000 | B22: INSTAL.GL.AGE.AM.CON | C22: 601000.28 | D22: 0 | E22: 0 | F22: 0 | G22: 0 | H22: 0 | I22: 601000.28 | J22: Immobilisations corporelles et incorp.
A23: 22300000 | B23: INST.TECH.MAT&OUT.IN | C23: 65870.611 | D23: 4500 | E23: 0 | F23: 0 | G23: 0 | H23: 4500 | I23: 70370.611 | J23: Immobilisations corporelles et incorp.
A24: 22310000 | B24: INSTALLATIONS TECHN | C24: 0 | D24: 0 | E24: 0 | F24: 0 | G24: 0 | H24: 0 | I24: 0
A25: 22340000 | B25: MATERIEL INDUSTRIEL | C25: 22061292 | D25: 2007865.5 | E25: 0 | F25: 0 | G25: 0 | H25: 2007865.5 | I25: 24069157 | J25: Immobilisations corporelles et incorp.
A26: 22350000 | B26: OUTILLAGE INDUSTRIEL | C26: 604318.33 | D26: 2045.265 | E26: 0 | F26: 0 | G26: 0 | H26: 2045.265 | I26: 606363.59 | J26: Immobilisations corporelles et incorp.
A27: 22370000 | B27: AGEN.AME.MAT.OUT.IN | C27: 879252.86 | D27: 0 | E27: 0 | F27: 0 | G27: 0 | H27: 0 | I27: 879252.86 | J27: Immobilisations corporelles et incorp.
A28: 22400000 | B28: MATERIEL DE TRANSPORT | C28: 952007.86 | D28: 0 | E28: 0 | F28: 0 | G28: 0 | H28: 0 | I28: 952007.86 | J28: Immobilisations corporelles et incorp.
A29: 22810000 | B29: INSTAL.GLES.AG.AM.DI | C29: 0 | D29: 0 | E29: 0 | F29: 0 | G29: 0 | H29: 0 | I29: 0
A30: 22820000 | B30: EQUIPEMENTS DE BURE. | C30: 248969.93 | D30: 3607.383 | E30: 0 | F30: 0 | G30: 0 | H30: 3607.383 | I30: 252577.31 | J30: Immobilisations corporelles et incorp.
A31: 22830000 | B31: MATERIELS INFORMATIQUES | C31: 161504.57 | D31: 43088.079 | E31: 0 | F31: 0 | G31: 0 | H31: 43088.079 | I31: 204592.65 | J31: Immobilisations corporelles et incorp.
A32: 23000000 | B32: IMMOBILISATION EN CO | C32: 2e-05 | D32: 0 | E32: 0 | F32: 0 | G32: 0 | H32: 0 | I32: 2e-05
A33: 23200000 | B33: IMMO.COR.EN COURS | C33: 2440755.5 | D33: 0 | E33: 2007865.5 | F33: 0 | G33: 0 | H33: -2007865.5 | I33: 432889.96 | J33: Immobilisations corporelles et incorp.
A34: 23220000 | B34: CONSTRUC.EN COURS | C34: 44612.141 | D34: 45974.972 | E34: 0 | F34: 0 | G34: 0 | H34: 45974.972 | I34: 90587.113 | J34: Immobilisations corporelles et incorp.
A35: 23225000 | B35: INST.GEN.A.A.CONS.CO | C35: 0 | D35: 0 | E35: 0 | F35: 0 | G35: 0 | H35: 0 | I35: 0
A36: 23231000 | B36: INST.TECHNIQ.EN COU | C36: 0 | D36: 0 | E36: 0 | F36: 0 | G36: 0 | H36: 0 | I36: 0
A37: 23237000 | B37: A.A MAT&OUT.IND.EN C | C37: 0 | D37: 0 | E37: 0 | F37: 0 | G37: 0 | H37: 0 | I37: 0
A38: 23250000 | B38: Plantations en cours | C38: 0 | D38: 0 | E38: 0 | F38: 0 | G38: 0 | H38: 0 | I38: 0
A39: 23800000 | B39: AVC&ACP/COM IMM.INC | C39: 0 | D39: 0 | E39: 0 | F39: 0 | G39: 0 | H39: 0 | I39: 0
A40: 24000000 | B40: IMMOB.A STAT.JUR.PAR | C40: 703370.38 | D40: 86997.273 | E40: 0 | F40: 0 | G40: 0 | H40: 86997.273 | I40: 790367.65 | J40: Immobilisations corporelles et incorp.
...

Sheet BAL 04-23
A2: Compte | B2: Libelle | C2: SoldeDebut | D2: Debit | E2: Crédit | F2: Debit OD | G2: Credit OD | H2: Variation | I2: Solde Fin | J2: Affect° 2023
A3: 10100000 | B3: CAPITAL SOCIAL | C3: -13500000 | D3: 0 | E3: 0 | F3: 0 | G3: 0 | H3: 0 | I3: -13500000 | J3: Capital social | K3: 0
A4: 11101000 | B4: RESERVES LEGALES | C4: -1200000 | D4: 0 | E4: 0 | F4: 0 | G4: 0 | H4: 0 | I4: -1200000 | J4: Réserves légales | K4: 0
A5: 12100000 | B5: RESULTAT REPORTES | C5: -18641004 | D5: 0 | E5: 0 | F5: 0 | G5: 0 | H5: 0 | I5: -18641004 | J5: Résultats reportés | K5: 0
A6: 12200000 | B6: ammortisssemnts differes | C6: 0 | D6: 0 | E6: 0 | F6: 0 | G6: 0 | H6: 0 | I6: 0 | J6: 0 | K6: 0
A7: 12800000 | B7: MODI.COM.EFF.RLT.REP | C7: 3022190.2 | D7: 0 | E7: 0 | F7: 0 | G7: 0 | H7: 0 | I7: 3022190.2 | J7: Modification comptable | K7: 0
A8: 13000000 | B8: RESULT. DE L'EXERCIC. | C8: 0 | D8: 0 | E8: 0 | F8: 0 | G8: 0 | H8: 0 | I8: 0 | J8: 0 | K8: 0
A9: 14500000 | B9: SUBVENTIONS D'INVES. | C9: -3479108.8 | D9: 0 | E9: 0 | F9: 0 | G9: 0 | H9: 0 | I9: -3479108.8 | J9: Subvention d'investissement | K9: 0
A10: 14508000 | B10: AMORT.DES SUBV.D'INV | C10: 2422460.9 | D10: 0 | E10: 0 | F10: 21896.933 | G10: 0 | H10: 21896.933 | I10: 2444357.8 | J10: Amortissement subvention d'investissement | K10: 0
A11: 15100000 | B11: PROVI.POUR RISQUES | C11: -22564.956 | D11: 0 | E11: 0 | F11: 0 | G11: 0 | H11: 0 | I11: -22564.956 | J11: Provision pour risque et charges | K11: 0
A12: 16210250 | B12: CREDIT STUSID | C12: 0 | D12: 0 | E12: 0 | F12: 0 | G12: 0 | H12: 0 | I12: 0 | J12: 0 | K12: 0
A13: 16210500 | B13: CREDITS STB | C13: -1041666.7 | D13: 0 | E13: 0 | F13: 0 | G13: 0 | H13: 0 | I13: -1041666.7 | J13: Emprunts | K13: 0
A14: 16210960 | B14: CREDITS B.T.K.D | C14: 0 | D14: 0 | E14: 0 | F14: 0 | G14: 0 | H14: 0 | I14: 0 | J14: 0 | K14: 0
A15: 16400000 | B15: EMPT.DET.AS.COND.PA. | C15: -235466.96 | D15: 0 | E15: 0 | F15: 0 | G15: 0 | H15: 0 | I15: -235466.96 | J15: Emprunts | K15: 0
A16: 18800000 | B16: AUTRES | C16: 0 | D16: 0 | E16: 0 | F16: 0 | G16: 0 | H16: 0 | I16: 0 | J16: 0 | K16: 0
A17: 21100000 | B17: INVEST.DE RECH.ET DE | C17: 0 | D17: 0 | E17: 0 | F17: 0 | G17: 0 | H17: 0 | I17: 0 | J17: 0 | K17: 0
A18: 21300000 | B18: LOGICIELS | C18: 82659.227 | D18: 0 | E18: 0 | F18: 0 | G18: 0 | H18: 0 | I18: 82659.227 | J18: Immobilisations corporelles et incorp. | K18: 0
A19: 22000000 | B19: IMMOBIL.CORPORELLES | C19: 0 | D19: 0 | E19: 0 | F19: 0 | G19: 0 | H19: 0 | I19: 0 | J19: 0 | K19: 0
A20: 22100000 | B20: TERRAINS | C20: 1275724 | D20: 0 | E20: 0 | F20: 0 | G20: 0 | H20: 0 | I20: 1275724 | J20: Immobilisations corporelles et incorp. | K20: 0
A21: 22160000 | B21: AGEN.AMENAG.D.TERAI | C21: 161921.54 | D21: 0 | E21: 0 | F21: 0 | G21: 0 | H21: 0 | I21: 161921.54 | J21: Immobilisations corporelles et incorp. | K21: 0
A22: 22200000 | B22: CONSTURCTIONS | C22: 9027583.1 | D22: 0 | E22: 0 | F22: 0 | G22: 0 | H22: 0 | I22: 9027583.1 | J22: Immobilisations corporelles et incorp. | K22: 0
A23: 22250000 | B23: INSTAL.GL.AGE.AM.CON | C23: 601000.28 | D23: 26900.622 | E23: 0 | F23: 0 | G23: 0 | H23: 26900.622 | I23: 627900.9 | J23: Immobilisations corporelles et incorp. | K23: 0
A24: 22300000 | B24: INST.TECH.MAT&OUT.IN | C24: 70370.611 | D24: 0 | E24: 0 | F24: 0 | G24: 0 | H24: 0 | I24: 70370.611 | J24: Immobilisations corporelles et incorp. | K24: 0
A25: 22310000 | B25: INSTALLATIONS TECHN | C25: 0 | D25: 0 | E25: 0 | F25: 0 | G25: 0 | H25: 0 | I25: 0 | J25: Immobilisations corporelles et incorp. | K25: 0
A26: 22340000 | B26: MATERIEL INDUSTRIEL | C26: 22061292 | D26: 108099.5 | E26: 13682.47 | F26: 0 | G26: 0 | H26: 94417.034 | I26: 22155709 | J26: Immobilisations corporelles et incorp. | K26: 0
A27: 22350000 | B27: OUTILLAGE INDUSTRIEL | C27: 606363.59 | D27: 4822.82 | E27: 0 | F27: 0 | G27: 0 | H27: 4822.82 | I27: 611186.41 | J27: Immobilisations corporelles et incorp. | K27: 0
A28: 22370000 | B28: AGEN.AME.MAT.OUT.IN | C28: 879252.86 | D28: 0 | E28: 0 | F28: 0 | G28: 0 | H28: 0 | I28: 879252.86 | J28: Immobilisations corporelles et incorp. | K28: 0
A29: 22400000 | B29: MATERIEL DE TRANSPORT | C29: 952007.86 | D29: 0 | E29: 0 | F29: 0 | G29: 0 | H29: 0 | I29: 952007.86 | J29: Immobilisations corporelles et incorp. | K29: 0
A30: 22810000 | B30: INSTAL.GLES.AG.AM.DI | C30: 0 | D30: 0 | E30: 0 | F30: 0 | G30: 0 | H30: 0 | I30: 0 | J30: 0 | K30: 0
A31: 22820000 | B31: EQUIPEMENTS DE BURE. | C31: 252577.31 | D31: 1077.3 | E31: 0 | F31: 0 | G31: 0 | H31: 1077.3 | I31: 253654.61 | J31: Immobilisations corporelles et incorp. | K31: 0
A32: 22830000 | B32: MATERIELS INFORMATIQUES | C32: 204592.65 | D32: 4905 | E32: 0 | F32: 0 | G32: 0 | H32: 4905 | I32: 209497.65 | J32: Immobilisations corporelles et incorp. | K32: 0
A33: 23000000 | B33: IMMOBILISATION EN CO | C33: 2e-05 | D33: 0 | E33: 0 | F33: 0 | G33: 0 | H33: 0 | I33: 2e-05 | J33: 0 | K33: 0
A34: 23200000 | B34: IMMO.COR.EN COURS | C34: 2440755.5 | D34: 0 | E34: 0 | F34: 0 | G34: 0 | H34: 0 | I34: 2440755.5 | J34: Immobilisations corporelles et incorp. | K34: 0
A35: 23220000 | B35: CONSTRUC.EN COURS | C35: 90587.113 | D35: 7335.824 | E35: 0 | F35: 0 | G35: 0 | H35: 7335.824 | I35: 97922.937 | J35: Immobilisations corporelles et incorp. | K35: 0
A36: 23225000 | B36: INST.GEN.A.A.CONS.CO | C36: 0 | D36: 0 | E36: 0 | F36: 0 | G36: 0 | H36: 0 | I36: 0 | J36: 0 | K36: 0
A37: 23231000 | B37: INST.TECHNIQ.EN COU | C37: 0 | D37: 0 | E37: 0 | F37: 0 | G37: 0 | H37: 0 | I37: 0 | J37: 0 | K37: 0
A38: 23237000 | B38: A.A MAT&OUT.IND.EN C | C38: 0 | D38: 0 | E38: 0 | F38: 0 | G38: 0 | H38: 0 | I38: 0 | J38: 0 | K38: 0
A39: 23250000 | B39: Plantations en cours | C39: 0 | D39: 0 | E39: 0 | F39: 0 | G39: 0 | H39: 0 | I39: 0 | J39: 0 | K39: 0
A40: 23800000 | B40: AVC&ACP/COM IMM.INC | C40: 0 | D40: 0 | E40: 0 | F40: 0 | G40: 0 | H40: 0 | I40: 0 | J40: 0 | K40: 0
A41: 24000000 | B41: IMMOB.A STAT.JUR.PAR | C41: 790367.65 | D41: 0 | E41: 0 | F41: 0 | G41: 0 | H41: 0 | I41: 790367.65 | J41: Immobilisations corporelles et incorp. | K41: 0
...

Sheet OD 05-24
A1: CompteGen | B1: Libelle | C1: SoldeDebut | D1: Debit | E1: Credit | F1: Variation | G1: SoldeFin
A2: 13000000 | B2: RESULT. DE L'EXERCIC. | C2: -0.0001 | D2: 0 | E2: 0 | F2: 0 | G2: -0.0001
A3: 14508000 | B3: AMORT.DES SUBV.D'INV | C3: 0 | D3: 304236.28 | E3: 202824.19 | F3: 101412.1 | G3: 101412.1
A4: 22825000 | C4: 0.0002 | D4: 0 | E4: 0 | F4: 0 | G4: 0.0002
A5: 28130000 | B5: LOGICIELS | C5: 0.0001 | D5: 8427.609 | E5: 12683.692 | F5: -4256.083 | G5: -4256.0829
A6: 28216000 | B6: AMOR.AGE.&AME.D.TER | C6: 0.0004 | D6: 2311.171 | E6: 3478.351 | F6: -1167.18 | G6: -1167.1796
A7: 28220000 | B7: AMORTISSEMENT/CONS | C7: -0.0002 | D7: 376876.93 | E7: 567206.09 | F7: -190329.15 | G7: -190329.15
A8: 28225000 | B8: AMOR.INS.GEN.AG&A.C | C8: 0.0004 | D8: 73816.325 | E8: 106342.17 | F8: -32525.841 | G8: -32525.841
A9: 28230000 | B9: AMO.INS.TECH.M.OU.IN | C9: 0 | D9: 20608.751 | E9: 31489.711 | F9: -10880.96 | G9: -10880.96
A10: 28231000 | B10: AMORT./INST.TECHNIQ. | C10: 0 | D10: 655.442 | E10: 972.139 | F10: -316.697 | G10: -316.697
A11: 28234000 | B11: AMORT./MATERIEL IND. | C11: -0.0004 | D11: 1338126.8 | E11: 2020542.4 | F11: -682415.6 | G11: -682415.6
A12: 28235000 | B12: AMORT./OUTIL.INDUST. | C12: 0 | D12: 47110.33 | E12: 71258.508 | F12: -24148.178 | G12: -24148.178
A13: 28237000 | B13: AMOR./AGC&AMEG.M.O. | C13: -0.0002 | D13: 19970.323 | E13: 43923.515 | F13: -23953.192 | G13: -23953.192
A14: 28240000 | B14: AMORT.MAT.DE TRANS | C14: -0.0003 | D14: 132266.47 | E14: 218974.85 | F14: -86708.383 | G14: -86708.383
A15: 28282000 | B15: AMOR.EQUIP.DE BURE. | C15: 0.0002 | D15: 44330.873 | E15: 66760.609 | F15: -22429.736 | G15: -22429.736
A16: 28283000 | B16: AMORT.MAT.INFORMATIQUE | C16: 0.0001 | D16: 37613.791 | E16: 56807.434 | F16: -19193.643 | G16: -19193.643
... A96: 75600000 | B96: GAINS DE CHANGES | C96: 0 | D96: 22908.176 | E96: 22961.578 | F96: -53.402 | G96: -53.402

Sheet OD 07-24
A1: CompteGen | B1: Libelle | C1: SoldeDebut | D1: Debit | E1: Credit | F1: Variation | G1: SoldeFin
A2: 13000000 | B2: RESULT. DE L'EXERCIC. | C2: -0.0001 | D2: 0 | E2: 0 | F2: 0 | G2: -0.0001
A3: 14508000 | B3: AMORT.DES SUBV.D'INV | C3: 0 | D3: 567907.73 | E3: 425930.8 | F3: 141976.93 | G3: 141976.93
A4: 15100000 | B4: PROVI.POUR RISQUES | C4: 0 | D4: 20000 | E4: 60000 | F4: -40000 | G4: -40000
A5: 22825000 | C5: 0.0002 | D5: 0 | E5: 0 | F5: 0 | G5: 0.0002
A6: 28130000 | B6: LOGICIELS | C6: 0.0001 | D6: 18481.441 | E6: 26501.623 | F6: -8020.182 | G6: -8020.1819
A7: 28216000 | B7: AMOR.AGE.&AME.D.TER | C7: 0.0004 | D7: 4877.421 | E7: 6516.111 | F7: -1638.69 | G7: -1638.6896
A8: 28220000 | B8: AMORTISSEMENT/CONS | C8: -0.0002 | D8: 795348.98 | E8: 1062566.1 | F8: -267217.09 | G8: -267217.09
A9: 28225000 | B9: AMOR.INS.GEN.AG&A.C | C9: 0.0004 | D9: 144579.43 | E9: 188752.69 | F9: -44173.265 | G9: -44173.265
A10: 28230000 | B10: AMO.INS.TECH.M.OU.IN | C10: 0 | D10: 45038.03 | E10: 61395.738 | F10: -16357.708 | G10: -16357.708
A11: 28231000 | B11: AMORT./INST.TECHNIQ. | C11: 0 | D11: 1546.68 | E11: 2344.648 | F11: -797.968 | G11: -797.968
A12: 28234000 | B12: AMORT./MATERIEL IND. | C12: -0.0004 | D12: 2834294.3 | E12: 3783660.1 | F12: -949365.71 | G12: -949365.71
A13: 28235000 | B13: AMORT./OUTIL.INDUST. | C13: 0 | D13: 100361.55 | E13: 134635.51 | F13: -34273.957 | G13: -34273.957
A14: 28237000 | B14: AMOR./AGC&AMEG.M.O. | C14: -0.0002 | D14: 69741.371 | E14: 97486.045 | F14: -27744.674 | G14: -27744.674
A15: 28240000 | B15: AMORT.MAT.DE TRANS | C15: -0.0003 | D15: 317222.35 | E15: 427249.47 | F15: -110027.12 | G15: -110027.12
A16: 28282000 | B16: AMOR.EQUIP.DE BURE. | C16: 0.0002 | D16: 93721.906 | E16: 125334.59 | F16: -31612.679 | G16: -31612.679
A17: 28283000 | B17: AMORT.MAT.INFORMATIQUE | C17: 0.0001 | D17: 79942.468 | E17: 107469.77 | F17: -27527.306 | G17: -27527.306
... A109: 75600000 | B109: GAINS DE CHANGES | C109: 0 | D109: 23037.313 | E109: 23052.333 | F109: -15.02 | G109: -15.02
