Workbook
Name DateFin1: #REF!
Name DateFin2: #REF!
Name Ecrx_CodeGroupeAnalyse: #REF!
Name Ecrx_CompteAux: #REF!
Name EcrX_CompteGen: #REF!
Name Ecrx_DateFin: #REF!
Name Ecrx_TypeEcriture: #REF!

Sheet ETRANGER 22
A1: CODE FRS | B1: FRS | C1: MONTANT | F1: TAUX | G1: DELAI
A2: E10001 | B2: A C C U M A | C2: 3273240 | D2: =-VLOOKUP(A2,'bal f 2022'!E:F,2,FALSE) -> 1257000.3 | E2: =+D2*360/C2 -> 138.24837 | F2: =+C2/$C$19 -> 0.45710575 | G2: VR 60 | J2: Étiquettes de lignes | K2: Somme de TAUX | L2: Somme de MONTANT
A3: E10017 | B3: SORFIN YOSHIMURA LTD | C3: 155767.06 | D3: =-VLOOKUP(A3,'bal f 2022'!E:F,2,FALSE) -> 0 | E3: =+D3*360/C3 -> 0 | F3: =+C3/$C$19 -> 0.021752764 | G3: CD | J3: AV | L3: 67743.389
A4: E10031 | B4: Goonvean Fibres Ltd | C4: 51962.901 | D4: =-VLOOKUP(A4,'bal f 2022'!E:F,2,FALSE) -> 0 | E4: =+D4*360/C4 -> 0 | F4: =+C4/$C$19 -> 0.0072565839 | G4: VR 60 | J4: CD | K4: 0.13544188 | L4: 969871.38
A5: E10032 | B5: AKÜMSAN | C5: 352689.16 | D5: =-VLOOKUP(A5,'bal f 2022'!E:F,2,FALSE) -> 244350.33 | E5: =+D5*360/C5 -> 249.41544 | F5: =+C5/$C$19 -> 0.049252801 | G5: VR 90 | J5: VR | K5: 0.038660793 | L5: 276841.97
A6: E10052 | B6: METACONCEPT | C6: 276841.97 | D6: =-VLOOKUP(A6,'bal f 2022'!E:F,2,FALSE) -> 28290.981 | E6: =+D6*360/C6 -> 36.78905 | F6: =+C6/$C$19 -> 0.038660793 | G6: VR | J6: VR 30 | K6: 0.0065351099 | L6: 46796.575
A7: E10073 | B7: COPLOSA | C7: 62827.312 | D7: =-VLOOKUP(A7,'bal f 2022'!E:F,2,FALSE) -> 0 | E7: =+D7*360/C7 -> 0 | F7: =+C7/$C$19 -> 0.0087737916 | G7: CD | J7: VR 60 | K7: 0.61767204 | L7: 4423022.2
A8: E10074 | B8: MECONDOR S.p.A. | C8: 31647.467 | D8: =-VLOOKUP(A8,'bal f 2022'!E:F,2,FALSE) -> 0 | E8: =+D8*360/C8 -> 0 | F8: =+C8/$C$19 -> 0.0044195472 | G8: AV | J8: VR 90 | K8: 0.19222986 | L8: 1376518.4
A9: E10078 | B9: MICROPOROUS GmbH | C9: 1023829.2 | D9: =-VLOOKUP(A9,'bal f 2022'!E:F,2,FALSE) -> 249315.66 | E9: =+D9*360/C9 -> 87.664657 | F9: =+C9/$C$19 -> 0.14297705 | G9: VR 90 | J9: Total général | K9: 0.99053968 | L9: 7160793.8
A10: E10080 | B10: PELIPAPER | C10: 136009.97 | D10: =-VLOOKUP(A10,'bal f 2022'!E:F,2,FALSE) -> 0 | E10: =+D10*360/C10 -> 0 | F10: =+C10/$C$19 -> 0.018993699 | G10: CD
A11: E10081 | B11: QUANZHOU YUCRY TRAFFIC APPLI | C11: 46796.575 | D11: =-VLOOKUP(A11,'bal f 2022'!E:F,2,FALSE) -> 0 | E11: =+D11*360/C11 -> 0 | F11: =+C11/$C$19 -> 0.0065351099 | G11: VR 30
A12: E10082 | B12: ATHENA S.P.A | C12: 7504.0024 | D12: =-VLOOKUP(A12,'bal f 2022'!E:F,2,FALSE) -> 0 | E12: =+D12*360/C12 -> 0 | F12: =+C12/$C$19 -> 0.0010479288 | G12: AV
A13: E10084 | B13: MONBAT BATTERIES | C13: 1097819.2 | D13: =-VLOOKUP(A13,'bal f 2022'!E:F,2,FALSE) -> 541842.55 | E13: =+D13*360/C13 -> 177.68255 | F13: =+C13/$C$19 -> 0.15330971 | G13: VR 60
A14: E10086 | B14: METALSA STANGO srl | C14: 28054.399 | D14: =-VLOOKUP(A14,'bal f 2022'!E:F,2,FALSE) -> 30.571 | E14: =+D14*360/C14 -> 0.39229356 | F14: =+C14/$C$19 -> 0.0039177777 | G14: AV
A15: E20013 | B15: ELINOIL HELLENIC PETROLEUM | C15: 615267.04 | D15: =-VLOOKUP(A15,'bal f 2022'!E:F,2,FALSE) -> 13360.586 | E15: =+D15*360/C15 -> 7.8174364 | F15: =+C15/$C$19 -> 0.085921625 | G15: CD
A16: E80040 | B16: HADI MASHINENBAU | C16: 32.64 | D16: =-VLOOKUP(A16,'bal f 2022'!E:F,2,FALSE) -> -11759.531 | E16: =+D16*360/C16 -> -129700.71 | F16: =+C16/$C$19 -> 4.5581538e-06 | G16: AV
A17: E80043 | B17: SONZOGNI CAMME S.p.A | C17: 504.8811 | D17: =-VLOOKUP(A17,'bal f 2022'!E:F,2,FALSE) -> 0 | E17: =+D17*360/C17 -> 0 | F17: =+C17/$C$19 -> 7.0506303e-05 | G17: AV
C19: =SUM(C2:C18) -> 7160793.8 | D19: =SUM(D2:D18) -> 2322431.4 | E19: =SUM(E2:E18) -> -129002.7

Sheet LOCAUX 23
A1: CODE FRS | B1: FRS | C1: MONTANT HT | D1: TVA | E1: MONTANT TTC | F1: SOLDE | G1: DELAI | H1: PRODUIT | I1: TAUX | J1: REG
A2: L10138 | B2: STA NOUR | C2: 2596076.4 | D2: =+C2*0.19 -> 493254.52 | E2: =+C2+D2 -> 3089330.9 | F2: 0 | G2: =F2*(9*30)/E2 -> 0 | H2: BATTERIE USAGE | I2: =+E2/$E$71 -> 0.1910856 | J2: CH | L2: Étiquettes de lignes | M2: Moyenne de DELAI | N2: Somme de MONTANT TTC
A3: L10227 | B3: STE MNASRIA DES METALS | C3: 1806834.2 | D3: =+C3*0.19 -> 343298.5 | E3: =+C3+D3 -> 2150132.7 | F3: =-VLOOKUP(A3,'bal f 2023'!E:F,2,FALSE) -> 126991.18 | G3: 0 | H3: BATTERIE USAGE | I3: =+E3/$E$71 -> 0.13299301 | J3: CH | L3: ACIDE | M3: 0 | N3: 518900.93
A4: L50045 | B4: S. T. E. G. | C4: 1473641.6 | D4: =+C4*0.19 -> 279991.9 | E4: =+C4+D4 -> 1753633.5 | F4: =-VLOOKUP(A4,'bal f 2023'!E:F,2,FALSE) -> 147457.57 | G4: 0 | H4: ELECTRICITE | I4: =+E4/$E$71 -> 0.10846818 | J4: CH | L4: ADDITIF FONDERIE | M4: 19.090909 | N4: 670593.16
A5: L10223 | B5: STTM | C5: 1175686.1 | D5: =+C5*0.19 -> 223380.36 | E5: =+C5+D5 -> 1399066.5 | F5: =-VLOOKUP(A5,'bal f 2023'!E:F,2,FALSE) -> 90606.744 | G5: 0 | H5: BATTERIE USAGE | I5: =+E5/$E$71 -> 0.08653701 | J5: TR 30 | L5: BATTERIE USAGE | M5: 9.9203544e-08 | N5: 10351210
A6: L10225 | B6: STE CHM TRADING | C6: 1018611.5 | D6: =+C6*0.19 -> 193536.18 | E6: =+C6+D6 -> 1212147.7 | F6: =-VLOOKUP(A6,'bal f 2023'!E:F,2,FALSE) -> 0 | G6: =F6*(9*30)/E6 -> 0 | H6: BATTERIE USAGE | I6: =+E6/$E$71 -> 0.074975449 | J6: TR 60 | L6: BOUCHON | M6: 0 | N6: 101997.13
A7: L10226 | B7: STE ALIOS DE METAL TRADING | C7: 623760.96 | D7: =+C7*0.19 -> 118514.58 | E7: =+C7+D7 -> 742275.54 | F7: =-VLOOKUP(A7,'bal f 2023'!E:F,2,FALSE) -> 0.003 | G7: =F7*(9*30)/E7 -> 1.091239e-06 | H7: BATTERIE USAGE | I7: =+E7/$E$71 -> 0.045912262 | J7: TR 120 | L7: DIVERS | M7: 0 | N7: 43588.116
A8: L10195 | B8: STE TRIPLEX DES METAUX | C8: 581480 | D8: =+C8*0.19 -> 110481.2 | E8: =+C8+D8 -> 691961.2 | F8: =-VLOOKUP(A8,'bal f 2023'!E:F,2,FALSE) -> 0 | G8: =F8*(9*30)/E8 -> 0 | H8: BATTERIE USAGE | I8: =+E8/$E$71 -> 0.042800149 | J8: CH | L8: EAU | M8: 0 | N8: 106039.08
A9: L10192 | B9: STE VALDEQ | C9: 572444.08 | D9: =+C9*0.19 -> 108764.38 | E9: =+C9+D9 -> 681208.46 | F9: =-VLOOKUP(A9,'bal f 2023'!E:F,2,FALSE) -> 0 | G9: =F9*(9*30)/E9 -> 0 | H9: BATTERIE USAGE | I9: =+E9/$E$71 -> 0.042135055 | J9: CH | L9: ELECTRICITE | M9: 0 | N9: 1753633.5
A10: L30288 | B10: LYS IMPRESSION | C10: 556633.4 | D10: =+C10*0.19 -> 105760.35 | E10: =+C10+D10 -> 662393.74 | F10: =-VLOOKUP(A10,'bal f 2023'!E:F,2,FALSE) -> 59014.123 | G10: 90 | H10: ETIQUETTE | I10: =+E10/$E$71 -> 0.040971301 | J10: CH | L10: EMBLLAGE | M10: 5.4545455 | N10: 313317.16
A11: L50019 | B11: LA DOUANE | C11: 475927.95 | D11: =+C11*0.19 -> 90426.311 | E11: =+C11+D11 -> 566354.26 | F11: =-VLOOKUP(A11,'bal f 2023'!E:F,2,FALSE) -> -86068.389 | G11: 0 | H11: FRAIS TRANSIT | I11: =+E11/$E$71 -> 0.035030934 | J11: CH | L11: ETIQUETTE | M11: 45 | N11: 665061.96
A12: L10003 | B12: CHIMEX | C12: 436051.2 | D12: =+C12*0.19 -> 82849.728 | E12: =+C12+D12 -> 518900.93 | F12: =-VLOOKUP(A12,'bal f 2023'!E:F,2,FALSE) -> 72024.799 | G12: 0 | H12: ACIDE | I12: =+E12/$E$71 -> 0.032095784 | J12: CH | L12: FRAIS TRANSIT | M12: -2.0141681e-07 | N12: 1632698.5
A13: L50903 | B13: TNA | C13: 237614.27 | D13: =+C13*0.19 -> 45146.712 | E13: =+C13+D13 -> 282760.98 | F13: =-VLOOKUP(A13,'bal f 2023'!E:F,2,FALSE) -> -14147.945 | G13: 0 | H13: FRAIS TRANSIT | I13: =+E13/$E$71 -> 0.017489727 | J13: CH | L13: MATERIEL SECURITE | M13: 90 | N13: 10222.171
A14: L10009 | B14: PALLISER | C14: 194152.5 | D14: =+C14*0.19 -> 36888.975 | E14: =+C14+D14 -> 231041.48 | F14: =-VLOOKUP(A14,'bal f 2023'!E:F,2,FALSE) -> 64261 | G14: 60 | H14: ADDITIF FONDERIE | I14: =+E14/$E$71 -> 0.014290699 | J14: TR 60 | L14: Total général | M14: 6.617647 | N14: 16167261
A15: L50889 | B15: AST (AVENIR SERVICE TRANSPOR | C15: 152968 | D15: =+C15*0.19 -> 29063.92 | E15: =+C15+D15 -> 182031.92 | F15: =-VLOOKUP(A15,'bal f 2023'!E:F,2,FALSE) -> -38156.135 | G15: 0 | H15: FRAIS TRANSIT | I15: =+E15/$E$71 -> 0.011259292 | J15: TR 120
A16: L10201 | B16: ACTD | C16: 151407.5 | D16: =+C16*0.19 -> 28767.425 | E16: =+C16+D16 -> 180174.92 | F16: =-VLOOKUP(A16,'bal f 2023'!E:F,2,FALSE) -> 60693 | G16: 60 | H16: ADDITIF FONDERIE | I16: =+E16/$E$71 -> 0.011144431 | J16: TR 60
A17: L10216 | B17: STE TUNISIE METAL | C17: 118434 | D17: =+C17*0.19 -> 22502.46 | E17: =+C17+D17 -> 140936.46 | F17: =-VLOOKUP(A17,'bal f 2023'!E:F,2,FALSE) -> 3201.941 | G17: 0 | H17: BATTERIE USAGE | I17: =+E17/$E$71 -> 0.0087173984 | J17: TR 120
A18: L10186 | B18: SOCIETE EL KOUKI | C18: 113499 | D18: =+C18*0.19 -> 21564.81 | E18: =+C18+D18 -> 135063.81 | F18: =-VLOOKUP(A18,'bal f 2023'!E:F,2,FALSE) -> 10711 | G18: 60 | H18: EMBLLAGE | I18: =+E18/$E$71 -> 0.0083541551 | J18: TR 60
A19: L50737 | B19: MAGHREB SOLUTIONS | C19: 93362.207 | D19: =+C19*0.19 -> 17738.819 | E19: =+C19+D19 -> 111101.03 | F19: =-VLOOKUP(A19,'bal f 2023'!E:F,2,FALSE) -> 17156.161 | G19: 0 | H19: FRAIS TRANSIT | I19: =+E19/$E$71 -> 0.0068719756 | J19: CH | M19: =+N14*(90-M14)/360 -> 3744623.1
A20: L20020 | B20: S O N E D E | C20: 89108.469 | D20: =+C20*0.19 -> 16930.609 | E20: =+C20+D20 -> 106039.08 | F20: =-VLOOKUP(A20,'bal f 2023'!E:F,2,FALSE) -> 7438.3 | G20: 0 | H20: EAU | I20: =+E20/$E$71 -> 0.0065588769 | J20: CH
A21: L10194 | B21: LE MONTAGE TUNISIE | C21: 88354.996 | D21: =+C21*0.19 -> 16787.449 | E21: =+C21+D21 -> 105142.45 | F21: =-VLOOKUP(A21,'bal f 2023'!E:F,2,FALSE) -> 18908.434 | G21: 0 | H21: ADDITIF FONDERIE | I21: =+E21/$E$71 -> 0.0065034171 | J21: CH
A22: L10015 | B22: SOCIETE TUNISO UKRAINE TUNO | C22: 85711.874 | D22: =+C22*0.19 -> 16285.256 | E22: =+C22+D22 -> 101997.13 | F22: =-VLOOKUP(A22,'bal f 2023'!E:F,2,FALSE) -> 563.292 | G22: 0 | H22: BOUCHON | I22: =+E22/$E$71 -> 0.0063088687 | J22: CH
A23: L30490 | B23: STE MAYAR RECYCLAGE | C23: 83602.75 | D23: =+C23*0.19 -> 15884.522 | E23: =+C23+D23 -> 99487.272 | F23: =-VLOOKUP(A23,'bal f 2023'!E:F,2,FALSE) -> 0 | G23: =F23*(9*30)/E23 -> 0 | H23: FRAIS TRANSIT | I23: =+E23/$E$71 -> 0.0061536255 | J23: CH
A24: L10224 | B24: SFM | C24: 78020 | D24: =+C24*0.19 -> 14823.8 | E24: =+C24+D24 -> 92843.8 | F24: =-VLOOKUP(A24,'bal f 2023'!E:F,2,FALSE) -> 57692.2 | G24: 0 | H24: BATTERIE USAGE | I24: =+E24/$E$71 -> 0.0057427042 | J24: CH
A25: L10229 | B25: STE LC METAL TRADING | C25: 66294.6 | D25: =+C25*0.19 -> 12595.974 | E25: =+C25+D25 -> 78890.574 | F25: =-VLOOKUP(A25,'bal f 2023'!E:F,2,FALSE) -> 0 | G25: =F25*(9*30)/E25 -> 0 | H25: BATTERIE USAGE | I25: =+E25/$E$71 -> 0.0048796498 | J25: CH
A26: L10211 | B26: STE STTM PLUS | C26: 60853.8 | D26: =+C26*0.19 -> 11562.222 | E26: =+C26+D26 -> 72416.022 | F26: =-VLOOKUP(A26,'bal f 2023'!E:F,2,FALSE) -> 0.599 | G26: 0 | H26: BATTERIE USAGE | I26: =+E26/$E$71 -> 0.0044791768 | J26: CH
A27: L50876 | B27: METIS | C27: 53641.609 | D27: =+C27*0.19 -> 10191.906 | E27: =+C27+D27 -> 63833.515 | F27: =-VLOOKUP(A27,'bal f 2023'!E:F,2,FALSE) -> -0.001 | G27: =F27*(9*30)/E27 -> -4.229753e-06 | H27: FRAIS TRANSIT | I27: =+E27/$E$71 -> 0.0039483196 | J27: TR 60
A28: L10018 | B28: SOCOTU | C28: 47251.997 | D28: =+C28*0.19 -> 8977.8794 | E28: =+C28+D28 -> 56229.876 | F28: =-VLOOKUP(A28,'bal f 2023'!E:F,2,FALSE) -> 0 | G28: =F28*(9*30)/E28 -> 0 | H28: FRAIS TRANSIT | I28: =+E28/$E$71 -> 0.0034780087 | J28: CH
A29: L50706 | B29: EXPRESS TRANSIT | C29: 45146.123 | D29: =+C29*0.19 -> 8577.7634 | E29: =+C29+D29 -> 53723.886 | F29: =-VLOOKUP(A29,'bal f 2023'!E:F,2,FALSE) -> 12953.518 | G29: 0 | H29: FRAIS TRANSIT | I29: =+E29/$E$71 -> 0.0033230047 | J29: CH
A30: L10215 | B30: SIPP (société des industries | C30: 43005.488 | D30: =+C30*0.19 -> 8171.0427 | E30: =+C30+D30 -> 51176.531 | F30: =-VLOOKUP(A30,'bal f 2023'!E:F,2,FALSE) -> 15452.893 | G30: 0 | H30: EMBLLAGE | I30: =+E30/$E$71 -> 0.0031654421 | J30: CH
A31: L50755 | B31: TUNISHIP | C31: 37288.972 | D31: =+C31*0.19 -> 7084.9047 | E31: =+C31+D31 -> 44373.877 | F31: =-VLOOKUP(A31,'bal f 2023'!E:F,2,FALSE) -> 40818.178 | G31: 0 | H31: FRAIS TRANSIT | I31: =+E31/$E$71 -> 0.0027446749 | J31: CH
A32: L20009 | B32: AIR LIQUIDE TUNISIE | C32: 31834.711 | D32: =+C32*0.19 -> 6048.5951 | E32: =+C32+D32 -> 37883.306 | F32: =-VLOOKUP(A32,'bal f 2023'!E:F,2,FALSE) -> -1828.172 | G32: 0 | H32: ADDITIF FONDERIE | I32: =+E32/$E$71 -> 0.0023432111 | J32: CH
A33: L10228 | B33: GENPACK | C33: 25811.2 | D33: =+C33*0.19 -> 4904.128 | E33: =+C33+D33 -> 30715.328 | F33: =-VLOOKUP(A33,'bal f 2023'!E:F,2,FALSE) -> 6357.933 | G33: 0 | H33: EMBLLAGE | I33: =+E33/$E$71 -> 0.0018998473 | J33: CH
A34: L50754 | B34: IPSEN LOGISTICS | C34: 24916.539 | D34: =+C34*0.19 -> 4734.1424 | E34: =+C34+D34 -> 29650.681 | F34: =-VLOOKUP(A34,'bal f 2023'!E:F,2,FALSE) -> -146.493 | G34: 0 | H34: FRAIS TRANSIT | I34: =+E34/$E$71 -> 0.0018339953 | J34: CH
A35: L50210 | B35: STC | C35: 24858.976 | D35: =+C35*0.19 -> 4723.2054 | E35: =+C35+D35 -> 29582.181 | F35: =-VLOOKUP(A35,'bal f 2023'!E:F,2,FALSE) -> 14893.092 | G35: 0 | H35: FRAIS TRANSIT | I35: =+E35/$E$71 -> 0.0018297583 | J35: CH
A36: L10012 | B36: STE PLASTIFILM | C36: 24421.5 | D36: =+C36*0.19 -> 4640.085 | E36: =+C36+D36 -> 29061.585 | F36: =-VLOOKUP(A36,'bal f 2023'!E:F,2,FALSE) -> 1789.785 | G36: 0 | H36: EMBLLAGE | I36: =+E36/$E$71 -> 0.0017975577 | J36: CH
A37: L10170 | B37: TUNISIE COAL | C37: 24171.527 | D37: =+C37*0.19 -> 4592.5901 | E37: =+C37+D37 -> 28764.117 | F37: =-VLOOKUP(A37,'bal f 2023'!E:F,2,FALSE) -> 0.0090000001 | G37: 90 | H37: ADDITIF FONDERIE | I37: =+E37/$E$71 -> 0.0017791583 | J37: TR 90
A38: L30493 | B38: GRENOBLE SERVICE | C38: 23636.525 | D38: =+C38*0.19 -> 4490.9398 | E38: =+C38+D38 -> 28127.465 | F38: =-VLOOKUP(A38,'bal f 2023'!E:F,2,FALSE) -> 5806.177 | G38: 0 | H38: EMBLLAGE | I38: =+E38/$E$71 -> 0.0017397792 | J38: CH
A39: L50280 | B39: MSC | C39: 23307 | D39: =+C39*0.19 -> 4428.33 | E39: =+C39+D39 -> 27735.33 | F39: =-VLOOKUP(A39,'bal f 2023'!E:F,2,FALSE) -> -109384.47 | G39: 0 | H39: FRAIS TRANSIT | I39: =+E39/$E$71 -> 0.0017155243 | J39: CH
A40: L10220 | B40: SMART SOLUTION | C40: 23069.88 | D40: =+C40*0.19 -> 4383.2772 | E40: =+C40+D40 -> 27453.157 | F40: =-VLOOKUP(A40,'bal f 2023'!E:F,2,FALSE) -> 0 | G40: 0 | H40: ADDITIF FONDERIE | I40: =+E40/$E$71 -> 0.001698071 | J40: CH
...

Sheet Achat ETRANGER 23
B1: année | C1: 2023 | F1: année | G1: 2023 | I1: Nature | J1: MP | L1: Nature | M1: MP
I2: année | J2: 2023 | L2: année | M2: 2023
B3: Somme de Valeur total en DT | C3: Société | F3: Somme de Valeur total en DT | G3: Société
B4: Fournisseur | C4: SNA | F4: Nature | G4: SNA | I4: Somme de Valeur total en DT | J4: Société | M4: Société | N4: Valeurs
B5: dixone | C5: 4551044.6 | F5: MP | G5: 13467423 | I5: Fournisseur | J5: SNA | M5: SNA
B6: ACCUMA | C6: 2840916.4 | F6: Capex | G6: 512695.1 | I6: dixone | J6: 4551044.6 | L6: Fournisseur | M6: Somme de FRET / Article | N6: Somme de Montant Transit / article | O6: Somme de Surestarie / Article | P6: Somme de TOTAL FRAIS / Article
B7: accumalux | C7: 1311021.4 | F7: PDR | G7: 166890.71 | I7: ACCUMA | J7: 2840916.4 | L7: ACCUMA | M7: 525266.55 | N7: 21101.427 | O7: 1077.136 | P7: 740710.55
B8: MICROPOROUS | C8: 1136715.8 | F8: Echant | G8: 0 | I8: accumalux | J8: 1311021.4 | L8: accumalux | M8: 172737.62 | N8: 4430 | O8: 0 | P8: 204879.95
B9: ELINOIL | C9: 745098.26 | F9: Total général | G9: 14147009 | I9: MICROPOROUS | J9: 1136715.8 | L9: MICROPOROUS | M9: 82622.139 | N9: 3005 | O9: 0 | P9: 184257.67
B10: DIXON | C10: 672503.81 | I10: ELINOIL | J10: 745098.26 | L10: ELINOIL | M10: 8632 | N10: 4616 | O10: 2382 | P10: 91877.684
B11: AKUMSAN | C11: 426127.99 | I11: DIXON | J11: 672503.81 | L11: dixone | M11: 8457 | N11: 4335 | O11: 4739 | P11: 91605.472
B12: MONBAT | C12: 326140.3 | I12: AKUMSAN | J12: 426127.99 | L12: AKUMSAN | M12: 56851.68 | N12: 1465.31 | O12: 5170.598 | P12: 81801.065
B13: metaconcept | C13: 302664.53 | I13: metaconcept | J13: 302664.53 | L13: MONBAT | M13: 26554.324 | N13: 1262.716 | O13: 0 | P13: 68678.1
B14: SORFIN | C14: 301992.78 | I14: SORFIN | J14: 301992.78 | L14: MICROPOROUS | M14: 20043.325 | N14: 750 | O14: 0 | P14: 43325.004
B15: MICROPOROUS | C15: 257818.98 | I15: MONBAT | J15: 299535.03 | L15: SORFIN | M15: 17354.58 | N15: 580 | O15: 0 | P15: 35825.541
B16: zibo | C16: 250115.14 | I16: MICROPOROUS | J16: 257818.98 | L16: AMER SIL | M16: 18188.55 | N16: 669.54 | O16: 0 | P16: 23064.938
B17: SOVEMA | C17: 232445.25 | I17: GLATFELTER | J17: 151508.09 | L17: GLATFELTER | M17: 12590.576 | N17: 763.445 | O17: 0 | P17: 15396.289
B18: GLATFELTER | C18: 151508.09 | I18: Micropous | J18: 137866.31 | L18: METALSA STAGNO | M18: 7875.823 | N18: 345.729 | O18: 0 | P18: 14844.42
B19: Micropous | C19: 137866.31 | I19: YUCRY | J19: 77863.89 | L19: metaconcept | M19: 2266.2 | N19: 1308.008 | O19: 0 | P19: 10439.591
B20: YUCRY | C20: 77863.89 | I20: AMER SIL | J20: 73673.668 | L20: GOONVEAN FIBRES | M20: 7557.028 | N20: 354.234 | O20: 0 | P20: 8565.191
B21: AMER SIL | C21: 73673.668 | I21: GOONVEAN FIBRES | J21: 72572.386 | L21: PELIPAPER | M21: 5056.57 | N21: 375 | O21: 40 | P21: 7831.333
... B23: PELIPAPER | C23: 70071.901 | I23: METALSA STAGNO | J23: 38427.552 | L23: Total général | M23: 977628.45 | N23: 45772.553 | O23: 13408.734 | P23: 1629818.3
B24: WUXI HUANFA ET TECHNOLOGY | C24: 67766.737 | I24: Total général | J24: 13467423
B25: STARTER AD | C25: 41814.922
B26: METALSA STAGNO | C26: 38427.552
B27: IXO | C27: 20700.034
B28: HADI | C28: 17478.149
B29: HADI | C29: 11820.542
B30: suzho | C30: 7898.4323
B31: PI EM SI LTD | C31: 2941.335
B32: echantillons expander | C32: 0
B33: echantillons œil magique | C33: 0
B34: Total général | C34: 14147009

Sheet xxxx

Sheet LOCAUX 22
A1: CODE FRS | B1: FRS | C1: MONTANT HT | D1: TVA | E1: MONTANT TTC | F1: SOLDE | G1: DELAI | H1: PRODUIT | I1: TAUX | J1: REG
A2: L10138 | B2: STA NOUR | C2: 5953101.1 | D2: =+C2*0.19 -> 1131089.2 | E2: =+C2+D2 -> 7084190.3 | F2: =-VLOOKUP(A2,'bal f 2022'!E:F,2,0) -> 0.6 | G2: 0 | H2: BATTERIE USAGE | I2: =+E2/$E$79 -> 0.24047625 | J2: CH
A3: L10219 | B3: SBM | C3: 2829351 | D3: =+C3*0.19 -> 537576.69 | E3: =+C3+D3 -> 3366927.7 | F3: =-VLOOKUP(A3,'bal f 2022'!E:F,2,0) -> 0 | G3: 0 | H3: BATTERIE USAGE | I3: =+E3/$E$79 -> 0.11429198 | J3: CH | L3: Étiquettes de lignes | M3: Somme de MONTANT TTC | N3: Moyenne de DELAI
A4: L10216 | B4: STE TUNISIE METAL | C4: 2426394.6 | D4: =+C4*0.19 -> 461014.97 | E4: =+C4+D4 -> 2887409.6 | F4: =-VLOOKUP(A4,'bal f 2022'!E:F,2,0) -> 3201.941 | G4: 0 | H4: BATTERIE USAGE | I4: =+E4/$E$79 -> 0.098014508 | J4: TR 120 | L4: ACIDE | M4: 1255770.1 | N4: 0
A5: L10208 | B5: SOCIETE LINA METAL | C5: 2304772.7 | D5: =+C5*0.19 -> 437906.81 | E5: =+C5+D5 -> 2742679.5 | F5: =-VLOOKUP(A5,'bal f 2022'!E:F,2,0) -> 26.418 | G5: 0 | H5: BATTERIE USAGE | I5: =+E5/$E$79 -> 0.093101575 | J5: TR 60 | L5: ADDITIF FONDERIE | M5: 1175481.4 | N5: 30
A6: L10213 | B6: Ste Ben Achma de Metal | C6: 2149808.6 | D6: =+C6*0.19 -> 408463.64 | E6: =+C6+D6 -> 2558272.3 | F6: =-VLOOKUP(A6,'bal f 2022'!E:F,2,0) -> 0 | G6: 0 | H6: BATTERIE USAGE | I6: =+E6/$E$79 -> 0.086841783 | J6: CH | L6: BATTERIE USAGE | M6: 21827353 | N6: 0
A7: L50045 | B7: S. T. E. G. | C7: 1924600 | D7: =+C7*0.19 -> 365674 | E7: =+C7+D7 -> 2290274 | F7: =-VLOOKUP(A7,'bal f 2022'!E:F,2,0) -> 115793.54 | G7: 0 | H7: ELECTRICITE | I7: =+E7/$E$79 -> 0.077744453 | J7: CH | L7: BOUCHON | M7: 145670.56 | N7: 0
A8: L10003 | B8: CHIMEX | C8: 1055269 | D8: =+C8*0.19 -> 200501.11 | E8: =+C8+D8 -> 1255770.1 | F8: =-VLOOKUP(A8,'bal f 2022'!E:F,2,0) -> 193338.52 | G8: 0 | H8: ACIDE | I8: =+E8/$E$79 -> 0.042627721 | J8: CH | L8: DIVERS | M8: 35949.006 | N8: 0
A9: L10209 | B9: STE MHC METALS TRADING | C9: 570624.8 | D9: =+C9*0.19 -> 108418.71 | E9: =+C9+D9 -> 679043.51 | F9: =-VLOOKUP(A9,'bal f 2022'!E:F,2,0) -> 0 | G9: 0 | H9: BATTERIE USAGE | I9: =+E9/$E$79 -> 0.023050459 | J9: TR 60 | L9: EAU | M9: 59590.884 | N9: 0
A10: L10192 | B10: STE VALDEQ | C10: 562002.8 | D10: =+C10*0.19 -> 106780.53 | E10: =+C10+D10 -> 668783.33 | F10: =-VLOOKUP(A10,'bal f 2022'!E:F,2,0) -> 202328.15 | G10: 0 | H10: BATTERIE USAGE | I10: =+E10/$E$79 -> 0.022702172 | J10: CH | L10: ELECTRICITE | M10: 2290274 | N10: 0
A11: L10201 | B11: ACTD | C11: 534805 | D11: =+C11*0.19 -> 101612.95 | E11: =+C11+D11 -> 636417.95 | F11: =-VLOOKUP(A11,'bal f 2022'!E:F,2,0) -> 20242.5 | G11: 90 | H11: ADDITIF FONDERIE | I11: =+E11/$E$79 -> 0.021603514 | J11: TR 60 | L11: EMBLLAGE | M11: 352788.13 | N11: 15
A12: L30288 | B12: LYS IMPRESSION | C12: 487850.55 | D12: =+C12*0.19 -> 92691.604 | E12: =+C12+D12 -> 580542.15 | F12: =-VLOOKUP(A12,'bal f 2022'!E:F,2,0) -> 90198.084 | G12: 90 | H12: ETIQUETTE | I12: =+E12/$E$79 -> 0.019706783 | J12: CH | L12: ETIQUETTE | M12: 582326.97 | N12: 45
A13: L10211 | B13: STE STTM PLUS | C13: 471361.89 | D13: =+C13*0.19 -> 89558.759 | E13: =+C13+D13 -> 560920.65 | F13: =-VLOOKUP(A13,'bal f 2022'!E:F,2,0) -> 0.599 | G13: 0 | H13: BATTERIE USAGE | I13: =+E13/$E$79 -> 0.019040721 | J13: CH | L13: FRAIS TRANSIT | M13: 1281922.5 | N13: 0
A14: L20062 | B14: SOCIETE NOUR DISTRIBUTION | C14: 376692.86 | D14: =+C14*0.19 -> 71571.643 | E14: =+C14+D14 -> 448264.5 | F14: =-VLOOKUP(A14,'bal f 2022'!E:F,2,0) -> 621538.08 | G14: 0 | H14: BATTERIE | I14: =+E14/$E$79 -> 0.015216554 | J14: CH | L14: MATERIEL SECURITE | M14: 3610.46 | N14: 60
A15: L50755 | B15: TUNISHIP | C15: 354400.2 | D15: =+C15*0.19 -> 67336.037 | E15: =+C15+D15 -> 421736.23 | F15: =-VLOOKUP(A15,'bal f 2022'!E:F,2,0) -> 40818.178 | G15: 0 | H15: FRAIS TRANSIT | I15: =+E15/$E$79 -> 0.014316039 | J15: CH | L15: BATTERIE | M15: 448264.5 | N15: 0
A16: L10225 | B16: STE CHM TRADING | C16: 329083 | D16: =+C16*0.19 -> 62525.77 | E16: =+C16+D16 -> 391608.77 | F16: =-VLOOKUP(A16,'bal f 2022'!E:F,2,0) -> 24102.86 | G16: 0 | H16: BATTERIE USAGE | I16: =+E16/$E$79 -> 0.013293348 | J16: TR 60 | L16: Total général | M16: 29459002 | N16: 7.8947368
A17: L10009 | B17: PALLISER | C17: 282450 | D17: =+C17*0.19 -> 53665.5 | E17: =+C17+D17 -> 336115.5 | F17: =-VLOOKUP(A17,'bal f 2022'!E:F,2,0) -> 29435.25 | G17: 90 | H17: ADDITIF FONDERIE | I17: =+E17/$E$79 -> 0.011409602 | J17: TR 60
A18: L10226 | B18: STE ALIOS DE METAL TRADING | C18: 271763.3 | D18: =+C18*0.19 -> 51635.027 | E18: =+C18+D18 -> 323398.33 | F18: =-VLOOKUP(A18,'bal f 2022'!E:F,2,0) -> 323400.73 | G18: 0 | H18: BATTERIE USAGE | I18: =+E18/$E$79 -> 0.010977912 | J18: TR 120
A19: L50019 | B19: LA DOUANE | C19: 257634.01 | D19: =+C19*0.19 -> 48950.462 | E19: =+C19+D19 -> 306584.47 | F19: =-VLOOKUP(A19,'bal f 2022'!E:F,2,0) -> -6605.89 | G19: 0 | H19: FRAIS TRANSIT | I19: =+E19/$E$79 -> 0.010407158 | J19: CH | M19: =+M16*(90-N16)/360 -> 6718719.7
A20: L10227 | B20: STE MNASRIA DES METALS | C20: 166552 | D20: =+C20*0.19 -> 31644.88 | E20: =+C20+D20 -> 198196.88 | F20: =-VLOOKUP(A20,'bal f 2022'!E:F,2,0) -> 198197.48 | G20: 0 | H20: BATTERIE USAGE | I20: =+E20/$E$79 -> 0.0067278885 | J20: CH
A21: L50889 | B21: AST (AVENIR SERVICE TRANSPOR | C21: 135463.08 | D21: =+C21*0.19 -> 25737.985 | E21: =+C21+D21 -> 161201.06 | F21: =-VLOOKUP(A21,'bal f 2022'!E:F,2,0) -> -38154.135 | G21: 0 | H21: FRAIS TRANSIT | I21: =+E21/$E$79 -> 0.0054720476 | J21: TR 120
A22: L10222 | B22: MBT | C22: 129280 | D22: =+C22*0.19 -> 24563.2 | E22: =+C22+D22 -> 153843.2 | F22: =-VLOOKUP(A22,'bal f 2022'!E:F,2,0) -> 0 | G22: 0 | H22: BATTERIE USAGE | I22: =+E22/$E$79 -> 0.0052222815 | J22: CH
A23: L10015 | B23: SOCIETE TUNISO UKRAINE TUNO | C23: 122412.23 | D23: =+C23*0.19 -> 23258.324 | E23: =+C23+D23 -> 145670.56 | F23: =-VLOOKUP(A23,'bal f 2022'!E:F,2,0) -> 563.292 | G23: 0 | H23: BOUCHON | I23: =+E23/$E$79 -> 0.0049448572 | J23: CH
A24: L10186 | B24: SOCIETE EL KOUKI | C24: 94162.525 | D24: =+C24*0.19 -> 17890.88 | E24: =+C24+D24 -> 112053.4 | F24: =-VLOOKUP(A24,'bal f 2022'!E:F,2,0) -> 5355.6 | G24: 90 | H24: EMBLLAGE | I24: =+E24/$E$79 -> 0.0038037068 | J24: TR 60
A25: L50737 | B25: MAGHREB SOLUTIONS | C25: 90386.978 | D25: =+C25*0.19 -> 17173.526 | E25: =+C25+D25 -> 107560.5 | F25: =-VLOOKUP(A25,'bal f 2022'!E:F,2,0) -> 11499.449 | G25: 0 | H25: FRAIS TRANSIT | I25: =+E25/$E$79 -> 0.0036511931 | J25: CH
A26: L10223 | B26: STTM | C26: 84512 | D26: =+C26*0.19 -> 16057.28 | E26: =+C26+D26 -> 100569.28 | F26: =-VLOOKUP(A26,'bal f 2022'!E:F,2,0) -> 0 | G26: 0 | H26: BATTERIE USAGE | I26: =+E26/$E$79 -> 0.0034138726 | J26: TR 30
A27: L10195 | B27: STE TRIPLEX DES METAUX | C27: 74640 | D27: =+C27*0.19 -> 14181.6 | E27: =+C27+D27 -> 88821.6 | F27: =-VLOOKUP(A27,'bal f 2022'!E:F,2,0) -> 16993.8 | G27: 0 | H27: BATTERIE USAGE | I27: =+E27/$E$79 -> 0.003015092 | J27: CH
A28: L50706 | B28: EXPRESS TRANSIT | C28: 52415.366 | D28: =+C28*0.19 -> 9958.9195 | E28: =+C28+D28 -> 62374.286 | F28: =-VLOOKUP(A28,'bal f 2022'!E:F,2,0) -> 3511.072 | G28: 0 | H28: FRAIS TRANSIT | I28: =+E28/$E$79 -> 0.0021173251 | J28: CH
A29: L20020 | B29: S O N E D E | C29: 50076.373 | D29: =+C29*0.19 -> 9514.5109 | E29: =+C29+D29 -> 59590.884 | F29: =-VLOOKUP(A29,'bal f 2022'!E:F,2,0) -> 0 | G29: =F29*360/E29 -> 0 | H29: EAU | I29: =+E29/$E$79 -> 0.0020228412 | J29: CH
A30: L10215 | B30: SIPP (société des industries | C30: 46006.235 | D30: =+C30*0.19 -> 8741.1847 | E30: =+C30+D30 -> 54747.42 | F30: =-VLOOKUP(A30,'bal f 2022'!E:F,2,0) -> 14853.069 | G30: 90 | H30: EMBLLAGE | I30: =+E30/$E$79 -> 0.0018584275 | J30: CH
A31: L10217 | B31: AMALPACK | C31: 45854.4 | D31: =+C31*0.19 -> 8712.336 | E31: =+C31+D31 -> 54566.736 | F31: =-VLOOKUP(A31,'bal f 2022'!E:F,2,0) -> 0 | G31: =F31*360/E31 -> 0 | H31: EMBLLAGE | I31: =+E31/$E$79 -> 0.0018522941 | J31: CH
A32: L60136 | B32: INTER METAL | C32: 45144.8 | D32: =+C32*0.19 -> 8577.512 | E32: =+C32+D32 -> 53722.312 | F32: =-VLOOKUP(A32,'bal f 2022'!E:F,2,0) -> -0.001 | G32: 0 | H32: ADDITIF FONDERIE | I32: =+E32/$E$79 -> 0.0018236297 | J32: CH
A33: L30467 | B33: STE ABRAWARA TOUS SERVICE | C33: 39071.659 | D33: =+C33*0.19 -> 7423.6152 | E33: =+C33+D33 -> 46495.274 | F33: =-VLOOKUP(A33,'bal f 2022'!E:F,2,0) -> 0 | G33: =F33*360/E33 -> 0 | H33: EMBLLAGE | I33: =+E33/$E$79 -> 0.0015783045 | J33: CH
A34: L30490 | B34: STE MAYAR RECYCLAGE | C34: 37168 | D34: =+C34*0.19 -> 7061.92 | E34: =+C34+D34 -> 44229.92 | F34: =-VLOOKUP(A34,'bal f 2022'!E:F,2,0) -> 0 | G34: =F34*360/E34 -> 0 | H34: FRAIS TRANSIT | I34: =+E34/$E$79 -> 0.0015014059 | J34: CH
A35: L50903 | B35: TNA | C35: 33747.105 | D35: =+C35*0.19 -> 6411.95 | E35: =+C35+D35 -> 40159.055 | F35: =-VLOOKUP(A35,'bal f 2022'!E:F,2,0) -> -1233.281 | G35: 0 | H35: FRAIS TRANSIT | I35: =+E35/$E$79 -> 0.0013632185 | J35: CH
A36: L20009 | B36: AIR LIQUIDE TUNISIE | C36: 31969.969 | D36: =+C36*0.19 -> 6074.2941 | E36: =+C36+D36 -> 38044.263 | F36: =-VLOOKUP(A36,'bal f 2022'!E:F,2,0) -> -1255.262 | G36: 0 | H36: ADDITIF FONDERIE | I36: =+E36/$E$79 -> 0.0012914308 | J36: CH
A37: L50460 | B37: HTRI | C37: 29651.05 | D37: =+C37*0.19 -> 5633.6995 | E37: =+C37+D37 -> 35284.749 | F37: =-VLOOKUP(A37,'bal f 2022'!E:F,2,0) -> 0 | G37: =F37*360/E37 -> 0 | H37: FRAIS TRANSIT | I37: =+E37/$E$79 -> 0.0011977578 | J37: CH
A38: L10204 | B38: STE MAM PACK SA | C38: 24391.88 | D38: =+C38*0.19 -> 4634.4572 | E38: =+C38+D38 -> 29026.337 | F38: =-VLOOKUP(A38,'bal f 2022'!E:F,2,0) -> 0 | G38: =F38*360/E38 -> 0 | H38: EMBLLAGE | I38: =+E38/$E$79 -> 0.00098531299 | J38: CH
A39: L50973 | B39: ESILAB | C39: 23183.5 | D39: =+C39*0.19 -> 4404.865 | E39: =+C39+D39 -> 27588.365 | F39: =-VLOOKUP(A39,'bal f 2022'!E:F,2,0) -> 0 | G39: 0 | H39: ADDITIF FONDERIE | I39: =+E39/$E$79 -> 0.00093650033 | J39: CH
A40: L10220 | B40: SMART SOLUTION | C40: 21627 | D40: =+C40*0.19 -> 4109.13 | E40: =+C40+D40 -> 25736.13 | F40: =-VLOOKUP(A40,'bal f 2022'!E:F,2,0) -> 6008.91 | G40: 0 | H40: ADDITIF FONDERIE | I40: =+E40/$E$79 -> 0.00087362532 | J40: CH
...

Sheet Achat ETRANGER 24
B1: année | C1: 2024 | F1: année | G1: 2024 | I1: Nature | J1: MP | L1: Nature | M1: MP
I2: année | J2: 2024 | L2: année | M2: 2024
B3: Somme de Valeur total en DT | C3: Société | F3: Somme de Valeur total en DT | G3: Société
B4: Fournisseur | C4: SNA | F4: Nature | G4: SNA | I4: Somme de Valeur total en DT | J4: Société | M4: Société | N4: Valeurs
B5: DIXON | C5: 13000390 | F5: MP | G5: 33575988 | I5: Fournisseur | J5: SNA | M5: SNA
B6: ELBAT | C6: 7233450.2 | F6: MPA | G6: 3138853.9 | I6: DIXON | J6: 13000390 | L6: Fournisseur | M6: Somme de FRET / Article | N6: Somme de Montant Transit / article | O6: Somme de Surestarie / Article | P6: Somme de TOTAL FRAIS / Article
B7: MONBAT | C7: 6675197.4 | F7: Capex | G7: 957090.39 | I7: ELBAT | J7: 7233450.2 | L7: ACCUMA | M7: 266500.86 | N7: 11961.806 | O7: 672.32 | P7: 384657.3
B8: ACCUMA | C8: 1697340 | F8: PDR | G8: 113793.76 | I8: MONBAT | J8: 4598180.8 | L8: MONBAT | M8: 165141.5 | N8: 6424 | O8: 0 | P8: 231111.27
B9: accumalux | C9: 1395895.1 | F9: Total général | G9: 37785726 | I9: ACCUMA | J9: 1485374.6 | L9: MICROPOROUS | M9: 81851.715 | N9: 3000 | O9: 0 | P9: 174884.46
B10: RASASS | C10: 1320312.6 | I10: RASASS | J10: 1320312.6 | L10: accumalux | M10: 134722.71 | N10: 3540.4042 | O10: 882.079 | P10: 166397.03
B11: MICROPOROUS | C11: 1116073.2 | I11: accumalux | J11: 1043400.3 | L11: AKUMSAN | M11: 40033.38 | N11: 1724.676 | O11: 0 | P11: 54029.649
B12: metaconcept | C12: 1064177.1 | I12: MICROPOROUS | J12: 999570.28 | L12: ELINOIL | M12: 3630 | N12: 2126.121 | O12: 1890 | P12: 45144.26
B13: Meta entreprice | C13: 707667.56 | I13: metaconcept | J13: 850847.16 | L13: GLATFELTER | M13: 31681.198 | N13: 1539.514 | O13: 0 | P13: 36322.623
B14: AKUMSAN | C14: 337172.04 | I14: Meta entreprice | J14: 707667.56 | L14: SORFIN | M14: 22115.703 | N14: 870 | O14: 0 | P14: 26616.345
B15: GLATFELTER | C15: 315580.89 | I15: AKUMSAN | J15: 337172.04 | L15: RASASS | M15: 2183.2 | N15: 3019 | O15: 201 | P15: 18874.633
B16: AKUMPLAST | C16: 302142.12 | I16: GLATFELTER | J16: 315580.89 | L16: AMER SIL | M16: 8603.01 | N16: 415.233 | O16: 0 | P16: 18336.992
B17: ELINOIL | C17: 293503.18 | I17: AKUMPLAST | J17: 302142.12 | L17: metaconcept | M17: 3955.1 | N17: 2110.29 | O17: 0 | P17: 17890.677
B18: SOVEMA | C18: 285778.19 | I18: ELINOIL | J18: 244894.97 | L18: YUCRY | M18: 13921.681 | N18: 354.389 | O18: 0 | P18: 15316.925
B19: SORFIN | C19: 256175.41 | I19: METACONCEPT | J19: 209689.67 | L19: GOONVEAN FIBRES | M19: 12124.892 | N19: 540.849 | O19: 0 | P19: 13573.107
B20: WUXI HUANFA ET TECHNOLOGY | C20: 239526.89 | I20: SORFIN | J20: 195436.53 | L20: YUCRY | M20: 11437.489 | N20: 412.306 | O20: 0 | P20: 13112.956
B21: CHANGXING JIGUANG NEW ENERGY TECHNOLOGY | C21: 230030.17 | I21: MICROPROUS | J21: 124638.21 | L21: METALSA STAGNO | M21: 6135.391 | N21: 267.777 | O21: 0 | P21: 11344.619
... B24: MICROPROUS | C24: 124638.21 | I24: monbat recycling | J24: 75015.601 | L24: Total général | M24: 804841.43 | N24: 38706.495 | O24: 3645.399 | P24: 1237512
B25: AKUMLAST | C25: 105583.95 | I25: Monbat RECYC | J25: 71024.115
B26: GOONVEAN FIBRES | C26: 93540.987 | I26: YUCRY | J26: 65966.842
B27: monbat recycling | C27: 75015.601 | I27: AMER SIL | J27: 52513.202
B28: Monbat RECYC | C28: 71024.115 | I28: YUCRY | J28: 46870.102
B29: MONPLAST | C29: 69360.944 | I29: krines EOOD | J29: 36946.644
B30: Monbat AD | C30: 67473 | I30: METALSA STAGNO | J30: 29069.568
B31: YUCRY | C31: 65966.842 | I31: WUXI HUANFA ET TECHNOLOGY | J31: 17505.192
B32: AMER SIL | C32: 52513.202 | I32: ATI | J32: 9007.1061
B33: YUCRY | C33: 46870.102 | I33: INTERCONNECT | J33: 4196.7066
B34: krines EOOD | C34: 36946.644 | I34: Total général | J34: 33575988
B35: METALSA STAGNO | C35: 29069.568
B36: frimax | C36: 12848.37
B37: ATI | C37: 9007.1061
B38: BETTER TECHNOLOGIE | C38: 8683.388
B39: INTERCONNECT | C39: 4196.7066
B40: INTERCONNECT | C40: 1781.648
B41: AMETEK | C41: 1076.3823
B42: Total général | C42: 37785726

Sheet VENTE LOCAL 24 
A1: Date | B1: N°Facture | C1: Montant TND HT | D1: Montant TPE | E1: Montant FODEC | F1: Montant Base TVA | G1: Montant TVA | H1: Montant TTC
A2: 45322 | B2: FN240017 | C2: 227000 | D2: 0 | E2: 0 | F2: =+C2+D2+E2 -> 227000 | G2: =+F2*0.19 -> 43130 | H2: =+C2+D2+E2+G2 -> 270130
A3: 45322 | B3: AC230025 | C3: -585260.36 | D3: -40879.052 | E3: -5839.865 | F3: =+C3+D3+E3 -> -631979.28 | G3: =+F3*0.19 -> -120076.06 | H3: =+C3+D3+E3+G3 -> -752055.34
A4: 45322 | B4: FN240019 | C4: =2794513.553+3180 -> 2797693.6 | D4: 195080.91 | E4: 27868.702 | F4: =+C4+D4+E4 -> 3020643.2 | G4: =+F4*0.19 -> 573922.2 | H4: =+C4+D4+E4+G4 -> 3594565.4
A5: 45322 | B5: FN240018 | C5: 227 | D5: 0 | E5: 0 | F5: =+C5+D5+E5 -> 227 | G5: =+F5*0.19 -> 43.13 | H5: =+C5+D5+E5+G5 -> 270.13
A6: 45322 | B6: AC230024 | C6: -227000 | D6: 0 | E6: 0 | F6: =+C6+D6+E6 -> -227000 | G6: =+F6*0.19 -> -43130 | H6: =+C6+D6+E6+G6 -> -270130
A7: 45335 | B7: FN240028 | C7: 21313.716 | D7: 0 | E7: 0 | F7: =+C7+D7+E7 -> 21313.716 | G7: =+F7*0.19 -> 4049.606 | H7: =+C7+D7+E7+G7 -> 25363.322
A8: 45351 | B8: FN240036 | C8: 2296540.8 | D8: 160490.34 | E8: 22927.193 | F8: =+C8+D8+E8 -> 2479958.4 | G8: =+F8*0.19 -> 471192.09 | H8: =+C8+D8+E8+G8 -> 2951150.5
A9: 45351 | B9: AC240003 | C9: -145318.61 | D9: -10172.302 | E9: -1453.186 | F9: =+C9+D9+E9 -> -156944.09 | G9: =+F9*0.19 -> -29819.378 | H9: =+C9+D9+E9+G9 -> -186763.47
A10: 45364 | B10: FN240037 | C10: 18991.597 | D10: 0 | E10: 0 | F10: =+C10+D10+E10 -> 18991.597 | G10: =+F10*0.19 -> 3608.4034 | H10: =+C10+D10+E10+G10 -> 22600
A11: 45380 | B11: FN240051 | C11: 1908024.6 | D11: 133543.89 | E11: 19077.7 | F11: =+C11+D11+E11 -> 2060646.2 | G11: =+F11*0.19 -> 391522.79 | H11: =+C11+D11+E11+G11 -> 2452169
A12: 45380 | B12: AC240004 | C12: -95248.587 | D12: -6667.401 | E12: -952.486 | F12: =+C12+D12+E12 -> -102868.47 | G12: =+F12*0.19 -> -19545.01 | H12: =+C12+D12+E12+G12 -> -122413.48
A13: 45380 | B13: FN240058 | C13: 1987.5 | D13: 139.125 | E13: 19.875 | F13: =+C13+D13+E13 -> 2146.5 | G13: =+F13*0.19 -> 407.835 | H13: =+C13+D13+E13+G13 -> 2554.335
A14: 45380 | B14: FN240060 | C14: 81763.2 | D14: 0 | E14: 0 | F14: =+C14+D14+E14 -> 81763.2 | G14: =+F14*0.19 -> 15535.008 | H14: =+C14+D14+E14+G14 -> 97298.208
A15: 45380 | B15: FN240062 | C15: 387.47 | D15: 0 | E15: 0 | F15: =+C15+D15+E15 -> 387.47 | G15: =+F15*0.19 -> 73.6193 | H15: =+C15+D15+E15+G15 -> 461.0893
A16: 45412 | B16: FN240069 | C16: =2122597.918+45 -> 2122642.9 | D16: 148581.85 | E16: 21225.981 | F16: =+C16+D16+E16 -> 2292450.8 | G16: =+F16*0.19 -> 435565.64 | H16: =+C16+D16+E16+G16 -> 2728016.4
A17: 45412 | B17: AC240005 | C17: -151237.54 | D17: -10586.628 | E17: -1512.375 | F17: =+C17+D17+E17 -> -163336.54 | G17: =+F17*0.19 -> -31033.942 | H17: =+C17+D17+E17+G17 -> -194370.48
A18: 45412 | B18: FN240071 | C18: 81763.2 | D18: 0 | E18: 0 | F18: =+C18+D18+E18 -> 81763.2 | G18: =+F18*0.19 -> 15535.008 | H18: =+C18+D18+E18+G18 -> 97298.208
A19: 45412 | B19: FN240072 | C19: 37119.86 | D19: 0 | E19: 0 | F19: =+C19+D19+E19 -> 37119.86 | G19: =+F19*0.19 -> 7052.7734 | H19: =+C19+D19+E19+G19 -> 44172.633
A20: 45412 | B20: FN240070 | C20: 11369.5 | D20: 795.865 | E20: 113.695 | F20: =+C20+D20+E20 -> 12279.06 | G20: =+F20*0.19 -> 2333.0214 | H20: =+C20+D20+E20+G20 -> 14612.081
A21: 45443 | B21: FN240094 | C21: =3387554.118+840 -> 3388394.1 | D21: 235969.01 | E21: 33709.859 | F21: =+C21+D21+E21 -> 3658073 | G21: =+F21*0.19 -> 695033.87 | H21: =+C21+D21+E21+G21 -> 4353106.9
A22: 45443 | B22: FN240093 | C22: 79464.8 | D22: 5562.536 | E22: 794.648 | F22: =+C22+D22+E22 -> 85821.984 | G22: =+F22*0.19 -> 16306.177 | H22: =+C22+D22+E22+G22 -> 102128.16
A23: 45443 | B23: FN240092 | C23: 490 | D23: 0 | E23: 0 | F23: =+C23+D23+E23 -> 490 | G23: =+F23*0.19 -> 93.1 | H23: =+C23+D23+E23+G23 -> 583.1
A24: 45443 | B24: AC240006 | C24: -329676.83 | D24: -23077.378 | E24: -3296.768 | F24: =+C24+D24+E24 -> -356050.98 | G24: =+F24*0.19 -> -67649.686 | H24: =+C24+D24+E24+G24 -> -423700.66
A25: 45443 | B25: AC240007 | C25: -81763.2 | D25: 0 | E25: 0 | F25: =+C25+D25+E25 -> -81763.2 | G25: =+F25*0.19 -> -15535.008 | H25: =+C25+D25+E25+G25 -> -97298.208
A26: 45473 | B26: FN240112 | C26: 3401848.8 | D26: 238091.6 | E26: 34013.086 | F26: =+C26+D26+E26 -> 3673953.5 | G26: =+F26*0.19 -> 698051.16 | H26: =+C26+D26+E26+G26 -> 4372004.6
A27: 45473 | B27: AC240009 | C27: -424546.63 | D27: -29718.264 | E27: -4245.466 | F27: =+C27+D27+E27 -> -458510.36 | G27: =+F27*0.19 -> -87116.969 | H27: =+C27+D27+E27+G27 -> -545627.33
A28: 45473 | B28: AC240010 | C28: -59363.554 | D28: -4155.449 | E28: -593.636 | F28: =+C28+D28+E28 -> -64112.639 | G28: =+F28*0.19 -> -12181.401 | H28: =+C28+D28+E28+G28 -> -76294.04
A29: 45473 | B29: AC240011 | C29: -14747.455 | D29: -1032.322 | E29: -147.475 | F29: =+C29+D29+E29 -> -15927.252 | G29: =+F29*0.19 -> -3026.1779 | H29: =+C29+D29+E29+G29 -> -18953.43
A30: 45473 | B30: FN240131 | C30: 1987.5 | D30: 139.125 | E30: 19.875 | F30: =+C30+D30+E30 -> 2146.5 | G30: =+F30*0.19 -> 407.835 | H30: =+C30+D30+E30+G30 -> 2554.335
A31: 45473 | B31: FN240133 | C31: 10600 | D31: 742 | E31: 106 | F31: =+C31+D31+E31 -> 11448 | G31: =+F31*0.19 -> 2175.12 | H31: =+C31+D31+E31+G31 -> 13623.12
A32: 45473 | B32: FN240129 | C32: 1946.5 | D32: 0 | E32: 0 | F32: =+C32+D32+E32 -> 1946.5 | G32: =+F32*0.19 -> 369.835 | H32: =+C32+D32+E32+G32 -> 2316.335
A33: 45473 | B33: AC240012 | C33: -1946.5 | D33: 0 | E33: 0 | F33: =+C33+D33+E33 -> -1946.5 | G33: =+F33*0.19 -> -369.835 | H33: =+C33+D33+E33+G33 -> -2316.335
... A51: 45559 | B51: FN240177 | C51: 40181.2 | D51: 2812.684 | E51: 401.812 | F51: =+C51+D51+E51 -> 43395.696 | G51: =+F51*0.19 -> 8245.1822 | H51: =+C51+D51+E51+G51 -> 51640.878
A52: 45596 | B52: FN240192 | C52: =3476624.226+160 -> 3476784.2 | D52: 243363.69 | E52: 34766.241 | F52: =+C52+D52+E52 -> 3754914.2 | G52: =+F52*0.19 -> 713433.69 | H52: =+C52+D52+E52+G52 -> 4468347.9
A53: 45596 | B53: AC240020 | C53: -57105.766 | D53: -3997.404 | E53: -571.058 | F53: =+C53+D53+E53 -> -61674.228 | G53: =+F53*0.19 -> -11718.103 | H53: =+C53+D53+E53+G53 -> -73392.331
A54: 45596 | B54: FN240198 | C54: 781.029 | D54: 0 | E54: 0 | F54: =+C54+D54+E54 -> 781.029 | G54: =+F54*0.19 -> 148.39551 | H54: =+C54+D54+E54+G54 -> 929.42451
A55: 45596 | B55: FN240199 | C55: 488.2 | D55: 0 | E55: 0 | F55: =+C55+D55+E55 -> 488.2 | G55: =+F55*0.19 -> 92.758 | H55: =+C55+D55+E55+G55 -> 580.958
A56: 45597 | B56: FN240197 | C56: 86890.8 | D56: 0 | E56: 0 | F56: =+C56+D56+E56 -> 86890.8 | G56: =+F56*0.19 -> 16509.252 | H56: =+C56+D56+E56+G56 -> 103400.05
A57: 45626 | B57: FN240223 | C57: 3041692.2 | D57: 212918.45 | E57: 30416.922 | F57: =+C57+D57+E57+15 -> 3285042.6 | G57: 624158.09 | H57: =+C57+D57+E57+G57 -> 3909185.7
...

Sheet VENTE EXPORT 2024
A1: Date Facture | B1: N°Facture | C1: Montant Devises | D1: Taux change | E1: Montant TND | F1: N° Déclaration Douanes | G1: Date Déclaration Douanes | H1: Client
A2: 45293 | B2: FN240001 | C2: 54739.56 | D2: 3.38805 | E2: 185460.37 | F2: 485859 | G2: 45295 | H2: DT BATTERIE D'ARMOR | K2: Étiquettes de lignes | L2: Somme de Montant Devises | M2: Somme de Montant TND
A3: 45293 | B3: FN240002 | C3: 51814.35 | D3: 3.38805 | E3: 175549.61 | F3: 485860 | G3: 45295 | H3: PROXITEC | K3: ACM TECHNOLOGIES | L3: 106439.67 | M3: 357410.2
A4: 45299 | B4: FN240003 | C4: 53114.24 | D4: 3.38565 | E4: 179826.23 | F4: 485901 | G4: 45299 | H4: LITTORAL | K4: ALPHADEAL | L4: 806643.02 | M4: 2715933.5
A5: 45299 | B5: FN240004 | C5: 51382.46 | D5: 3.38565 | E5: 173963.03 | F5: 485902 | G5: 45299 | H5: LITTORAL | K5: DIRECT BATTERIES | L5: 160545.16 | M5: 538630.41
A6: 45299 | B6: FN240005 | C6: 53084.81 | D6: 3.38565 | E6: 179726.59 | F6: 485900 | G6: 45299 | H6: LITTORAL | K6: DT BATTERIE D'ARMOR | L6: 213234.57 | M6: 718409.23
A7: 45300 | B7: FN240009 | C7: 71400 | D7: 3.38695 | E7: 241828.23 | F7: 485922 | G7: 45301 | H7: MONBAT | K7: ENERGIES BATTERIES | L7: 105407.21 | M7: 350501.84
A8: 45300 | B8: FN240007 | C8: 52407.2 | D8: 3.38695 | E8: 177500.57 | F8: 485924 | G8: 45301 | H8: OUEST BATTERIES | K8: ERRAFIK ALDAYEM | L8: 95626.19 | M8: 323431.71
A9: 45300 | B9: FN240008 | C9: 55429.92 | D9: 3.38695 | E9: 187738.37 | F9: 485921 | G9: 45301 | H9: OUEST BATTERIES | K9: HEMPE | L9: 93310.79 | M9: 315353.9
A10: 45300 | B10: FN240010 | C10: 14944.36 | D10: 3.38695 | E10: 50619.323 | F10: 485923 | G10: 45301 | H10: HEMPE | K10: LITTORAL | L10: 982525.09 | M10: 3309669.4
A11: 45300 | B11: FN240011 | C11: 70839.6 | D11: 3.38695 | E11: 239930.18 | F11: 485926 | G11: 45301 | H11: MONBAT | K11: LUBATEX | L11: 141930.3 | M11: 478502.13
A12: 45300 | B12: FN240006 | C12: 55436.68 | D12: 3.38695 | E12: 187761.26 | F12: 485928 | G12: 45301 | H12: OUEST BATTERIES | K12: MATADOR | L12: 4764968.6 | M12: 16049789
A13: 45313 | B13: FN240012 | C13: 53529.09 | D13: 3.38635 | E13: 181268.23 | F13: 486036 | G13: 45314 | H13: ACM TECHNOLOGIES | K13: MONBAT | L13: 3710847.6 | M13: 12508287
A14: 45313 | B14: FN240013 | C14: 50663.31 | D14: 3.38635 | E14: 171563.7 | F14: 486037 | G14: 45314 | H14: PROXITEC | K14: OUEST BATTERIES | L14: 374192.16 | M14: 1261829.7
... A18: 45330 | B18: FN240022 | C18: 13154.97 | D18: 3.37355 | E18: 44378.949 | F18: 486288 | G18: 45331 | H18: STARS BATTERIES | K18: Total général | L18: 12718099 | M18: 42849812
A19: 45330 | B19: FN240023 | C19: 50313.29 | D19: 3.37355 | E19: 169734.4 | F19: 486289 | G19: 45331 | H19: LITTORAL
A20: 45330 | B20: FN240024 | C20: 89929.5 | D20: 3.37355 | E20: 303381.66 | F20: 486291 | G20: 45331 | H20: MATADOR
A21: 45334 | B21: FN240025 | C21: 14441.32 | D21: 3.37295 | E21: 48715.276 | F21: 486357 | G21: 45336 | H21: HEMPE
A22: 45335 | B22: FN240026 | C22: 89929.5 | D22: 3.37295 | E22: 303327.71 | F22: 486365 | G22: 45336 | H22: MATADOR
A23: 45335 | B23: FN240027 | C23: 89929.5 | D23: 3.37295 | E23: 303327.71 | F23: 486363 | G23: 45336 | H23: MATADOR
A24: 45335 | B24: FN240029 | C24: 73062.6 | D24: 3.37295 | E24: 246436.5 | F24: 486366 | G24: 45336 | H24: MONBAT
A25: 45335 | B25: FN240030 | C25: 70856.1 | D25: 3.37295 | E25: 238994.08 | F25: 486367 | G25: 45336 | H25: MONBAT
A26: 45344 | B26: FN240033 | C26: 50760.74 | D26: 3.37575 | E26: 171355.57 | F26: 486412 | G26: 45342 | H26: LITTORAL
A27: 45351 | B27: FN240031 | C27: 51201.27 | D27: 3.37575 | E27: 172842.69 | F27: 486410 | G27: 45342 | H27: PROXITEC
A28: 45351 | B28: FN240032 | C28: 50457.21 | D28: 3.37575 | E28: 170330.93 | F28: 486411 | G28: 45342 | H28: PROXITEC
A29: 45351 | B29: FN240034 | C29: 51848.75 | D29: 3.38015 | E29: 175256.55 | F29: 486493 | G29: 45348 | H29: LITTORAL
A30: 45352 | B30: FN240038 | C30: 89211.5 | D30: 3.37295 | E30: 300905.93 | F30: 486364 | G30: 45336 | H30: MATADOR
... A51: 45414 | B51: FN240079 | C51: 54072.96 | D51: 3.37055 | E51: 182255.61 | F51: 407532 | G51: 45412 | H51: DT BATTERIE D'ARMOR
A52: 45415 | B52: FN240073 | C52: 84694.05 | D52: 3.3847 | E52: 286663.95 | H52: MATADOR
A53: 45415 | B53: FN240074 | C53: 84017.85 | D53: 3.3847 | E53: 284375.22 | F53: 486767 | G53: 45365 | H53: MATADOR
A54: 45418 | B54: FN240081 | C54: 71339.9 | D54: 3.36905 | E54: 240341.63 | F54: 487254 | G54: 45414 | H54: MONBAT
A55: 45418 | B55: FN240083 | C55: 70245 | D55: 3.36905 | E55: 236658.92 | F55: 487253 | G55: 45414 | H55: MONBAT
A56: 45419 | B56: FN240080 | C56: 52704.48 | D56: 3.37055 | E56: 177643.09 | F56: 487238 | G56: 45412 | H56: PROXITEC
A57: 45419 | B57: FN240082 | C57: 70245 | D57: 3.3681 | E57: 236592.18 | F57: 487269 | G57: 45415 | H57: MONBAT
A58: 45423 | B58: FN240075 | C58: 83717.1 | D58: 3.373 | E58: 282377.78 | F58: 487001 | G58: 45386 | H58: MATADOR
A59: 45423 | B59: FN240076 | C59: 83717.1 | D59: 3.373 | E59: 282377.78 | F59: 487003 | G59: 45386 | H59: MATADOR
A60: 45430 | B60: FN240087 | C60: 15115.35 | D60: 3.37695 | E60: 51045.47 | F60: 487434 | G60: 45427 | H60: HEMPE
A61: 45434 | B61: FN240084 | C61: 70380.45 | D61: 3.377 | E61: 237674.78 | F61: 487399 | G61: 45425 | H61: MONBAT
A62: 45434 | B62: FN240085 | C62: 69473.52 | D62: 3.377 | E62: 234612.08 | F62: 487400 | G62: 45425 | H62: MONBAT
A63: 45434 | B63: FN240086 | C63: 68762.88 | D63: 3.377 | E63: 232212.25 | F63: 487401 | G63: 45425 | H63: MONBAT
...

Sheet bal f 2022
A1: Compte | B1: Debit
A2: L80081 | B2: -88861.492
A3: L50284 | B3: -75000 | E3: Étiquettes de lignes | F3: Somme de solde
A4: L50522 | B4: -57941.721 | E4: E10001 | F4: -1257000.3
A5: L50280 | B5: -57538.794 | E5: E10003 | F5: 0
A6: E80018 | B6: -45572.9 | E6: E10005 | F6: 0
A7: L50889 | B7: -38154.135 | E7: E10007 | F7: 0
A8: L60579 | B8: -34771.907 | E8: E10008 | F8: 0
A9: L04375 | B9: -27379.321 | E9: E10014 | F9: 0.0010000002
A10: E80039 | B10: -20920.124 | E10: E10017 | F10: 0
A11: L50612 | B11: -20063.982 | E11: E10021 | F11: 0
A12: L50759 | B12: -19932.075 | E12: E10023 | F12: 0
A13: L30486 | B13: -15029 | E13: E10026 | F13: -0.001
A14: L60581 | B14: -12890.978 | E14: E10029 | F14: 0
A15: E80040 | B15: -11759.531 | E15: E10031 | F15: 0
... A233: Tot Gen | B233: 5286100.4 | E233: L30181 | F233: 0
A234: E10001 | E234: L30183 | F234: 0
A235: E10003 | E235: L30188 | F235: 0
A236: BIASIN | E236: L30189 | F236: 0
A237: E10005 | E237: L30192 | F237: 0
A238: DARAMIC | E238: L30195 | F238: 0
A239: E10007 | E239: L30199 | F239: 0
A240: ENTEK | E240: L30202 | F240: 0
A241: E10008 | E241: L30203 | F241: 0
A242: ICS | E242: L30204 | F242: 0
A243: STE DE FONDERI | E243: L30211 | F243: 0
A244: E10017 | E244: L30212 | F244: 0
A245: SORFIN LTD | E245: L30213 | F245: 0
... A1159: CMS | E1159: Total général | F1159: -5246514.7
A1160: L50498
A1161: SOFIENE GUERMA
A1162: L50499
A1163: L50502
A1164: COMMISSION D'E
A1165: L50503
A1166: VEGA
A1167: L50504
A1168: GMG
A1169: L50511
A1170: SC SUPERVISE
...

Sheet bal f 2023
A1: Compte | B1: credit
A2: E10014 | B2: -0.001 | E2: Étiquettes de lignes | F2: Somme de solde
A3: L30472 | B3: -0.001 | E3: E10001 | F3: -1410064.1
A4: L50876 | B4: -0.001 | E4: E10003 | F4: 0
A5: L50965 | B5: -0.001 | E5: E10005 | F5: 0
A6: L60136 | B6: -0.001 | E6: E10007 | F6: 0
A7: L60512 | B7: -0.001 | E7: E10008 | F7: 0
A8: E10046 | B8: -0.002 | E8: E10014 | F8: 0.0010000002
A9: E80016 | B9: -0.002 | E9: E10017 | F9: 0
A10: L60578 | B10: -0.002 | E10: E10021 | F10: 0
A11: L50766 | B11: -0.013 | E11: E10023 | F11: 0
A12: L50961 | B12: -0.019 | E12: E10026 | F12: -0.001
A13: L50751 | B13: -0.02 | E13: E10029 | F13: 0
A14: L60258 | B14: -0.022 | E14: E10031 | F14: 0
... A76: L50280 | B76: -109384.47 | E76: E80034 | F76: 20718.201
A77: E10001 | E77: E80035 | F77: 0
A78: A C C U M A | B78: 1410064.1 | E78: E80036 | F78: 1.222
A79: E10003 | E79: E80038 | F79: 0
A80: BIASIN | E80: E80039 | F80: 1198.349
A81: E10005 | E81: E80040 | F81: -242.728
A82: DARAMIC | E82: E80041 | F82: 0
A83: E10007 | E83: E80042 | F83: -41068.5
A84: ENTEK | E84: E80043 | F84: 0
A85: E10008 | E85: E80044 | F85: -18.454
A86: ICS | E86: E80045 | F86: -23.1
A87: STE DE FONDERI | E87: E80046 | F87: -24.39
A88: E10017 | E88: E80047 | F88: 0
A89: SORFIN LTD | E89: E80048 | F89: 0
A90: E10021 | E90: E80049 | F90: -19818.45
... A94: E10026 | E94: L00635 | F94: 0
A95: WIRTZ | B95: 0.001 | E95: L04375 | F95: 54612.793
A96: E10029 | E96: L10003 | F96: -72024.799
A97: SOCIETE EL ARA | E97: L10009 | F97: -64261
A98: E10031 | E98: L10011 | F98: 0
A99: Goonvean Fibre | E99: L10012 | F99: -1789.785
A100: E10032 | E100: L10015 | F100: -563.292
A101: AKÜMSAN | B101: 136802.98 | E101: L10017 | F101: 0
A102: E10036 | E102: L10018 | F102: 0
A103: ACCUMALUX | B103: 115686.32 | E103: L10022 | F103: 0
A104: E10042 | E104: L10041 | F104: 0
...

Sheet VENTE TTC 2022
A1: Date Facture | B1: Numéro Facture | C1: Code Client | D1: Nom Client | E1: Montant Net HT | F1: Tot, Taxes | G1: Timbre | H1: Montant TTC
A2: 44592 | B2: FN220007 | C2: 00010001 | D2: STE TNNE DES ACCUMULATEURS | E2: 20284 | F2: 3853.96 | G2: 0.6 | H2: 24138.56 | J2: Étiquettes de lignes | K2: Somme de Montant Net HT | L2: Somme de Tot, Taxes | M2: Somme de Montant TTC
A3: 44609 | B3: FN220009 | C3: 00010001 | D3: STE TNNE DES ACCUMULATEURS | E3: 23012 | F3: 4372.28 | G3: 0.6 | H3: 27384.88 | J3: 00010001 | K3: 138217.2 | L3: 26261.268 | M3: 164482.67
A4: 44631 | B4: FN220015 | C4: 00010001 | D4: STE TNNE DES ACCUMULATEURS | E4: 16832.2 | F4: 3198.118 | G4: 0.6 | H4: 20030.918 | J4: 00010003 | K4: 31391407 | L4: 8946667.9 | M4: 40338082
A5: 44651 | B5: FN220021 | C5: 00010001 | D5: STE TNNE DES ACCUMULATEURS | E5: 24684 | F5: 4689.96 | G5: 0.6 | H5: 29374.56 | J5: 00010005 | K5: 0 | L5: 0 | M5: 0
A6: 44666 | B6: FN220023 | C6: 00010001 | D6: STE TNNE DES ACCUMULATEURS | E6: 16566 | F6: 3147.54 | G6: 0.6 | H6: 19714.14 | J6: 00010006 | K6: 5556.6 | L6: 1055.755 | M6: 6614.155
A7: 44692 | B7: FN220027 | C7: 00010001 | D7: STE TNNE DES ACCUMULATEURS | E7: 23496 | F7: 4464.24 | G7: 0.6 | H7: 27960.84 | J7: 00010007 | K7: 33075 | L7: 6284.251 | M7: 39361.051
A8: 44720 | B8: FN220036 | C8: 00010001 | D8: STE TNNE DES ACCUMULATEURS | E8: 13343 | F8: 2535.17 | G8: 0.6 | H8: 15878.77 | J8: 00010009 | K8: 818.308 | L8: 155.478 | M8: 974.986
A9: 44592 | B9: AC220001 | C9: 00010003 | D9: STE NOUR DISTRIBUTION | E9: -5463.055 | F9: -1558.064 | G9: 0 | H9: -7021.119 | J9: 00010010 | K9: 367949.6 | L9: 0 | M9: 367955
A10: 44592 | B10: FN220006 | C10: 00010003 | D10: STE NOUR DISTRIBUTION | E10: 2032483.4 | F10: 579092.98 | G10: 0.6 | H10: 2611576.9 | J10: 00019999 | K10: 0 | L10: 0 | M10: 1.2
A11: 44620 | B11: AC220005 | C11: 00010003 | D11: STE NOUR DISTRIBUTION | E11: -6760.494 | F11: -1928.094 | G11: 0 | H11: -8688.588 | J11: X039003 | K11: 271422.11 | L11: 0 | M11: 271422.11
A12: 44620 | B12: FN220012 | C12: 00010003 | D12: STE NOUR DISTRIBUTION | E12: 1792585.9 | F12: 511235.95 | G12: 0.6 | H12: 2303822.5 | J12: X044001 | K12: 0 | L12: 0 | M12: 0
A13: 44651 | B13: AC220006 | C13: 00010003 | D13: STE NOUR DISTRIBUTION | E13: -7997.103 | F13: -2280.774 | G13: 0 | H13: -10277.877 | J13: X048001 | K13: 1067809.8 | L13: 0 | M13: 1067809.8
A14: 44651 | B14: FN220020 | C14: 00010003 | D14: STE NOUR DISTRIBUTION | E14: 1973777.8 | F14: 562463.36 | G14: 0.6 | H14: 2536241.8 | J14: X049002 | K14: 459897.25 | L14: 0 | M14: 459897.25
... A21: 44771 | B21: FN220057 | C21: 00010003 | D21: STE NOUR DISTRIBUTION | E21: 3460859.1 | F21: 986602.32 | G21: 0.6 | H21: 4447462 | J21: Total général | K21: 39312793 | L21: 8980424.6 | M21: 48293241
A22: 44804 | B22: AC220010 | C22: 00010003 | D22: STE NOUR DISTRIBUTION | E22: -55866.644 | F22: -15933.167 | G22: 0 | H22: -71799.811
A23: 44804 | B23: FN220062 | C23: 00010003 | D23: STE NOUR DISTRIBUTION | E23: 4119216.6 | F23: 1174005.1 | G23: 0.6 | H23: 5293222.3
A24: 44834 | B24: AC220011 | C24: 00010003 | D24: STE NOUR DISTRIBUTION | E24: -54203.945 | F24: -15391.591 | G24: 0 | H24: -69595.536
A25: 44834 | B25: FN220072 | C25: 00010003 | D25: STE NOUR DISTRIBUTION | E25: 3639140.2 | F25: 1037195 | G25: 0.6 | H25: 4676335.8 | K25: =+GETPIVOTDATA("Somme de Montant Net HT",$J$2)*30% -> 11793838
A26: 44865 | B26: AC220012 | C26: 00010003 | D26: STE NOUR DISTRIBUTION | E26: -100705.71 | F26: -28721.271 | G26: 0 | H26: -129426.99
A27: 44865 | B27: FN220085 | C27: 00010003 | D27: STE NOUR DISTRIBUTION | E27: 3145759.1 | F27: 896474.11 | G27: 0.6 | H27: 4042233.8
A28: 44895 | B28: AC220013 | C28: 00010003 | D28: STE NOUR DISTRIBUTION | E28: -48014.824 | F28: -13693.828 | G28: 0 | H28: -61708.652
A29: 44895 | B29: FN220097 | C29: 00010003 | D29: STE NOUR DISTRIBUTION | E29: 2814575.8 | F29: 802692.77 | G29: 0.6 | H29: 3617269.2
A30: 44911 | B30: AC220014 | C30: 00010003 | D30: STE NOUR DISTRIBUTION | E30: -35438.636 | F30: -10107.099 | G30: 0 | H30: -45545.735
A31: 44911 | B31: FN220101 | C31: 00010003 | D31: STE NOUR DISTRIBUTION | E31: 1685 | F31: 320.15 | G31: 0.6 | H31: 2005.75
A32: 44922 | B32: AC220015 | C32: 00010003 | D32: STE NOUR DISTRIBUTION | E32: -68314.447 | F32: -19483.279 | G32: 0 | H32: -87797.726
A33: 44926 | B33: AC220016 | C33: 00010003 | D33: STE NOUR DISTRIBUTION | E33: -20947.515 | F33: -5974.232 | G33: 0 | H33: -26921.747
A34: 44926 | B34: FN220107 | C34: 00010003 | D34: STE NOUR DISTRIBUTION | E34: 2784859.2 | F34: 792955.08 | G34: 0.6 | H34: 3577814.9
A35: 44845 | B35: DS220012 | C35: 00010005 | D35: STE NLLE DES ACCUMULATEURS | E35: 0 | F35: 0 | G35: 0 | H35: 0
A36: 44742 | B36: FN220042 | C36: 00010006 | D36: STE TIP | E36: 2520 | F36: 478.8 | G36: 0.6 | H36: 2999.4
A37: 44753 | B37: FN220045 | C37: 00010006 | D37: STE TIP | E37: 1389.15 | F37: 263.939 | G37: 0.6 | H37: 1653.689
... A41: 44839 | B41: FN220075 | C41: 00010007 | D41: NOUR BATTERIES INDUSTRIELLES | E41: 8268.75 | F41: 1571.063 | G41: 0.6 | H41: 9840.413
A42: 44636 | B42: FN220017 | C42: 00010009 | D42: SOCIETE ACHREF SERVICES | E42: 526.848 | F42: 100.101 | G42: 0.6 | H42: 627.549 | J42: TYPE | K42: CA 2022
A43: 44711 | B43: FN220030 | C43: 00010009 | D43: SOCIETE ACHREF SERVICES | E43: 291.46 | F43: 55.377 | G43: 0.6 | H43: 347.437 | K43: QTE | L43: PHT
A44: 44819 | B44: FN220066 | C44: 00010010 | D44: ECOPLAST | E44: 136000 | F44: 0 | G44: 0.6 | H44: 136000.6 | J44: BATTERIES | K44: 285359 | L44: 37423351
A45: 44819 | B45: FN220067 | C45: 00010010 | D45: ECOPLAST | E45: 30448 | F45: 0 | G45: 0.6 | H45: 30448.6 | J45: PLAQUE IND | K45: 95,578T | L45: 861103.96
A46: 44839 | B46: FN220077 | C46: 00010010 | D46: ECOPLAST | E46: 6556 | F46: 0 | G46: 0.6 | H46: 6556.6 | J46: PLAQUE | K46: 48,078T | L46: 429552.5
A47: 44839 | B47: FN220078 | C47: 00010010 | D47: ECOPLAST | E47: 47520 | F47: 0 | G47: 0.6 | H47: 47520.6 | J47: BANDE PUNCHING | K47: 1,52T | L47: 12673.833
A48: 44872 | B48: FN220088 | C48: 00010010 | D48: ECOPLAST | E48: 2904 | F48: 0 | G48: 0.6 | H48: 2904.6 | J48: PLOMB | K48: 2,4T | L48: 18718.872
A49: 44872 | B49: FN220089 | C49: 00010010 | D49: ECOPLAST | E49: 39996 | F49: 0 | G49: 0.6 | H49: 39996.6 | J49: EAU DEMINERALISES | K49: 3000 L | L49: 1332.8
...

Sheet xxx,

Sheet Achat Etrangers 2025
B1: année | C1: 2025 | F1: année | G1: 2024
B3: Somme de Valeur total en DT | C3: Société | F3: Somme de Valeur total en DT | G3: Société
B4: Fournisseur | C4: Montant | D4: Mode de Paiement | F4: Nature | G4: SNA
B5: DIXON | C5: 15950448 | D5: Virement à 60 Jrs | F5: MP | G5: 33575988
B6: MONBAT | C6: 9676477 | D6: Virement à 60 Jrs | F6: MPA | G6: 3138853.9
B7: ACCUMA | C7: 1951941 | D7: Virement à 60 Jrs | F7: Capex | G7: 957090.39
B8: accumalux | C8: 1605279.4 | D8: Virement à 90 Jrs | F8: PDR | G8: 113793.76
B9: RASASS | C9: 1518359.5 | D9: LC A 30 Jrs DATE BL | F9: Total général | G9: =+C27 -> 38135117
B10: MICROPOROUS | C10: 1283484.2 | D10: Virement à 90 Jrs
B11: metaconcept | C11: 1223803.7 | D11: CAD
B12: Meta entreprice | C12: 813817.69 | D12: Virement à 45 Jrs
B13: AKUMSAN | C13: 387747.84 | D13: Virement à 45 Jrs
B14: GLATFELTER | C14: 362918.03 | D14: Virement à 60 Jrs
B15: AKUMPLAST | C15: 347463.44 | D15: Virement à 60 Jrs
B16: ELINOIL | C16: 337528.66 | D16: Virement à 30 Jrs
B17: SOVEMA | C17: 328644.92 | D17: LC AT SIGHT
B18: SORFIN | C18: 294601.72 | D18: Virement à 60 Jrs
B19: WUXI HUANFA ET TECHNOLOGY | C19: 275455.92 | D19: Virement à 60 Jrs
B20: CHANGXING JIGUANG NEW ENERGY TECHNOLOGY | C20: 264534.69 | D20: Virement à 60 Jrs
B21: EFFICHARGE | C21: 264531.63 | D21: Virement à 60 Jrs
... B26: Autres | C26: 634608.66 | D26: Virement à 60 Jrs
B27: Total général | C27: =SUM(C5:C26) -> 38135117

Sheet VENTE 2025
A2: Budget 2025
F3: LOCAL
C5: JANVIER | D5: FEVRIER | E5: MARS | F5: AVRIL | G5: MAI | H5: JUIN | I5: JUILLET | J5: AOUT | K5: SEPTEMBRE | L5: OCTOBRE | M5: NOVEMBRE | N5: DECEMBRE | O5: TOTAL
A6: SND | B6: QTS VENDU | C6: 13854 | D6: 12942 | E6: 13505 | F6: 13067 | G6: 18231 | H6: 20105 | I6: 21789 | J6: 26669 | K6: 24211 | L6: 21896 | M6: 21071 | N6: 18800 | O6: =+SUM(C6:N6) -> 226140
B7: CA | C7: 2810024 | D7: 2629344 | E7: 2705305 | F7: 2552482 | G7: 3663131 | H7: 3952919 | I7: 4258784 | J7: 5238466 | K7: 5096454 | L7: 4647613 | M7: 4490771 | N7: 3983021 | O7: =+SUM(C7:N7) -> 46028314
A10: Budget 2025 | E10: Vente Plaque
C13: JANVIER | D13: FEVRIER | E13: MARS | F13: AVRIL | G13: MAI | H13: JUIN | I13: JUILLET | J13: AOUT | K13: SEPTEMBRE | L13: OCTOBRE | M13: NOVEMBRE | N13: DECEMBRE | O13: TOTAL
A14: MATADOR | B14: QTS VENDU | C14: 191668 | D14: 191668 | E14: 191668 | F14: 191668 | G14: 191668 | H14: 191668 | I14: 191668 | J14: 191668 | K14: 191668 | L14: 191668 | M14: 191668 | N14: 191668 | O14: =+SUM(C14:N14) -> 2300016
B15: CA | C15: 2034652 | D15: 2034652 | E15: 2034652 | F15: 2034652 | G15: 2034652 | H15: 2034652 | I15: 2034652 | J15: 2034652 | K15: 2034652 | L15: 2034652 | M15: 2034652 | N15: 2034652 | O15: =+SUM(C15:N15) -> 24415824
F19: EXPORT
C22: JANVIER | D22: FEVRIER | E22: MARS | F22: AVRIL | G22: MAI | H22: JUIN | I22: JUILLET | J22: AOUT | K22: SEPTEMBRE | L22: OCTOBRE | M22: NOVEMBRE | N22: DECEMBRE | O22: TOTAL
A23: TOTAL | B23: QTS VENDU | C23: 191668 | D23: 191668 | E23: 191668 | F23: 191668 | G23: 191668 | H23: 191668 | I23: 191668 | J23: 191668 | K23: 191668 | L23: 191668 | M23: 191668 | N23: 191668 | O23: =+SUM(C23:N23) -> 2300016
B24: CA | C24: =+C31+C35+C39+C43+C47+C51+C55+C59+C63+C67+C71+C75+C80 -> 3481608 | D24: =+D31+D35+D39+D43+D47+D51+D55+D59+D63+D67+D71+D75+D80 -> 2496539 | E24: =+E31+E35+E39+E43+E47+E51+E55+E59+E63+E67+E71+E75+E80 -> 2720494 | F24: =+F31+F35+F39+F43+F47+F51+F55+F59+F63+F67+F71+F75+F80 -> 3814636 | G24: =+G31+G35+G39+G43+G47+G51+G55+G59+G63+G67+G71+G75+G80 -> 2509681 | H24: =+H31+H35+H39+H43+H47+H51+H55+H59+H63+H67+H71+H75+H80 -> 2831529 | I24: =+I31+I35+I39+I43+I47+I51+I55+I59+I63+I67+I71+I75+I80 -> 3647124 | J24: =+J31+J35+J39+J43+J47+J51+J55+J59+J63+J67+J71+J75+J80 -> 2862312 | ... N24: =+N31+N35+N39+N43+N47+N51+N55+N59+N63+N67+N71+N75+N80 -> 3459137 | O24: =+SUM(C24:N24) -> 39359756
C29: JANVIER | D29: FEVRIER | E29: MARS | F29: AVRIL | G29: MAI | H29: JUIN | I29: JUILLET | J29: AOUT | K29: SEPTEMBRE | L29: OCTOBRE | M29: NOVEMBRE | N29: DECEMBRE | O29: TOTAL
A30: PROXITECH | B30: QTS VENDU | C30: 3710 | D30: 3710 | E30: 1855 | F30: 1855 | H30: 1855 | I30: 1855 | J30: 3710 | K30: 3710 | L30: 3710 | M30: 3710 | N30: 3710 | O30: =+SUM(C30:N30) -> 33390
B31: CA | C31: 385831 | D31: 385831 | E31: 192915 | F31: 192915 | H31: 192915 | I31: 192915 | J31: 385831 | K31: 385831 | L31: 385831 | M31: 385831 | N31: 385833 | O31: =+SUM(C31:N31) -> 3472479
C33: JANVIER | D33: FEVRIER | E33: MARS | F33: AVRIL | G33: MAI | H33: JUIN | I33: JUILLET | J33: AOUT | K33: SEPTEMBRE | L33: OCTOBRE | M33: NOVEMBRE | N33: DECEMBRE | O33: TOTAL
A34: LITTORAL BATT | B34: QTS VENDU | C34: 3518 | D34: 3518 | E34: 5277 | I34: 3518 | J34: 3518 | K34: 5277 | L34: 5277 | M34: 3518 | N34: 3518 | O34: =+SUM(C34:N34) -> 36939
B35: CA | C35: 386454 | D35: 386454 | E35: 579682 | I35: 386454 | J35: 386454 | K35: 579682 | L35: 579682 | M35: 386454 | N35: 386455 | O35: =+SUM(C35:N35) -> 4057771
C37: JANVIER | D37: FEVRIER | E37: MARS | F37: AVRIL | G37: MAI | H37: JUIN | I37: JUILLET | J37: AOUT | K37: SEPTEMBRE | L37: OCTOBRE | M37: NOVEMBRE | N37: DECEMBRE | O37: TOTAL
A38: Ouest Batteries | B38: QTS VENDU | C38: 3446 | D38: 3446 | L38: 1723 | M38: 1723 | O38: =+SUM(C38:N38) -> 10338
B39: CA | C39: 418475 | D39: 418475 | L39: 209238 | M39: 209237 | O39: =+SUM(C39:N39) -> 1255425
C41: JANVIER | D41: FEVRIER | E41: MARS | F41: AVRIL | G41: MAI | H41: JUIN | I41: JUILLET | J41: AOUT | K41: SEPTEMBRE | L41: OCTOBRE | M41: NOVEMBRE | N41: DECEMBRE | O41: TOTAL
A42: New customer | B42: QTS VENDU | D42: 1129 | H42: 1129 | L42: 1129 | O42: =+SUM(C42:N42) -> 3387
B43: CA | D43: 136752 | H43: 136752 | L43: 136752 | O43: =+SUM(C43:N43) -> 410256
C45: JANVIER | D45: FEVRIER | E45: MARS | F45: AVRIL | G45: MAI | H45: JUIN | I45: JUILLET | J45: AOUT | K45: SEPTEMBRE | L45: OCTOBRE | M45: NOVEMBRE | N45: DECEMBRE | O45: TOTAL
A46: LUBATEX | B46: QTS VENDU | D46: 1428 | F46: 1428 | H46: 1428 | J46: 1428 | L46: 1428 | N46: 1428 | O46: =+SUM(C46:N46) -> 8568
B47: CA | D47: 156310 | F47: 156310 | H47: 156310 | J47: 156310 | L47: 156310 | N47: 156310 | O47: =+SUM(C47:N47) -> 937860
C49: JANVIER | D49: FEVRIER | E49: MARS | F49: AVRIL | G49: MAI | H49: JUIN | I49: JUILLET | J49: AOUT | K49: SEPTEMBRE | L49: OCTOBRE | M49: NOVEMBRE | N49: DECEMBRE | O49: TOTAL
A50: DT Batteries d’Armor | B50: QTS VENDU | C50: 1559 | E50: 1559 | I50: 1559 | M50: 1559 | O50: =+SUM(C50:N50) -> 6236
B51: CA | C51: 175051 | E51: 175051 | I51: 175050 | M51: 175050 | O51: =+SUM(C51:N51) -> 700202
C53: JANVIER | D53: FEVRIER | E53: MARS | F53: AVRIL | G53: MAI | H53: JUIN | I53: JUILLET | J53: AOUT | K53: SEPTEMBRE | L53: OCTOBRE | M53: NOVEMBRE | N53: DECEMBRE | O53: TOTAL
