Workbook

Sheet balance
A1: Site | B1: Emplac. | C1: Code article | D1: Description | E1: Unité de mesure | F1: Quantité MFG | G1: Qté physique | H1: ecart
A2: PDR | B2: PDR02 | C2: 701ele005 | D2: Canne Type K (thermocouple) | E2: UN | F2: 1 | G2: =+VLOOKUP(C2,'STOCK JANVIER '!A:C,4,0) -> #REF! | H2: =+G2-F2 -> #REF!
A3: PDR | B3: PDR02 | C3: 701ELE006 | D3: Thermocouple universal | E3: UN | F3: 4 | G3: =+VLOOKUP(C3,'STOCK JANVIER '!A:C,4,0) -> #REF! | H3: =+G3-F3 -> #REF!
A4: PDR | B4: PDR02 | C4: 701ELE013 | D4: Servo moteur | E4: UN | F4: 1 | G4: =+VLOOKUP(C4,'STOCK JANVIER '!A:C,4,0) -> #REF! | H4: =+G4-F4 -> #REF!
A5: PDR | B5: PDR02 | C5: 701ele022 | D5: Canne PT100 D08/335mm | E5: UN | F5: 2 | G5: =+VLOOKUP(C5,'STOCK JANVIER '!A:C,4,0) -> #REF! | H5: =+G5-F5 -> #REF!
A6: PDR | B6: PDR02 | C6: 701ELE036 | D6: Thermocouple PT100 D5*200/80 | E6: UN | F6: 2 | G6: =+VLOOKUP(C6,'STOCK JANVIER '!A:C,4,0) -> #REF! | H6: =+G6-F6 -> #REF!
A7: PDR | B7: PDR02 | C7: 701ELE037 | D7: Thermocouple J coudee | E7: UN | F7: 2 | G7: =+VLOOKUP(C7,'STOCK JANVIER '!A:C,4,0) -> #REF! | H7: =+G7-F7 -> #REF!
A8: PDR | B8: PDR02 | C8: 701ELE038 | D8: Thermocouple type J D5*300 | E8: UN | F8: 2 | G8: =+VLOOKUP(C8,'STOCK JANVIER '!A:C,4,0) -> #REF! | H8: =+G8-F8 -> #REF!
A9: PDR | B9: PDR02 | C9: 701ELE041 | D9: Thermocouples TypeJ | E9: UN | F9: 1 | G9: =+VLOOKUP(C9,'STOCK JANVIER '!A:C,4,0) -> #REF! | H9: =+G9-F9 -> #REF!
A10: PDR | B10: PDR02 | C10: 701ELE053 | D10: Thermocouple Type K | E10: UN | F10: 2 | G10: =+VLOOKUP(C10,'STOCK JANVIER '!A:C,4,0) -> #REF! | H10: =+G10-F10 -> #REF!
A11: PDR | B11: PDR02 | C11: 701ELE054 | D11: Servo pack YASKAWA | E11: UN | F11: 1 | G11: =+VLOOKUP(C11,'STOCK JANVIER '!A:C,4,0) -> #REF! | H11: =+G11-F11 -> #REF!
A12: PDR | B12: PDR02 | C12: 701ELE056 | D12: Profibus-DP OPTION CARD | E12: UN | F12: 4 | G12: =+VLOOKUP(C12,'STOCK JANVIER '!A:C,4,0) -> #REF! | H12: =+G12-F12 -> #REF!
A13: PDR | B13: PDR02 | C13: 701ELE057 | D13: Complementary PG OPTION | E13: UN | F13: 1 | G13: =+VLOOKUP(C13,'STOCK JANVIER '!A:C,4,0) -> #REF! | H13: =+G13-F13 -> #REF!
... A182: PDR | B182: PDR02 | C182: 810PAR137 | D182: PARE HUILE 75*100*13 | E182: UN | F182: 3 | G182: =+VLOOKUP(C182,'STOCK JANVIER '!A:C,4,0) -> #REF! | H182: =+G182-F182 -> #REF!
A183: PDR | B183: PDR02 | C183: 810PAR138 | D183: PARE HUILE 60*74*10 | E183: UN | F183: 1 | G183: 0 | H183: =+G183-F183 -> -1
A184: PDR | B184: PDR02 | C184: 810PAR142 | D184: PARAHUILE 52*100*10 | E184: UN | F184: 1 | G184: =+VLOOKUP(C184,'STOCK JANVIER '!A:C,4,0) -> #REF! | H184: =+G184-F184 -> #REF!
A185: PDR | B185: PDR02 | C185: 810PAR144 | D185: PARE HUILE 45*65*8 | E185: UN | F185: 2 | G185: =+VLOOKUP(C185,'STOCK JANVIER '!A:C,4,0) -> #REF! | H185: =+G185-F185 -> #REF!
A186: PDR | B186: PDR02 | C186: 810PAR145 | D186: PARE HUILE 85/130/12 | E186: UN | F186: 3 | G186: =+VLOOKUP(C186,'STOCK JANVIER '!A:C,4,0) -> #REF! | H186: =+G186-F186 -> #REF!
A187: PDR | B187: PDR02 | C187: 810PAR146 | D187: PARE HUILE 85/115/12 | E187: UN | F187: 5 | G187: =+VLOOKUP(C187,'STOCK JANVIER '!A:C,4,0) -> #REF! | H187: =+G187-F187 -> #REF!
A188: PDR | B188: PDR02 | C188: 810PAR147 | D188: PARE HUILE 50*90*10 | E188: UN | F188: 3 | G188: =+VLOOKUP(C188,'STOCK JANVIER '!A:C,4,0) -> #REF! | H188: =+G188-F188 -> #REF!
A189: PDR | B189: PDR02 | C189: 810PAR148 | D189: PARE HUILE 50*65*8 | E189: UN | F189: 3 | G189: =+VLOOKUP(C189,'STOCK JANVIER '!A:C,4,0) -> #REF! | H189: =+G189-F189 -> #REF!
A190: PDR | B190: PDR02 | C190: 810PAR156 | D190: PARAHUILE 40*90*10 | E190: UN | F190: 8 | G190: =+VLOOKUP(C190,'STOCK JANVIER '!A:C,4,0) -> #REF! | H190: =+G190-F190 -> #REF!
A191: PDR | B191: PDR02 | C191: 810PAR157 | D191: PAREHUILE EN VITON 55-120-12 | E191: UN | F191: 1 | G191: =+VLOOKUP(C191,'STOCK JANVIER '!A:C,4,0) -> #REF! | H191: =+G191-F191 -> #REF!
A192: PDR | B192: PDR02 | C192: 810PAR158 | D192: PAREHUILE EN VITON 65-90-12 | E192: UN | F192: 4 | G192: =+VLOOKUP(C192,'STOCK JANVIER '!A:C,4,0) -> #REF! | H192: =+G192-F192 -> #REF!
A193: PDR | B193: PDR02 | C193: 810PAR159 | D193: PARAHUILE 65*85*10 | E193: UN | F193: 6 | G193: =+VLOOKUP(C193,'STOCK JANVIER '!A:C,4,0) -> #REF! | H193: =+G193-F193 -> #REF!
A194: PDR | B194: PDR02 | C194: 810PAR160 | D194: PAREHUILE EN NBR 35-50-8 | E194: UN | F194: 2 | G194: =+VLOOKUP(C194,'STOCK JANVIER '!A:C,4,0) -> #REF! | H194: =+G194-F194 -> #REF!
A195: PDR | B195: PDR02 | C195: 810PIN002 | D195: PIGNON 08B | E195: UN | F195: 9 | G195: =+VLOOKUP(C195,'STOCK JANVIER '!A:C,4,0) -> #REF! | H195: =+G195-F195 -> #REF!
... A937: PDR | B937: PDR02 | C937: 830XOU415 | D937: TURBINE/FAN WHEEL L17/B30/BG30 | E937: UN | F937: 2 | G937: =+VLOOKUP(C937,'STOCK JANVIER '!A:C,4,0) -> #REF! | H937: =+G937-F937 -> #REF!
A938: PDR | B938: PDR02 | C938: 830XOU427 | D938: CM2 KLINGERITE VERT EP 5MM | E938: UN | F938: 1 | G938: 0 | H938: =+G938-F938 -> -1
A939: PDR | B939: PDR02 | C939: 830XOU428 | D939: CM2 KLINGERITE VERT EP 2MM | E939: UN | F939: 1 | G939: 0 | H939: =+G939-F939 -> -1
A940: PDR | B940: PDR02 | C940: 840LUB005 | D940: LACTUCAL LT 3000 | E940: L | F940: 40 | G940: 0 | H940: =+G940-F940 -> -40
A941: PDR | B941: PDR02 | C941: 840MCB021 | D941: Ciment CPA 50KG | E941: UN | F941: 5 | G941: =+VLOOKUP(C941,'STOCK JANVIER '!A:C,4,0) -> #REF! | H941: =+G941-F941 -> #REF!
A942: PDR | B942: PDR02 | C942: 840MCB024 | D942: Ciment BRS | E942: kg | F942: 1 | G942: =+VLOOKUP(C942,'STOCK JANVIER '!A:C,4,0) -> #REF! | H942: =+G942-F942 -> #REF!
A943: PDR | B943: PDR02 | C943: 840xou004 | D943: Boite de controle bruleu | E943: UN | F943: 2 | G943: =+VLOOKUP(C943,'STOCK JANVIER '!A:C,4,0) -> #REF! | H943: =+G943-F943 -> #REF!
A944: PDR | B944: PDR02 | C944: 840XOU012 | D944: Servomoteur LKS 210-21 | E944: UN | F944: 1 | G944: =+VLOOKUP(C944,'STOCK JANVIER '!A:C,4,0) -> #REF! | H944: =+G944-F944 -> #REF!
A945: PDR | B945: PDR02 | C945: 840XOU314 | D945: ELECTRODE D'ALLUMAGE | E945: UN | F945: 1 | G945: =+VLOOKUP(C945,'STOCK JANVIER '!A:C,4,0) -> #REF! | H945: =+G945-F945 -> #REF!
A946: PDR | B946: PDR02 | C946: 840XOU316 | D946: ELECTRODE ACIER INOXYDABLE | E946: UN | F946: 1 | G946: =+VLOOKUP(C946,'STOCK JANVIER '!A:C,4,0) -> #REF! | H946: =+G946-F946 -> #REF!
A947: PDR | B947: PDR02 | C947: 860XES140 | D947: AQUAGEN® SUPER | E947: L | F947: 15 | G947: =+VLOOKUP(C947,'STOCK JANVIER '!A:C,4,0) -> #REF! | H947: =+G947-F947 -> #REF!
C948: 810TAP145 | D948: CONVOYEUR BELT | G948: 0.5 | H948: =+G948-F948 -> 0.5
C949: 815RES201 | D949: Resistance coudée D20 | G949: 2 | H949: =+G949-F949 -> 2
C950: 815RES202 | D950: Resistance Coudee D20 | G950: 2 | H950: =+G950-F950 -> 2

Sheet STOCK JANVIER 
A3: MOIS JANVIER /2026 | D3: JOURS | E3: 01 | H3: 02 | K3: 03 | N3: 04 | Q3: 05 | T3: 06 | W3: 07 | Z3: 08 | AC3: 09 | AF3: 10 | AI3: 11 | AL3: 12 | AO3: 13 | AR3: 14 | AU3: 15 | AX3: 16 | BA3: 17 | BD3: 18 | BG3: 19 | BJ3: 20 | BM3: 21 | BP3: 22 | BS3: 23 | BV3: 24 | BY3: 25 | CB3: 26 | CE3: 27 | CH3: 28 | CK3: 29 | CN3: 30 | CQ3: 31
A4: Code article | B4: Description | C4: STOCK MOIS PRSD | D4: STOCK MVMT | E4: E | F4: S | G4: A | H4: E | I4: S | J4: A | K4: E | L4: S | M4: A | N4: E | O4: S | P4: A | Q4: E | R4: S | S4: A | T4: E | U4: S | V4: A | W4: E | X4: S | Y4: A | Z4: E | AA4: S | AB4: A | AC4: E | AD4: S | AE4: A | AF4: E | AG4: S | AH4: A | AI4: E | AJ4: S | AK4: A | AL4: E | AM4: S | AN4: A | AO4: E | AP4: S | AQ4: A | AR4: E | AS4: S | AT4: A | AU4: E | AV4: S | AW4: A | AX4: E | AY4: S | AZ4: A | BA4: E | BB4: S | BC4: A | BD4: E | BE4: S | BF4: A | BG4: E | BH4: S | BI4: A | BJ4: E | BK4: S | BL4: A | BM4: E | BN4: S | BO4: A | BP4: E | BQ4: S | BR4: A | BS4: E | BT4: S | BU4: A | BV4: E | BW4: S | BX4: A | BY4: E | BZ4: S | CA4: A | CB4: E | CC4: S | CD4: A | CE4: E | CF4: S | CG4: A | CH4: E | CI4: S | CJ4: A | CK4: E | CL4: S | CM4: A | CN4: E | CO4: S | CP4: A | CQ4: E | CR4: S | CS4: A
A5: 701ele005 | B5: Canne Type K (thermocouple) D15/L1500+raccord | C5: 1 | D5: =C5+E5-F5+H5-I5+K5-L5+N5-O5+Q5-R5+T5-U5+W5-X5+Z5-AA5+AC5-AD5+AF5-AG5+AI5-AJ5+AL5-AM5+AO5-AP5+AR5-AS5+AU5-AV5+AX5-AY5+BA5-BB5+BD5-BE5+BG5-BH5+BJ5-BK5+BM5-BN5+BP5-BQ5+BS5-BT5+BV5-BW5+BY5-BZ5+CB5-CC5+CE5-CF5+CH5-CI5+CK5-CL5+CN5-CO5+CQ5-CR5 -> 1
A6: 701ele006 | B6: Thermocouple universal 120/M (sonde a gaz) | C6: 4 | D6: =C6+E6-F6+H6-I6+K6-L6+N6-O6+Q6-R6+T6-U6+W6-X6+Z6-AA6+AC6-AD6+AF6-AG6+AI6-AJ6+AL6-AM6+AO6-AP6+AR6-AS6+AU6-AV6+AX6-AY6+BA6-BB6+BD6-BE6+BG6-BH6+BJ6-BK6+BM6-BN6+BP6-BQ6+BS6-BT6+BV6-BW6+BY6-BZ6+CB6-CC6+CE6-CF6+CH6-CI6+CK6-CL6+CN6-CO6+CQ6-CR6 -> 4
A7: 701ele013 | B7: Servo moteur SGM7J-08AFC6S | C7: 1 | D7: =C7+E7-F7+H7-I7+K7-L7+N7-O7+Q7-R7+T7-U7+W7-X7+Z7-AA7+AC7-AD7+AF7-AG7+AI7-AJ7+AL7-AM7+AO7-AP7+AR7-AS7+AU7-AV7+AX7-AY7+BA7-BB7+BD7-BE7+BG7-BH7+BJ7-BK7+BM7-BN7+BP7-BQ7+BS7-BT7+BV7-BW7+BY7-BZ7+CB7-CC7+CE7-CF7+CH7-CI7+CK7-CL7+CN7-CO7+CQ7-CR7 -> 1
A8: 701ele022 | B8: Canne PT100 D08/335mm | C8: 2 | D8: =C8+E8-F8+H8-I8+K8-L8+N8-O8+Q8-R8+T8-U8+W8-X8+Z8-AA8+AC8-AD8+AF8-AG8+AI8-AJ8+AL8-AM8+AO8-AP8+AR8-AS8+AU8-AV8+AX8-AY8+BA8-BB8+BD8-BE8+BG8-BH8+BJ8-BK8+BM8-BN8+BP8-BQ8+BS8-BT8+BV8-BW8+BY8-BZ8+CB8-CC8+CE8-CF8+CH8-CI8+CK8-CL8+CN8-CO8+CQ8-CR8 -> 2
A9: 701ELE036 | B9: Thermocouple PT100 D5*200/80 3FILS 3000mm | C9: 2 | D9: =C9+E9-F9+H9-I9+K9-L9+N9-O9+Q9-R9+T9-U9+W9-X9+Z9-AA9+AC9-AD9+AF9-AG9+AI9-AJ9+AL9-AM9+AO9-AP9+AR9-AS9+AU9-AV9+AX9-AY9+BA9-BB9+BD9-BE9+BG9-BH9+BJ9-BK9+BM9-BN9+BP9-BQ9+BS9-BT9+BV9-BW9+BY9-BZ9+CB9-CC9+CE9-CF9+CH9-CI9+CK9-CL9+CN9-CO9+CQ9-CR9 -> 2
A10: 701ELE037 | B10: Thermocouple J coudee | C10: 2 | D10: =C10+E10-F10+H10-I10+K10-L10+N10-O10+Q10-R10+T10-U10+W10-X10+Z10-AA10+AC10-AD10+AF10-AG10+AI10-AJ10+AL10-AM10+AO10-AP10+AR10-AS10+AU10-AV10+AX10-AY10+BA10-BB10+BD10-BE10+BG10-BH10+BJ10-BK10+BM10-BN10+BP10-BQ10+BS10-BT10+BV10-BW10+BY10-BZ10+CB10-CC10+CE10-CF10+CH10-CI10+CK10-CL10+CN10-CO10+CQ10-CR10 -> 2
A11: 701ELE038 | B11: Thermocouple type J D5*300 2fils+1500mm | C11: 2 | D11: =C11+E11-F11+H11-I11+K11-L11+N11-O11+Q11-R11+T11-U11+W11-X11+Z11-AA11+AC11-AD11+AF11-AG11+AI11-AJ11+AL11-AM11+AO11-AP11+AR11-AS11+AU11-AV11+AX11-AY11+BA11-BB11+BD11-BE11+BG11-BH11+BJ11-BK11+BM11-BN11+BP11-BQ11+BS11-BT11+BV11-BW11+BY11-BZ11+CB11-CC11+CE11-CF11+CH11-CI11+CK11-CL11+CN11-CO11+CQ11-CR11 -> 2 | AH11: f
A12: 701ELE041 | B12: Thermocouples TypeJ | C12: 1 | D12: =C12+E12-F12+H12-I12+K12-L12+N12-O12+Q12-R12+T12-U12+W12-X12+Z12-AA12+AC12-AD12+AF12-AG12+AI12-AJ12+AL12-AM12+AO12-AP12+AR12-AS12+AU12-AV12+AX12-AY12+BA12-BB12+BD12-BE12+BG12-BH12+BJ12-BK12+BM12-BN12+BP12-BQ12+BS12-BT12+BV12-BW12+BY12-BZ12+CB12-CC12+CE12-CF12+CH12-CI12+CK12-CL12+CN12-CO12+CQ12-CR12 -> 1
A13: 701ELE053 | B13: Thermocouple Type K | C13: 2 | D13: =C13+E13-F13+H13-I13+K13-L13+N13-O13+Q13-R13+T13-U13+W13-X13+Z13-AA13+AC13-AD13+AF13-AG13+AI13-AJ13+AL13-AM13+AO13-AP13+AR13-AS13+AU13-AV13+AX13-AY13+BA13-BB13+BD13-BE13+BG13-BH13+BJ13-BK13+BM13-BN13+BP13-BQ13+BS13-BT13+BV13-BW13+BY13-BZ13+CB13-CC13+CE13-CF13+CH13-CI13+CK13-CL13+CN13-CO13+CQ13-CR13 -> 2
A14: 701ELE054 | B14: Servo pack YASKAWA | C14: 1 | D14: =C14+E14-F14+H14-I14+K14-L14+N14-O14+Q14-R14+T14-U14+W14-X14+Z14-AA14+AC14-AD14+AF14-AG14+AI14-AJ14+AL14-AM14+AO14-AP14+AR14-AS14+AU14-AV14+AX14-AY14+BA14-BB14+BD14-BE14+BG14-BH14+BJ14-BK14+BM14-BN14+BP14-BQ14+BS14-BT14+BV14-BW14+BY14-BZ14+CB14-CC14+CE14-CF14+CH14-CI14+CK14-CL14+CN14-CO14+CQ14-CR14 -> 1
A15: 701ELE056 | B15: Profibus-DP OPTION CARD SI-P3 STRIP | C15: 4 | D15: =C15+E15-F15+H15-I15+K15-L15+N15-O15+Q15-R15+T15-U15+W15-X15+Z15-AA15+AC15-AD15+AF15-AG15+AI15-AJ15+AL15-AM15+AO15-AP15+AR15-AS15+AU15-AV15+AX15-AY15+BA15-BB15+BD15-BE15+BG15-BH15+BJ15-BK15+BM15-BN15+BP15-BQ15+BS15-BT15+BV15-BW15+BY15-BZ15+CB15-CC15+CE15-CF15+CH15-CI15+CK15-CL15+CN15-CO15+CQ15-CR15 -> 4
A16: 701ELE057 | B16: Complementary PG OPTION CARD PG-B3 STRIP | C16: 1 | D16: =C16+E16-F16+H16-I16+K16-L16+N16-O16+Q16-R16+T16-U16+W16-X16+Z16-AA16+AC16-AD16+AF16-AG16+AI16-AJ16+AL16-AM16+AO16-AP16+AR16-AS16+AU16-AV16+AX16-AY16+BA16-BB16+BD16-BE16+BG16-BH16+BJ16-BK16+BM16-BN16+BP16-BQ16+BS16-BT16+BV16-BW16+BY16-BZ16+CB16-CC16+CE16-CF16+CH16-CI16+CK16-CL16+CN16-CO16+CQ16-CR16 -> 1 | AE16: f
A17: 701ELE060 | B17: Canne Type K WRN131 D8*117mmStripChinois | C17: 1 | D17: =C17+E17-F17+H17-I17+K17-L17+N17-O17+Q17-R17+T17-U17+W17-X17+Z17-AA17+AC17-AD17+AF17-AG17+AI17-AJ17+AL17-AM17+AO17-AP17+AR17-AS17+AU17-AV17+AX17-AY17+BA17-BB17+BD17-BE17+BG17-BH17+BJ17-BK17+BM17-BN17+BP17-BQ17+BS17-BT17+BV17-BW17+BY17-BZ17+CB17-CC17+CE17-CF17+CH17-CI17+CK17-CL17+CN17-CO17+CQ17-CR17 -> 1
A18: 701ELE062 | B18: Canne Type K Coudee D21.3 170*300+raccord | C18: 2 | D18: =C18+E18-F18+H18-I18+K18-L18+N18-O18+Q18-R18+T18-U18+W18-X18+Z18-AA18+AC18-AD18+AF18-AG18+AI18-AJ18+AL18-AM18+AO18-AP18+AR18-AS18+AU18-AV18+AX18-AY18+BA18-BB18+BD18-BE18+BG18-BH18+BJ18-BK18+BM18-BN18+BP18-BQ18+BS18-BT18+BV18-BW18+BY18-BZ18+CB18-CC18+CE18-CF18+CH18-CI18+CK18-CL18+CN18-CO18+CQ18-CR18 -> 2
A19: 701ELE071 | B19: Thermocouple D5*180+Bay Baffle Strip | C19: 1 | D19: =C19+E19-F19+H19-I19+K19-L19+N19-O19+Q19-R19+T19-U19+W19-X19+Z19-AA19+AC19-AD19+AF19-AG19+AI19-AJ19+AL19-AM19+AO19-AP19+AR19-AS19+AU19-AV19+AX19-AY19+BA19-BB19+BD19-BE19+BG19-BH19+BJ19-BK19+BM19-BN19+BP19-BQ19+BS19-BT19+BV19-BW19+BY19-BZ19+CB19-CC19+CE19-CF19+CH19-CI19+CK19-CL19+CN19-CO19+CQ19-CR19 -> 1
A20: 701ELE079 | B20: SINAMICS V90 PROFINET PT 6SL3210-5FE17-0UF0 | C20: 1 | D20: =C20+E20-F20+H20-I20+K20-L20+N20-O20+Q20-R20+T20-U20+W20-X20+Z20-AA20+AC20-AD20+AF20-AG20+AI20-AJ20+AL20-AM20+AO20-AP20+AR20-AS20+AU20-AV20+AX20-AY20+BA20-BB20+BD20-BE20+BG20-BH20+BJ20-BK20+BM20-BN20+BP20-BQ20+BS20-BT20+BV20-BW20+BY20-BZ20+CB20-CC20+CE20-CF20+CH20-CI20+CK20-CL20+CN20-CO20+CQ20-CR20 -> 1
A21: 701ELE085 | B21: Thermocouple type J D5*123 Baffle Strip | C21: 4 | D21: =C21+E21-F21+H21-I21+K21-L21+N21-O21+Q21-R21+T21-U21+W21-X21+Z21-AA21+AC21-AD21+AF21-AG21+AI21-AJ21+AL21-AM21+AO21-AP21+AR21-AS21+AU21-AV21+AX21-AY21+BA21-BB21+BD21-BE21+BG21-BH21+BJ21-BK21+BM21-BN21+BP21-BQ21+BS21-BT21+BV21-BW21+BY21-BZ21+CB21-CC21+CE21-CF21+CH21-CI21+CK21-CL21+CN21-CO21+CQ21-CR21 -> 4
A22: 701ELE088 | B22: Crane cable and remote | C22: 1 | D22: =C22+E22-F22+H22-I22+K22-L22+N22-O22+Q22-R22+T22-U22+W22-X22+Z22-AA22+AC22-AD22+AF22-AG22+AI22-AJ22+AL22-AM22+AO22-AP22+AR22-AS22+AU22-AV22+AX22-AY22+BA22-BB22+BD22-BE22+BG22-BH22+BJ22-BK22+BM22-BN22+BP22-BQ22+BS22-BT22+BV22-BW22+BY22-BZ22+CB22-CC22+CE22-CF22+CH22-CI22+CK22-CL22+CN22-CO22+CQ22-CR22 -> 1
A23: 701ELE089 | B23: Canne Type K Coudee D21. 160*680+raccord M.G. | C23: 2 | D23: =C23+E23-F23+H23-I23+K23-L23+N23-O23+Q23-R23+T23-U23+W23-X23+Z23-AA23+AC23-AD23+AF23-AG23+AI23-AJ23+AL23-AM23+AO23-AP23+AR23-AS23+AU23-AV23+AX23-AY23+BA23-BB23+BD23-BE23+BG23-BH23+BJ23-BK23+BM23-BN23+BP23-BQ23+BS23-BT23+BV23-BW23+BY23-BZ23+CB23-CC23+CE23-CF23+CH23-CI23+CK23-CL23+CN23-CO23+CQ23-CR23 -> 2
A24: 701ELE103 | B24: CANNE TC-K 08*50MM PLOMB 550C° MACHINE A BILLE | C24: 2 | D24: =C24+E24-F24+H24-I24+K24-L24+N24-O24+Q24-R24+T24-U24+W24-X24+Z24-AA24+AC24-AD24+AF24-AG24+AI24-AJ24+AL24-AM24+AO24-AP24+AR24-AS24+AU24-AV24+AX24-AY24+BA24-BB24+BD24-BE24+BG24-BH24+BJ24-BK24+BM24-BN24+BP24-BQ24+BS24-BT24+BV24-BW24+BY24-BZ24+CB24-CC24+CE24-CF24+CH24-CI24+CK24-CL24+CN24-CO24+CQ24-CR24 -> 2
A25: 701ELE104 | B25: CANNE TC-K D21.3*200*600 COUDE 550C° | C25: 1 | D25: =C25+E25-F25+H25-I25+K25-L25+N25-O25+Q25-R25+T25-U25+W25-X25+Z25-AA25+AC25-AD25+AF25-AG25+AI25-AJ25+AL25-AM25+AO25-AP25+AR25-AS25+AU25-AV25+AX25-AY25+BA25-BB25+BD25-BE25+BG25-BH25+BJ25-BK25+BM25-BN25+BP25-BQ25+BS25-BT25+BV25-BW25+BY25-BZ25+CB25-CC25+CE25-CF25+CH25-CI25+CK25-CL25+CN25-CO25+CQ25-CR25 -> 1
A26: 701ELE107 | B26: CANNE TC-K D8*100MM 550C° STRIP POMPE PLOMB | C26: 1 | D26: =C26+E26-F26+H26-I26+K26-L26+N26-O26+Q26-R26+T26-U26+W26-X26+Z26-AA26+AC26-AD26+AF26-AG26+AI26-AJ26+AL26-AM26+AO26-AP26+AR26-AS26+AU26-AV26+AX26-AY26+BA26-BB26+BD26-BE26+BG26-BH26+BJ26-BK26+BM26-BN26+BP26-BQ26+BS26-BT26+BV26-BW26+BY26-BZ26+CB26-CC26+CE26-CF26+CH26-CI26+CK26-CL26+CN26-CO26+CQ26-CR26 -> 1
A27: 701ELE108 | B27: CANNE TC-K D5*60-AIR 500°C STRIP CRUSET PLOMB | C27: 2 | D27: =C27+E27-F27+H27-I27+K27-L27+N27-O27+Q27-R27+T27-U27+W27-X27+Z27-AA27+AC27-AD27+AF27-AG27+AI27-AJ27+AL27-AM27+AO27-AP27+AR27-AS27+AU27-AV27+AX27-AY27+BA27-BB27+BD27-BE27+BG27-BH27+BJ27-BK27+BM27-BN27+BP27-BQ27+BS27-BT27+BV27-BW27+BY27-BZ27+CB27-CC27+CE27-CF27+CH27-CI27+CK27-CL27+CN27-CO27+CQ27-CR27 -> 2
A28: 701ELE110 | B28: TTHERMOCOUPLE J Ø5 X 30 FIL TRESSE 2000mm | C28: 14 | D28: =C28+E28-F28+H28-I28+K28-L28+N28-O28+Q28-R28+T28-U28+W28-X28+Z28-AA28+AC28-AD28+AF28-AG28+AI28-AJ28+AL28-AM28+AO28-AP28+AR28-AS28+AU28-AV28+AX28-AY28+BA28-BB28+BD28-BE28+BG28-BH28+BJ28-BK28+BM28-BN28+BP28-BQ28+BS28-BT28+BV28-BW28+BY28-BZ28+CB28-CC28+CE28-CF28+CH28-CI28+CK28-CL28+CN28-CO28+CQ28-CR28 -> 14
... A950: 810pal105 | B950: PALIER COMPLET SY UCP 207 | C950: 1 | D950: =C950+E950-F950+H950-I950+K950-L950+N950-O950+Q950-R950+T950-U950+W950-X950+Z950-AA950+AC950-AD950+AF950-AG950+AI950-AJ950+AL950-AM950+AO950-AP950+AR950-AS950+AU950-AV950+AX950-AY950+BA950-BB950+BD950-BE950+BG950-BH950+BJ950-BK950+BM950-BN950+BP950-BQ950+BS950-BT950+BV950-BW950+BY950-BZ950+CB950-CC950+CE950-CF950+CH950-CI950+CK950-CL950+CN950-CO950+CQ950-CR950 -> 1
A951: 810pal106 | B951: VARIATEUR 15kW / 20HP | C951: 0 | D951: =C951+E951-F951+H951-I951+K951-L951+N951-O951+Q951-R951+T951-U951+W951-X951+Z951-AA951+AC951-AD951+AF951-AG951+AI951-AJ951+AL951-AM951+AO951-AP951+AR951-AS951+AU951-AV951+AX951-AY951+BA951-BB951+BD951-BE951+BG951-BH951+BJ951-BK951+BM951-BN951+BP951-BQ951+BS951-BT951+BV951-BW951+BY951-BZ951+CB951-CC951+CE951-CF951+CH951-CI951+CK951-CL951+CN951-CO951+CQ951-CR951 -> 1 | AR951: 1
D952: =C952+E952-F952+H952-I952+K952-L952+N952-O952+Q952-R952+T952-U952+W952-X952+Z952-AA952+AC952-AD952+AF952-AG952+AI952-AJ952+AL952-AM952+AO952-AP952+AR952-AS952+AU952-AV952+AX952-AY952+BA952-BB952+BD952-BE952+BG952-BH952+BJ952-BK952+BM952-BN952+BP952-BQ952+BS952-BT952+BV952-BW952+BY952-BZ952+CB952-CC952+CE952-CF952+CH952-CI952+CK952-CL952+CN952-CO952+CQ952-CR952 -> 0
D953: =C953+E953-F953+H953-I953+K953-L953+N953-O953+Q953-R953+T953-U953+W953-X953+Z953-AA953+AC953-AD953+AF953-AG953+AI953-AJ953+AL953-AM953+AO953-AP953+AR953-AS953+AU953-AV953+AX953-AY953+BA953-BB953+BD953-BE953+BG953-BH953+BJ953-BK953+BM953-BN953+BP953-BQ953+BS953-BT953+BV953-BW953+BY953-BZ953+CB953-CC953+CE953-CF953+CH953-CI953+CK953-CL953+CN953-CO953+CQ953-CR953 -> 0
D954: =C954+E954-F954+H954-I954+K954-L954+N954-O954+Q954-R954+T954-U954+W954-X954+Z954-AA954+AC954-AD954+AF954-AG954+AI954-AJ954+AL954-AM954+AO954-AP954+AR954-AS954+AU954-AV954+AX954-AY954+BA954-BB954+BD954-BE954+BG954-BH954+BJ954-BK954+BM954-BN954+BP954-BQ954+BS954-BT954+BV954-BW954+BY954-BZ954+CB954-CC954+CE954-CF954+CH954-CI954+CK954-CL954+CN954-CO954+CQ954-CR954 -> 0
D955: =C955+E955-F955+H955-I955+K955-L955+N955-O955+Q955-R955+T955-U955+W955-X955+Z955-AA955+AC955-AD955+AF955-AG955+AI955-AJ955+AL955-AM955+AO955-AP955+AR955-AS955+AU955-AV955+AX955-AY955+BA955-BB955+BD955-BE955+BG955-BH955+BJ955-BK955+BM955-BN955+BP955-BQ955+BS955-BT955+BV955-BW955+BY955-BZ955+CB955-CC955+CE955-CF955+CH955-CI955+CK955-CL955+CN955-CO955+CQ955-CR955 -> 0
D956: =C956+E956-F956+H956-I956+K956-L956+N956-O956+Q956-R956+T956-U956+W956-X956+Z956-AA956+AC956-AD956+AF956-AG956+AI956-AJ956+AL956-AM956+AO956-AP956+AR956-AS956+AU956-AV956+AX956-AY956+BA956-BB956+BD956-BE956+BG956-BH956+BJ956-BK956+BM956-BN956+BP956-BQ956+BS956-BT956+BV956-BW956+BY956-BZ956+CB956-CC956+CE956-CF956+CH956-CI956+CK956-CL956+CN956-CO956+CQ956-CR956 -> 0
D957: =C957+E957-F957+H957-I957+K957-L957+N957-O957+Q957-R957+T957-U957+W957-X957+Z957-AA957+AC957-AD957+AF957-AG957+AI957-AJ957+AL957-AM957+AO957-AP957+AR957-AS957+AU957-AV957+AX957-AY957+BA957-BB957+BD957-BE957+BG957-BH957+BJ957-BK957+BM957-BN957+BP957-BQ957+BS957-BT957+BV957-BW957+BY957-BZ957+CB957-CC957+CE957-CF957+CH957-CI957+CK957-CL957+CN957-CO957+CQ957-CR957 -> 0
D958: =C958+E958-F958+H958-I958+K958-L958+N958-O958+Q958-R958+T958-U958+W958-X958+Z958-AA958+AC958-AD958+AF958-AG958+AI958-AJ958+AL958-AM958+AO958-AP958+AR958-AS958+AU958-AV958+AX958-AY958+BA958-BB958+BD958-BE958+BG958-BH958+BJ958-BK958+BM958-BN958+BP958-BQ958+BS958-BT958+BV958-BW958+BY958-BZ958+CB958-CC958+CE958-CF958+CH958-CI958+CK958-CL958+CN958-CO958+CQ958-CR958 -> 0
D959: =C959+E959-F959+H959-I959+K959-L959+N959-O959+Q959-R959+T959-U959+W959-X959+Z959-AA959+AC959-AD959+AF959-AG959+AI959-AJ959+AL959-AM959+AO959-AP959+AR959-AS959+AU959-AV959+AX959-AY959+BA959-BB959+BD959-BE959+BG959-BH959+BJ959-BK959+BM959-BN959+BP959-BQ959+BS959-BT959+BV959-BW959+BY959-BZ959+CB959-CC959+CE959-CF959+CH959-CI959+CK959-CL959+CN959-CO959+CQ959-CR959 -> 0
D960: =C960+E960-F960+H960-I960+K960-L960+N960-O960+Q960-R960+T960-U960+W960-X960+Z960-AA960+AC960-AD960+AF960-AG960+AI960-AJ960+AL960-AM960+AO960-AP960+AR960-AS960+AU960-AV960+AX960-AY960+BA960-BB960+BD960-BE960+BG960-BH960+BJ960-BK960+BM960-BN960+BP960-BQ960+BS960-BT960+BV960-BW960+BY960-BZ960+CB960-CC960+CE960-CF960+CH960-CI960+CK960-CL960+CN960-CO960+CQ960-CR960 -> 0
D961: =C961+E961-F961+H961-I961+K961-L961+N961-O961+Q961-R961+T961-U961+W961-X961+Z961-AA961+AC961-AD961+AF961-AG961+AI961-AJ961+AL961-AM961+AO961-AP961+AR961-AS961+AU961-AV961+AX961-AY961+BA961-BB961+BD961-BE961+BG961-BH961+BJ961-BK961+BM961-BN961+BP961-BQ961+BS961-BT961+BV961-BW961+BY961-BZ961+CB961-CC961+CE961-CF961+CH961-CI961+CK961-CL961+CN961-CO961+CQ961-CR961 -> 0
D962: =C962+E962-F962+H962-I962+K962-L962+N962-O962+Q962-R962+T962-U962+W962-X962+Z962-AA962+AC962-AD962+AF962-AG962+AI962-AJ962+AL962-AM962+AO962-AP962+AR962-AS962+AU962-AV962+AX962-AY962+BA962-BB962+BD962-BE962+BG962-BH962+BJ962-BK962+BM962-BN962+BP962-BQ962+BS962-BT962+BV962-BW962+BY962-BZ962+CB962-CC962+CE962-CF962+CH962-CI962+CK962-CL962+CN962-CO962+CQ962-CR962 -> 0
D963: =C963+E963-F963+H963-I963+K963-L963+N963-O963+Q963-R963+T963-U963+W963-X963+Z963-AA963+AC963-AD963+AF963-AG963+AI963-AJ963+AL963-AM963+AO963-AP963+AR963-AS963+AU963-AV963+AX963-AY963+BA963-BB963+BD963-BE963+BG963-BH963+BJ963-BK963+BM963-BN963+BP963-BQ963+BS963-BT963+BV963-BW963+BY963-BZ963+CB963-CC963+CE963-CF963+CH963-CI963+CK963-CL963+CN963-CO963+CQ963-CR963 -> 0
... D1055: =C1055+E1055-F1055+H1055-I1055+K1055-L1055+N1055-O1055+Q1055-R1055+T1055-U1055+W1055-X1055+Z1055-AA1055+AC1055-AD1055+AF1055-AG1055+AI1055-AJ1055+AL1055-AM1055+AO1055-AP1055+AR1055-AS1055+AU1055-AV1055+AX1055-AY1055+BA1055-BB1055+BD1055-BE1055+BG1055-BH1055+BJ1055-BK1055+BM1055-BN1055+BP1055-BQ1055+BS1055-BT1055+BV1055-BW1055+BY1055-BZ1055+CB1055-CC1055+CE1055-CF1055+CH1055-CI1055+CK1055-CL1055+CN1055-CO1055+CQ1055-CR1055 -> 0
