Workbook

Sheet Feuil1
G7: Temps | H7: Qté Produite | I7: Objectif
G8: H1 | I8: 18000
G9: H2 | I9: 18000
G10: H3 | I10: 18000
G11: H4 | I11: 18000
G12: H5 | I12: 18000
G13: H6 | I13: 18000
G14: H7 | I14: 18000
G15: H8 | I15: 18000

Sheet Data
A1: Plaque | C1: Moule
A2: PB+ | C2: Simple
A3: PB+EXPORT | C3: Combiné
A4: PB-
A5: PM+
A6: PM-
A7: PM+SP
A8: PML+SP
A9: PML-
A10: MRT+
A11: MRT-

Sheet Base de Données
A1: Date | B1: Poste | C1: Type de Plaque | D1: Type de moule | E1: Qté Planifier | F1: Qté Produits | G1: Production (Kg) | H1: Rebut Plaque (Kg) | I1: Rebut Pâte (Kg) | J1: Taux de Rebut | K1: Sortie Rebut | L1: Observation
A2: 45943 | B2: 1 | C2: PML+SP | E2: 100000 | F2: 100000 | J2: =IFERROR(H2/(H2+G2), "") | N2: Étiquettes de lignes | O2: Somme de Qté Produits
A3: 45943 | B3: 2 | C3: PML+SP | E3: 100000 | F3: 77000 | J3: =IFERROR(H3/(H3+G3), "") | N3: PB- | O3: 10819550
A4: 45944 | B4: 1 | C4: PML- | E4: 120000 | F4: 108800 | J4: =IFERROR(H4/(H4+G4), "") | N4: PB+ | O4: 9631050
A5: 45944 | B5: 2 | C5: PML- | E5: 120000 | F5: 128000 | J5: =IFERROR(H5/(H5+G5), "") | N5: PML- | O5: 2649800
A6: 45945 | B6: 1 | C6: PML+SP | E6: 120000 | F6: 105600 | J6: =IFERROR(H6/(H6+G6), "") | N6: PML+SP | O6: 2460580
A7: 45945 | B7: 2 | C7: PML+SP | E7: 33000 | F7: 12800 | J7: =IFERROR(H7/(H7+G7), "") | N7: Total général | O7: 25560980
A8: 45945 | B8: 2 | C8: PML- | E8: 59000 | F8: 28000 | J8: =IFERROR(H8/(H8+G8), "")
A9: 45946 | B9: 1 | C9: PML+SP | E9: 20000 | F9: 47000 | J9: =IFERROR(H9/(H9+G9), "")
A10: 45946 | B10: 1 | C10: PML- | E10: 31000 | F10: 32000 | J10: =IFERROR(H10/(H10+G10), "")
A11: 45946 | B11: 1 | C11: PB- | E11: 70000 | F11: 4800 | J11: =IFERROR(H11/(H11+G11), "")
A12: 45946 | B12: 2 | C12: PB- | E12: 140000 | F12: 86900 | J12: =IFERROR(H12/(H12+G12), "")
A13: 45947 | B13: 1 | C13: PB+ | E13: 140000 | F13: 131600 | J13: =IFERROR(H13/(H13+G13), "")
A14: 45947 | B14: 2 | C14: PB+ | E14: 140000 | F14: 132000 | J14: =IFERROR(H14/(H14+G14), "")
A15: 45947 | B15: 3 | C15: PB+ | E15: 140000 | F15: 146000 | J15: =IFERROR(H15/(H15+G15), "")
A16: 45948 | B16: 1 | C16: PB- | E16: 140000 | F16: 112300 | J16: =IFERROR(H16/(H16+G16), "")
A17: 45950 | B17: 1 | C17: PB+ | E17: 140000 | F17: 120000 | J17: =IFERROR(H17/(H17+G17), "")
A18: 45950 | B18: 2 | C18: PB+ | E18: 140000 | F18: 144000
A19: 45951 | B19: 1 | C19: PB- | E19: 140000 | F19: 72000 | J19: =IFERROR(H19/(H19+G19), "")
A20: 45951 | B20: 2 | C20: PB- | E20: 140000 | F20: 62400 | J20: =IFERROR(H20/(H20+G20), "")
A21: 45952 | B21: 1 | C21: PB+ | E21: 140000 | F21: 134400 | G21: 16571 | H21: 130 | J21: =IFERROR(H21/(H21+G21), "") -> 0.007783965
A22: 45952 | B22: 2 | C22: PB+ | E22: 70000 | F22: 53700 | G22: 6587 | H22: 20 | J22: =IFERROR(H22/(H22+G22), "") -> 0.0030270925
A23: 45952 | B23: 2 | C23: PB- | E23: 70000 | F23: 101600 | G23: 11228 | H23: 35 | J23: =IFERROR(H23/(H23+G23), "") -> 0.0031075202
A24: 45953 | B24: 1 | C24: PB- | E24: 140000 | F24: 146200 | G24: 15851 | H24: 64 | J24: =IFERROR(H24/(H24+G24), "") -> 0.0040213635
A25: 45953 | B25: 2 | C25: PB- | E25: 140000 | F25: 147000 | G25: 16341 | H25: 61 | J25: =IFERROR(H25/(H25+G25), "") -> 0.0037190587
A26: 45954 | B26: 1 | E26: 140000 | F26: 134400 | G26: 16562 | H26: 78 | J26: =IFERROR(H26/(H26+G26), "") -> 0.0046875
A27: 45954 | B27: 2 | E27: 140000 | F27: 145000 | J27: =IFERROR(H27/(H27+G27), "")
A28: 45954 | B28: 2 | E28: 140000 | F28: 134400 | G28: 14844 | H28: 30 | J28: =IFERROR(H28/(H28+G28), "") -> 0.0020169423
A29: 45954 | B29: 3 | E29: 140000 | F29: 145000 | G29: 16966 | H29: 93 | J29: =IFERROR(H29/(H29+G29), "") -> 0.0054516677
A30: 45955 | B30: 1 | C30: PB- | E30: 140000 | F30: 134400 | J30: =IFERROR(H30/(H30+G30), "")
A31: 45955 | B31: 2 | C31: PB- | E31: 140000 | F31: 100000 | G31: 11087 | H31: 51 | J31: =IFERROR(H31/(H31+G31), "") -> 0.004578919
A32: 45956 | J32: =IFERROR(H32/(H32+G32), "")
A33: 45956 | J33: =IFERROR(H33/(H33+G33), "")
A34: 45957 | B34: 1 | C34: PB+ | E34: 70000 | F34: 75800 | G34: 9330 | H34: 36 | J34: =IFERROR(H34/(H34+G34), "") -> 0.0038436899
A35: 45957 | B35: 1 | C35: PB- | E35: 70000 | F35: 62400 | G35: 6929 | H35: 34 | J35: =IFERROR(H35/(H35+G35), "") -> 0.0048829528
A36: 45957 | B36: 2 | C36: PB- | E36: 140000 | F36: 140400 | G36: 15650 | H36: 86 | J36: =IFERROR(H36/(H36+G36), "") -> 0.0054651754
A37: 45958 | B37: 1 | C37: PB- | E37: 140000 | F37: 144000 | G37: 15937 | H37: 76 | J37: =IFERROR(H37/(H37+G37), "") -> 0.0047461438
A38: 45958 | B38: 2 | C38: PB- | E38: 140000 | F38: 139700 | G38: 15558 | H38: 73 | J38: =IFERROR(H38/(H38+G38), "") -> 0.0046702066
A39: 45959 | B39: 1 | C39: PB+ | E39: 140000 | F39: 110400 | G39: 15011 | H39: 91 | J39: =IFERROR(H39/(H39+G39), "") -> 0.006025692
A40: 45959 | B40: 2 | C40: PB+ | E40: 140000 | F40: 138250 | G40: 16929 | H40: 106 | J40: =IFERROR(H40/(H40+G40), "") -> 0.0062224831
...

Sheet Dashbord
B8: Temps | C8: Qté Produite Poste 1 | D8: Efficience Poste 1 | E8: Objectif | F8: Colonne1 | G8: Taux de Rebut Poste 1 | H8: Objectif rebut | I8: Colonne2 | J8: Temps | K8: Qté Produite Poste 2 | L8: Efficience Poste 2 | M8: Objectif | N8: Rebut Poste 2 | O8: Taux de Rebut Poste 2 | P8: Objectif rebut | AG8: Efficience | AI8: Couleur | AK8: CV
B9: H1 | C9: 14400 | D9: =IFERROR(C9/E9,"") -> 0.68571429 | E9: 21000 | F9: 45 | G9: =IFERROR(F9/(F9+C9), "") -> 0.0031152648 | H9: 0.008 | I9: 192 | J9: H1 | K9: 16000 | L9: =IFERROR(K9/M9,"") -> 0.88888889 | M9: 18000 | N9: 70 | O9: =IFERROR(N9/(N9+K9), "") -> 0.0043559428 | P9: 0.008
B10: H2 | C10: 19200 | D10: =IFERROR(C10/E10,"") -> 0.91428571 | E10: 21000 | F10: 75 | G10: 0.0051 | H10: 0.008 | J10: H2 | K10: 16000 | L10: =IFERROR(K10/M10,"") -> 0.88888889 | M10: 18000 | N10: 80 | O10: =IFERROR(N10/(N10+K10), "") -> 0.0049751244 | P10: 0.008 | AG10: E > 80% | AK10: CV < 30%
B11: H3 | C11: 19200 | D11: =IFERROR(C11/E11,"") -> 0.91428571 | E11: 21000 | F11: 85 | G11: =IFERROR(F11/(F11+C11), "") -> 0.0044075707 | H11: 0.008 | J11: H3 | K11: 16000 | L11: 0.6857 | M11: 18000 | N11: 77 | O11: =IFERROR(N11/(N11+K11), "") -> 0.0047894508 | P11: 0.008 | AC11: l
B12: H4 | C12: 19200 | D12: =IFERROR(C12/E12,"") -> 0.91428571 | E12: 21000 | H12: 0.008 | J12: H4 | K12: 16 | L12: =IFERROR(K12/M12,"") -> 0.00088888889 | M12: 18000 | O12: =IFERROR(N12/(N12+K12), "") -> 0 | P12: 0.008 | AG12: 50% < E < 80% | AK12: 30% < CV < = 50%
B13: H5 | C13: 14400 | D13: =IFERROR(C13/E13,"") -> 0.68571429 | E13: 21000 | G13: =IFERROR(F13/(F13+C13), "") -> 0 | H13: 0.008 | J13: h4 | L13: =IFERROR(K13/M13,"") -> 0 | M13: 18000 | O13: =IFERROR(N13/(N13+K13), "") | P13: 0.008
B14: H6 | C14: 19200 | D14: =IFERROR(C14/E14,"") -> 0.91428571 | E14: 21000 | G14: =IFERROR(F14/(F14+C14), "") -> 0 | H14: 0.008 | J14: H6 | L14: =IFERROR(K14/M14,"") -> 0 | M14: 18000 | O14: =IFERROR(N14/(N14+K14), "") | P14: 0.008 | AG14: E < 50% | AK14: CV > 50%
B15: H7 | C15: 14400 | D15: =IFERROR(C15/E15,"") -> 0.68571429 | E15: 21000 | G15: =IFERROR(F15/(F15+C15), "") -> 0 | H15: 0.008 | J15: H7 | L15: =IFERROR(K15/M15,"") -> 0 | M15: 18000 | O15: =IFERROR(N15/(N15+K15), "") | P15: 0.008
B16: H8 | C16: 14400 | D16: =IFERROR(C16/E16,"") -> 0.68571429 | E16: 21000 | G16: =IFERROR(F16/(F16+C16), "") -> 0 | H16: 0.008 | J16: H8 | L16: =IFERROR(K16/M16,"") -> 0 | M16: 18000 | O16: =IFERROR(N16/(N16+K16), "") | P16: 0.008
B17: Total | D17: =IFERROR(C17/E17,"") -> 0 | E17: =SUM(E9:E16) -> 168000 | G17: =IFERROR(F17/(F17+C17), "") | H17: 0.008 | J17: Total | K17: =SUM(K9:K16) -> 48016 | L17: =IFERROR(K17/M17,"") -> 0.33344444 | M17: =SUM(M9:M16) -> 144000 | N17: =SUM(N9:N16) -> 227 | O17: =IFERROR(N17/(N17+K17), "") -> 0.0047053459 | P17: 0.008
B28: 69
E30: 2
A32: )

Sheet Calculs
A1: Poste | B1: Moyenne | C1: Écart-type | D1: CV (%)
A2: Poste 1 | B2: =AVERAGE(Dashbord!F9:F16) -> 68.333333 | C2: =STDEV(Dashbord!F9:F16) -> 20.81666 | D2: =C2/B2 -> 0.30463405
A3: Poste 2 | B3: =AVERAGE(Dashbord!N9:N16) -> 75.666667 | C3: =STDEV(Dashbord!N9:N16) -> 5.1316014 | D3: =C3/B3 -> 0.067818521
J6: Actuel | K6: =D2 -> 0.30463405 | N6: Actuel | O6: =D3 -> 0.067818521
C9: Poste 1 | E9: Poste 2 | K9: Data Séries | O9: Data Séries
C10: =D2 -> 0.30463405 | E10: =D3 -> 0.067818521 | J10: Niveau 1 | K10: =IF(K6>50%,K6," ") | N10: Niveau 1 | O10: =IF(O6>=50%,O6," ")
C11: =100-C10 -> 99.695366 | E11: =100-E10 -> 99.932181 | J11: Niveau 2 | K11: =IF(AND(K6>30%,K6<=50%),K6,"") -> 0.30463405 | N11: Niveau 2 | O11: =IF(AND(O6>30%,O6<=50%),O6,"")
J12: Niveau 3 | K12: =IF(K6<30%,K6,"") | N12: Niveau 3 | O12: =IF(O6<30%,O6,"") -> 0.067818521
J13: Rappel | K13: =MAX(1,K6)-K6 -> 0.69536595 | N13: Rappel | O13: =MAX(1,O6)-O6 -> 0.93218148
G26: Coefficient de variation

Sheet Efficience 
A1: Actuel | B1: =Dashbord!D17 -> 0 | E1: Actuel | F1: =Dashbord!L17 -> 0.33344444
B4: Data Series | F4: Data Series
A5: Niveau 1 | B5: =IF(B1>=80%,B1," ") | E5: Niveau 1 | F5: =IF(F1>=80%,F1," ")
A6: Niveau 2 | B6: =IF(AND(B1>50%,B1<80%),B1,"") | E6: Niveau 2 | F6: =IF(AND(F1>50%,F1<80%),F1,"")
A7: Niveau 3 | B7: =IF(B1<=50%,B1,"") -> 0 | E7: Niveau 3 | F7: =IF(F1<=50%,F1,"") -> 0.33344444
A8: Rappel | B8: =MAX(1,B1)-B1 -> 1 | E8: Rappel | F8: =MAX(1,F1)-F1 -> 0.66655556
