Workbook

Sheet Data
C7: Article | E7: Article | F7: Largeur | G7: Tolérance | I7: Opérateur
C8: Bande B+ | E8: Bande B+ | F8: 243.05 | G8: 0.1 | I8: Wajdi
C9: Bande B- | E9: Bande B- | F9: 243.05 | G9: 0.1 | I9: Ahmed
C10: Bande M+ | E10: Bande M+ | F10: 292.4 | G10: 0.1 | I10: Yossri
C11: Bande M+Sp | E11: Bande M+Sp | F11: 292.4 | G11: 0.1 | I11: Maher
C12: Bande M- | E12: Bande M- | F12: 292.4 | G12: 0.1
C13: Bande ML+Sp | E13: Bande ML+Sp | F13: 292.4 | G13: 0.1
C14: Bande ML- | E14: Bande ML- | F14: 292.4 | G14: 0.1
C15: Bande MRT+ | E15: Bande MRT+ | F15: 292.4 | G15: 0.1
C16: Bande MRT- | E16: Bande MRT- | F16: 292.4 | G16: 0.1
C17: Bande B- C
C18: Bande B+ C

Sheet Mai
A1: CHANGEMENT ARTICLES ATELIERS STRIP / PUNCHING
A6: Date | B6: Mois | C6: Opérateur | D6: Changement Strip | F6: Changement Découpeur | H6: N° Cylindre à Ajuster | M6: Largeur Bande (mm) | N6: Standard Largeur (mm) | O6: Temps Nécessaire (min) | P6: Changement roulement | U6: Nb des roulement changées | V6: Piste d'Amélioration
D7: Article 1 | E7: Article 2 | F7: Oui | G7: Non | H7: 7 | I7: 6 | J7: 5 | K7: 4 | L7: 3 | P7: 7 | Q7: 6 | R7: 5 | S7: 4 | T7: 3
A8: 46153 | B8: =IF(A8="","",PROPER(TEXT(A8,"mmmm"))) -> Mai | C8: Yossri | D8: Bande B- | E8: Bande B+ | N8: =IF(OR(D8="",M8=""),"",IFERROR(IF(ABS(M8-ROUND(VLOOKUP(TRIM(IF(E8="",D8,E8)),Data!E3:G12,2,FALSE),2))<=VLOOKUP(TRIM(IF(E8="",D8,E8)),Data!E3:G12,3,FALSE),"OK ✅","NOK ❌"),"⚠ Article introuvable")) | O8: 40
A9: 46154 | B9: =IF(A9="","",PROPER(TEXT(A9,"mmmm"))) -> Mai | C9: Ahmed | D9: Bande B- | N9: =IF(OR(D9="",M9=""),"",IFERROR(IF(ABS(M9-ROUND(VLOOKUP(TRIM(IF(E9="",D9,E9)),Data!E4:G13,2,FALSE),2))<=VLOOKUP(TRIM(IF(E9="",D9,E9)),Data!E4:G13,3,FALSE),"OK ✅","NOK ❌"),"⚠ Article introuvable")) | O9: 20
A10: 46155 | B10: =IF(A10="","",PROPER(TEXT(A10,"mmmm"))) -> Mai | C10: Wajdi | D10: Bande B+ | E10: Bande B- | N10: =IF(OR(D10="",M10=""),"",IFERROR(IF(ABS(M10-ROUND(VLOOKUP(TRIM(IF(E10="",D10,E10)),Data!E5:G14,2,FALSE),2))<=VLOOKUP(TRIM(IF(E10="",D10,E10)),Data!E5:G14,3,FALSE),"OK ✅","NOK ❌"),"⚠ Article introuvable"))
A11: 46156 | B11: =IF(A11="","",PROPER(TEXT(A11,"mmmm"))) -> Mai | C11: Wajdi | D11: Bande B- | E11: Bande B+ | N11: =IF(OR(D11="",M11=""),"",IFERROR(IF(ABS(M11-ROUND(VLOOKUP(TRIM(IF(E11="",D11,E11)),Data!E6:G15,2,FALSE),2))<=VLOOKUP(TRIM(IF(E11="",D11,E11)),Data!E6:G15,3,FALSE),"OK ✅","NOK ❌"),"⚠ Article introuvable"))
A12: 46156 | B12: =IF(A12="","",PROPER(TEXT(A12,"mmmm"))) -> Mai | C12: Ahmed | D12: Bande B- | M12: 243.1 | N12: =IF(OR(D12="",M12=""),"",IFERROR(IF(ABS(M12-ROUND(VLOOKUP(TRIM(IF(E12="",D12,E12)),Data!E7:G16,2,FALSE),2))<=VLOOKUP(TRIM(IF(E12="",D12,E12)),Data!E7:G16,3,FALSE),"OK ✅","NOK ❌"),"⚠ Article introuvable")) -> OK ✅
A13: 46157 | B13: =IF(A13="","",PROPER(TEXT(A13,"mmmm"))) -> Mai | C13: Wajdi | D13: Bande B+ | E13: Bande M+ | M13: 292.45 | N13: =IF(OR(D13="",M13=""),"",IFERROR(IF(ABS(M13-ROUND(VLOOKUP(TRIM(IF(E13="",D13,E13)),Data!E8:G17,2,FALSE),2))<=VLOOKUP(TRIM(IF(E13="",D13,E13)),Data!E8:G17,3,FALSE),"OK ✅","NOK ❌"),"⚠ Article introuvable")) -> OK ✅ | O13: 40
A14: 46161 | B14: =IF(A14="","",PROPER(TEXT(A14,"mmmm"))) -> Mai | C14: Yossri | D14: Bande M+ | E14: Bande M- | N14: =IF(OR(D14="",M14=""),"",IFERROR(IF(ABS(M14-ROUND(VLOOKUP(TRIM(IF(E14="",D14,E14)),Data!E9:G18,2,FALSE),2))<=VLOOKUP(TRIM(IF(E14="",D14,E14)),Data!E9:G18,3,FALSE),"OK ✅","NOK ❌"),"⚠ Article introuvable")) | O14: 20
A15: 46161 | B15: =IF(A15="","",PROPER(TEXT(A15,"mmmm"))) -> Mai | C15: Ahmed | D15: Bande M+Sp | N15: =IF(OR(D15="",M15=""),"",IFERROR(IF(ABS(M15-ROUND(VLOOKUP(TRIM(IF(E15="",D15,E15)),Data!E10:G19,2,FALSE),2))<=VLOOKUP(TRIM(IF(E15="",D15,E15)),Data!E10:G19,3,FALSE),"OK ✅","NOK ❌"),"⚠ Article introuvable")) | O15: 60
A16: 46163 | B16: =IF(A16="","",PROPER(TEXT(A16,"mmmm"))) -> Mai | C16: Ahmed | N16: =IF(OR(D16="",M16=""),"",IFERROR(IF(ABS(M16-ROUND(VLOOKUP(TRIM(IF(E16="",D16,E16)),Data!E11:G20,2,FALSE),2))<=VLOOKUP(TRIM(IF(E16="",D16,E16)),Data!E11:G20,3,FALSE),"OK ✅","NOK ❌"),"⚠ Article introuvable")) | U16: 1
A17: 46165 | B17: =IF(A17="","",PROPER(TEXT(A17,"mmmm"))) -> Mai | C17: Yossri | D17: Bande M- | E17: Bande MRT+ | M17: 292.4 | N17: =IF(OR(D17="",M17=""),"",IFERROR(IF(ABS(M17-ROUND(VLOOKUP(TRIM(IF(E17="",D17,E17)),Data!E12:G21,2,FALSE),2))<=VLOOKUP(TRIM(IF(E17="",D17,E17)),Data!E12:G21,3,FALSE),"OK ✅","NOK ❌"),"⚠ Article introuvable")) -> OK ✅ | O17: 80
A18: 46165 | B18: =IF(A18="","",PROPER(TEXT(A18,"mmmm"))) -> Mai | C18: Wajdi | D18: Bande MRT+ | E18: Bande MRT- | N18: =IF(OR(D18="",M18=""),"",IFERROR(IF(ABS(M18-ROUND(VLOOKUP(TRIM(IF(E18="",D18,E18)),Data!E13:G22,2,FALSE),2))<=VLOOKUP(TRIM(IF(E18="",D18,E18)),Data!E13:G22,3,FALSE),"OK ✅","NOK ❌"),"⚠ Article introuvable"))
A19: 46166 | B19: =IF(A19="","",PROPER(TEXT(A19,"mmmm"))) -> Mai | C19: Wajdi | D19: Bande MRT- | E19: Bande B- | M19: 243.08 | N19: =IF(OR(D19="",M19=""),"",IFERROR(IF(ABS(M19-ROUND(VLOOKUP(TRIM(IF(E19="",D19,E19)),Data!E14:G23,2,FALSE),2))<=VLOOKUP(TRIM(IF(E19="",D19,E19)),Data!E14:G23,3,FALSE),"OK ✅","NOK ❌"),"⚠ Article introuvable")) -> ⚠ Article introuvable | O19: 60
A20: 46171 | B20: =IF(A20="","",PROPER(TEXT(A20,"mmmm"))) -> Mai | C20: Wajdi | D20: Bande MRT- | E20: Bande M+ | N20: =IF(OR(D20="",M20=""),"",IFERROR(IF(ABS(M20-ROUND(VLOOKUP(TRIM(IF(E20="",D20,E20)),Data!E15:G24,2,FALSE),2))<=VLOOKUP(TRIM(IF(E20="",D20,E20)),Data!E15:G24,3,FALSE),"OK ✅","NOK ❌"),"⚠ Article introuvable"))
A21: 46172 | B21: =IF(A21="","",PROPER(TEXT(A21,"mmmm"))) -> Mai | C21: Ahmed | D21: Bande M+ | E21: Bande M- | N21: =IF(OR(D21="",M21=""),"",IFERROR(IF(ABS(M21-ROUND(VLOOKUP(TRIM(IF(E21="",D21,E21)),Data!E16:G25,2,FALSE),2))<=VLOOKUP(TRIM(IF(E21="",D21,E21)),Data!E16:G25,3,FALSE),"OK ✅","NOK ❌"),"⚠ Article introuvable"))
A22: 46175 | B22: =IF(A22="","",PROPER(TEXT(A22,"mmmm"))) -> Juin | C22: Wajdi | D22: Bande M+ | E22: Bande M- | N22: =IF(OR(D22="",M22=""),"",IFERROR(IF(ABS(M22-ROUND(VLOOKUP(TRIM(IF(E22="",D22,E22)),Data!E17:G26,2,FALSE),2))<=VLOOKUP(TRIM(IF(E22="",D22,E22)),Data!E17:G26,3,FALSE),"OK ✅","NOK ❌"),"⚠ Article introuvable"))
A23: 46175 | B23: =IF(A23="","",PROPER(TEXT(A23,"mmmm"))) -> Juin | C23: Wajdi | D23: Bande M- | E23: Bande B- | M23: 243.07 | N23: =IF(OR(D23="",M23=""),"",IFERROR(IF(ABS(M23-ROUND(VLOOKUP(TRIM(IF(E23="",D23,E23)),Data!E18:G27,2,FALSE),2))<=VLOOKUP(TRIM(IF(E23="",D23,E23)),Data!E18:G27,3,FALSE),"OK ✅","NOK ❌"),"⚠ Article introuvable")) -> ⚠ Article introuvable | O23: 60
A24: 46177 | B24: =IF(A24="","",PROPER(TEXT(A24,"mmmm"))) -> Juin | C24: Wajdi | D24: Bande B- | E24: Bande B+ | N24: =IF(OR(D24="",M24=""),"",IFERROR(IF(ABS(M24-ROUND(VLOOKUP(TRIM(IF(E24="",D24,E24)),Data!E19:G28,2,FALSE),2))<=VLOOKUP(TRIM(IF(E24="",D24,E24)),Data!E19:G28,3,FALSE),"OK ✅","NOK ❌"),"⚠ Article introuvable"))
A25: 46178 | B25: =IF(A25="","",PROPER(TEXT(A25,"mmmm"))) -> Juin | C25: Wajdi | D25: Bande B+ | E25: Bande MRT- | N25: =IF(OR(D25="",M25=""),"",IFERROR(IF(ABS(M25-ROUND(VLOOKUP(TRIM(IF(E25="",D25,E25)),Data!E20:G29,2,FALSE),2))<=VLOOKUP(TRIM(IF(E25="",D25,E25)),Data!E20:G29,3,FALSE),"OK ✅","NOK ❌"),"⚠ Article introuvable")) | O25: 60
A26: 46182 | B26: =IF(A26="","",PROPER(TEXT(A26,"mmmm"))) -> Juin | C26: Ahmed | D26: Bande ML- | E26: Bande B- | M26: 243.4 | N26: =IF(OR(D26="",M26=""),"",IFERROR(IF(ABS(M26-ROUND(VLOOKUP(TRIM(IF(E26="",D26,E26)),Data!E21:G30,2,FALSE),2))<=VLOOKUP(TRIM(IF(E26="",D26,E26)),Data!E21:G30,3,FALSE),"OK ✅","NOK ❌"),"⚠ Article introuvable")) -> ⚠ Article introuvable
A27: 46185 | B27: =IF(A27="","",PROPER(TEXT(A27,"mmmm"))) -> Juin | C27: Wajdi | D27: Bande B+ | E27: Bande B- | M27: 242.95 | N27: =IF(OR(D27="",M27=""),"",IFERROR(IF(ABS(M27-ROUND(VLOOKUP(TRIM(IF(E27="",D27,E27)),Data!E22:G31,2,FALSE),2))<=VLOOKUP(TRIM(IF(E27="",D27,E27)),Data!E22:G31,3,FALSE),"OK ✅","NOK ❌"),"⚠ Article introuvable")) -> ⚠ Article introuvable | O27: 20
A28: 46192 | B28: =IF(A28="","",PROPER(TEXT(A28,"mmmm"))) -> Juin | C28: Ahmed | D28: Bande B- | E28: Bande B- C | N28: =IF(OR(D28="",M28=""),"",IFERROR(IF(ABS(M28-ROUND(VLOOKUP(TRIM(IF(E28="",D28,E28)),Data!E23:G32,2,FALSE),2))<=VLOOKUP(TRIM(IF(E28="",D28,E28)),Data!E23:G32,3,FALSE),"OK ✅","NOK ❌"),"⚠ Article introuvable"))
B29: =IF(A29="","",PROPER(TEXT(A29,"mmmm"))) | N29: =IF(OR(D29="",M29=""),"",IFERROR(IF(ABS(M29-ROUND(VLOOKUP(TRIM(IF(E29="",D29,E29)),Data!E24:G33,2,FALSE),2))<=VLOOKUP(TRIM(IF(E29="",D29,E29)),Data!E24:G33,3,FALSE),"OK ✅","NOK ❌"),"⚠ Article introuvable"))
B30: =IF(A30="","",PROPER(TEXT(A30,"mmmm"))) | N30: =IF(OR(D30="",M30=""),"",IFERROR(IF(ABS(M30-ROUND(VLOOKUP(TRIM(IF(E30="",D30,E30)),Data!E25:G34,2,FALSE),2))<=VLOOKUP(TRIM(IF(E30="",D30,E30)),Data!E25:G34,3,FALSE),"OK ✅","NOK ❌"),"⚠ Article introuvable"))
B31: =IF(A31="","",PROPER(TEXT(A31,"mmmm"))) | N31: =IF(OR(D31="",M31=""),"",IFERROR(IF(ABS(M31-ROUND(VLOOKUP(TRIM(IF(E31="",D31,E31)),Data!E26:G35,2,FALSE),2))<=VLOOKUP(TRIM(IF(E31="",D31,E31)),Data!E26:G35,3,FALSE),"OK ✅","NOK ❌"),"⚠ Article introuvable"))
B32: =IF(A32="","",PROPER(TEXT(A32,"mmmm"))) | N32: =IF(OR(D32="",M32=""),"",IFERROR(IF(ABS(M32-ROUND(VLOOKUP(TRIM(IF(E32="",D32,E32)),Data!E27:G36,2,FALSE),2))<=VLOOKUP(TRIM(IF(E32="",D32,E32)),Data!E27:G36,3,FALSE),"OK ✅","NOK ❌"),"⚠ Article introuvable"))
B33: =IF(A33="","",PROPER(TEXT(A33,"mmmm"))) | N33: =IF(OR(D33="",M33=""),"",IFERROR(IF(ABS(M33-ROUND(VLOOKUP(TRIM(IF(E33="",D33,E33)),Data!E28:G37,2,FALSE),2))<=VLOOKUP(TRIM(IF(E33="",D33,E33)),Data!E28:G37,3,FALSE),"OK ✅","NOK ❌"),"⚠ Article introuvable"))
B34: =IF(A34="","",PROPER(TEXT(A34,"mmmm"))) | N34: =IF(OR(D34="",M34=""),"",IFERROR(IF(ABS(M34-ROUND(VLOOKUP(TRIM(IF(E34="",D34,E34)),Data!E29:G38,2,FALSE),2))<=VLOOKUP(TRIM(IF(E34="",D34,E34)),Data!E29:G38,3,FALSE),"OK ✅","NOK ❌"),"⚠ Article introuvable"))
B35: =IF(A35="","",PROPER(TEXT(A35,"mmmm"))) | N35: =IF(OR(D35="",M35=""),"",IFERROR(IF(ABS(M35-ROUND(VLOOKUP(TRIM(IF(E35="",D35,E35)),Data!E30:G39,2,FALSE),2))<=VLOOKUP(TRIM(IF(E35="",D35,E35)),Data!E30:G39,3,FALSE),"OK ✅","NOK ❌"),"⚠ Article introuvable"))
B36: =IF(A36="","",PROPER(TEXT(A36,"mmmm"))) | N36: =IF(OR(D36="",M36=""),"",IFERROR(IF(ABS(M36-ROUND(VLOOKUP(TRIM(IF(E36="",D36,E36)),Data!E31:G40,2,FALSE),2))<=VLOOKUP(TRIM(IF(E36="",D36,E36)),Data!E31:G40,3,FALSE),"OK ✅","NOK ❌"),"⚠ Article introuvable"))
B37: =IF(A37="","",PROPER(TEXT(A37,"mmmm"))) | N37: =IF(OR(D37="",M37=""),"",IFERROR(IF(ABS(M37-ROUND(VLOOKUP(TRIM(IF(E37="",D37,E37)),Data!E32:G41,2,FALSE),2))<=VLOOKUP(TRIM(IF(E37="",D37,E37)),Data!E32:G41,3,FALSE),"OK ✅","NOK ❌"),"⚠ Article introuvable"))
B38: =IF(A38="","",PROPER(TEXT(A38,"mmmm"))) | N38: =IF(OR(D38="",M38=""),"",IFERROR(IF(ABS(M38-ROUND(VLOOKUP(TRIM(IF(E38="",D38,E38)),Data!E33:G42,2,FALSE),2))<=VLOOKUP(TRIM(IF(E38="",D38,E38)),Data!E33:G42,3,FALSE),"OK ✅","NOK ❌"),"⚠ Article introuvable"))
B39: =IF(A39="","",PROPER(TEXT(A39,"mmmm"))) | N39: =IF(OR(D39="",M39=""),"",IFERROR(IF(ABS(M39-ROUND(VLOOKUP(TRIM(IF(E39="",D39,E39)),Data!E34:G43,2,FALSE),2))<=VLOOKUP(TRIM(IF(E39="",D39,E39)),Data!E34:G43,3,FALSE),"OK ✅","NOK ❌"),"⚠ Article introuvable"))
B40: =IF(A40="","",PROPER(TEXT(A40,"mmmm"))) | N40: =IF(OR(D40="",M40=""),"",IFERROR(IF(ABS(M40-ROUND(VLOOKUP(TRIM(IF(E40="",D40,E40)),Data!E35:G44,2,FALSE),2))<=VLOOKUP(TRIM(IF(E40="",D40,E40)),Data!E35:G44,3,FALSE),"OK ✅","NOK ❌"),"⚠ Article introuvable"))
... B62: =IF(A62="","",PROPER(TEXT(A62,"mmmm"))) | N62: =IF(OR(D62="",M62=""),"",IFERROR(IF(ABS(M62-ROUND(VLOOKUP(TRIM(IF(E62="",D62,E62)),Data!E57:G66,2,FALSE),2))<=VLOOKUP(TRIM(IF(E62="",D62,E62)),Data!E57:G66,3,FALSE),"OK ✅","NOK ❌"),"⚠ Article introuvable"))

Sheet Juillet
A1: CHANGEMENT ARTICLES ATELIERS STRIP / PUNCHING
A6: Date | B6: Mois | C6: Opérateur | D6: Changement Strip | F6: Changement Découpeur | H6: N° Cylindre à Ajuster | M6: Largeur Bande (mm) | N6: Standard Largeur (mm) | O6: Temps Nécessaire (min) | P6: Changement roulement | U6: Nb des roulement changées | V6: Piste d'Amélioration
D7: Article 1 | E7: Article 2 | F7: Oui | G7: Non | H7: 7 | I7: 6 | J7: 5 | K7: 4 | L7: 3 | P7: 7 | Q7: 6 | R7: 5 | S7: 4 | T7: 3
B8: =IF(A8="","",PROPER(TEXT(A8,"mmmm")))
B9: =IF(A9="","",PROPER(TEXT(A9,"mmmm")))
B10: =IF(A10="","",PROPER(TEXT(A10,"mmmm")))
B11: =IF(A11="","",PROPER(TEXT(A11,"mmmm")))
B12: =IF(A12="","",PROPER(TEXT(A12,"mmmm")))
B13: =IF(A13="","",PROPER(TEXT(A13,"mmmm")))
B14: =IF(A14="","",PROPER(TEXT(A14,"mmmm")))
B15: =IF(A15="","",PROPER(TEXT(A15,"mmmm")))
B16: =IF(A16="","",PROPER(TEXT(A16,"mmmm"))) | U16: 1
B17: =IF(A17="","",PROPER(TEXT(A17,"mmmm")))
B18: =IF(A18="","",PROPER(TEXT(A18,"mmmm")))
B19: =IF(A19="","",PROPER(TEXT(A19,"mmmm")))
B20: =IF(A20="","",PROPER(TEXT(A20,"mmmm")))
B21: =IF(A21="","",PROPER(TEXT(A21,"mmmm")))
B22: =IF(A22="","",PROPER(TEXT(A22,"mmmm")))
B23: =IF(A23="","",PROPER(TEXT(A23,"mmmm")))
B24: =IF(A24="","",PROPER(TEXT(A24,"mmmm")))
B25: =IF(A25="","",PROPER(TEXT(A25,"mmmm")))
B26: =IF(A26="","",PROPER(TEXT(A26,"mmmm")))
B27: =IF(A27="","",PROPER(TEXT(A27,"mmmm")))
B28: =IF(A28="","",PROPER(TEXT(A28,"mmmm"))) | N28: =IF(OR(D28="",M28=""),"",IFERROR(IF(ABS(M28-ROUND(VLOOKUP(TRIM(IF(E28="",D28,E28)),Data!E23:G32,2,FALSE),2))<=VLOOKUP(TRIM(IF(E28="",D28,E28)),Data!E23:G32,3,FALSE),"OK ✅","NOK ❌"),"⚠ Article introuvable"))
B29: =IF(A29="","",PROPER(TEXT(A29,"mmmm"))) | N29: =IF(OR(D29="",M29=""),"",IFERROR(IF(ABS(M29-ROUND(VLOOKUP(TRIM(IF(E29="",D29,E29)),Data!E24:G33,2,FALSE),2))<=VLOOKUP(TRIM(IF(E29="",D29,E29)),Data!E24:G33,3,FALSE),"OK ✅","NOK ❌"),"⚠ Article introuvable"))
B30: =IF(A30="","",PROPER(TEXT(A30,"mmmm"))) | N30: =IF(OR(D30="",M30=""),"",IFERROR(IF(ABS(M30-ROUND(VLOOKUP(TRIM(IF(E30="",D30,E30)),Data!E25:G34,2,FALSE),2))<=VLOOKUP(TRIM(IF(E30="",D30,E30)),Data!E25:G34,3,FALSE),"OK ✅","NOK ❌"),"⚠ Article introuvable"))
B31: =IF(A31="","",PROPER(TEXT(A31,"mmmm"))) | N31: =IF(OR(D31="",M31=""),"",IFERROR(IF(ABS(M31-ROUND(VLOOKUP(TRIM(IF(E31="",D31,E31)),Data!E26:G35,2,FALSE),2))<=VLOOKUP(TRIM(IF(E31="",D31,E31)),Data!E26:G35,3,FALSE),"OK ✅","NOK ❌"),"⚠ Article introuvable"))
B32: =IF(A32="","",PROPER(TEXT(A32,"mmmm"))) | N32: =IF(OR(D32="",M32=""),"",IFERROR(IF(ABS(M32-ROUND(VLOOKUP(TRIM(IF(E32="",D32,E32)),Data!E27:G36,2,FALSE),2))<=VLOOKUP(TRIM(IF(E32="",D32,E32)),Data!E27:G36,3,FALSE),"OK ✅","NOK ❌"),"⚠ Article introuvable"))
B33: =IF(A33="","",PROPER(TEXT(A33,"mmmm"))) | N33: =IF(OR(D33="",M33=""),"",IFERROR(IF(ABS(M33-ROUND(VLOOKUP(TRIM(IF(E33="",D33,E33)),Data!E28:G37,2,FALSE),2))<=VLOOKUP(TRIM(IF(E33="",D33,E33)),Data!E28:G37,3,FALSE),"OK ✅","NOK ❌"),"⚠ Article introuvable"))
B34: =IF(A34="","",PROPER(TEXT(A34,"mmmm"))) | N34: =IF(OR(D34="",M34=""),"",IFERROR(IF(ABS(M34-ROUND(VLOOKUP(TRIM(IF(E34="",D34,E34)),Data!E29:G38,2,FALSE),2))<=VLOOKUP(TRIM(IF(E34="",D34,E34)),Data!E29:G38,3,FALSE),"OK ✅","NOK ❌"),"⚠ Article introuvable"))
B35: =IF(A35="","",PROPER(TEXT(A35,"mmmm"))) | N35: =IF(OR(D35="",M35=""),"",IFERROR(IF(ABS(M35-ROUND(VLOOKUP(TRIM(IF(E35="",D35,E35)),Data!E30:G39,2,FALSE),2))<=VLOOKUP(TRIM(IF(E35="",D35,E35)),Data!E30:G39,3,FALSE),"OK ✅","NOK ❌"),"⚠ Article introuvable"))
B36: =IF(A36="","",PROPER(TEXT(A36,"mmmm"))) | N36: =IF(OR(D36="",M36=""),"",IFERROR(IF(ABS(M36-ROUND(VLOOKUP(TRIM(IF(E36="",D36,E36)),Data!E31:G40,2,FALSE),2))<=VLOOKUP(TRIM(IF(E36="",D36,E36)),Data!E31:G40,3,FALSE),"OK ✅","NOK ❌"),"⚠ Article introuvable"))
B37: =IF(A37="","",PROPER(TEXT(A37,"mmmm"))) | N37: =IF(OR(D37="",M37=""),"",IFERROR(IF(ABS(M37-ROUND(VLOOKUP(TRIM(IF(E37="",D37,E37)),Data!E32:G41,2,FALSE),2))<=VLOOKUP(TRIM(IF(E37="",D37,E37)),Data!E32:G41,3,FALSE),"OK ✅","NOK ❌"),"⚠ Article introuvable"))
B38: =IF(A38="","",PROPER(TEXT(A38,"mmmm"))) | N38: =IF(OR(D38="",M38=""),"",IFERROR(IF(ABS(M38-ROUND(VLOOKUP(TRIM(IF(E38="",D38,E38)),Data!E33:G42,2,FALSE),2))<=VLOOKUP(TRIM(IF(E38="",D38,E38)),Data!E33:G42,3,FALSE),"OK ✅","NOK ❌"),"⚠ Article introuvable"))
B39: =IF(A39="","",PROPER(TEXT(A39,"mmmm"))) | N39: =IF(OR(D39="",M39=""),"",IFERROR(IF(ABS(M39-ROUND(VLOOKUP(TRIM(IF(E39="",D39,E39)),Data!E34:G43,2,FALSE),2))<=VLOOKUP(TRIM(IF(E39="",D39,E39)),Data!E34:G43,3,FALSE),"OK ✅","NOK ❌"),"⚠ Article introuvable"))
... B62: =IF(A62="","",PROPER(TEXT(A62,"mmmm"))) | N62: =IF(OR(D62="",M62=""),"",IFERROR(IF(ABS(M62-ROUND(VLOOKUP(TRIM(IF(E62="",D62,E62)),Data!E57:G66,2,FALSE),2))<=VLOOKUP(TRIM(IF(E62="",D62,E62)),Data!E57:G66,3,FALSE),"OK ✅","NOK ❌"),"⚠ Article introuvable"))
