Workbook

Sheet SUIVI DES COMMANDES
O2: Code: PR07F02
A3: TABLEAUX DE SUIVI DES COMMANDES ET DELAIS ACHATS | O3: Version : 04
O4: Date : 12/08/2020
M6: EVALUATION
A7: DA N° | B7: DATE DA | C7: BC N° | D7: DATE BC | E7: CODE F | F7: FOURNISSEUR | G7: Code articlre | H7: Désignation | I7: QTE | J7: DATE PREVUE | K7: DATE DE RECEPTION | L7: ECART | M7: CONFORMITE PRODUIT / PRESTATTION | N7: CONFORMITE QTE | O7: CONFORMITE DELAI | P7: NOTE
A8: DA200507 | B8: 43971 | C8: PO201488 | D8: 44050 | E8: L60473 | F8: =IF(ISERR(VLOOKUP(Tableau1[[#This Row],[CODE F]],'CODE FOURNISSEUR'!A:B,2,0)),"",(VLOOKUP(Tableau1[[#This Row],[CODE F]],'CODE FOURNISSEUR'!A:B,2,0))) -> COMPTOIR HAMMAMI | G8: 815STA001 | H8: =VLOOKUP(Tableau1[[#This Row],[Code articlre]],'F ARTICLE'!A:B,2,0) -> starteur PHILPS 4-65W | I8: 20 | J8: 44053 | K8: 44053 | L8: =K8-J8 -> 0 | M8: CONFORME | N8: CONFORME | O8: CONFORME | P8: =IF(ISERR(AVERAGE(U8:W8)),"",(AVERAGE(U8:W8))) -> 1 | U8: =IF(M8=$B$37,1,IF(M8=$B$38,0.75,IF(M8=$B$39,0.5,IF(M8=$B$40,0,"")))) -> 1 | V8: =IF(N8=$B$37,1,IF(N8=$B$38,0.75,IF(N8=$B$39,0.5,IF(N8=$B$40,0,"")))) -> 1 | W8: =IF(O8=$B$37,1,IF(O8=$B$38,0.75,IF(O8=$B$39,0.5,IF(O8=$B$40,0,"")))) -> 1
A9: DA200701 | B9: 44027 | C9: PO201488 | D9: 44050 | E9: L60473 | F9: =IF(ISERR(VLOOKUP(Tableau1[[#This Row],[CODE F]],'CODE FOURNISSEUR'!A:B,2,0)),"",(VLOOKUP(Tableau1[[#This Row],[CODE F]],'CODE FOURNISSEUR'!A:B,2,0))) -> COMPTOIR HAMMAMI | G9: 812COD687 | H9: =VLOOKUP(Tableau1[[#This Row],[Code articlre]],'F ARTICLE'!A:B,2,0) -> COUDE CALVA15/21 | I9: 10 | J9: 44053 | K9: 44053 | L9: =K9-J9 -> 0 | M9: CONFORME | N9: CONFORME | O9: CONFORME | P9: =IF(ISERR(AVERAGE(U9:W9)),"",(AVERAGE(U9:W9))) -> 1 | U9: =IF(M9=$B$37,1,IF(M9=$B$38,0.75,IF(M9=$B$39,0.5,IF(M9=$B$40,0,"")))) -> 1 | V9: =IF(N9=$B$37,1,IF(N9=$B$38,0.75,IF(N9=$B$39,0.5,IF(N9=$B$40,0,"")))) -> 1 | W9: =IF(O9=$B$37,1,IF(O9=$B$38,0.75,IF(O9=$B$39,0.5,IF(O9=$B$40,0,"")))) -> 1
A10: DA200701 | B10: 44027 | C10: PO201488 | D10: 44050 | E10: L60473 | F10: =IF(ISERR(VLOOKUP(Tableau1[[#This Row],[CODE F]],'CODE FOURNISSEUR'!A:B,2,0)),"",(VLOOKUP(Tableau1[[#This Row],[CODE F]],'CODE FOURNISSEUR'!A:B,2,0))) -> COMPTOIR HAMMAMI | G10: 812COD684 | H10: =VLOOKUP(Tableau1[[#This Row],[Code articlre]],'F ARTICLE'!A:B,2,0) -> COUDE CALVA 20/27 | I10: 10 | J10: 44053 | K10: 44053 | L10: =K10-J10 -> 0 | M10: CONFORME | N10: CONFORME | O10: CONFORME | P10: =IF(ISERR(AVERAGE(U10:W10)),"",(AVERAGE(U10:W10))) -> 1 | U10: =IF(M10=$B$37,1,IF(M10=$B$38,0.75,IF(M10=$B$39,0.5,IF(M10=$B$40,0,"")))) -> 1 | V10: =IF(N10=$B$37,1,IF(N10=$B$38,0.75,IF(N10=$B$39,0.5,IF(N10=$B$40,0,"")))) -> 1 | W10: =IF(O10=$B$37,1,IF(O10=$B$38,0.75,IF(O10=$B$39,0.5,IF(O10=$B$40,0,"")))) -> 1
A11: DA200701 | B11: 44027 | C11: PO201488 | D11: 44050 | E11: L60473 | F11: =IF(ISERR(VLOOKUP(Tableau1[[#This Row],[CODE F]],'CODE FOURNISSEUR'!A:B,2,0)),"",(VLOOKUP(Tableau1[[#This Row],[CODE F]],'CODE FOURNISSEUR'!A:B,2,0))) -> COMPTOIR HAMMAMI | G11: 812MEM723 | H11: =VLOOKUP(Tableau1[[#This Row],[Code articlre]],'F ARTICLE'!A:B,2,0) -> MAMLON GALVA20/27 | I11: 10 | J11: 44053 | K11: 44053 | L11: =K11-J11 -> 0 | M11: CONFORME | N11: CONFORME | O11: CONFORME | P11: =IF(ISERR(AVERAGE(U11:W11)),"",(AVERAGE(U11:W11))) -> 1 | U11: =IF(M11=$B$37,1,IF(M11=$B$38,0.75,IF(M11=$B$39,0.5,IF(M11=$B$40,0,"")))) -> 1 | V11: =IF(N11=$B$37,1,IF(N11=$B$38,0.75,IF(N11=$B$39,0.5,IF(N11=$B$40,0,"")))) -> 1 | W11: =IF(O11=$B$37,1,IF(O11=$B$38,0.75,IF(O11=$B$39,0.5,IF(O11=$B$40,0,"")))) -> 1
A12: DA200701 | B12: 44027 | C12: PO201488 | D12: 44050 | E12: L60473 | F12: =IF(ISERR(VLOOKUP(Tableau1[[#This Row],[CODE F]],'CODE FOURNISSEUR'!A:B,2,0)),"",(VLOOKUP(Tableau1[[#This Row],[CODE F]],'CODE FOURNISSEUR'!A:B,2,0))) -> COMPTOIR HAMMAMI | G12: 812MEM724 | H12: =VLOOKUP(Tableau1[[#This Row],[Code articlre]],'F ARTICLE'!A:B,2,0) -> MAMLON GALVA15/21 | I12: 10 | J12: 44053 | K12: 44053 | L12: =K12-J12 -> 0 | M12: CONFORME | N12: CONFORME | O12: CONFORME | P12: =IF(ISERR(AVERAGE(U12:W12)),"",(AVERAGE(U12:W12))) -> 1 | U12: =IF(M12=$B$37,1,IF(M12=$B$38,0.75,IF(M12=$B$39,0.5,IF(M12=$B$40,0,"")))) -> 1 | V12: =IF(N12=$B$37,1,IF(N12=$B$38,0.75,IF(N12=$B$39,0.5,IF(N12=$B$40,0,"")))) -> 1 | W12: =IF(O12=$B$37,1,IF(O12=$B$38,0.75,IF(O12=$B$39,0.5,IF(O12=$B$40,0,"")))) -> 1
A13: DA200701 | B13: 44027 | C13: PO201488 | D13: 44050 | E13: L60473 | F13: =IF(ISERR(VLOOKUP(Tableau1[[#This Row],[CODE F]],'CODE FOURNISSEUR'!A:B,2,0)),"",(VLOOKUP(Tableau1[[#This Row],[CODE F]],'CODE FOURNISSEUR'!A:B,2,0))) -> COMPTOIR HAMMAMI | G13: 812RED708 | H13: =VLOOKUP(Tableau1[[#This Row],[Code articlre]],'F ARTICLE'!A:B,2,0) -> Réduction Galva15/21 | I13: 20 | J13: 44053 | K13: 44053 | L13: =K13-J13 -> 0 | M13: CONFORME | N13: CONFORME | O13: CONFORME | P13: =IF(ISERR(AVERAGE(U13:W13)),"",(AVERAGE(U13:W13))) -> 1 | U13: =IF(M13=$B$37,1,IF(M13=$B$38,0.75,IF(M13=$B$39,0.5,IF(M13=$B$40,0,"")))) -> 1 | V13: =IF(N13=$B$37,1,IF(N13=$B$38,0.75,IF(N13=$B$39,0.5,IF(N13=$B$40,0,"")))) -> 1 | W13: =IF(O13=$B$37,1,IF(O13=$B$38,0.75,IF(O13=$B$39,0.5,IF(O13=$B$40,0,"")))) -> 1
A14: DA200701 | B14: 44027 | C14: PO201488 | D14: 44050 | E14: L60473 | F14: =IF(ISERR(VLOOKUP(Tableau1[[#This Row],[CODE F]],'CODE FOURNISSEUR'!A:B,2,0)),"",(VLOOKUP(Tableau1[[#This Row],[CODE F]],'CODE FOURNISSEUR'!A:B,2,0))) -> COMPTOIR HAMMAMI | G14: 812RAC728 | H14: =VLOOKUP(Tableau1[[#This Row],[Code articlre]],'F ARTICLE'!A:B,2,0) -> raccord 3 péicé Galva20/27 | I14: 15 | J14: 44053 | K14: 44053 | L14: =K14-J14 -> 0 | M14: CONFORME | N14: CONFORME | O14: CONFORME | P14: =IF(ISERR(AVERAGE(U14:W14)),"",(AVERAGE(U14:W14))) -> 1 | U14: =IF(M14=$B$37,1,IF(M14=$B$38,0.75,IF(M14=$B$39,0.5,IF(M14=$B$40,0,"")))) -> 1 | V14: =IF(N14=$B$37,1,IF(N14=$B$38,0.75,IF(N14=$B$39,0.5,IF(N14=$B$40,0,"")))) -> 1 | W14: =IF(O14=$B$37,1,IF(O14=$B$38,0.75,IF(O14=$B$39,0.5,IF(O14=$B$40,0,"")))) -> 1
A15: DA200701 | B15: 44027 | C15: PO201488 | D15: 44050 | E15: L60473 | F15: =IF(ISERR(VLOOKUP(Tableau1[[#This Row],[CODE F]],'CODE FOURNISSEUR'!A:B,2,0)),"",(VLOOKUP(Tableau1[[#This Row],[CODE F]],'CODE FOURNISSEUR'!A:B,2,0))) -> COMPTOIR HAMMAMI | G15: 812XPB750 | H15: =VLOOKUP(Tableau1[[#This Row],[Code articlre]],'F ARTICLE'!A:B,2,0) -> Teflon | I15: 50 | J15: 44053 | K15: 44053 | L15: =K15-J15 -> 0 | M15: CONFORME | N15: CONFORME | O15: CONFORME | P15: =IF(ISERR(AVERAGE(U15:W15)),"",(AVERAGE(U15:W15))) -> 1 | U15: =IF(M15=$B$37,1,IF(M15=$B$38,0.75,IF(M15=$B$39,0.5,IF(M15=$B$40,0,"")))) -> 1 | V15: =IF(N15=$B$37,1,IF(N15=$B$38,0.75,IF(N15=$B$39,0.5,IF(N15=$B$40,0,"")))) -> 1 | W15: =IF(O15=$B$37,1,IF(O15=$B$38,0.75,IF(O15=$B$39,0.5,IF(O15=$B$40,0,"")))) -> 1
A16: DA200740 | B16: 44039 | C16: PO201488 | D16: 44050 | E16: L60473 | F16: =IF(ISERR(VLOOKUP(Tableau1[[#This Row],[CODE F]],'CODE FOURNISSEUR'!A:B,2,0)),"",(VLOOKUP(Tableau1[[#This Row],[CODE F]],'CODE FOURNISSEUR'!A:B,2,0))) -> COMPTOIR HAMMAMI | G16: 812TTE043 | H16: =VLOOKUP(Tableau1[[#This Row],[Code articlre]],'F ARTICLE'!A:B,2,0) -> TE BARGATAIRE D50 | I16: 1 | J16: 44053 | K16: 44053 | L16: =K16-J16 -> 0 | M16: CONFORME | N16: CONFORME | O16: CONFORME | P16: =IF(ISERR(AVERAGE(U16:W16)),"",(AVERAGE(U16:W16))) -> 1 | U16: =IF(M16=$B$37,1,IF(M16=$B$38,0.75,IF(M16=$B$39,0.5,IF(M16=$B$40,0,"")))) -> 1 | V16: =IF(N16=$B$37,1,IF(N16=$B$38,0.75,IF(N16=$B$39,0.5,IF(N16=$B$40,0,"")))) -> 1 | W16: =IF(O16=$B$37,1,IF(O16=$B$38,0.75,IF(O16=$B$39,0.5,IF(O16=$B$40,0,"")))) -> 1
A17: DA200740 | B17: 44039 | C17: PO201488 | D17: 44050 | E17: L60473 | F17: =IF(ISERR(VLOOKUP(Tableau1[[#This Row],[CODE F]],'CODE FOURNISSEUR'!A:B,2,0)),"",(VLOOKUP(Tableau1[[#This Row],[CODE F]],'CODE FOURNISSEUR'!A:B,2,0))) -> COMPTOIR HAMMAMI | G17: 812VAN739 | H17: =VLOOKUP(Tableau1[[#This Row],[Code articlre]],'F ARTICLE'!A:B,2,0) -> Vanne PVC PR D50 | I17: 2 | J17: 44053 | K17: 44053 | L17: =K17-J17 -> 0 | M17: CONFORME | N17: CONFORME | O17: CONFORME | P17: =IF(ISERR(AVERAGE(U17:W17)),"",(AVERAGE(U17:W17))) -> 1 | U17: =IF(M17=$B$37,1,IF(M17=$B$38,0.75,IF(M17=$B$39,0.5,IF(M17=$B$40,0,"")))) -> 1 | V17: =IF(N17=$B$37,1,IF(N17=$B$38,0.75,IF(N17=$B$39,0.5,IF(N17=$B$40,0,"")))) -> 1 | W17: =IF(O17=$B$37,1,IF(O17=$B$38,0.75,IF(O17=$B$39,0.5,IF(O17=$B$40,0,"")))) -> 1
A18: DA200740 | B18: 44039 | C18: PO201488 | D18: 44050 | E18: L60473 | F18: =IF(ISERR(VLOOKUP(Tableau1[[#This Row],[CODE F]],'CODE FOURNISSEUR'!A:B,2,0)),"",(VLOOKUP(Tableau1[[#This Row],[CODE F]],'CODE FOURNISSEUR'!A:B,2,0))) -> COMPTOIR HAMMAMI | G18: 812COD691 | H18: =VLOOKUP(Tableau1[[#This Row],[Code articlre]],'F ARTICLE'!A:B,2,0) -> Coude bargataire D50 | I18: 2 | J18: 44053 | K18: 44053 | L18: =K18-J18 -> 0 | M18: CONFORME | N18: CONFORME | O18: CONFORME | P18: =IF(ISERR(AVERAGE(U18:W18)),"",(AVERAGE(U18:W18))) -> 1 | U18: =IF(M18=$B$37,1,IF(M18=$B$38,0.75,IF(M18=$B$39,0.5,IF(M18=$B$40,0,"")))) -> 1 | V18: =IF(N18=$B$37,1,IF(N18=$B$38,0.75,IF(N18=$B$39,0.5,IF(N18=$B$40,0,"")))) -> 1 | W18: =IF(O18=$B$37,1,IF(O18=$B$38,0.75,IF(O18=$B$39,0.5,IF(O18=$B$40,0,"")))) -> 1
A19: DA200740 | B19: 44039 | C19: PO201488 | D19: 44050 | E19: L60473 | F19: =IF(ISERR(VLOOKUP(Tableau1[[#This Row],[CODE F]],'CODE FOURNISSEUR'!A:B,2,0)),"",(VLOOKUP(Tableau1[[#This Row],[CODE F]],'CODE FOURNISSEUR'!A:B,2,0))) -> COMPTOIR HAMMAMI | G19: 812RAC065 | H19: =VLOOKUP(Tableau1[[#This Row],[Code articlre]],'F ARTICLE'!A:B,2,0) -> raccord bargataire D50 | I19: 4 | J19: 44053 | K19: 44053 | L19: =K19-J19 -> 0 | M19: CONFORME | N19: CONFORME | O19: CONFORME | P19: =IF(ISERR(AVERAGE(U19:W19)),"",(AVERAGE(U19:W19))) -> 1 | U19: =IF(M19=$B$37,1,IF(M19=$B$38,0.75,IF(M19=$B$39,0.5,IF(M19=$B$40,0,"")))) -> 1 | V19: =IF(N19=$B$37,1,IF(N19=$B$38,0.75,IF(N19=$B$39,0.5,IF(N19=$B$40,0,"")))) -> 1 | W19: =IF(O19=$B$37,1,IF(O19=$B$38,0.75,IF(O19=$B$39,0.5,IF(O19=$B$40,0,"")))) -> 1
A20: DA200289 | B20: 43901 | C20: PO201488 | D20: 44050 | E20: L60473 | F20: =IF(ISERR(VLOOKUP(Tableau1[[#This Row],[CODE F]],'CODE FOURNISSEUR'!A:B,2,0)),"",(VLOOKUP(Tableau1[[#This Row],[CODE F]],'CODE FOURNISSEUR'!A:B,2,0))) -> COMPTOIR HAMMAMI | G20: 820XMC498 | H20: =VLOOKUP(Tableau1[[#This Row],[Code articlre]],'F ARTICLE'!A:B,2,0) -> tige fileté (acier) M16 | I20: 5 | J20: 44053 | K20: 44053 | L20: =K20-J20 -> 0 | M20: CONFORME | N20: CONFORME | O20: CONFORME | P20: =IF(ISERR(AVERAGE(U20:W20)),"",(AVERAGE(U20:W20))) -> 1 | U20: =IF(M20=$B$37,1,IF(M20=$B$38,0.75,IF(M20=$B$39,0.5,IF(M20=$B$40,0,"")))) -> 1 | V20: =IF(N20=$B$37,1,IF(N20=$B$38,0.75,IF(N20=$B$39,0.5,IF(N20=$B$40,0,"")))) -> 1 | W20: =IF(O20=$B$37,1,IF(O20=$B$38,0.75,IF(O20=$B$39,0.5,IF(O20=$B$40,0,"")))) -> 1
A21: DA200525 | B21: 43979 | C21: PO201485 | D21: 44050 | E21: L60006 | F21: =IF(ISERR(VLOOKUP(Tableau1[[#This Row],[CODE F]],'CODE FOURNISSEUR'!A:B,2,0)),"",(VLOOKUP(Tableau1[[#This Row],[CODE F]],'CODE FOURNISSEUR'!A:B,2,0))) -> EQUIPEMENT MODERNE | G21: 812VER009 | H21: =VLOOKUP(Tableau1[[#This Row],[Code articlre]],'F ARTICLE'!A:B,2,0) -> VERIN D25 COURSE 125 | I21: 2 | J21: 44095 | L21: =K21-J21 -> -44095 | P21: =IF(ISERR(AVERAGE(U21:W21)),"",(AVERAGE(U21:W21))) | U21: =IF(M21=$B$37,1,IF(M21=$B$38,0.75,IF(M21=$B$39,0.5,IF(M21=$B$40,0,"")))) | V21: =IF(N21=$B$37,1,IF(N21=$B$38,0.75,IF(N21=$B$39,0.5,IF(N21=$B$40,0,"")))) | W21: =IF(O21=$B$37,1,IF(O21=$B$38,0.75,IF(O21=$B$39,0.5,IF(O21=$B$40,0,""))))
F22: =IF(ISERR(VLOOKUP(Tableau1[[#This Row],[CODE F]],'CODE FOURNISSEUR'!A:B,2,0)),"",(VLOOKUP(Tableau1[[#This Row],[CODE F]],'CODE FOURNISSEUR'!A:B,2,0))) -> #N/A | H22: =VLOOKUP(Tableau1[[#This Row],[Code articlre]],'F ARTICLE'!A:B,2,0) -> #N/A | L22: =K22-J22 -> 0 | P22: =IF(ISERR(AVERAGE(U22:W22)),"",(AVERAGE(U22:W22))) | U22: =IF(M22=$B$37,1,IF(M22=$B$38,0.75,IF(M22=$B$39,0.5,IF(M22=$B$40,0,"")))) | V22: =IF(N22=$B$37,1,IF(N22=$B$38,0.75,IF(N22=$B$39,0.5,IF(N22=$B$40,0,"")))) | W22: =IF(O22=$B$37,1,IF(O22=$B$38,0.75,IF(O22=$B$39,0.5,IF(O22=$B$40,0,""))))
F23: =IF(ISERR(VLOOKUP(Tableau1[[#This Row],[CODE F]],'CODE FOURNISSEUR'!A:B,2,0)),"",(VLOOKUP(Tableau1[[#This Row],[CODE F]],'CODE FOURNISSEUR'!A:B,2,0))) -> #N/A | H23: =VLOOKUP(Tableau1[[#This Row],[Code articlre]],'F ARTICLE'!A:B,2,0) -> #N/A | L23: =K23-J23 -> 0 | P23: =IF(ISERR(AVERAGE(U23:W23)),"",(AVERAGE(U23:W23))) | U23: =IF(M23=$B$37,1,IF(M23=$B$38,0.75,IF(M23=$B$39,0.5,IF(M23=$B$40,0,"")))) | V23: =IF(N23=$B$37,1,IF(N23=$B$38,0.75,IF(N23=$B$39,0.5,IF(N23=$B$40,0,"")))) | W23: =IF(O23=$B$37,1,IF(O23=$B$38,0.75,IF(O23=$B$39,0.5,IF(O23=$B$40,0,""))))
F24: =IF(ISERR(VLOOKUP(Tableau1[[#This Row],[CODE F]],'CODE FOURNISSEUR'!A:B,2,0)),"",(VLOOKUP(Tableau1[[#This Row],[CODE F]],'CODE FOURNISSEUR'!A:B,2,0))) -> #N/A | H24: =VLOOKUP(Tableau1[[#This Row],[Code articlre]],'F ARTICLE'!A:B,2,0) -> #N/A | L24: =K24-J24 -> 0 | P24: =IF(ISERR(AVERAGE(U24:W24)),"",(AVERAGE(U24:W24))) | U24: =IF(M24=$B$37,1,IF(M24=$B$38,0.75,IF(M24=$B$39,0.5,IF(M24=$B$40,0,"")))) | V24: =IF(N24=$B$37,1,IF(N24=$B$38,0.75,IF(N24=$B$39,0.5,IF(N24=$B$40,0,"")))) | W24: =IF(O24=$B$37,1,IF(O24=$B$38,0.75,IF(O24=$B$39,0.5,IF(O24=$B$40,0,""))))
F25: =IF(ISERR(VLOOKUP(Tableau1[[#This Row],[CODE F]],'CODE FOURNISSEUR'!A:B,2,0)),"",(VLOOKUP(Tableau1[[#This Row],[CODE F]],'CODE FOURNISSEUR'!A:B,2,0))) -> #N/A | H25: =VLOOKUP(Tableau1[[#This Row],[Code articlre]],'F ARTICLE'!A:B,2,0) -> #N/A | L25: =K25-J25 -> 0 | P25: =IF(ISERR(AVERAGE(U25:W25)),"",(AVERAGE(U25:W25))) | U25: =IF(M25=$B$37,1,IF(M25=$B$38,0.75,IF(M25=$B$39,0.5,IF(M25=$B$40,0,"")))) | V25: =IF(N25=$B$37,1,IF(N25=$B$38,0.75,IF(N25=$B$39,0.5,IF(N25=$B$40,0,"")))) | W25: =IF(O25=$B$37,1,IF(O25=$B$38,0.75,IF(O25=$B$39,0.5,IF(O25=$B$40,0,""))))
F26: =IF(ISERR(VLOOKUP(Tableau1[[#This Row],[CODE F]],'CODE FOURNISSEUR'!A:B,2,0)),"",(VLOOKUP(Tableau1[[#This Row],[CODE F]],'CODE FOURNISSEUR'!A:B,2,0))) -> #N/A | H26: =VLOOKUP(Tableau1[[#This Row],[Code articlre]],'F ARTICLE'!A:B,2,0) -> #N/A | L26: =K26-J26 -> 0 | P26: =IF(ISERR(AVERAGE(U26:W26)),"",(AVERAGE(U26:W26))) | U26: =IF(M26=$B$37,1,IF(M26=$B$38,0.75,IF(M26=$B$39,0.5,IF(M26=$B$40,0,"")))) | V26: =IF(N26=$B$37,1,IF(N26=$B$38,0.75,IF(N26=$B$39,0.5,IF(N26=$B$40,0,"")))) | W26: =IF(O26=$B$37,1,IF(O26=$B$38,0.75,IF(O26=$B$39,0.5,IF(O26=$B$40,0,""))))
F27: =IF(ISERR(VLOOKUP(Tableau1[[#This Row],[CODE F]],'CODE FOURNISSEUR'!A:B,2,0)),"",(VLOOKUP(Tableau1[[#This Row],[CODE F]],'CODE FOURNISSEUR'!A:B,2,0))) -> #N/A | H27: =VLOOKUP(Tableau1[[#This Row],[Code articlre]],'F ARTICLE'!A:B,2,0) -> #N/A | L27: =K27-J27 -> 0 | P27: =IF(ISERR(AVERAGE(U27:W27)),"",(AVERAGE(U27:W27))) | U27: =IF(M27=$B$37,1,IF(M27=$B$38,0.75,IF(M27=$B$39,0.5,IF(M27=$B$40,0,"")))) | V27: =IF(N27=$B$37,1,IF(N27=$B$38,0.75,IF(N27=$B$39,0.5,IF(N27=$B$40,0,"")))) | W27: =IF(O27=$B$37,1,IF(O27=$B$38,0.75,IF(O27=$B$39,0.5,IF(O27=$B$40,0,""))))
F28: =IF(ISERR(VLOOKUP(Tableau1[[#This Row],[CODE F]],'CODE FOURNISSEUR'!A:B,2,0)),"",(VLOOKUP(Tableau1[[#This Row],[CODE F]],'CODE FOURNISSEUR'!A:B,2,0))) -> #N/A | H28: =VLOOKUP(Tableau1[[#This Row],[Code articlre]],'F ARTICLE'!A:B,2,0) -> #N/A | L28: =K28-J28 -> 0 | P28: =IF(ISERR(AVERAGE(U28:W28)),"",(AVERAGE(U28:W28))) | U28: =IF(M28=$B$37,1,IF(M28=$B$38,0.75,IF(M28=$B$39,0.5,IF(M28=$B$40,0,"")))) | V28: =IF(N28=$B$37,1,IF(N28=$B$38,0.75,IF(N28=$B$39,0.5,IF(N28=$B$40,0,"")))) | W28: =IF(O28=$B$37,1,IF(O28=$B$38,0.75,IF(O28=$B$39,0.5,IF(O28=$B$40,0,""))))
F29: =IF(ISERR(VLOOKUP(Tableau1[[#This Row],[CODE F]],'CODE FOURNISSEUR'!A:B,2,0)),"",(VLOOKUP(Tableau1[[#This Row],[CODE F]],'CODE FOURNISSEUR'!A:B,2,0))) -> #N/A | H29: =VLOOKUP(Tableau1[[#This Row],[Code articlre]],'F ARTICLE'!A:B,2,0) -> #N/A | L29: =K29-J29 -> 0 | P29: =IF(ISERR(AVERAGE(U29:W29)),"",(AVERAGE(U29:W29))) | U29: =IF(M29=$B$37,1,IF(M29=$B$38,0.75,IF(M29=$B$39,0.5,IF(M29=$B$40,0,"")))) | V29: =IF(N29=$B$37,1,IF(N29=$B$38,0.75,IF(N29=$B$39,0.5,IF(N29=$B$40,0,"")))) | W29: =IF(O29=$B$37,1,IF(O29=$B$38,0.75,IF(O29=$B$39,0.5,IF(O29=$B$40,0,""))))
F30: =IF(ISERR(VLOOKUP(Tableau1[[#This Row],[CODE F]],'CODE FOURNISSEUR'!A:B,2,0)),"",(VLOOKUP(Tableau1[[#This Row],[CODE F]],'CODE FOURNISSEUR'!A:B,2,0))) -> #N/A | H30: =VLOOKUP(Tableau1[[#This Row],[Code articlre]],'F ARTICLE'!A:B,2,0) -> #N/A | L30: =K30-J30 -> 0 | P30: =IF(ISERR(AVERAGE(U30:W30)),"",(AVERAGE(U30:W30))) | U30: =IF(M30=$B$37,1,IF(M30=$B$38,0.75,IF(M30=$B$39,0.5,IF(M30=$B$40,0,"")))) | V30: =IF(N30=$B$37,1,IF(N30=$B$38,0.75,IF(N30=$B$39,0.5,IF(N30=$B$40,0,"")))) | W30: =IF(O30=$B$37,1,IF(O30=$B$38,0.75,IF(O30=$B$39,0.5,IF(O30=$B$40,0,""))))
U31: =IF(M31=$B$37,1,IF(M31=$B$38,0.75,IF(M31=$B$39,0.5,IF(M31=$B$40,0,"")))) | V31: =IF(N31=$B$37,1,IF(N31=$B$38,0.75,IF(N31=$B$39,0.5,IF(N31=$B$40,0,"")))) | W31: =IF(O31=$B$37,1,IF(O31=$B$38,0.75,IF(O31=$B$39,0.5,IF(O31=$B$40,0,""))))
U32: =IF(M32=$B$37,1,IF(M32=$B$38,0.75,IF(M32=$B$39,0.5,IF(M32=$B$40,0,"")))) | V32: =IF(N32=$B$37,1,IF(N32=$B$38,0.75,IF(N32=$B$39,0.5,IF(N32=$B$40,0,"")))) | W32: =IF(O32=$B$37,1,IF(O32=$B$38,0.75,IF(O32=$B$39,0.5,IF(O32=$B$40,0,""))))
U33: =IF(M33=$B$37,1,IF(M33=$B$38,0.75,IF(M33=$B$39,0.5,IF(M33=$B$40,0,"")))) | V33: =IF(N33=$B$37,1,IF(N33=$B$38,0.75,IF(N33=$B$39,0.5,IF(N33=$B$40,0,"")))) | W33: =IF(O33=$B$37,1,IF(O33=$B$38,0.75,IF(O33=$B$39,0.5,IF(O33=$B$40,0,""))))
U34: =IF(M34=$B$37,1,IF(M34=$B$38,0.75,IF(M34=$B$39,0.5,IF(M34=$B$40,0,"")))) | V34: =IF(N34=$B$37,1,IF(N34=$B$38,0.75,IF(N34=$B$39,0.5,IF(N34=$B$40,0,"")))) | W34: =IF(O34=$B$37,1,IF(O34=$B$38,0.75,IF(O34=$B$39,0.5,IF(O34=$B$40,0,""))))
U35: =IF(M35=$B$37,1,IF(M35=$B$38,0.75,IF(M35=$B$39,0.5,IF(M35=$B$40,0,"")))) | V35: =IF(N35=$B$37,1,IF(N35=$B$38,0.75,IF(N35=$B$39,0.5,IF(N35=$B$40,0,"")))) | W35: =IF(O35=$B$37,1,IF(O35=$B$38,0.75,IF(O35=$B$39,0.5,IF(O35=$B$40,0,""))))
U36: =IF(M36=$B$37,1,IF(M36=$B$38,0.75,IF(M36=$B$39,0.5,IF(M36=$B$40,0,"")))) | V36: =IF(N36=$B$37,1,IF(N36=$B$38,0.75,IF(N36=$B$39,0.5,IF(N36=$B$40,0,"")))) | W36: =IF(O36=$B$37,1,IF(O36=$B$38,0.75,IF(O36=$B$39,0.5,IF(O36=$B$40,0,""))))
B37: CONFORME | U37: =IF(M37=$B$37,1,IF(M37=$B$38,0.75,IF(M37=$B$39,0.5,IF(M37=$B$40,0,"")))) | V37: =IF(N37=$B$37,1,IF(N37=$B$38,0.75,IF(N37=$B$39,0.5,IF(N37=$B$40,0,"")))) | W37: =IF(O37=$B$37,1,IF(O37=$B$38,0.75,IF(O37=$B$39,0.5,IF(O37=$B$40,0,""))))
B38: ACCEPTABLE | U38: =IF(M38=$B$37,1,IF(M38=$B$38,0.75,IF(M38=$B$39,0.5,IF(M38=$B$40,0,"")))) | V38: =IF(N38=$B$37,1,IF(N38=$B$38,0.75,IF(N38=$B$39,0.5,IF(N38=$B$40,0,"")))) | W38: =IF(O38=$B$37,1,IF(O38=$B$38,0.75,IF(O38=$B$39,0.5,IF(O38=$B$40,0,""))))
B39: PARTIELLEMENT CONFORME | U39: =IF(M39=$B$37,1,IF(M39=$B$38,0.75,IF(M39=$B$39,0.5,IF(M39=$B$40,0,"")))) | V39: =IF(N39=$B$37,1,IF(N39=$B$38,0.75,IF(N39=$B$39,0.5,IF(N39=$B$40,0,"")))) | W39: =IF(O39=$B$37,1,IF(O39=$B$38,0.75,IF(O39=$B$39,0.5,IF(O39=$B$40,0,""))))
B40: NON CONFORME | U40: =IF(M40=$B$37,1,IF(M40=$B$38,0.75,IF(M40=$B$39,0.5,IF(M40=$B$40,0,"")))) | V40: =IF(N40=$B$37,1,IF(N40=$B$38,0.75,IF(N40=$B$39,0.5,IF(N40=$B$40,0,"")))) | W40: =IF(O40=$B$37,1,IF(O40=$B$38,0.75,IF(O40=$B$39,0.5,IF(O40=$B$40,0,""))))
B41: NA | U41: =IF(M41=$B$37,1,IF(M41=$B$38,0.75,IF(M41=$B$39,0.5,IF(M41=$B$40,0,"")))) | V41: =IF(N41=$B$37,1,IF(N41=$B$38,0.75,IF(N41=$B$39,0.5,IF(N41=$B$40,0,"")))) | W41: =IF(O41=$B$37,1,IF(O41=$B$38,0.75,IF(O41=$B$39,0.5,IF(O41=$B$40,0,""))))
U42: =IF(M42=$B$37,1,IF(M42=$B$38,0.75,IF(M42=$B$39,0.5,IF(M42=$B$40,0,"")))) | V42: =IF(N42=$B$37,1,IF(N42=$B$38,0.75,IF(N42=$B$39,0.5,IF(N42=$B$40,0,"")))) | W42: =IF(O42=$B$37,1,IF(O42=$B$38,0.75,IF(O42=$B$39,0.5,IF(O42=$B$40,0,""))))
...

Sheet F ARTICLE
A1: pt_part | B1: Colonne1 | C1: Désignation 1 | D1: Désignation 2 | E1: UN
A2: 10L5H155358 | B2: BATTERIE FINIE L5D NOIR 9/8 EXP EUROPE | C2: BATTERIE FINIE L5D NOIR | D2: 9/8 EXP EUROPE | E2: UN
A3: 10M10255165 | B3: BATTERIE FINIE M10 STARTER BEN GHAZI | C3: BATTERIE FINIE M10 | D3: STARTER BEN GHAZI | E3: UN
A4: 20M111332 | B4: BAT SF FORMEE CGE | C4: BAT SF FORMEE CGE | E4: UN
A5: 21L3H2553 | B5: BAT SF PL3 OP/OP 7/6 | C5: BAT SF PL3 OP/OP 7/6 | E5: UN
A6: 21M122332 | B6: BAT NF SF M12 GR/GR 6/7 | C6: BAT NF SF M12 GR/GR 6/7 | E6: UN
A7: 00H2O1L | B7: BOUTEILLE PLASTIC 1L H2O | C7: BOUTEILLE PLASTIC 1L H2O | E7: UN
A8: 00H2OC6 | B8: CARTON DE 6 BOUT. 1L H2O | C8: CARTON DE 6 BOUT. 1L H2O | E8: UN
A9: 00H2OV | B9: EAU DEMIN. EN VRAC | C9: EAU DEMIN. EN VRAC | E9: L
A10: 00OXYDE | B10: OXYDE | C10: OXYDE | E10: KG
A11: 00OXYDE1 | B11: OXYDE STA NOUR | C11: OXYDE STA NOUR | E11: KG
A12: 00OXYDENR | B12: OXYDE STA NOUR | C12: OXYDE STA NOUR | E12: KG
A13: 106N11 | B13: BATTERIE FINIE NATO | C13: BATTERIE FINIE NATO | E13: UN
A14: 10D23 | B14: BATTERIE FINIE D23 | C14: BATTERIE FINIE D23 | E14: UN
A15: 10D23255120 | B15: BATT FINIE D23 POWER IRA | C15: BATT FINIE D23 POWER IRA | E15: UN
... A19: 10D26 | B19: BAT NF D26G OP/NR | C19: BAT NF D26G OP/NR | E19: UN
A20: 10D26255158 | B20: BAT NF D26 EXPORT LITALIE | C20: BAT NF D26 EXPORT | D20: LITALIE | E20: UN
A21: 10D26255255 | B21: BAT NF D26 EXPORT LYBIE | C21: BAT NF D26 EXPORT LYBIE | E21: UN
A22: 10D26D | B22: BATTERIE FINIE D26 | C22: BATTERIE FINIE D26 | E22: UN
A23: 10D31 | B23: BATTERIE FINIE D31 | C23: BATTERIE FINIE D31 | E23: UN
A24: 10D31155255 | B24: BATTERIE FINIE D31 EXP LYBIE | C24: BATTERIE FINIE D31 EXP | D24: LYBIE | E24: UN
A25: 10D31D | B25: BAT NF D31 D OP/NR 8/7 | C25: BAT NF D31 D OP/NR 8/7 | E25: UN
A26: 10E2B100141 | B26: BATTEIRE FINIE E2B POWER | C26: BATTEIRE FINIE E2B POWER | E26: UN
A27: 10E2B100152 | B27: BATT. FINIE E2B CHAMPION | C27: BATT. FINIE E2B CHAMPION | E27: UN
A28: 10E2B100165 | B28: BATTERIE FINIE E2B START | C28: BATTERIE FINIE E2B START | E28: UN
A29: 10E2B100166 | B29: BATTERIE FINIE E2B JUMBO | C29: BATTERIE FINIE E2B JUMBO | E29: UN
A30: 10E2B111241 | B30: BATT FINIE E2B POWER 3/4 | C30: BATT FINIE E2B POWER 3/4 | E30: UN
A31: 10E2B111265 | B31: BATT FINIE E2B STARTER 3/4 | C31: BATT FINIE E2B STARTER | D31: 3/4 | E31: UN
A32: 10E2B114151 | B32: BATT FINIE E2B POWER LIBYE | C32: BATT FINIE E2B POWER | D32: LIBYE | E32: UN
A33: 10E2B114155 | B33: BATT FINIE E2B STARTER | C33: BATT FINIE E2B STARTER | E33: UN
A34: 10E2B133165 | B34: BATTERIE FINIE E2B STARTER LYBIE | C34: BATTERIE FINIE E2B STARTER | D34: LYBIE | E34: UN
A35: 10HD10 | B35: BATT. M10 HD | C35: BATT. M10 HD | E35: UN
A36: 10HD11 | B36: BATT. M11 HD | C36: BATT. M11 HD | E36: UN
A37: 10HD2 | B37: BATT. L2 HD | C37: BATT. L2 HD | E37: UN
A38: 10HD3 | B38: BATT. L3 HD | C38: BATT. L3 HD | E38: UN
A39: 10L1B114141 | B39: BATT L1B POWER LIBYE2 | C39: BATT L1B POWER LIBYE2 | E39: UN
A40: 10L1B114145 | B40: BATT L1B STARTER MAROC2 | C40: BATT L1B STARTER MAROC2 | E40: UN
A41: 10L1B114165 | B41: BATT L1B STARTER MAROC2 | C41: BATT L1B STARTER MAROC2 | E41: UN
A42: 10L1B133121 | B42: BATT L1B POWER EXPORT SCIT | C42: BATT L1B POWER EXPORT | D42: SCIT | E42: UN
A43: 10L1B133124 | B43: BATT L1B POWER ALGERIE | C43: BATT L1B POWER ALGERIE | E43: UN
...

Sheet CODE FOURNISSEUR
A1: Code Four | B1: Nom | C1: Adresse | D1: ses fournisseurs | E1: Etat | F1: Postal | G1: Téléphone
A2: E10008 | B2: I.C.S | C2: VIA BERGAMO | D2: BERGAMO | F2: 24040 | G2: 0039029094881
A3: L50207 | B3: Sté Ezzahra Hotel | C3: 2034 Ezzahra | G3: 71 45 07 88
A4: L10141 | B4: ***
A5: L30045 | B5: **************************** | C5: **************************** | G5: 71 49 04 36
A6: L60188 | B6: ............................ | C6: ..........................
A7: L50518 | B7: 26/26
A8: L60538 | B8: 2MTI
A9: L60129 | B9: 2RE | C9: 223 CITE BASSATINE | D9: SIDI FAT7ALLA | E9: TN | F9: 5000 | G9: 71 388356
A10: L60130 | B10: 2RE
A11: L30173 | B11: 3 I | C11: BERGES DU LAC | D11: TUNIS | G11: 71 961-859
A12: L50147 | B12: 3 M SIAB COMUNICATION
A13: L60034 | B13: 3 R TUNISIE | C13: RADES
A14: L60395 | B14: 3IA | C14: APP.D16.COMPLEXE DORRA | D14: SOUSSE | E14: TN | G14: 73234984
A15: L10011 | B15: 4 MK/L'AUTOCOLLANT SARL. | C15: 26-28 RUE 8609 Z.I. CHARGUIA | D15: TUNIS | G15: 71 78 57 37
A16: E10001 | B16: A C C U M A | C16: Via Provinciale, 2 | D16: (BERGAMO) | F16: 24050 | G16: +39 0363 940245
A17: L20001 | B17: A G I L
A18: L50349 | B18: A.C.M.A | C18: Espace Tunis-Monpaisir 1073 | D18: Tunis | G18: 71 95 25 10
A19: L60197 | B19: A.M.M. Applica Méca Maghrébi | C19: Bardo Center,Bloc 10 | G19: 71 58 36 26
A20: L50066 | B20: A.PAVE | C20: 21,RUE EL JAHEDH
A21: L50323 | B21: A.S.T.C | C21: 19 is,Avenue Habib Bourguiba | G21: 71 29 77 08
A22: E10022 | B22: A.T.I | C22: Via Kennedy,5 | D22: MONTORSO(VI) | E22: IT | F22: 36050 | G22: ++390444475555
A23: L50353 | B23: A.T.M.S | C23: 39,RUE DES JARDINS 2033 | D23: MEGRINE | E23: TN | G23: 71 426 658
A24: L50099 | B24: AACC | C24: 5 RUE IBN ROCHD TUNIS
A25: E60011 | B25: AAF | C25: Rue William Dian-B.P.3 | G25: 02 32 53 60 60
A26: L30379 | B26: ABC | D26: MENZL HAYET | G26: 29910236
A27: L50217 | B27: ABDELALI Sleh | C27: GP1 - BEN Arous
A28: L60303 | B28: ABDELBASSET ABDALLAH | C28: HAMMAM ZRIBA ZAGHOUAN | D28: TUNIS | G28: 72677708
A29: L80081 | B29: ABDELBEKI B.SAID BELHAJ | C29: RUE OBEID ALLAH EL MAHDI | G29: 96 32 82 36
A30: L50670 | B30: ABDELKADER BEN SAAD | D30: TUNIS
A31: L60081 | B31: Abdelkader OUled Ahmed | C31: 9,Av, de France | G31: 71 38 62 86
A32: L60109 | B32: Abdelkader Ouled Ahmed | C32: 9,Av De France | G32: 71 38 62 86
A33: L50391 | B33: ABDELKARIM OULED MOHAMED | C33: 14 Rue kilani metoui | G33: 76 20 08 90
A34: L50205 | B34: Abdelwahed El Hammami | C34: El Mourouj
A35: L50302 | B35: Abdelwahed Mohamed Ali | C35: Rue El Kods 7016 El Alia | G35: 72 44 25 52
A36: L50333 | B36: ABDELWAHID EL HAMMAMI | C36: EL MOUROUJ | G36: 98 26 53 19
A37: L30152 | B37: Abdennadher.design | C37: 12 bis Avenue Tlili Menzah V | G37: 71 21 60 20
A38: L10072 | B38: ABDERAHIM ABDERAHMEN | C38: Ksebit El Médouni | G38: 97 08 59 87
A39: L10066 | B39: Abderahmen Ben Boubaker | C39: ennadhour Zaghwen
A40: L30127 | B40: Abderrahman EL BAHRI | C40: Av Abderrahman El Bahri | G40: 71 21 64 34
...
