Workbook

Sheet Sheet1
A2: SIZE | C2: QTY/PLT | D2: JEDDAH | F2: Riyadh | H2: GRAND TOTAL
D3: Nour | F3: Nour
A4: Old | B4: Yours | D4: Pltts. | E4: Pcs. | F4: Pltts. | G4: Pcs. | H4: Pltts. | I4: Pcs.
A5: NS40ZLMF | B5: MF40B19L | C5: 124 | H5: =F5+D5 -> 0 | I5: =G5+E5 -> 0
A6: N40MF | B6: MF50B24RS | C6: 100 | H6: =F6+D6 -> 0 | I6: =G6+E6 -> 0
A7: N50MF | B7: MF48D26R | C7: 64 | D7: 15 | E7: =D7*C7 -> 960 | F7: 5 | G7: =F7*C7 -> 320 | H7: =F7+D7 -> 20 | I7: =G7+E7 -> 1280
A8: N50LMF | B8: MF48D26L | C8: 64 | D8: 26 | E8: =D8*C8 -> 1664 | F8: 13 | G8: =F8*C8 -> 832 | H8: =F8+D8 -> 39 | I8: =G8+E8 -> 2496
A9: 55D23RMF | B9: MF55D23R | C9: 76 | D9: 4 | E9: =D9*C9 -> 304 | F9: 2 | G9: =F9*C9 -> 152 | H9: =F9+D9 -> 6 | I9: =G9+E9 -> 456
A10: 55D23LMF | B10: MF55D23L | C10: 76 | D10: 31 | E10: =D10*C10 -> 2356 | F10: 14 | G10: =F10*C10 -> 1064 | H10: =F10+D10 -> 45 | I10: =G10+E10 -> 3420
A11: NS60MF | B11: MF50B24R | C11: 100 | D11: 2 | E11: =D11*C11 -> 200 | G11: =F11*C11 -> 0 | H11: =F11+D11 -> 2 | I11: =G11+E11 -> 200
A12: NS60LSMF | B12: MF50B24LS | C12: 100 | D12: 21 | E12: =D12*C12 -> 2100 | F12: 11 | G12: =F12*C12 -> 1100 | H12: =F12+D12 -> 32 | I12: =G12+E12 -> 3200
B13: MF65D31R | C13: 56 | D13: 4 | E13: =D13*C13 -> 224 | F13: 2 | G13: =F13*C13 -> 112 | H13: =F13+D13 -> 6 | I13: =G13+E13 -> 336
B14: MF65D31L | C14: 56 | D14: 5 | E14: =D14*C14 -> 280 | F14: 3 | G14: =F14*C14 -> 168 | H14: =F14+D14 -> 8 | I14: =G14+E14 -> 448
B15: MF75D23L | C15: 76 | D15: 4 | E15: =D15*C15 -> 304 | F15: 2 | G15: =F15*C15 -> 152 | H15: =F15+D15 -> 6 | I15: =G15+E15 -> 456
B16: MF80D26R | C16: 64 | D16: 5 | E16: =D16*C16 -> 320 | F16: 3 | G16: =F16*C16 -> 192 | H16: =F16+D16 -> 8 | I16: =G16+E16 -> 512
B17: MF80D26L | C17: 64 | D17: 26 | E17: =D17*C17 -> 1664 | F17: 15 | G17: =F17*C17 -> 960 | H17: =F17+D17 -> 41 | I17: =G17+E17 -> 2624
B18: MF95D31R | C18: 56 | E18: =+D18*C18 -> 0 | G18: =+F18*E18 -> 0 | H18: =F18+D18 -> 0 | I18: =G18+E18 -> 0
B19: MF95D31L | C19: 56 | D19: 3 | E19: =D19*C19 -> 168 | F19: 2 | G19: =F19*C19 -> 112 | H19: =F19+D19 -> 5 | I19: =G19+E19 -> 280
B20: MF105D31R | C20: 56 | E20: =+D20*C20 -> 0 | G20: =+F20*E20 -> 0 | H20: =F20+D20 -> 0 | I20: =G20+E20 -> 0
B21: MF105D31L | C21: 56 | D21: 3 | E21: =D21*C21 -> 168 | F21: 2 | G21: =F21*C21 -> 112 | H21: =F21+D21 -> 5 | I21: =G21+E21 -> 280
B22: MF115D31R | C22: 56 | E22: =+D22*C22 -> 0 | G22: =+F22*E22 -> 0 | H22: =F22+D22 -> 0 | I22: =G22+E22 -> 0
B23: MF115D31L | C23: 56 | E23: =+D23*C23 -> 0 | G23: =+F23*E23 -> 0 | H23: =F23+D23 -> 0 | I23: =G23+E23 -> 0
B24: MF54459 | C24: 84 | D24: 15 | E24: =D24*C24 -> 1260 | F24: 8 | G24: =F24*C24 -> 672 | H24: =F24+D24 -> 23 | I24: =G24+E24 -> 1932
A25: 55559MF | B25: MF55559 | C25: 76 | D25: 20 | E25: =D25*C25 -> 1520 | F25: 10 | G25: =F25*C25 -> 760 | H25: =F25+D25 -> 30 | I25: =G25+E25 -> 2280
A26: 56638MF | B26: MF56638 | C26: 64 | D26: 10 | E26: =D26*C26 -> 640 | F26: 5 | G26: =F26*C26 -> 320 | H26: =F26+D26 -> 15 | I26: =G26+E26 -> 960
B27: MF56219 | C27: 76 | D27: 5 | E27: =D27*C27 -> 380 | F27: 3 | G27: =F27*C27 -> 228 | H27: =F27+D27 -> 8 | I27: =E27+G27 -> 608
A28: 57220MF (48-7MF) | B28: MF57220 | C28: 64 | D28: 15 | E28: =D28*C28 -> 960 | F28: 7 | G28: =F28*C28 -> 448 | H28: =D28+F28 -> 22 | I28: =E28+G28 -> 1408
A29: 58043MF | B29: MF58043 | C29: 48 | D29: 0 | E29: =D29*C29 -> 0 | F29: 0 | G29: =F29*C29 -> 0 | H29: =D29+F29 -> 0 | I29: =E29+G29 -> 0
A30: 58827MF | B30: MF58827 | C30: 48 | D30: 4 | E30: =D30*C30 -> 192 | F30: 2 | G30: =F30*C30 -> 96 | H30: =D30+F30 -> 6 | I30: =E30+G30 -> 288
A31: 60038MF | B31: MF60038 | C31: 48 | D31: 2 | E31: =D31*C31 -> 96 | F31: 1 | G31: =F31*C31 -> 48 | H31: =D31+F31 -> 3 | I31: =E31+G31 -> 144
A32: TOTAL | D32: =SUM(D6:D31) -> 220 | E32: =SUBTOTAL(9,E7:E31) -> 15760 | F32: =SUM(F6:F31) -> 110 | G32: =SUBTOTAL(9,G7:G31) -> 7848 | H32: =SUM(H6:H31) -> 330 | I32: =SUM(I6:I31) -> 23608
D33: =D32/22 -> 10 | F33: =F32/22 -> 5 | H33: =H32/22 -> 15

Sheet Feuil1
R1: Plaque
B2: BOX | C2: DIN code | D2: MONBAT code | E2: NOUR code | F2: Capacity, C20 (Ah) | G2: CCA A (SAE) | H2: RC, min | I2: Dimensions | L2: Layout | M2: Terminal | N2: BHD | O2: Weight | P2: Qty per pallet | Q2: Qty per pallet with box (pcs) | R2: Plaque + | S2: Plaque -
I3: L | J3: W | K3: TH | O3: kg | P3: pcs | R3: Pcs. | S3: Pcs.
A5: MF55D23L | B5: D23 | C5: MF55D23L | D5: G255J6X4_1 | E5: M155J6X172L1 | F5: 60 | G5: 500 | H5: 96 | I5: 230 | J5: 170 | K5: 220 | L5: 0 | M5: 1 | N5: B1 | O5: 15.7 | P5: 63 | Q5: 76 | R5: 5 | S5: 5 | T5: 1 | U5: =_xlfn.XLOOKUP(A5,Sheet1!B:B,Sheet1!H:H) -> 45
A6: MF55D23R | B6: D23 | C6: MF55D23R | D6: G255J6X4_1 | E6: M155J6X172R1 | F6: 60 | G6: 500 | H6: 96 | I6: 230 | J6: 170 | K6: 220 | L6: 1 | M6: 1 | N6: B1 | O6: 15.7 | P6: 63 | Q6: 76 | R6: 5 | S6: 5 | U6: =_xlfn.XLOOKUP(A6,Sheet1!B:B,Sheet1!H:H) -> 6
A7: MF75D23L | B7: D23 | C7: MF75D23L | D7: G256J6X4_1 | E7: ? | F7: 65 | G7: 530 | H7: 110 | I7: 230 | J7: 172 | K7: 220 | L7: 0 | M7: 1 | N7: B1 | O7: 16 | P7: 63 | Q7: 76 | R7: 5 | S7: 6 | T7: 1 | U7: =_xlfn.XLOOKUP(A7,Sheet1!B:B,Sheet1!H:H) -> 6
A8: MF48D26L | B8: D26 | C8: MF48D26L | D8: G245J7X4_1 | E8: ? | F8: 50 | G8: 420 | H8: 80 | I8: 257 | J8: 172 | K8: 220 | L8: 0 | M8: 1 | N8: B1 | O8: 15.3 | P8: 57 | Q8: 68 | R8: 4 | S8: 5 | T8: 1 | U8: =_xlfn.XLOOKUP(A8,Sheet1!B:B,Sheet1!H:H) -> 39
A9: MF48D26R | B9: D26 | C9: MF48D26R | D9: G245J7X4_1 | E9: ? | F9: 50 | G9: 420 | H9: 80 | I9: 257 | J9: 172 | K9: 220 | L9: 1 | M9: 1 | N9: B1 | O9: 15.3 | P9: 57 | Q9: 68 | R9: 4 | S9: 5 | U9: =_xlfn.XLOOKUP(A9,Sheet1!B:B,Sheet1!H:H) -> 20
A10: MF80D26L | B10: D26 | C10: MF80D26L | D10: G266J7X4_1 | E10: M166J7X172L1 | F10: 70 | G10: 530 | H10: 125 | I10: 257 | J10: 172 | K10: 220 | L10: 0 | M10: 1 | N10: B1 | O10: 17.4 | P10: 57 | Q10: 68 | R10: 6 | S10: 6 | T10: 1 | U10: =_xlfn.XLOOKUP(A10,Sheet1!B:B,Sheet1!H:H) -> 41
A11: MF80D26R | B11: D26 | C11: MF80D26R | D11: G266J7X4_1 | E11: M166J7X172R1 | F11: 70 | G11: 530 | H11: 125 | I11: 257 | J11: 172 | K11: 220 | L11: 1 | M11: 1 | N11: B1 | O11: 17.4 | P11: 57 | Q11: 68 | R11: 6 | S11: 6 | U11: =_xlfn.XLOOKUP(A11,Sheet1!B:B,Sheet1!H:H) -> 8
A12: MF65D31L | B12: D31 | C12: MF65D31L | D12: G266J0X4_1 | F12: 70 | G12: 550 | H12: 125 | I12: 302 | J12: 172 | K12: 220 | L12: 0 | M12: 1 | N12: B1 | O12: 19.5 | P12: 42 | Q12: 56 | R12: 6 | S12: 6 | T12: 1 | U12: =_xlfn.XLOOKUP(A12,Sheet1!B:B,Sheet1!H:H) -> 8
A13: MF65D31R | B13: D31 | C13: MF65D31R | D13: G266J0X4_1 | F13: 70 | G13: 550 | H13: 125 | I13: 302 | J13: 172 | K13: 220 | L13: 1 | M13: 1 | N13: B1 | O13: 19.5 | P13: 42 | Q13: 56 | R13: 6 | S13: 6 | U13: =_xlfn.XLOOKUP(A13,Sheet1!B:B,Sheet1!H:H) -> 6
A14: MF95D31L | B14: D31 | C14: MF95D31L | D14: G277J0X4_1 | E14: M177J0X172L1 | F14: 80 | G14: 650 | H14: 140 | I14: 302 | J14: 172 | K14: 220 | L14: 0 | M14: 1 | N14: B1 | O14: 20.8 | P14: 42 | Q14: 56 | R14: 7 | S14: 7 | T14: 1 | U14: =_xlfn.XLOOKUP(A14,Sheet1!B:B,Sheet1!H:H) -> 5
A15: MF95D31R | B15: D31 | C15: MF95D31R | D15: G277J0X4_1 | E15: M177J0X172R1 | F15: 80 | G15: 650 | H15: 140 | I15: 302 | J15: 172 | K15: 220 | L15: 1 | M15: 1 | N15: B1 | O15: 20.8 | P15: 42 | Q15: 56 | R15: 7 | S15: 7 | U15: =_xlfn.XLOOKUP(A15,Sheet1!B:B,Sheet1!H:H) -> 0
A16: MF105D31L | B16: D31 | C16: MF105D31L | D16: G278J0X4_1 | E16: M78J0X172L1Z44 | F16: 90 | G16: 700 | H16: 160 | I16: 302 | J16: 172 | K16: 220 | L16: 0 | M16: 1 | N16: B1 | O16: 21.5 | P16: 42 | Q16: 56 | R16: 7 | S16: 8 | T16: 1 | U16: =_xlfn.XLOOKUP(A16,Sheet1!B:B,Sheet1!H:H) -> 5
A17: MF105D31R | B17: D31 | C17: MF105D31R | D17: G278J0X4_1 | E17: M78J0X172R1Z44 | F17: 90 | G17: 700 | H17: 160 | I17: 302 | J17: 172 | K17: 220 | L17: 1 | M17: 1 | N17: B1 | O17: 21.5 | P17: 42 | Q17: 56 | R17: 7 | S17: 8 | U17: =_xlfn.XLOOKUP(A17,Sheet1!B:B,Sheet1!H:H) -> 0
A18: MF115D31L | B18: D31 | C18: MF115D31L | D18: G288J0X4_1 | E18: M188J0X172L1 | F18: 95 | G18: 750 | H18: 175 | I18: 302 | J18: 172 | K18: 220 | L18: 0 | M18: 1 | N18: B1 | O18: 22.2 | P18: 42 | Q18: 56 | R18: 8 | S18: 8 | T18: 1 | U18: =_xlfn.XLOOKUP(A18,Sheet1!B:B,Sheet1!H:H) -> 0
A19: MF115D31R | B19: D31 | C19: MF115D31R | D19: G288J0X4_1 | E19: M188J0X172R1 | F19: 95 | G19: 750 | H19: 175 | I19: 302 | J19: 172 | K19: 220 | L19: 1 | M19: 1 | N19: B1 | O19: 22.2 | P19: 42 | Q19: 56 | R19: 8 | S19: 8 | U19: =_xlfn.XLOOKUP(A19,Sheet1!B:B,Sheet1!H:H) -> 0
A20: MF54459 | B20: L1 | C20: MF54459 | D20: A145L1P4_1 | E20: LB145L1P432R1 | F20: 44 | G20: 400 | H20: 71 | I20: 207 | J20: 175 | K20: 190 | L20: 0 | M20: 1 | N20: B13 | O20: 12 | P20: 72 | Q20: 84 | R20: 4 | S20: 5 | T20: 1 | U20: =_xlfn.XLOOKUP(A20,Sheet1!B:B,Sheet1!H:H) -> 23
A21: MF55559 | B21: L2 | C21: MF55559 | D21: A156L2P4_1 | E21: LB156L2P432R1 | F21: 55 | G21: 500 | H21: 92 | I21: 242 | J21: 175 | K21: 190 | L21: 0 | M21: 1 | N21: B13 | O21: 14.3 | P21: 63 | Q21: 76 | R21: 5 | S21: 6 | T21: 1 | U21: =_xlfn.XLOOKUP(A21,Sheet1!B:B,Sheet1!H:H) -> 30
A22: MF56219 | B22: L2 | C22: MF56219 | D22: A166L2P4_1 | E22: LB166L2P432R1 | F22: 62 | G22: 540 | H22: 100 | I22: 242 | J22: 175 | K22: 190 | L22: 0 | M22: 1 | N22: B13 | O22: 15 | P22: 63 | Q22: 76 | R22: 6 | S22: 6 | T22: 1 | U22: =_xlfn.XLOOKUP(A22,Sheet1!B:B,Sheet1!H:H) -> 8
A23: MF56638 | B23: L3 | C23: MF56638 | D23: A167L3P4_1 | E23: LB167L3P432R1 | F23: 66 | G23: 640 | H23: 113 | I23: 278 | J23: 175 | K23: 190 | L23: 0 | M23: 1 | N23: B13 | O23: 16.8 | P23: 51 | Q23: 64 | R23: 6 | S23: 7 | T23: 1 | U23: =_xlfn.XLOOKUP(A23,Sheet1!B:B,Sheet1!H:H) -> 15
A24: MF57220 | B24: L3 | C24: MF57220 | D24: A177L3P4_1 | E24: LB177L3P432R1 | F24: 72 | G24: 680 | H24: 125 | I24: 278 | J24: 175 | K24: 190 | L24: 0 | M24: 1 | N24: B13 | O24: 17.3 | P24: 51 | Q24: 64 | R24: 7 | S24: 7 | T24: 1 | U24: =_xlfn.XLOOKUP(A24,Sheet1!B:B,Sheet1!H:H) -> 22
A25: MF58043 | B25: L4 | C25: MF58043 | D25: A188L4P4_1 | F25: 80 | G25: 720 | H25: 140 | I25: 315 | J25: 174 | K25: 190 | L25: 0 | M25: 1 | N25: B13 | O25: 19.6 | P25: 36 | Q25: 48 | T25: 1 | U25: =_xlfn.XLOOKUP(A25,Sheet1!B:B,Sheet1!H:H) -> 0
A26: MF58827 | B26: L5 | C26: MF58827 | D26: A189L5P4_1 | E26: LB189L5P432R1 | F26: 88 | G26: 750 | H26: 171 | I26: 353 | J26: 175 | K26: 190 | L26: 0 | M26: 1 | N26: B13 | O26: 21.5 | P26: 36 | Q26: 48 | R26: 8 | S26: 9 | T26: 1 | U26: =_xlfn.XLOOKUP(A26,Sheet1!B:B,Sheet1!H:H) -> 6
A27: MF60038 | B27: L5 | C27: MF60038 | D27: A190L5P4_1 | E27: LB190L5P432R1 | F27: 100 | G27: 800 | H27: 180 | I27: 354 | J27: 174 | K27: 190 | L27: 0 | M27: 1 | N27: B13 | O27: 22.7 | P27: 36 | Q27: 48 | R27: 9 | S27: 10 | T27: 1 | U27: =_xlfn.XLOOKUP(A27,Sheet1!B:B,Sheet1!H:H) -> 3
A28: MF40B19L | B28: NS40 | C28: MF40B19L | D28: K134J3X4_1 | E28: MRT34J3X002L1Z121 | F28: 35 | G28: 260 | H28: 52 | I28: 187 | J28: 127 | K28: 220 | L28: 0 | M28: 3 | N28: B0 | O28: 9.2 | P28: 99 | Q28: 124 | T28: 1 | U28: =_xlfn.XLOOKUP(A28,Sheet1!B:B,Sheet1!H:H) -> 0
A29: MF50B24LS | B29: NS60 | C29: MF50B24LS | D29: K145J4XB4_1 | E29: MRT45J4X102L1Z44 | F29: 45 | G29: 300 | H29: 60 | I29: 234 | J29: 127 | K29: 220 | L29: 0 | M29: 1 | N29: B0 | O29: 11.4 | P29: 84 | Q29: 100 | T29: 1 | U29: =_xlfn.XLOOKUP(A29,Sheet1!B:B,Sheet1!H:H) -> 32
A30: MF50B24RS | B30: NS60 | C30: MF50B24RS | D30: K145J4XB4_1 | E30: MRT45J4X102R1Z44 | F30: 45 | G30: 300 | H30: 60 | I30: 234 | J30: 127 | K30: 220 | L30: 1 | M30: 1 | N30: B0 | O30: 11.4 | P30: 84 | Q30: 100 | U30: =_xlfn.XLOOKUP(A30,Sheet1!B:B,Sheet1!H:H) -> 0
A31: MF50B24R | B31: NS60 | C31: MF50B24R | D31: K145J4X4_1 | E31: ? | F31: 45 | G31: 300 | H31: 60 | I31: 234 | J31: 127 | K31: 220 | L31: 1 | M31: 3 | N31: B0 | O31: 11.4 | P31: 84 | Q31: 100 | U31: =_xlfn.XLOOKUP(A31,Sheet1!B:B,Sheet1!H:H) -> 2

Sheet Feuil2
B2: BOX | C2: DIN code | D2: Capacity, C20 (Ah) | E2: CCA A (SAE) | F2: RC, min | G2: Dimensions | J2: BHD | K2: Weight
G3: L | H3: W | I3: TH | K3: kg
B5: D23 | C5: MF55D23 | D5: 60 | E5: 500 | F5: 96 | G5: 230 | H5: 170 | I5: 220 | J5: B1 | K5: 15.7 | L5: 1
B6: D23 | C6: MF75D23 | D6: 65 | E6: 530 | F6: 110 | G6: 230 | H6: 172 | I6: 220 | J6: B1 | K6: 16 | L6: 1
B7: D26 | C7: MF48D26 | D7: 50 | E7: 420 | F7: 80 | G7: 257 | H7: 172 | I7: 220 | J7: B1 | K7: 15.3 | L7: 1
B8: D26 | C8: MF80D26 | D8: 70 | E8: 530 | F8: 125 | G8: 257 | H8: 172 | I8: 220 | J8: B1 | K8: 17.4 | L8: 1
B9: D31 | C9: MF65D31 | D9: 70 | E9: 550 | F9: 125 | G9: 302 | H9: 172 | I9: 220 | J9: B1 | K9: 19.5 | L9: 1
B10: D31 | C10: MF95D31 | D10: 80 | E10: 650 | F10: 140 | G10: 302 | H10: 172 | I10: 220 | J10: B1 | K10: 20.8 | L10: 1
B11: D31 | C11: MF105D31 | D11: 90 | E11: 700 | F11: 160 | G11: 302 | H11: 172 | I11: 220 | J11: B1 | K11: 21.5 | L11: 1
B12: D31 | C12: MF115D31 | D12: 95 | E12: 750 | F12: 175 | G12: 302 | H12: 172 | I12: 220 | J12: B1 | K12: 22.2 | L12: 1
B13: L1 | C13: MF54459 | D13: 44 | E13: 400 | F13: 71 | G13: 207 | H13: 175 | I13: 190 | J13: B13 | K13: 12 | L13: 1
B14: L2 | C14: MF55559 | D14: 55 | E14: 500 | F14: 92 | G14: 242 | H14: 175 | I14: 190 | J14: B13 | K14: 14.3 | L14: 1
B15: L2 | C15: MF56219 | D15: 62 | E15: 540 | F15: 100 | G15: 242 | H15: 175 | I15: 190 | J15: B13 | K15: 15 | L15: 1
B16: L3 | C16: MF56638 | D16: 66 | E16: 640 | F16: 113 | G16: 278 | H16: 175 | I16: 190 | J16: B13 | K16: 16.8 | L16: 1
... B22: NS60 | C22: MF50B24 | D22: 45 | E22: 300 | F22: 60 | G22: 234 | H22: 127 | I22: 220 | J22: B0 | K22: 11.4 | L22: 1

Sheet Bin Shihon
C2: High Heat range for Bin Shihon KSA - 01.02.2022 rev7
J4: AUTOMOTIVE RANGE
AR7: 0,120gr/batt
J8: MONBAT PREMIUM DIN series (High Temperature Execution) | S8: JEDDAH | U8: Riyadh | W8: Total | Y8: Plaque | AC8: BOX | AI8: LID | AO8: 430P1022 | AP8: 460D1843 | AQ8: 460D1845 | AR8: 690X0029
C9: DIN code | D9: MONBAT code | E9: NOUR code | F9: Capacity, C20 (Ah) | G9: CCA A (SAE) | H9: RC, min | I9: BOX | J9: Dimensions | M9: Layout | N9: Terminal | O9: BHD | P9: Weight | Q9: Qty per pallet | R9: Qty per pallet with box (pcs) | S9: Nour | U9: Nour | W9: Nour | Y9: Plaque + | Z9: Plaque - | AA9: Total PLQ | AB9: pasting paper 103mm | AD9: Pcs. | AE9: Pcs. | AF9: Pcs. | AG9: Pcs. | AH9: Pcs. | AJ9: Pcs. | AK9: Pcs. | AL9: Pcs. | AM9: Pcs. | AN9: Pcs. | AO9: SEP. 162X1.0X0.2 SEPARATOR CELL FORCE ULR HH | AP9: Magic eye 19.16 / 72.3 MM (P) L1-L5 HH | AQ9: Magic eye 19.16 / 60 MM (X & W) B1-B5 SMF & JIS LIDS | AR9: COLLE HOTMELET SWIFT THERM 9042
J10: L | K10: W | L10: H | P10: kg | Q10: pcs | S10: Pltts. | T10: Pcs. | U10: Pltts. | V10: Pcs. | W10: Pltts. | X10: Pcs. | Y10: Pcs. | Z10: Pcs. | AA10: Pcs. | AB10: M2 | AC10: CODE | AD10: Stock | AE10: CMD | AF10: Total | AG10: Besoin Brut | AH10: Rest a cmdé | AI10: CODE | AJ10: Stock | AK10: CMD | AL10: Total | AM10: Besoin Brut | AN10: Rest a cmdé | AO10: M2 | AP10: Pcs. | AQ10: Pcs. | AR10: Kg
C11: MF54459 | D11: A145L1P4_1 | F11: 44 | G11: 400 | H11: 71 | I11: L1 | J11: 207 | K11: 175 | L11: 190 | M11: 0 | N11: 1 | O11: B13 | P11: 12 | Q11: 72 | R11: 84 | S11: =IF(ISNA(VLOOKUP(C11,Sheet1!B:D,3,0)),,VLOOKUP(C11,Sheet1!B:D,3,0)) -> 15 | T11: =+S11*R11 -> 1260 | U11: =IF(ISNA(VLOOKUP(C11,Sheet1!B:F,5,0)),,VLOOKUP(C11,Sheet1!B:F,5,0)) -> 8 | V11: =+U11*R11 -> 672 | W11: =+S11+U11 -> 23 | X11: =+W11*R11 -> 1932 | Y11: 4 | Z11: 5 | AA11: =(Y11+Z11)*X11*6*1.1 -> 114760.8 | AB11: =+AA11*0.103*0.144*2 -> 3404.2644 | AC11: 400L0118 | AD11: =IF(ISNA(VLOOKUP(AC11,SOTCK!C:H,6,0)),,VLOOKUP(AC11,SOTCK!C:H,6,0)) -> 4065 | AE11: =IF(ISNA(VLOOKUP(AC11,'Recap CMD'!A:C,3,0)),,VLOOKUP(AC11,'Recap CMD'!A:C,3,0)) -> 2160 | AF11: =+AD11+AE11 -> 6225 | AG11: =SUM(X11:X12)*1.05 -> 2028.6 | AH11: =IF(AF11>AG11,0,AG11-AF11) -> 0 | AI11: 420L0142 | AJ11: =IF(ISNA(VLOOKUP(AI11,SOTCK!C:H,6,0)),,VLOOKUP(AI11,SOTCK!C:H,6,0)) -> 78 | AK11: =IF(ISNA(VLOOKUP(AI11,'Recap CMD'!A:C,3,0)),,VLOOKUP(AI11,'Recap CMD'!A:C,3,0)) -> 1350 | AL11: =+AJ11+AK11 -> 1428 | AM11: =(X11+X12)*1.05 -> 2028.6 | AN11: =IF(AL11>AM11,0,AM11-AL11) -> 600.6 | AO11: =Z11*0.162*0.22*6*X11*1.05 -> 2168.9791 | AP11: =+X11 -> 1932 | AQ11: 0 | AR11: =+X11*0.04*1.1 -> 85.008
A12: new | C12: MF55027 | D12: A155L1P4_1 | F12: 50 | G12: 450 | H12: 80 | I12: L1 | J12: 207 | K12: 175 | L12: 190 | M12: 0 | N12: 1 | O12: B13 | P12: 12.6 | Q12: 72 | R12: 84 | S12: =IF(ISNA(VLOOKUP(C12,Sheet1!B:D,3,0)),,VLOOKUP(C12,Sheet1!B:D,3,0)) -> 0 | T12: =+S12*R12 -> 0 | U12: =IF(ISNA(VLOOKUP(C12,Sheet1!B:F,5,0)),,VLOOKUP(C12,Sheet1!B:F,5,0)) -> 0 | V12: =+U12*R12 -> 0 | W12: =+S12+U12 -> 0 | X12: =+W12*R12 -> 0 | Y12: 5 | Z12: 5 | AA12: =(Y12+Z12)*X12*6*1.1 -> 0 | AB12: =+AA12*0.103*0.144*2 -> 0 | AO12: =Z12*0.162*0.22*6*X12*1.05 -> 0 | AP12: =+X12 -> 0 | AQ12: 0 | AR12: =+X12*0.04*1.1 -> 0
AQ13: 0
C14: MF55559 | D14: A156L2P4_1 | F14: 55 | G14: 500 | H14: 92 | I14: L2 | J14: 242 | K14: 175 | L14: 190 | M14: 0 | N14: 1 | O14: B13 | P14: 14.3 | Q14: 63 | R14: 76 | S14: =IF(ISNA(VLOOKUP(C14,Sheet1!B:D,3,0)),,VLOOKUP(C14,Sheet1!B:D,3,0)) -> 20 | T14: =+S14*R14 -> 1520 | U14: =IF(ISNA(VLOOKUP(C14,Sheet1!B:F,5,0)),,VLOOKUP(C14,Sheet1!B:F,5,0)) -> 10 | V14: =+U14*R14 -> 760 | W14: =+S14+U14 -> 30 | X14: =+W14*R14 -> 2280 | Y14: 5 | Z14: 6 | AA14: =(Y14+Z14)*X14*6*1.1 -> 165528 | AB14: =+AA14*0.103*0.144*2 -> 4910.2226 | AC14: 400L0218 | AD14: =IF(ISNA(VLOOKUP(AC14,SOTCK!C:H,6,0)),,VLOOKUP(AC14,SOTCK!C:H,6,0)) -> 486 | AE14: =IF(ISNA(VLOOKUP(AC14,'Recap CMD'!A:C,3,0)),,VLOOKUP(AC14,'Recap CMD'!A:C,3,0)) -> 9504 | AF14: =+AD14+AE14 -> 9990 | AG14: =SUM(X14:X16)*1.05 -> 3032.4 | AH14: =IF(AF14>AG14,0,AG14-AF14) -> 0 | AI14: 420L0243 | AJ14: =IF(ISNA(VLOOKUP(AI14,SOTCK!C:H,6,0)),,VLOOKUP(AI14,SOTCK!C:H,6,0)) -> 0 | AK14: =IF(ISNA(VLOOKUP(AI14,'Recap CMD'!A:C,3,0)),,VLOOKUP(AI14,'Recap CMD'!A:C,3,0)) -> 1584 | AL14: =+AJ14+AK14 -> 1584 | AM14: =(X14+X15)*1.05 -> 3032.4 | AN14: =IF(AL14>AM14,0,AM14-AL14) -> 1448.4 | AO14: =Z14*0.162*0.22*6*X14*1.05 -> 3071.5978 | AP14: =+X14 -> 2280 | AQ14: 0 | AR14: =+X14*0.05*1.1 -> 125.4
A15: new | C15: MF56219 | D15: A166L2P4_1 | F15: 62 | G15: 540 | H15: 100 | I15: L2 | J15: 242 | K15: 175 | L15: 190 | M15: 0 | N15: 1 | O15: B13 | P15: 15 | Q15: 63 | R15: 76 | S15: =IF(ISNA(VLOOKUP(C15,Sheet1!B:D,3,0)),,VLOOKUP(C15,Sheet1!B:D,3,0)) -> 5 | T15: =+S15*R15 -> 380 | U15: =IF(ISNA(VLOOKUP(C15,Sheet1!B:F,5,0)),,VLOOKUP(C15,Sheet1!B:F,5,0)) -> 3 | V15: =+U15*R15 -> 228 | W15: =+S15+U15 -> 8 | X15: =+W15*R15 -> 608 | Y15: 6 | Z15: 6 | AA15: =(Y15+Z15)*X15*6*1.1 -> 48153.6 | AB15: =+AA15*0.103*0.144*2 -> 1428.4284 | AO15: =Z15*0.162*0.22*6*X15*1.05 -> 819.09274 | AP15: =+X15 -> 608 | AQ15: 0 | AR15: =+X15*0.05*1.1 -> 33.44
A16: new | C16: MF56221 | D16: A166L2P4_1 | F16: 62 | G16: 540 | H16: 100 | I16: L2 | J16: 242 | K16: 175 | L16: 190 | M16: 1 | N16: 1 | O16: B13 | P16: 15 | Q16: 63 | R16: 76 | S16: =IF(ISNA(VLOOKUP(C16,Sheet1!B:D,3,0)),,VLOOKUP(C16,Sheet1!B:D,3,0)) -> 0 | T16: =+S16*R16 -> 0 | U16: =IF(ISNA(VLOOKUP(C16,Sheet1!B:F,5,0)),,VLOOKUP(C16,Sheet1!B:F,5,0)) -> 0 | V16: =+U16*R16 -> 0 | W16: =+S16+U16 -> 0 | X16: =+W16*R16 -> 0 | Y16: 6 | Z16: 6 | AA16: =(Y16+Z16)*X16*6*1.1 -> 0 | AB16: =+AA16*0.103*0.144*2 -> 0 | AI16: 420L0244 | AJ16: =IF(ISNA(VLOOKUP(AI16,SOTCK!C:H,6,0)),,VLOOKUP(AI16,SOTCK!C:H,6,0)) -> 0 | AK16: =IF(ISNA(VLOOKUP(AI16,'Recap CMD'!A:C,3,0)),,VLOOKUP(AI16,'Recap CMD'!A:C,3,0)) -> 0 | AL16: =+AJ16+AK16 -> 0 | AM16: =+X16*1.05 -> 0 | AN16: =IF(AL16>AM16,0,AM16-AL16) -> 0 | AO16: =Z16*0.162*0.22*6*X16*1.05 -> 0 | AP16: =+X16 -> 0 | AQ16: 0 | AR16: =+X16*0.05*1.1 -> 0
AQ17: 0
C18: MF56638 | D18: A167L3P4_1 | F18: 66 | G18: 640 | H18: 113 | I18: L3 | J18: 278 | K18: 175 | L18: 190 | M18: 0 | N18: 1 | O18: B13 | P18: 16.8 | Q18: 51 | R18: 64 | S18: =IF(ISNA(VLOOKUP(C18,Sheet1!B:D,3,0)),,VLOOKUP(C18,Sheet1!B:D,3,0)) -> 10 | T18: =+S18*R18 -> 640 | U18: =IF(ISNA(VLOOKUP(C18,Sheet1!B:F,5,0)),,VLOOKUP(C18,Sheet1!B:F,5,0)) -> 5 | V18: =+U18*R18 -> 320 | W18: =+S18+U18 -> 15 | X18: =+W18*R18 -> 960 | Y18: 6 | Z18: 7 | AA18: =(Y18+Z18)*X18*6*1.1 -> 82368 | AB18: =+AA18*0.103*0.144*2 -> 2443.3644 | AC18: 400L0318 | AD18: =IF(ISNA(VLOOKUP(AC18,SOTCK!C:H,6,0)),,VLOOKUP(AC18,SOTCK!C:H,6,0)) -> 6611 | AE18: =IF(ISNA(VLOOKUP(AC18,'Recap CMD'!A:C,3,0)),,VLOOKUP(AC18,'Recap CMD'!A:C,3,0)) -> 10560 | AF18: =+AD18+AE18 -> 17171 | AG18: =SUM(X18:X20)*1.05 -> 2486.4 | AH18: =IF(AF18>AG18,0,AG18-AF18) -> 0 | AI18: 420L0343 | AJ18: =IF(ISNA(VLOOKUP(AI18,SOTCK!C:H,6,0)),,VLOOKUP(AI18,SOTCK!C:H,6,0)) -> 0 | AK18: =IF(ISNA(VLOOKUP(AI18,'Recap CMD'!A:C,3,0)),,VLOOKUP(AI18,'Recap CMD'!A:C,3,0)) -> 2024 | AL18: =+AJ18+AK18 -> 2024 | AM18: =(X18+X19+X20)*1.05 -> 2486.4 | AN18: =IF(AL18>AM18,0,AM18-AL18) -> 462.4 | AO18: =Z18*0.162*0.22*6*X18*1.05 -> 1508.855 | AP18: =+X18 -> 960 | AQ18: 0 | AR18: =+X18*0.06*1.1 -> 63.36
C19: MF57220 | D19: A177L3P4_1 | F19: 72 | G19: 680 | H19: 125 | I19: L3 | J19: 278 | K19: 175 | L19: 190 | M19: 0 | N19: 1 | O19: B13 | P19: 17.3 | Q19: 51 | R19: 64 | S19: =IF(ISNA(VLOOKUP(C19,Sheet1!B:D,3,0)),,VLOOKUP(C19,Sheet1!B:D,3,0)) -> 15 | T19: =+S19*R19 -> 960 | U19: =IF(ISNA(VLOOKUP(C19,Sheet1!B:F,5,0)),,VLOOKUP(C19,Sheet1!B:F,5,0)) -> 7 | V19: =+U19*R19 -> 448 | W19: =+S19+U19 -> 22 | X19: =+W19*R19 -> 1408 | Y19: 7 | Z19: 7 | AA19: =(Y19+Z19)*X19*6*1.1 -> 130099.2 | AB19: =+AA19*0.103*0.144*2 -> 3859.2627 | AO19: =Z19*0.162*0.22*6*X19*1.05 -> 2212.9874 | AP19: =+X19 -> 1408 | AQ19: 0 | AR19: =+X19*0.06*1.1 -> 92.928
A20: new | C20: MF57512 | D20: A178L3P4_1 | F20: 75 | G20: 720 | H20: 130 | I20: L3 | J20: 278 | K20: 175 | L20: 190 | M20: 0 | N20: 1 | O20: B13 | P20: 17.9 | Q20: 51 | R20: 64 | S20: =IF(ISNA(VLOOKUP(C20,Sheet1!B:D,3,0)),,VLOOKUP(C20,Sheet1!B:D,3,0)) -> 0 | T20: =+S20*R20 -> 0 | U20: =IF(ISNA(VLOOKUP(C20,Sheet1!B:F,5,0)),,VLOOKUP(C20,Sheet1!B:F,5,0)) -> 0 | V20: =+U20*R20 -> 0 | W20: =+S20+U20 -> 0 | X20: =+W20*R20 -> 0 | Y20: 7 | Z20: 8 | AA20: =(Y20+Z20)*X20*6*1.1 -> 0 | AB20: =+AA20*0.103*0.144*2 -> 0 | AO20: =Z20*0.162*0.22*6*X20*1.05 -> 0 | AP20: =+X20 -> 0 | AQ20: 0 | AR20: =+X20*0.06*1.1 -> 0
AQ21: 0
C22: MF58043 | D22: A188L4P4_1 | F22: 80 | G22: 720 | H22: 140 | I22: L4 | J22: 315 | K22: 174 | L22: 190 | M22: 0 | N22: 1 | O22: B13 | P22: 19.6 | Q22: 36 | R22: 48 | S22: =IF(ISNA(VLOOKUP(C22,Sheet1!B:D,3,0)),,VLOOKUP(C22,Sheet1!B:D,3,0)) -> 0 | T22: =+S22*R22 -> 0 | U22: =IF(ISNA(VLOOKUP(C22,Sheet1!B:F,5,0)),,VLOOKUP(C22,Sheet1!B:F,5,0)) -> 0 | V22: =+U22*R22 -> 0 | W22: =+S22+U22 -> 0 | X22: =+W22*R22 -> 0 | AQ22: 0 | AR22: =+X22*0.06*1.1 -> 0
AQ23: 0
C24: MF58827 | D24: A189L5P4_1 | F24: 88 | G24: 750 | H24: 171 | I24: L5 | J24: 353 | K24: 175 | L24: 190 | M24: 0 | N24: 1 | O24: B13 | P24: 21.5 | Q24: 36 | R24: 48 | S24: =IF(ISNA(VLOOKUP(C24,Sheet1!B:D,3,0)),,VLOOKUP(C24,Sheet1!B:D,3,0)) -> 4 | T24: =+S24*R24 -> 192 | U24: =IF(ISNA(VLOOKUP(C24,Sheet1!B:F,5,0)),,VLOOKUP(C24,Sheet1!B:F,5,0)) -> 2 | V24: =+U24*R24 -> 96 | W24: =+S24+U24 -> 6 | X24: =+W24*R24 -> 288 | Y24: 8 | Z24: 9 | AA24: =(Y24+Z24)*X24*6*1.1 -> 32313.6 | AB24: =+AA24*0.103*0.144*2 -> 958.55063 | AC24: 400L0518 | AD24: =IF(ISNA(VLOOKUP(AC24,SOTCK!C:H,6,0)),,VLOOKUP(AC24,SOTCK!C:H,6,0)) -> 8835 | AE24: =IF(ISNA(VLOOKUP(AC24,'Recap CMD'!A:C,3,0)),,VLOOKUP(AC24,'Recap CMD'!A:C,3,0)) -> 0 | AF24: =+AD24+AE24 -> 8835 | AG24: =SUM(X24:X25)*1.05 -> 453.6 | AH24: =IF(AF24>AG24,0,AG24-AF24) -> 0 | AI24: 420L0542 | AJ24: =IF(ISNA(VLOOKUP(AI24,SOTCK!C:H,6,0)),,VLOOKUP(AI24,SOTCK!C:H,6,0)) -> 288 | AK24: =IF(ISNA(VLOOKUP(AI24,'Recap CMD'!A:C,3,0)),,VLOOKUP(AI24,'Recap CMD'!A:C,3,0)) -> 800 | AL24: =+AJ24+AK24 -> 1088 | AM24: =(X24+X25)*1.05 -> 453.6 | AN24: =IF(AL24>AM24,0,AM24-AL24) -> 0 | AO24: =Z24*0.162*0.22*6*X24*1.05 -> 581.98694 | AP24: =+X24 -> 288 | AQ24: 0 | AR24: =+X24*0.07*1.1 -> 22.176
C25: MF60038 | D25: A190L5P4_1 | F25: 100 | G25: 800 | H25: 180 | I25: L5 | J25: 354 | K25: 174 | L25: 190 | M25: 0 | N25: 1 | O25: B13 | P25: 22.7 | Q25: 36 | R25: 48 | S25: =IF(ISNA(VLOOKUP(C25,Sheet1!B:D,3,0)),,VLOOKUP(C25,Sheet1!B:D,3,0)) -> 2 | T25: =+S25*R25 -> 96 | U25: =IF(ISNA(VLOOKUP(C25,Sheet1!B:F,5,0)),,VLOOKUP(C25,Sheet1!B:F,5,0)) -> 1 | V25: =+U25*R25 -> 48 | W25: =+S25+U25 -> 3 | X25: =+W25*R25 -> 144 | Y25: 9 | Z25: 10 | AA25: =(Y25+Z25)*X25*6*1.1 -> 18057.6 | AB25: =+AA25*0.103*0.144*2 -> 535.66065 | AO25: =Z25*0.162*0.22*6*X25*1.05 -> 323.32608 | AP25: =+X25 -> 144 | AQ25: 0 | AR25: =+X25*0.07*1.1 -> 11.088
Z26: Total LB | AA26: =SUM(AA11:AA25) -> 591280.8 | AB26: =SUM(AB11:AB25) -> 17539.754 | AO26: =SUM(AO11:AO25) -> 10686.825 | AP26: =SUM(AP11:AP25) -> 7620 | AQ26: =SUM(AQ11:AQ25) -> 0 | AR26: =SUM(AR11:AR25) -> 433.4
I28: MONBAT FORMULA JIS series (High Temperature Execution) | S28: JEDDAH | U28: Riyadh | W28: Total | Y28: Plaque | AC28: BOX | AI28: LID | AO28: 430P1022 | AP28: 460D1843 | AQ28: 460D1845 | AR28: 690X0029
C29: DIN code | D29: MONBAT code | E29: NOUR code | F29: Capacity, C20 (Ah) | G29: CCA A (SAE) | H29: RC, min | I29: BOX | J29: Dimensions | M29: Layout | N29: Terminal | O29: BHD | P29: Weight | Q29: Qty per pallet | R29: Qty per pallet with box (pcs) | S29: Nour | U29: Nour | W29: Nour | Y29: Plaque + | Z29: Plaque - | AA29: Total PLQ | AB29: pasting paper 127mm | AD29: Pcs. | AE29: Pcs. | AF29: Pcs. | AG29: Pcs. | AH29: Pcs. | AJ29: Pcs. | AK29: Pcs. | AL29: Pcs. | AM29: Pcs. | AN29: Pcs. | AO29: SEP. 162X1.0X0.2 SEPARATOR CELL FORCE ULR HH | AP29: Magic eye 19.16 / 72.3 MM (P) L1-L5 HH | AQ29: Magic eye 19.16 / 60 MM (X & W) B1-B5 SMF & JIS LIDS | AR29: COLLE HOTMELET SWIFT THERM 9042
J30: L | K30: W | L30: TH | P30: kg | Q30: pcs | S30: Pltts. | T30: Pcs. | U30: Pltts. | V30: Pcs. | W30: Pltts. | X30: Pcs. | Y30: Pcs. | Z30: Pcs. | AA30: Pcs. | AB30: M2 | AC30: CODE | AD30: Stock | AE30: CMD | AF30: Total | AG30: Besoin Brut | AH30: Rest a cmdé | AI30: CODE | AJ30: Stock | AK30: CMD | AL30: Total | AM30: Besoin Brut | AN30: Rest a cmdé | AO30: M2 | AP30: Pcs. | AQ30: Pcs. | AR30: Kg
C31: MF40B19L | D31: K134J3X4_1 | F31: 35 | G31: 260 | H31: 52 | I31: NS40 | J31: 187 | K31: 127 | L31: 220 | M31: 0 | N31: 3 | O31: B0 | P31: 9.2 | Q31: 99 | R31: 124 | S31: =IF(ISNA(VLOOKUP(C31,Sheet1!B:D,3,0)),,VLOOKUP(C31,Sheet1!B:D,3,0)) -> 0 | T31: =+S31*R31 -> 0 | U31: =IF(ISNA(VLOOKUP(C31,Sheet1!B:F,5,0)),,VLOOKUP(C31,Sheet1!B:F,5,0)) -> 0 | V31: =+U31*R31 -> 0 | W31: =+S31+U31 -> 0 | X31: =+W31*R31 -> 0
W32: =+S32+U32 -> 0 | X32: =+W32*R32 -> 0
C33: MF50B24LS | D33: K145J4XB4_1 | F33: 45 | G33: 300 | H33: 60 | I33: NS60 | J33: 234 | K33: 127 | L33: 220 | M33: 0 | N33: 1 | O33: B0 | P33: 11.4 | Q33: 84 | R33: 100 | S33: =IF(ISNA(VLOOKUP(C33,Sheet1!B:D,3,0)),,VLOOKUP(C33,Sheet1!B:D,3,0)) -> 21 | T33: =+S33*R33 -> 2100 | U33: =IF(ISNA(VLOOKUP(C33,Sheet1!B:F,5,0)),,VLOOKUP(C33,Sheet1!B:F,5,0)) -> 11 | V33: =+U33*R33 -> 1100 | W33: =+S33+U33 -> 32 | X33: =+W33*R33 -> 3200
C34: MF50B24RS | D34: K145J4XB4_1 | F34: 45 | G34: 300 | H34: 60 | I34: NS60 | J34: 234 | K34: 127 | L34: 220 | M34: 1 | N34: 1 | O34: B0 | P34: 11.4 | Q34: 84 | R34: 100 | S34: =IF(ISNA(VLOOKUP(C34,Sheet1!B:D,3,0)),,VLOOKUP(C34,Sheet1!B:D,3,0)) -> 0 | T34: =+S34*R34 -> 0 | U34: =IF(ISNA(VLOOKUP(C34,Sheet1!B:F,5,0)),,VLOOKUP(C34,Sheet1!B:F,5,0)) -> 0 | V34: =+U34*R34 -> 0 | W34: =+S34+U34 -> 0 | X34: =+W34*R34 -> 0
C35: MF50B24R | D35: K145J4X4_1 | F35: 45 | G35: 300 | H35: 60 | I35: NS60 | J35: 234 | K35: 127 | L35: 220 | M35: 1 | N35: 3 | O35: B0 | P35: 11.4 | Q35: 84 | R35: 100 | S35: =IF(ISNA(VLOOKUP(C35,Sheet1!B:D,3,0)),,VLOOKUP(C35,Sheet1!B:D,3,0)) -> 2 | T35: =+S35*R35 -> 200 | U35: =IF(ISNA(VLOOKUP(C35,Sheet1!B:F,5,0)),,VLOOKUP(C35,Sheet1!B:F,5,0)) -> 0 | V35: =+U35*R35 -> 0 | W35: =+S35+U35 -> 2 | X35: =+W35*R35 -> 200
C37: MF55D23L | D37: G255J6X4_1 | F37: 60 | G37: 500 | H37: 96 | I37: D23 | J37: 230 | K37: 170 | L37: 220 | M37: 0 | N37: 1 | O37: B1 | P37: 15.7 | Q37: 63 | R37: 76 | S37: =IF(ISNA(VLOOKUP(C37,Sheet1!B:D,3,0)),,VLOOKUP(C37,Sheet1!B:D,3,0)) -> 31 | T37: =+S37*R37 -> 2356 | U37: =IF(ISNA(VLOOKUP(C37,Sheet1!B:F,5,0)),,VLOOKUP(C37,Sheet1!B:F,5,0)) -> 14 | V37: =+U37*R37 -> 1064 | W37: =+S37+U37 -> 45 | X37: =+W37*R37 -> 3420 | Y37: 5 | Z37: 5 | AA37: =(Y37+Z37)*X37*6*1.1 -> 225720 | AB37: =+AA37*0.127*0.144*2 -> 8255.9347 | AC37: 400D2304 | AD37: =IF(ISNA(VLOOKUP(AC37,SOTCK!C:H,6,0)),,VLOOKUP(AC37,SOTCK!C:H,6,0)) -> 351 | AE37: =IF(ISNA(VLOOKUP(AC37,'Recap CMD'!A:C,3,0)),,VLOOKUP(AC37,'Recap CMD'!A:C,3,0)) -> 1320 | AF37: =+AD37+AE37 -> 1671 | AG37: =SUM(X37:X39)*1.05 -> 4548.6 | AH37: =IF(AF37>AG37,0,AG37-AF37) -> 2877.6 | AI37: 420D2304 | AJ37: =IF(ISNA(VLOOKUP(AI37,SOTCK!C:H,6,0)),,VLOOKUP(AI37,SOTCK!C:H,6,0)) -> 0 | AK37: =IF(ISNA(VLOOKUP(AI37,'Recap CMD'!A:C,3,0)),,VLOOKUP(AI37,'Recap CMD'!A:C,3,0)) -> 1150 | AL37: =+AJ37+AK37 -> 1150 | AM37: =(X37+X38)*1.05 -> 4069.8 | AN37: =IF(AL37>AM37,0,AM37-AL37) -> 2919.8 | AO37: =Z37*0.162*0.27*6*X37*1.05 -> 4712.1102 | AP37: 0 | AQ37: =+X37 -> 3420 | AR37: =+X37*0.05*1.1 -> 188.1
C38: MF75D23L | D38: G256J6X4_1 | F38: 65 | G38: 530 | H38: 110 | I38: D23 | J38: 230 | K38: 172 | L38: 220 | M38: 0 | N38: 1 | O38: B1 | P38: 16 | Q38: 63 | R38: 76 | S38: =IF(ISNA(VLOOKUP(C38,Sheet1!B:D,3,0)),,VLOOKUP(C38,Sheet1!B:D,3,0)) -> 4 | T38: =+S38*R38 -> 304 | U38: =IF(ISNA(VLOOKUP(C38,Sheet1!B:F,5,0)),,VLOOKUP(C38,Sheet1!B:F,5,0)) -> 2 | V38: =+U38*R38 -> 152 | W38: =+S38+U38 -> 6 | X38: =+W38*R38 -> 456 | Y38: 5 | Z38: 6 | AA38: =(Y38+Z38)*X38*6*1.1 -> 33105.6 | AB38: =+AA38*0.127*0.144*2 -> 1210.8704 | AO38: =Z38*0.162*0.27*6*X38*1.05 -> 753.93763 | AP38: 0 | AQ38: =+X38 -> 456 | AR38: =+X38*0.05*1.1 -> 25.08
C39: MF55D23R | D39: G255J6X4_1 | F39: 60 | G39: 500 | H39: 96 | I39: D23 | J39: 230 | K39: 170 | L39: 220 | M39: 1 | N39: 1 | O39: B1 | P39: 15.7 | Q39: 63 | R39: 76 | S39: =IF(ISNA(VLOOKUP(C39,Sheet1!B:D,3,0)),,VLOOKUP(C39,Sheet1!B:D,3,0)) -> 4 | T39: =+S39*R39 -> 304 | U39: =IF(ISNA(VLOOKUP(C39,Sheet1!B:F,5,0)),,VLOOKUP(C39,Sheet1!B:F,5,0)) -> 2 | V39: =+U39*R39 -> 152 | W39: =+S39+U39 -> 6 | X39: =+W39*R39 -> 456 | Y39: 5 | Z39: 5 | AA39: =(Y39+Z39)*X39*6*1.1 -> 30096 | AB39: =+AA39*0.127*0.144*2 -> 1100.7913 | AI39: 420D2305 | AJ39: =IF(ISNA(VLOOKUP(AI39,SOTCK!C:H,6,0)),,VLOOKUP(AI39,SOTCK!C:H,6,0)) -> 24 | AK39: =IF(ISNA(VLOOKUP(AI39,'Recap CMD'!A:C,3,0)),,VLOOKUP(AI39,'Recap CMD'!A:C,3,0)) -> 350 | AL39: =+AJ39+AK39 -> 374 | AM39: =+X39*1.05 -> 478.8 | AN39: =IF(AL39>AM39,0,AM39-AL39) -> 104.8 | AO39: =Z39*0.162*0.27*6*X39*1.05 -> 628.28136 | AP39: 0 | AQ39: =+X39 -> 456 | AR39: =+X39*0.05*1.1 -> 25.08
C42: MF48D26L | D42: G245J7X4_1 | F42: 50 | G42: 420 | H42: 80 | I42: D26 | J42: 257 | K42: 172 | L42: 220 | M42: 0 | N42: 1 | O42: B1 | P42: 15.3 | Q42: 57 | R42: 68 | S42: =IF(ISNA(VLOOKUP(C42,Sheet1!B:D,3,0)),,VLOOKUP(C42,Sheet1!B:D,3,0)) -> 26 | T42: =+S42*R42 -> 1768 | U42: =IF(ISNA(VLOOKUP(C42,Sheet1!B:F,5,0)),,VLOOKUP(C42,Sheet1!B:F,5,0)) -> 13 | V42: =+U42*R42 -> 884 | W42: =+S42+U42 -> 39 | X42: =+W42*R42 -> 2652 | Y42: 4 | Z42: 5 | AA42: =(Y42+Z42)*X42*6*1.1 -> 157528.8 | AB42: =+AA42*0.127*0.144*2 -> 5761.7734 | AC42: 400N5003 | AD42: =IF(ISNA(VLOOKUP(AC42,SOTCK!C:H,6,0)),,VLOOKUP(AC42,SOTCK!C:H,6,0)) -> 202 | AE42: =IF(ISNA(VLOOKUP(AC42,'Recap CMD'!A:C,3,0)),,VLOOKUP(AC42,'Recap CMD'!A:C,3,0)) -> 1120 | AF42: =+AD42+AE42 -> 1322 | AG42: =SUM(X42:X45)*1.05 -> 7711.2 | AH42: =IF(AF42>AG42,0,AG42-AF42) -> 6389.2 | AI42: 420N5005 | AJ42: =IF(ISNA(VLOOKUP(AI42,SOTCK!C:H,6,0)),,VLOOKUP(AI42,SOTCK!C:H,6,0)) -> 9 | AK42: =IF(ISNA(VLOOKUP(AI42,'Recap CMD'!A:C,3,0)),,VLOOKUP(AI42,'Recap CMD'!A:C,3,0)) -> 1334 | AL42: =+AJ42+AK42 -> 1343 | AM42: =(X42+X43)*1.05 -> 5712 | AN42: =IF(AL42>AM42,0,AM42-AL42) -> 4369 | AO42: =Z42*0.162*0.27*6*X42*1.05 -> 3653.9521 | AP42: 0 | AQ42: =+X42 -> 2652 | AR42: =+X42*0.06*1.1 -> 175.032
C43: MF80D26L | D43: G266J7X4_1 | F43: 70 | G43: 530 | H43: 125 | I43: D26 | J43: 257 | K43: 172 | L43: 220 | M43: 0 | N43: 1 | O43: B1 | P43: 17.4 | Q43: 57 | R43: 68 | S43: =IF(ISNA(VLOOKUP(C43,Sheet1!B:D,3,0)),,VLOOKUP(C43,Sheet1!B:D,3,0)) -> 26 | T43: =+S43*R43 -> 1768 | U43: =IF(ISNA(VLOOKUP(C43,Sheet1!B:F,5,0)),,VLOOKUP(C43,Sheet1!B:F,5,0)) -> 15 | V43: =+U43*R43 -> 1020 | W43: =+S43+U43 -> 41 | X43: =+W43*R43 -> 2788 | Y43: 6 | Z43: 6 | AA43: =(Y43+Z43)*X43*6*1.1 -> 220809.6 | AB43: =+AA43*0.127*0.144*2 -> 8076.3319 | AO43: =Z43*0.162*0.27*6*X43*1.05 -> 4609.6011 | AP43: 0 | AQ43: =+X43 -> 2788 | AR43: =+X43*0.06*1.1 -> 184.008
C44: MF48D26R | D44: G245J7X4_1 | F44: 50 | G44: 420 | H44: 80 | I44: D26 | J44: 257 | K44: 172 | L44: 220 | M44: 1 | N44: 1 | O44: B1 | P44: 15.3 | Q44: 57 | R44: 68 | S44: =IF(ISNA(VLOOKUP(C44,Sheet1!B:D,3,0)),,VLOOKUP(C44,Sheet1!B:D,3,0)) -> 15 | T44: =+S44*R44 -> 1020 | U44: =IF(ISNA(VLOOKUP(C44,Sheet1!B:F,5,0)),,VLOOKUP(C44,Sheet1!B:F,5,0)) -> 5 | V44: =+U44*R44 -> 340 | W44: =+S44+U44 -> 20 | X44: =+W44*R44 -> 1360 | Y44: 4 | Z44: 5 | AA44: =(Y44+Z44)*X44*6*1.1 -> 80784 | AB44: =+AA44*0.127*0.144*2 -> 2954.7556 | AI44: 420N5006 | AJ44: =IF(ISNA(VLOOKUP(AI44,SOTCK!C:H,6,0)),,VLOOKUP(AI44,SOTCK!C:H,6,0)) -> 112 | AK44: =IF(ISNA(VLOOKUP(AI44,'Recap CMD'!A:C,3,0)),,VLOOKUP(AI44,'Recap CMD'!A:C,3,0)) -> 2392 | AL44: =+AJ44+AK44 -> 2504 | AM44: =(X44+X45)*1.05 -> 1999.2 | AN44: =IF(AL44>AM44,0,AM44-AL44) -> 0 | AO44: =Z44*0.162*0.27*6*X44*1.05 -> 1873.8216 | AP44: 0 | AQ44: =+X44 -> 1360 | AR44: =+X44*0.06*1.1 -> 89.76
C45: MF80D26R | D45: G266J7X4_1 | F45: 70 | G45: 530 | H45: 125 | I45: D26 | J45: 257 | K45: 172 | L45: 220 | M45: 1 | N45: 1 | O45: B1 | P45: 17.4 | Q45: 57 | R45: 68 | S45: =IF(ISNA(VLOOKUP(C45,Sheet1!B:D,3,0)),,VLOOKUP(C45,Sheet1!B:D,3,0)) -> 5 | T45: =+S45*R45 -> 340 | U45: =IF(ISNA(VLOOKUP(C45,Sheet1!B:F,5,0)),,VLOOKUP(C45,Sheet1!B:F,5,0)) -> 3 | V45: =+U45*R45 -> 204 | W45: =+S45+U45 -> 8 | X45: =+W45*R45 -> 544 | Y45: 6 | Z45: 6 | AA45: =(Y45+Z45)*X45*6*1.1 -> 43084.8 | AB45: =+AA45*0.127*0.144*2 -> 1575.8696 | AO45: =Z45*0.162*0.27*6*X45*1.05 -> 899.43437 | AP45: 0 | AQ45: =+X45 -> 544 | AR45: =+X45*0.06*1.1 -> 35.904
C47: MF65D31L | D47: G266J0X4_1 | F47: 70 | G47: 550 | H47: 125 | I47: D31 | J47: 302 | K47: 172 | L47: 220 | M47: 0 | N47: 1 | O47: B1 | P47: 19.5 | Q47: 42 | R47: 56 | S47: =IF(ISNA(VLOOKUP(C47,Sheet1!B:D,3,0)),,VLOOKUP(C47,Sheet1!B:D,3,0)) -> 5 | T47: =+S47*R47 -> 280 | U47: =IF(ISNA(VLOOKUP(C47,Sheet1!B:F,5,0)),,VLOOKUP(C47,Sheet1!B:F,5,0)) -> 3 | V47: =+U47*R47 -> 168 | W47: =+S47+U47 -> 8 | X47: =+W47*R47 -> 448 | Y47: 6 | Z47: 6 | AA47: =(Y47+Z47)*X47*6*1.1 -> 35481.6 | AB47: =+AA47*0.127*0.144*2 -> 1297.775 | AC47: 400N7002 | AD47: =IF(ISNA(VLOOKUP(AC47,SOTCK!C:H,6,0)),,VLOOKUP(AC47,SOTCK!C:H,6,0)) -> 283 | AE47: =IF(ISNA(VLOOKUP(AC47,'Recap CMD'!A:C,3,0)),,VLOOKUP(AC47,'Recap CMD'!A:C,3,0)) -> 2880 | AF47: =+AD47+AE47 -> 3163 | AG47: =SUM(X47:X55)*1.05 -> 1411.2 | AH47: =IF(AF47>AG47,0,AG47-AF47) -> 0 | AI47: 420N7005 | AJ47: =IF(ISNA(VLOOKUP(AI47,SOTCK!C:H,6,0)),,VLOOKUP(AI47,SOTCK!C:H,6,0)) -> 21 | AK47: =IF(ISNA(VLOOKUP(AI47,'Recap CMD'!A:C,3,0)),,VLOOKUP(AI47,'Recap CMD'!A:C,3,0)) -> 1296 | AL47: =+AJ47+AK47 -> 1317 | AM47: =(X47+X48+X49+X50+X51)*1.05 -> 1058.4 | AN47: =IF(AL47>AM47,0,AM47-AL47) -> 0 | AO47: =Z47*0.162*0.27*6*X47*1.05 -> 740.71066 | AP47: 0 | AQ47: =+X47 -> 448 | AR47: =+X47*0.07*1.1 -> 34.496
C48: MF75D31L | D48: G267J0X4_1 | F48: 75 | G48: 600 | H48: 130 | I48: D31 | J48: 302 | K48: 172 | L48: 220 | M48: 0 | N48: 1 | O48: B1 | P48: 20.1 | Q48: 42 | R48: 56 | S48: =IF(ISNA(VLOOKUP(C48,Sheet1!B:D,3,0)),,VLOOKUP(C48,Sheet1!B:D,3,0)) -> 0 | T48: =+S48*R48 -> 0 | U48: =IF(ISNA(VLOOKUP(C48,Sheet1!B:F,5,0)),,VLOOKUP(C48,Sheet1!B:F,5,0)) -> 0 | V48: =+U48*R48 -> 0 | W48: =+S48+U48 -> 0 | X48: =+W48*R48 -> 0 | Y48: 6 | Z48: 7 | AA48: =(Y48+Z48)*X48*6*1.1 -> 0 | AB48: =+AA48*0.127*0.144*2 -> 0 | AO48: =Z48*0.162*0.27*6*X48*1.05 -> 0 | AP48: 0 | AQ48: =+X48 -> 0 | AR48: =+X48*0.07*1.1 -> 0
C49: MF95D31L | D49: G277J0X4_1 | F49: 80 | G49: 650 | H49: 140 | I49: D31 | J49: 302 | K49: 172 | L49: 220 | M49: 0 | N49: 1 | O49: B1 | P49: 20.8 | Q49: 42 | R49: 56 | S49: =IF(ISNA(VLOOKUP(C49,Sheet1!B:D,3,0)),,VLOOKUP(C49,Sheet1!B:D,3,0)) -> 3 | T49: =+S49*R49 -> 168 | U49: =IF(ISNA(VLOOKUP(C49,Sheet1!B:F,5,0)),,VLOOKUP(C49,Sheet1!B:F,5,0)) -> 2 | V49: =+U49*R49 -> 112 | W49: =+S49+U49 -> 5 | X49: =+W49*R49 -> 280 | Y49: 7 | Z49: 7 | AA49: =(Y49+Z49)*X49*6*1.1 -> 25872 | AB49: =+AA49*0.127*0.144*2 -> 946.29427 | AO49: =Z49*0.162*0.27*6*X49*1.05 -> 540.10152 | AP49: 0 | AQ49: =+X49 -> 280 | AR49: =+X49*0.07*1.1 -> 21.56
C50: MF105D31L | D50: G278J0X4_1 | F50: 90 | G50: 700 | H50: 160 | I50: D31 | J50: 302 | K50: 172 | L50: 220 | M50: 0 | N50: 1 | O50: B1 | P50: 21.5 | Q50: 42 | R50: 56 | S50: =IF(ISNA(VLOOKUP(C50,Sheet1!B:D,3,0)),,VLOOKUP(C50,Sheet1!B:D,3,0)) -> 3 | T50: =+S50*R50 -> 168 | U50: =IF(ISNA(VLOOKUP(C50,Sheet1!B:F,5,0)),,VLOOKUP(C50,Sheet1!B:F,5,0)) -> 2 | V50: =+U50*R50 -> 112 | W50: =+S50+U50 -> 5 | X50: =+W50*R50 -> 280 | Y50: 7 | Z50: 8 | AA50: =(Y50+Z50)*X50*6*1.1 -> 27720 | AB50: =+AA50*0.127*0.144*2 -> 1013.8867 | AO50: =Z50*0.162*0.27*6*X50*1.05 -> 617.25888 | AP50: 0 | AQ50: =+X50 -> 280 | AR50: =+X50*0.07*1.1 -> 21.56
C51: MF115D31L | D51: G288J0X4_1 | F51: 95 | G51: 750 | H51: 175 | I51: D31 | J51: 302 | K51: 172 | L51: 220 | M51: 0 | N51: 1 | O51: B1 | P51: 22.2 | Q51: 42 | R51: 56 | S51: =IF(ISNA(VLOOKUP(C51,Sheet1!B:D,3,0)),,VLOOKUP(C51,Sheet1!B:D,3,0)) -> 0 | T51: =+S51*R51 -> 0 | U51: =IF(ISNA(VLOOKUP(C51,Sheet1!B:F,5,0)),,VLOOKUP(C51,Sheet1!B:F,5,0)) -> 0 | V51: =+U51*R51 -> 0 | W51: =+S51+U51 -> 0 | X51: =+W51*R51 -> 0 | Y51: 8 | Z51: 8 | AA51: =(Y51+Z51)*X51*6*1.1 -> 0 | AB51: =+AA51*0.127*0.144*2 -> 0 | AO51: =Z51*0.162*0.27*6*X51*1.05 -> 0 | AP51: 0 | AQ51: =+X51 -> 0 | AR51: =+X51*0.07*1.1 -> 0
C52: MF65D31R | D52: G266J0X4_1 | F52: 70 | G52: 550 | H52: 125 | I52: D31 | J52: 302 | K52: 172 | L52: 220 | M52: 1 | N52: 1 | O52: B1 | P52: 19.5 | Q52: 42 | R52: 56 | S52: =IF(ISNA(VLOOKUP(C52,Sheet1!B:D,3,0)),,VLOOKUP(C52,Sheet1!B:D,3,0)) -> 4 | T52: =+S52*R52 -> 224 | U52: =IF(ISNA(VLOOKUP(C52,Sheet1!B:F,5,0)),,VLOOKUP(C52,Sheet1!B:F,5,0)) -> 2 | V52: =+U52*R52 -> 112 | W52: =+S52+U52 -> 6 | X52: =+W52*R52 -> 336 | Y52: 6 | Z52: 6 | AA52: =(Y52+Z52)*X52*6*1.1 -> 26611.2 | AB52: =+AA52*0.127*0.144*2 -> 973.33125 | AI52: 420N7006 | AJ52: =IF(ISNA(VLOOKUP(AI52,SOTCK!C:H,6,0)),,VLOOKUP(AI52,SOTCK!C:H,6,0)) -> 0 | AK52: =IF(ISNA(VLOOKUP(AI52,'Recap CMD'!A:C,3,0)),,VLOOKUP(AI52,'Recap CMD'!A:C,3,0)) -> 1800 | AL52: =+AJ52+AK52 -> 1800 | AM52: =(X52+X53+X54+X55)*1.05 -> 352.8 | AN52: =IF(AL52>AM52,0,AM52-AL52) -> 0 | AO52: =Z52*0.162*0.27*6*X52*1.05 -> 555.53299 | AP52: 0 | AQ52: =+X52 -> 336 | AR52: =+X52*0.07*1.1 -> 25.872
C53: MF95D31R | D53: G277J0X4_1 | F53: 80 | G53: 650 | H53: 140 | I53: D31 | J53: 302 | K53: 172 | L53: 220 | M53: 1 | N53: 1 | O53: B1 | P53: 20.8 | Q53: 42 | R53: 56 | S53: =IF(ISNA(VLOOKUP(C53,Sheet1!B:D,3,0)),,VLOOKUP(C53,Sheet1!B:D,3,0)) -> 0 | T53: =+S53*R53 -> 0 | U53: =IF(ISNA(VLOOKUP(C53,Sheet1!B:F,5,0)),,VLOOKUP(C53,Sheet1!B:F,5,0)) -> 0 | V53: =+U53*R53 -> 0 | W53: =+S53+U53 -> 0 | X53: =+W53*R53 -> 0 | Y53: 7 | Z53: 7 | AA53: =(Y53+Z53)*X53*6*1.1 -> 0 | AB53: =+AA53*0.127*0.144*2 -> 0 | AO53: =Z53*0.162*0.27*6*X53*1.05 -> 0 | AP53: 0 | AQ53: =+X53 -> 0 | AR53: =+X53*0.07*1.1 -> 0
C54: MF105D31R | D54: G278J0X4_1 | F54: 90 | G54: 700 | H54: 160 | I54: D31 | J54: 302 | K54: 172 | L54: 220 | M54: 1 | N54: 1 | O54: B1 | P54: 21.5 | Q54: 42 | R54: 56 | S54: =IF(ISNA(VLOOKUP(C54,Sheet1!B:D,3,0)),,VLOOKUP(C54,Sheet1!B:D,3,0)) -> 0 | T54: =+S54*R54 -> 0 | U54: =IF(ISNA(VLOOKUP(C54,Sheet1!B:F,5,0)),,VLOOKUP(C54,Sheet1!B:F,5,0)) -> 0 | V54: =+U54*R54 -> 0 | W54: =+S54+U54 -> 0 | X54: =+W54*R54 -> 0 | Y54: 7 | Z54: 8 | AA54: =(Y54+Z54)*X54*6*1.1 -> 0 | AB54: =+AA54*0.127*0.144*2 -> 0 | AO54: =Z54*0.162*0.27*6*X54*1.05 -> 0 | AP54: 0 | AQ54: =+X54 -> 0 | AR54: =+X54*0.07*1.1 -> 0
C55: MF115D31R | D55: G288J0X4_1 | F55: 95 | G55: 750 | H55: 175 | I55: D31 | J55: 302 | K55: 172 | L55: 220 | M55: 1 | N55: 1 | O55: B1 | P55: 22.2 | Q55: 42 | R55: 56 | S55: =IF(ISNA(VLOOKUP(C55,Sheet1!B:D,3,0)),,VLOOKUP(C55,Sheet1!B:D,3,0)) -> 0 | T55: =+S55*R55 -> 0 | U55: =IF(ISNA(VLOOKUP(C55,Sheet1!B:F,5,0)),,VLOOKUP(C55,Sheet1!B:F,5,0)) -> 0 | V55: =+U55*R55 -> 0 | W55: =+S55+U55 -> 0 | X55: =+W55*R55 -> 0 | Y55: 8 | Z55: 8 | AA55: =(Y55+Z55)*X55*6*1.1 -> 0 | AB55: =+AA55*0.127*0.144*2 -> 0 | AO55: =Z55*0.162*0.27*6*X55*1.05 -> 0 | AP55: 0 | AQ55: =+X55 -> 0 | AR55: =+X55*0.07*1.1 -> 0
R56: Total | S56: =SUM(S11:S25)+SUM(S31:S55) -> 220 | T56: =SUM(T11:T25)+SUM(T31:T55) -> 16048 | U56: =SUM(U11:U25)+SUM(U31:U55) -> 110 | V56: =SUM(V11:V25)+SUM(V31:V55) -> 7992 | W56: =SUM(W11:W25)+SUM(W31:W55) -> 330 | X56: =SUM(X11:X25)+SUM(X31:X55) -> 24040 | Z56: Total M | AA56: =SUM(AA31:AA55) -> 906813.6 | AB56: =SUM(AB31:AB55) -> 33167.614 | AO56: =SUM(AO31:AO55) -> 19584.742 | AP56: =SUM(AP31:AP55)+SUM(AP11:AP25) -> 7620 | AQ56: =SUM(AQ31:AQ55)+SUM(AQ11:AQ25) -> 13020 | AR56: =SUM(AR31:AR55)+SUM(AR11:AR25) -> 1259.852
W57: =+W56/22 -> 15 | AA57: =+AA56+AA26 -> 1498094.4
AO59: Besoin pour la CMD | AP59: Stock | AQ59: Rest a cmdé
AG60: M2 | AH60: 430P1022 | AI60: SEP. 162X1.0X0.2 SEPARATOR CELL FORCE ULR HH | AO60: =+AO56+AO26 -> 30271.568 | AP60: 0 | AQ60: =+AO60-AP60 -> 30271.568
AG61: Pcs. | AH61: 460D1843 | AI61: Magic eye 19.16 / 72.3 MM (P) L1-L5 HH | AO61: =+AP56 -> 7620 | AP61: 1000 | AQ61: =+AO61-AP61 -> 6620
AG62: Pcs. | AH62: 460D1845 | AI62: Magic eye 19.16 / 60 MM (X & W) B1-B5 SMF & JIS LIDS | AO62: =+AQ56 -> 13020 | AP62: 1000 | AQ62: =+AO62-AP62 -> 12020
AG63: kg | AH63: 690X0029 | AI63: COLLE HOTMELET SWIFT THERM 9042 | AO63: =+AR56 -> 1259.852 | AP63: 0 | AQ63: =+AO63-AP63 -> 1259.852
AG64: M2 | AH64: 430P1019 | AI64: SEPARATEUR EMPATTAGE POLYESTER 103mm | AO64: =+AB26 -> 17539.754 | AP64: 0 | AQ64: =+AO64-AP64 -> 17539.754
AG65: M2 | AH65: 430P1020 | AI65: SEPARATEUR EMPATTAGE POLYESTER 127mm | AO65: =+AB56 -> 33167.614 | AP65: 0 | AQ65: =+AO65-AP65 -> 33167.614

Sheet Bahrein
C2: High Heat range for Bin Shihon KSA - 01.02.2022 rev7
J4: AUTOMOTIVE RANGE
AN7: 0,120gr/batt
J8: MONBAT PREMIUM DIN series (High Temperature Execution) | S8: Total | U8: Plaque | Y8: BOX | AE8: LID | AK8: 430P1022 | AL8: 460D1843 | AM8: 460D1845 | AN8: 690X0029
C9: DIN code | D9: MONBAT code | E9: NOUR code | F9: Capacity, C20 (Ah) | G9: CCA A (SAE) | H9: RC, min | I9: BOX | J9: Dimensions | M9: Layout | N9: Terminal | O9: BHD | P9: Weight | Q9: Qty per pallet | R9: Qty per pallet with box (pcs) | S9: Nour | U9: Plaque + | V9: Plaque - | W9: Total PLQ | X9: pasting paper 103mm | Z9: Pcs. | AA9: Pcs. | AB9: Pcs. | AC9: Pcs. | AD9: Pcs. | AF9: Pcs. | AG9: Pcs. | AH9: Pcs. | AI9: Pcs. | AJ9: Pcs. | AK9: SEP. 162X1.0X0.2 SEPARATOR CELL FORCE ULR HH | AL9: Magic eye 19.16 / 72.3 MM (P) L1-L5 HH | AM9: Magic eye 19.16 / 60 MM (X & W) B1-B5 SMF & JIS LIDS | AN9: COLLE HOTMELET SWIFT THERM 9042
J10: L | K10: W | L10: H | P10: kg | Q10: pcs | S10: Pltts. | T10: Pcs. | U10: Pcs. | V10: Pcs. | W10: Pcs. | X10: M2 | Y10: CODE | Z10: Stock | AA10: CMD | AB10: Total | AC10: Besoin Brut | AD10: Rest a cmdé | AE10: CODE | AF10: Stock | AG10: CMD | AH10: Total | AI10: Besoin Brut | AJ10: Rest a cmdé | AK10: M2 | AL10: Pcs. | AM10: Pcs. | AN10: Kg
C11: MF54459 | D11: A145L1P4_1 | F11: 44 | G11: 400 | H11: 71 | I11: L1 | J11: 207 | K11: 175 | L11: 190 | M11: 0 | N11: 1 | O11: B13 | P11: 12 | Q11: 72 | R11: 84 | S11: 2 | T11: =+S11*R11 -> 168 | U11: 4 | V11: 5 | W11: =(U11+V11)*T11*6*1.1 -> 9979.2 | X11: =+W11*0.103*0.144*2 -> 296.02299 | Y11: 400L0118 | Z11: =IF(ISNA(VLOOKUP(Y11,SOTCK!C:H,6,0)),,VLOOKUP(Y11,SOTCK!C:H,6,0)) -> 4065 | AA11: =IF(ISNA(VLOOKUP(Y11,'Recap CMD'!A:C,3,0)),,VLOOKUP(Y11,'Recap CMD'!A:C,3,0)) -> 2160 | AB11: =+Z11+AA11 -> 6225 | AC11: =SUM(T11:T12)*1.05 -> 176.4 | AD11: =IF(AB11>AC11,0,AC11-AB11) -> 0 | AE11: 420L0142 | AF11: =IF(ISNA(VLOOKUP(AE11,SOTCK!C:H,6,0)),,VLOOKUP(AE11,SOTCK!C:H,6,0)) -> 78 | AG11: =IF(ISNA(VLOOKUP(AE11,'Recap CMD'!A:C,3,0)),,VLOOKUP(AE11,'Recap CMD'!A:C,3,0)) -> 1350 | AH11: =+AF11+AG11 -> 1428 | AI11: =(T11+T12)*1.05 -> 176.4 | AJ11: =IF(AH11>AI11,0,AI11-AH11) -> 0 | AK11: =V11*0.162*0.22*6*T11*1.05 -> 188.60688 | AL11: =+T11 -> 168 | AM11: 0 | AN11: =+T11*0.04*1.1 -> 7.392
A12: new | C12: MF55027 | D12: A155L1P4_1 | F12: 50 | G12: 450 | H12: 80 | I12: L1 | J12: 207 | K12: 175 | L12: 190 | M12: 0 | N12: 1 | O12: B13 | P12: 12.6 | Q12: 72 | R12: 84 | T12: =+S12*R12 -> 0 | U12: 5 | V12: 5 | W12: =(U12+V12)*T12*6*1.1 -> 0 | X12: =+W12*0.103*0.144*2 -> 0 | AK12: =V12*0.162*0.22*6*T12*1.05 -> 0 | AL12: =+T12 -> 0 | AM12: 0 | AN12: =+T12*0.04*1.1 -> 0
AM13: 0
C14: MF55559 | D14: A156L2P4_1 | F14: 55 | G14: 500 | H14: 92 | I14: L2 | J14: 242 | K14: 175 | L14: 190 | M14: 0 | N14: 1 | O14: B13 | P14: 14.3 | Q14: 63 | R14: 76 | S14: =4 -> 4 | T14: =+S14*R14 -> 304 | U14: 5 | V14: 6 | W14: =(U14+V14)*T14*6*1.1 -> 22070.4 | X14: =+W14*0.103*0.144*2 -> 654.69635 | Y14: 400L0218 | Z14: =IF(ISNA(VLOOKUP(Y14,SOTCK!C:H,6,0)),,VLOOKUP(Y14,SOTCK!C:H,6,0)) -> 486 | AA14: =IF(ISNA(VLOOKUP(Y14,'Recap CMD'!A:C,3,0)),,VLOOKUP(Y14,'Recap CMD'!A:C,3,0)) -> 9504 | AB14: =+Z14+AA14 -> 9990 | AC14: =SUM(T14:T16)*1.05 -> 399 | AD14: =IF(AB14>AC14,0,AC14-AB14) -> 0 | AE14: 420L0243 | AF14: =IF(ISNA(VLOOKUP(AE14,SOTCK!C:H,6,0)),,VLOOKUP(AE14,SOTCK!C:H,6,0)) -> 0 | AG14: =IF(ISNA(VLOOKUP(AE14,'Recap CMD'!A:C,3,0)),,VLOOKUP(AE14,'Recap CMD'!A:C,3,0)) -> 1584 | AH14: =+AF14+AG14 -> 1584 | AI14: =(T14+T15)*1.05 -> 399 | AJ14: =IF(AH14>AI14,0,AI14-AH14) -> 0 | AK14: =V14*0.162*0.22*6*T14*1.05 -> 409.54637 | AL14: =+T14 -> 304 | AM14: 0 | AN14: =+T14*0.05*1.1 -> 16.72
A15: new | C15: MF56219 | D15: A166L2P4_1 | F15: 62 | G15: 540 | H15: 100 | I15: L2 | J15: 242 | K15: 175 | L15: 190 | M15: 0 | N15: 1 | O15: B13 | P15: 15 | Q15: 63 | R15: 76 | S15: 1 | T15: =+S15*R15 -> 76 | U15: 6 | V15: 6 | W15: =(U15+V15)*T15*6*1.1 -> 6019.2 | X15: =+W15*0.103*0.144*2 -> 178.55355 | AK15: =V15*0.162*0.22*6*T15*1.05 -> 102.38659 | AL15: =+T15 -> 76 | AM15: 0 | AN15: =+T15*0.05*1.1 -> 4.18
A16: new | C16: MF56221 | D16: A166L2P4_1 | F16: 62 | G16: 540 | H16: 100 | I16: L2 | J16: 242 | K16: 175 | L16: 190 | M16: 1 | N16: 1 | O16: B13 | P16: 15 | Q16: 63 | R16: 76 | T16: =+S16*R16 -> 0 | U16: 6 | V16: 6 | W16: =(U16+V16)*T16*6*1.1 -> 0 | X16: =+W16*0.103*0.144*2 -> 0 | AE16: 420L0244 | AF16: =IF(ISNA(VLOOKUP(AE16,SOTCK!C:H,6,0)),,VLOOKUP(AE16,SOTCK!C:H,6,0)) -> 0 | AG16: =IF(ISNA(VLOOKUP(AE16,'Recap CMD'!A:C,3,0)),,VLOOKUP(AE16,'Recap CMD'!A:C,3,0)) -> 0 | AH16: =+AF16+AG16 -> 0 | AI16: =+T16*1.05 -> 0 | AJ16: =IF(AH16>AI16,0,AI16-AH16) -> 0 | AK16: =V16*0.162*0.22*6*T16*1.05 -> 0 | AL16: =+T16 -> 0 | AM16: 0 | AN16: =+T16*0.05*1.1 -> 0
AM17: 0
C18: MF56638 | D18: A167L3P4_1 | F18: 66 | G18: 640 | H18: 113 | I18: L3 | J18: 278 | K18: 175 | L18: 190 | M18: 0 | N18: 1 | O18: B13 | P18: 16.8 | Q18: 51 | R18: 64 | T18: =+S18*R18 -> 0 | U18: 6 | V18: 7 | W18: =(U18+V18)*T18*6*1.1 -> 0 | X18: =+W18*0.103*0.144*2 -> 0 | Y18: 400L0318 | Z18: =IF(ISNA(VLOOKUP(Y18,SOTCK!C:H,6,0)),,VLOOKUP(Y18,SOTCK!C:H,6,0)) -> 6611 | AA18: =IF(ISNA(VLOOKUP(Y18,'Recap CMD'!A:C,3,0)),,VLOOKUP(Y18,'Recap CMD'!A:C,3,0)) -> 10560 | AB18: =+Z18+AA18 -> 17171 | AC18: =SUM(T18:T20)*1.05 -> 134.4 | AD18: =IF(AB18>AC18,0,AC18-AB18) -> 0 | AE18: 420L0343 | AF18: =IF(ISNA(VLOOKUP(AE18,SOTCK!C:H,6,0)),,VLOOKUP(AE18,SOTCK!C:H,6,0)) -> 0 | AG18: =IF(ISNA(VLOOKUP(AE18,'Recap CMD'!A:C,3,0)),,VLOOKUP(AE18,'Recap CMD'!A:C,3,0)) -> 2024 | AH18: =+AF18+AG18 -> 2024 | AI18: =(T18+T19+T20)*1.05 -> 134.4 | AJ18: =IF(AH18>AI18,0,AI18-AH18) -> 0 | AK18: =V18*0.162*0.22*6*T18*1.05 -> 0 | AL18: =+T18 -> 0 | AM18: 0 | AN18: =+T18*0.06*1.1 -> 0
C19: MF57220 | D19: A177L3P4_1 | F19: 72 | G19: 680 | H19: 125 | I19: L3 | J19: 278 | K19: 175 | L19: 190 | M19: 0 | N19: 1 | O19: B13 | P19: 17.3 | Q19: 51 | R19: 64 | S19: 2 | T19: =+S19*R19 -> 128 | U19: 7 | V19: 7 | W19: =(U19+V19)*T19*6*1.1 -> 11827.2 | X19: =+W19*0.103*0.144*2 -> 350.84206 | AK19: =V19*0.162*0.22*6*T19*1.05 -> 201.18067 | AL19: =+T19 -> 128 | AM19: 0 | AN19: =+T19*0.06*1.1 -> 8.448
A20: new | C20: MF57512 | D20: A178L3P4_1 | F20: 75 | G20: 720 | H20: 130 | I20: L3 | J20: 278 | K20: 175 | L20: 190 | M20: 0 | N20: 1 | O20: B13 | P20: 17.9 | Q20: 51 | R20: 64 | T20: =+S20*R20 -> 0 | U20: 7 | V20: 8 | W20: =(U20+V20)*T20*6*1.1 -> 0 | X20: =+W20*0.103*0.144*2 -> 0 | AK20: =V20*0.162*0.22*6*T20*1.05 -> 0 | AL20: =+T20 -> 0 | AM20: 0 | AN20: =+T20*0.06*1.1 -> 0
AM21: 0
C22: MF58043 | D22: A188L4P4_1 | F22: 80 | G22: 720 | H22: 140 | I22: L4 | J22: 315 | K22: 174 | L22: 190 | M22: 0 | N22: 1 | O22: B13 | P22: 19.6 | Q22: 36 | R22: 48 | AM22: 0 | AN22: =+T22*0.06*1.1 -> 0
AM23: 0
C24: MF58827 | D24: A189L5P4_1 | F24: 88 | G24: 750 | H24: 171 | I24: L5 | J24: 353 | K24: 175 | L24: 190 | M24: 0 | N24: 1 | O24: B13 | P24: 21.5 | Q24: 36 | R24: 48 | T24: =+S24*R24 -> 0 | U24: 8 | V24: 9 | W24: =(U24+V24)*T24*6*1.1 -> 0 | X24: =+W24*0.103*0.144*2 -> 0 | Y24: 400L0518 | Z24: =IF(ISNA(VLOOKUP(Y24,SOTCK!C:H,6,0)),,VLOOKUP(Y24,SOTCK!C:H,6,0)) -> 8835 | AA24: =IF(ISNA(VLOOKUP(Y24,'Recap CMD'!A:C,3,0)),,VLOOKUP(Y24,'Recap CMD'!A:C,3,0)) -> 0 | AB24: =+Z24+AA24 -> 8835 | AC24: =SUM(T24:T25)*1.05 -> 50.4 | AD24: =IF(AB24>AC24,0,AC24-AB24) -> 0 | AE24: 420L0542 | AF24: =IF(ISNA(VLOOKUP(AE24,SOTCK!C:H,6,0)),,VLOOKUP(AE24,SOTCK!C:H,6,0)) -> 288 | AG24: =IF(ISNA(VLOOKUP(AE24,'Recap CMD'!A:C,3,0)),,VLOOKUP(AE24,'Recap CMD'!A:C,3,0)) -> 800 | AH24: =+AF24+AG24 -> 1088 | AI24: =(T24+T25)*1.05 -> 50.4 | AJ24: =IF(AH24>AI24,0,AI24-AH24) -> 0 | AK24: =V24*0.162*0.22*6*T24*1.05 -> 0 | AL24: =+T24 -> 0 | AM24: 0 | AN24: =+T24*0.07*1.1 -> 0
C25: MF60038 | D25: A190L5P4_1 | F25: 100 | G25: 800 | H25: 180 | I25: L5 | J25: 354 | K25: 174 | L25: 190 | M25: 0 | N25: 1 | O25: B13 | P25: 22.7 | Q25: 36 | R25: 48 | S25: 1 | T25: =+S25*R25 -> 48 | U25: 9 | V25: 10 | W25: =(U25+V25)*T25*6*1.1 -> 6019.2 | X25: =+W25*0.103*0.144*2 -> 178.55355 | AK25: =V25*0.162*0.22*6*T25*1.05 -> 107.77536 | AL25: =+T25 -> 48 | AM25: 0 | AN25: =+T25*0.07*1.1 -> 3.696
V26: Total LB | W26: =SUM(W11:W25) -> 55915.2 | X26: =SUM(X11:X25) -> 1658.6685 | AK26: =SUM(AK11:AK25) -> 1009.4959 | AL26: =SUM(AL11:AL25) -> 724 | AM26: =SUM(AM11:AM25) -> 0 | AN26: =SUM(AN11:AN25) -> 40.436
I28: MONBAT FORMULA JIS series (High Temperature Execution) | S28: Total | U28: Plaque | Y28: BOX | AE28: LID | AK28: 430P1022 | AL28: 460D1843 | AM28: 460D1845 | AN28: 690X0029
C29: DIN code | D29: MONBAT code | E29: NOUR code | F29: Capacity, C20 (Ah) | G29: CCA A (SAE) | H29: RC, min | I29: BOX | J29: Dimensions | M29: Layout | N29: Terminal | O29: BHD | P29: Weight | Q29: Qty per pallet | R29: Qty per pallet with box (pcs) | S29: Nour | U29: Plaque + | V29: Plaque - | W29: Total PLQ | X29: pasting paper 127mm | Z29: Pcs. | AA29: Pcs. | AB29: Pcs. | AC29: Pcs. | AD29: Pcs. | AF29: Pcs. | AG29: Pcs. | AH29: Pcs. | AI29: Pcs. | AJ29: Pcs. | AK29: SEP. 162X1.0X0.2 SEPARATOR CELL FORCE ULR HH | AL29: Magic eye 19.16 / 72.3 MM (P) L1-L5 HH | AM29: Magic eye 19.16 / 60 MM (X & W) B1-B5 SMF & JIS LIDS | AN29: COLLE HOTMELET SWIFT THERM 9042
J30: L | K30: W | L30: TH | P30: kg | Q30: pcs | S30: Pltts. | T30: Pcs. | U30: Pcs. | V30: Pcs. | W30: Pcs. | X30: M2 | Y30: CODE | Z30: Stock | AA30: CMD | AB30: Total | AC30: Besoin Brut | AD30: Rest a cmdé | AE30: CODE | AF30: Stock | AG30: CMD | AH30: Total | AI30: Besoin Brut | AJ30: Rest a cmdé | AK30: M2 | AL30: Pcs. | AM30: Pcs. | AN30: Kg
C31: MF40B19L | D31: K134J3X4_1 | F31: 35 | G31: 260 | H31: 52 | I31: NS40 | J31: 187 | K31: 127 | L31: 220 | M31: 0 | N31: 3 | O31: B0 | P31: 9.2 | Q31: 99 | R31: 124
C33: MF50B24LS | D33: K145J4XB4_1 | F33: 45 | G33: 300 | H33: 60 | I33: NS60 | J33: 234 | K33: 127 | L33: 220 | M33: 0 | N33: 1 | O33: B0 | P33: 11.4 | Q33: 84 | R33: 100
C34: MF50B24RS | D34: K145J4XB4_1 | F34: 45 | G34: 300 | H34: 60 | I34: NS60 | J34: 234 | K34: 127 | L34: 220 | M34: 1 | N34: 1 | O34: B0 | P34: 11.4 | Q34: 84 | R34: 100
C35: MF50B24R | D35: K145J4X4_1 | F35: 45 | G35: 300 | H35: 60 | I35: NS60 | J35: 234 | K35: 127 | L35: 220 | M35: 1 | N35: 3 | O35: B0 | P35: 11.4 | Q35: 84 | R35: 100
C37: MF55D23L | D37: G255J6X4_1 | F37: 60 | G37: 500 | H37: 96 | I37: D23 | J37: 230 | K37: 170 | L37: 220 | M37: 0 | N37: 1 | O37: B1 | P37: 15.7 | Q37: 63 | R37: 76 | S37: 4 | T37: =+S37*R37 -> 304 | U37: 5 | V37: 5 | W37: =(U37+V37)*T37*6*1.1 -> 20064 | X37: =+W37*0.127*0.144*2 -> 733.86086 | Y37: 400D2304 | Z37: =IF(ISNA(VLOOKUP(Y37,SOTCK!C:H,6,0)),,VLOOKUP(Y37,SOTCK!C:H,6,0)) -> 351 | AA37: =IF(ISNA(VLOOKUP(Y37,'Recap CMD'!A:C,3,0)),,VLOOKUP(Y37,'Recap CMD'!A:C,3,0)) -> 1320 | AB37: =+Z37+AA37 -> 1671 | AC37: =SUM(T37:T39)*1.05 -> 319.2 | AD37: =IF(AB37>AC37,0,AC37-AB37) -> 0 | AE37: 420D2304 | AF37: =IF(ISNA(VLOOKUP(AE37,SOTCK!C:H,6,0)),,VLOOKUP(AE37,SOTCK!C:H,6,0)) -> 0 | AG37: =IF(ISNA(VLOOKUP(AE37,'Recap CMD'!A:C,3,0)),,VLOOKUP(AE37,'Recap CMD'!A:C,3,0)) -> 1150 | AH37: =+AF37+AG37 -> 1150 | AI37: =(T37+T38)*1.05 -> 319.2 | AJ37: =IF(AH37>AI37,0,AI37-AH37) -> 0 | AK37: =V37*0.162*0.27*6*T37*1.05 -> 418.85424 | AL37: 0 | AM37: =+T37 -> 304 | AN37: =+T37*0.05*1.1 -> 16.72
C38: MF75D23L | D38: G256J6X4_1 | F38: 65 | G38: 530 | H38: 110 | I38: D23 | J38: 230 | K38: 172 | L38: 220 | M38: 0 | N38: 1 | O38: B1 | P38: 16 | Q38: 63 | R38: 76 | T38: =+S38*R38 -> 0 | U38: 5 | V38: 6 | W38: =(U38+V38)*T38*6*1.1 -> 0 | X38: =+W38*0.127*0.144*2 -> 0 | AK38: =V38*0.162*0.27*6*T38*1.05 -> 0 | AL38: 0 | AM38: =+T38 -> 0 | AN38: =+T38*0.05*1.1 -> 0
C39: MF55D23R | D39: G255J6X4_1 | F39: 60 | G39: 500 | H39: 96 | I39: D23 | J39: 230 | K39: 170 | L39: 220 | M39: 1 | N39: 1 | O39: B1 | P39: 15.7 | Q39: 63 | R39: 76 | T39: =+S39*R39 -> 0 | U39: 5 | V39: 5 | W39: =(U39+V39)*T39*6*1.1 -> 0 | X39: =+W39*0.127*0.144*2 -> 0 | AE39: 420D2305 | AF39: =IF(ISNA(VLOOKUP(AE39,SOTCK!C:H,6,0)),,VLOOKUP(AE39,SOTCK!C:H,6,0)) -> 24 | AG39: =IF(ISNA(VLOOKUP(AE39,'Recap CMD'!A:C,3,0)),,VLOOKUP(AE39,'Recap CMD'!A:C,3,0)) -> 350 | AH39: =+AF39+AG39 -> 374 | AI39: =+T39*1.05 -> 0 | AJ39: =IF(AH39>AI39,0,AI39-AH39) -> 0 | AK39: =V39*0.162*0.27*6*T39*1.05 -> 0 | AL39: 0 | AM39: =+T39 -> 0 | AN39: =+T39*0.05*1.1 -> 0
C42: MF48D26L | D42: G245J7X4_1 | F42: 50 | G42: 420 | H42: 80 | I42: D26 | J42: 257 | K42: 172 | L42: 220 | M42: 0 | N42: 1 | O42: B1 | P42: 15.3 | Q42: 57 | R42: 68 | T42: =+S42*R42 -> 0 | U42: 4 | V42: 5 | W42: =(U42+V42)*T42*6*1.1 -> 0 | X42: =+W42*0.127*0.144*2 -> 0 | Y42: 400N5003 | Z42: =IF(ISNA(VLOOKUP(Y42,SOTCK!C:H,6,0)),,VLOOKUP(Y42,SOTCK!C:H,6,0)) -> 202 | AA42: =IF(ISNA(VLOOKUP(Y42,'Recap CMD'!A:C,3,0)),,VLOOKUP(Y42,'Recap CMD'!A:C,3,0)) -> 1120 | AB42: =+Z42+AA42 -> 1322 | AC42: =SUM(T42:T45)*1.05 -> 285.6 | AD42: =IF(AB42>AC42,0,AC42-AB42) -> 0 | AE42: 420N5005 | AF42: =IF(ISNA(VLOOKUP(AE42,SOTCK!C:H,6,0)),,VLOOKUP(AE42,SOTCK!C:H,6,0)) -> 9 | AG42: =IF(ISNA(VLOOKUP(AE42,'Recap CMD'!A:C,3,0)),,VLOOKUP(AE42,'Recap CMD'!A:C,3,0)) -> 1334 | AH42: =+AF42+AG42 -> 1343 | AI42: =(T42+T43)*1.05 -> 285.6 | AJ42: =IF(AH42>AI42,0,AI42-AH42) -> 0 | AK42: =V42*0.162*0.27*6*T42*1.05 -> 0 | AL42: 0 | AM42: =+T42 -> 0 | AN42: =+T42*0.06*1.1 -> 0
C43: MF80D26L | D43: G266J7X4_1 | F43: 70 | G43: 530 | H43: 125 | I43: D26 | J43: 257 | K43: 172 | L43: 220 | M43: 0 | N43: 1 | O43: B1 | P43: 17.4 | Q43: 57 | R43: 68 | S43: 4 | T43: =+S43*R43 -> 272 | U43: 6 | V43: 6 | W43: =(U43+V43)*T43*6*1.1 -> 21542.4 | X43: =+W43*0.127*0.144*2 -> 787.93482 | AK43: =V43*0.162*0.27*6*T43*1.05 -> 449.71718 | AL43: 0 | AM43: =+T43 -> 272 | AN43: =+T43*0.06*1.1 -> 17.952
C44: MF48D26R | D44: G245J7X4_1 | F44: 50 | G44: 420 | H44: 80 | I44: D26 | J44: 257 | K44: 172 | L44: 220 | M44: 1 | N44: 1 | O44: B1 | P44: 15.3 | Q44: 57 | R44: 68 | T44: =+S44*R44 -> 0 | U44: 4 | V44: 5 | W44: =(U44+V44)*T44*6*1.1 -> 0 | X44: =+W44*0.127*0.144*2 -> 0 | AE44: 420N5006 | AF44: =IF(ISNA(VLOOKUP(AE44,SOTCK!C:H,6,0)),,VLOOKUP(AE44,SOTCK!C:H,6,0)) -> 112 | AG44: =IF(ISNA(VLOOKUP(AE44,'Recap CMD'!A:C,3,0)),,VLOOKUP(AE44,'Recap CMD'!A:C,3,0)) -> 2392 | AH44: =+AF44+AG44 -> 2504 | AI44: =(T44+T45)*1.05 -> 0 | AJ44: =IF(AH44>AI44,0,AI44-AH44) -> 0 | AK44: =V44*0.162*0.27*6*T44*1.05 -> 0 | AL44: 0 | AM44: =+T44 -> 0 | AN44: =+T44*0.06*1.1 -> 0
C45: MF80D26R | D45: G266J7X4_1 | F45: 70 | G45: 530 | H45: 125 | I45: D26 | J45: 257 | K45: 172 | L45: 220 | M45: 1 | N45: 1 | O45: B1 | P45: 17.4 | Q45: 57 | R45: 68 | T45: =+S45*R45 -> 0 | U45: 6 | V45: 6 | W45: =(U45+V45)*T45*6*1.1 -> 0 | X45: =+W45*0.127*0.144*2 -> 0 | AK45: =V45*0.162*0.27*6*T45*1.05 -> 0 | AL45: 0 | AM45: =+T45 -> 0 | AN45: =+T45*0.06*1.1 -> 0
C47: MF65D31L | D47: G266J0X4_1 | F47: 70 | G47: 550 | H47: 125 | I47: D31 | J47: 302 | K47: 172 | L47: 220 | M47: 0 | N47: 1 | O47: B1 | P47: 19.5 | Q47: 42 | R47: 56 | T47: =+S47*R47 -> 0 | U47: 6 | V47: 6 | W47: =(U47+V47)*T47*6*1.1 -> 0 | X47: =+W47*0.127*0.144*2 -> 0 | Y47: 400N7002 | Z47: =IF(ISNA(VLOOKUP(Y47,SOTCK!C:H,6,0)),,VLOOKUP(Y47,SOTCK!C:H,6,0)) -> 283 | AA47: =IF(ISNA(VLOOKUP(Y47,'Recap CMD'!A:C,3,0)),,VLOOKUP(Y47,'Recap CMD'!A:C,3,0)) -> 2880 | AB47: =+Z47+AA47 -> 3163 | AC47: =SUM(T47:T55)*1.05 -> 58.8 | AD47: =IF(AB47>AC47,0,AC47-AB47) -> 0 | AE47: 420N7005 | AF47: =IF(ISNA(VLOOKUP(AE47,SOTCK!C:H,6,0)),,VLOOKUP(AE47,SOTCK!C:H,6,0)) -> 21 | AG47: =IF(ISNA(VLOOKUP(AE47,'Recap CMD'!A:C,3,0)),,VLOOKUP(AE47,'Recap CMD'!A:C,3,0)) -> 1296 | AH47: =+AF47+AG47 -> 1317 | AI47: =(T47+T48+T49+T50+T51)*1.05 -> 58.8 | AJ47: =IF(AH47>AI47,0,AI47-AH47) -> 0 | AK47: =V47*0.162*0.27*6*T47*1.05 -> 0 | AL47: 0 | AM47: =+T47 -> 0 | AN47: =+T47*0.07*1.1 -> 0
C48: MF75D31L | D48: G267J0X4_1 | F48: 75 | G48: 600 | H48: 130 | I48: D31 | J48: 302 | K48: 172 | L48: 220 | M48: 0 | N48: 1 | O48: B1 | P48: 20.1 | Q48: 42 | R48: 56 | T48: =+S48*R48 -> 0 | U48: 6 | V48: 7 | W48: =(U48+V48)*T48*6*1.1 -> 0 | X48: =+W48*0.127*0.144*2 -> 0 | AK48: =V48*0.162*0.27*6*T48*1.05 -> 0 | AL48: 0 | AM48: =+T48 -> 0 | AN48: =+T48*0.07*1.1 -> 0
C49: MF95D31L | D49: G277J0X4_1 | F49: 80 | G49: 650 | H49: 140 | I49: D31 | J49: 302 | K49: 172 | L49: 220 | M49: 0 | N49: 1 | O49: B1 | P49: 20.8 | Q49: 42 | R49: 56 | T49: =+S49*R49 -> 0 | U49: 7 | V49: 7 | W49: =(U49+V49)*T49*6*1.1 -> 0 | X49: =+W49*0.127*0.144*2 -> 0 | AK49: =V49*0.162*0.27*6*T49*1.05 -> 0 | AL49: 0 | AM49: =+T49 -> 0 | AN49: =+T49*0.07*1.1 -> 0
C50: MF105D31L | D50: G278J0X4_1 | F50: 90 | G50: 700 | H50: 160 | I50: D31 | J50: 302 | K50: 172 | L50: 220 | M50: 0 | N50: 1 | O50: B1 | P50: 21.5 | Q50: 42 | R50: 56 | T50: =+S50*R50 -> 0 | U50: 7 | V50: 8 | W50: =(U50+V50)*T50*6*1.1 -> 0 | X50: =+W50*0.127*0.144*2 -> 0 | AK50: =V50*0.162*0.27*6*T50*1.05 -> 0 | AL50: 0 | AM50: =+T50 -> 0 | AN50: =+T50*0.07*1.1 -> 0
C51: MF115D31L | D51: G288J0X4_1 | F51: 95 | G51: 750 | H51: 175 | I51: D31 | J51: 302 | K51: 172 | L51: 220 | M51: 0 | N51: 1 | O51: B1 | P51: 22.2 | Q51: 42 | R51: 56 | S51: 1 | T51: =+S51*R51 -> 56 | U51: 8 | V51: 8 | W51: =(U51+V51)*T51*6*1.1 -> 5913.6 | X51: =+W51*0.127*0.144*2 -> 216.29583 | AK51: =V51*0.162*0.27*6*T51*1.05 -> 123.45178 | AL51: 0 | AM51: =+T51 -> 56 | AN51: =+T51*0.07*1.1 -> 4.312
C52: MF65D31R | D52: G266J0X4_1 | F52: 70 | G52: 550 | H52: 125 | I52: D31 | J52: 302 | K52: 172 | L52: 220 | M52: 1 | N52: 1 | O52: B1 | P52: 19.5 | Q52: 42 | R52: 56 | T52: =+S52*R52 -> 0 | U52: 6 | V52: 6 | W52: =(U52+V52)*T52*6*1.1 -> 0 | X52: =+W52*0.127*0.144*2 -> 0 | AE52: 420N7006 | AF52: =IF(ISNA(VLOOKUP(AE52,SOTCK!C:H,6,0)),,VLOOKUP(AE52,SOTCK!C:H,6,0)) -> 0 | AG52: =IF(ISNA(VLOOKUP(AE52,'Recap CMD'!A:C,3,0)),,VLOOKUP(AE52,'Recap CMD'!A:C,3,0)) -> 1800 | AH52: =+AF52+AG52 -> 1800 | AI52: =(T52+T53+T54+T55)*1.05 -> 0 | AJ52: =IF(AH52>AI52,0,AI52-AH52) -> 0 | AK52: =V52*0.162*0.27*6*T52*1.05 -> 0 | AL52: 0 | AM52: =+T52 -> 0 | AN52: =+T52*0.07*1.1 -> 0
C53: MF95D31R | D53: G277J0X4_1 | F53: 80 | G53: 650 | H53: 140 | I53: D31 | J53: 302 | K53: 172 | L53: 220 | M53: 1 | N53: 1 | O53: B1 | P53: 20.8 | Q53: 42 | R53: 56 | T53: =+S53*R53 -> 0 | U53: 7 | V53: 7 | W53: =(U53+V53)*T53*6*1.1 -> 0 | X53: =+W53*0.127*0.144*2 -> 0 | AK53: =V53*0.162*0.27*6*T53*1.05 -> 0 | AL53: 0 | AM53: =+T53 -> 0 | AN53: =+T53*0.07*1.1 -> 0
C54: MF105D31R | D54: G278J0X4_1 | F54: 90 | G54: 700 | H54: 160 | I54: D31 | J54: 302 | K54: 172 | L54: 220 | M54: 1 | N54: 1 | O54: B1 | P54: 21.5 | Q54: 42 | R54: 56 | T54: =+S54*R54 -> 0 | U54: 7 | V54: 8 | W54: =(U54+V54)*T54*6*1.1 -> 0 | X54: =+W54*0.127*0.144*2 -> 0 | AK54: =V54*0.162*0.27*6*T54*1.05 -> 0 | AL54: 0 | AM54: =+T54 -> 0 | AN54: =+T54*0.07*1.1 -> 0
C55: MF115D31R | D55: G288J0X4_1 | F55: 95 | G55: 750 | H55: 175 | I55: D31 | J55: 302 | K55: 172 | L55: 220 | M55: 1 | N55: 1 | O55: B1 | P55: 22.2 | Q55: 42 | R55: 56 | T55: =+S55*R55 -> 0 | U55: 8 | V55: 8 | W55: =(U55+V55)*T55*6*1.1 -> 0 | X55: =+W55*0.127*0.144*2 -> 0 | AK55: =V55*0.162*0.27*6*T55*1.05 -> 0 | AL55: 0 | AM55: =+T55 -> 0 | AN55: =+T55*0.07*1.1 -> 0
R56: Total | S56: =SUM(S11:S25)+SUM(S31:S55) -> 19 | T56: =SUM(T11:T25)+SUM(T31:T55) -> 1356 | V56: Total M | W56: =SUM(W31:W55) -> 47520 | X56: =SUM(X31:X55) -> 1738.0915 | AK56: =SUM(AK31:AK55) -> 992.0232 | AL56: =SUM(AL31:AL55)+SUM(AL11:AL25) -> 724 | AM56: =SUM(AM31:AM55)+SUM(AM11:AM25) -> 632 | AN56: =SUM(AN31:AN55)+SUM(AN11:AN25) -> 79.42
S57: =+S56/22 -> 0.86363636 | W57: =+W56+W26 -> 103435.2
AK59: Besoin pour la CMD | AL59: Stock | AM59: Rest a cmdé
AC60: M2 | AD60: 430P1022 | AE60: SEP. 162X1.0X0.2 SEPARATOR CELL FORCE ULR HH | AK60: =+AK56+AK26 -> 2001.5191 | AL60: 0 | AM60: =+AK60-AL60 -> 2001.5191
AC61: Pcs. | AD61: 460D1843 | AE61: Magic eye 19.16 / 72.3 MM (P) L1-L5 HH | AK61: =+AL56 -> 724 | AL61: 1000 | AM61: =+AK61-AL61 -> -276
AC62: Pcs. | AD62: 460D1845 | AE62: Magic eye 19.16 / 60 MM (X & W) B1-B5 SMF & JIS LIDS | AK62: =+AM56 -> 632 | AL62: 1000 | AM62: =+AK62-AL62 -> -368
AC63: kg | AD63: 690X0029 | AE63: COLLE HOTMELET SWIFT THERM 9042 | AK63: =+AN56 -> 79.42 | AL63: 0 | AM63: =+AK63-AL63 -> 79.42
AC64: M2 | AD64: 430P1019 | AE64: SEPARATEUR EMPATTAGE POLYESTER 103mm | AK64: =+X26 -> 1658.6685 | AL64: 0 | AM64: =+AK64-AL64 -> 1658.6685
AC65: M2 | AD65: 430P1020 | AE65: SEPARATEUR EMPATTAGE POLYESTER 127mm | AK65: =+X56 -> 1738.0915 | AL65: 0 | AM65: =+AK65-AL65 -> 1738.0915

Sheet Need of material
A1: Need for raw materials
A3: Code | B3: Désignation | C3: Unit | D3: Types | E3: Need of material / Order Bin Shihon | F3: Need of material / Bahrein
A4: 430P1022 | B4: SEP. 162X1.0X0.2 SEPARATOR CELL FORCE ULR HH | C4: M2 | D4: SEP PP | E4: 29867.043 | F4: 2001.5191
A5: 460D1843 | B5: Magic eye 19.16 / 72.3 MM (P) L1-L5 HH | C5: Pcs. | D5: Magic eye | E5: 7620 | F5: 724
A6: 460D1845 | B6: Magic eye 19.16 / 60 MM (X & W) B1-B5 SMF & JIS LIDS | C6: Pcs. | D6: Magic eye | E6: 12740 | F6: 632
A7: 690X0029 | B7: COLLE HOTMELET SWIFT THERM 9042 | C7: kg | D7: COLLE | E7: 1242.208 | F7: =79.42*1.1 -> 87.362
A8: 430P1019 | B8: SEPARATEUR EMPATTAGE POLYESTER 103mm | C8: M2 | D8: pasting paper | E8: 17539.754 | F8: 1658.6685
A9: 430P1020 | B9: SEPARATEUR EMPATTAGE POLYESTER 127mm | C9: M2 | D9: pasting paper | E9: 32491.69 | F9: 1738.0915
A10: 420L0142 | B10: =+VLOOKUP(A10,SOTCK!C:F,4,0) -> COUV L1 T-AKUMSAN D+ NOIRAVEC OM | C10: Pcs. | D10: LID | E10: 2029 | F10: 176.4
A11: 420L0243 | B11: COUV L2 T-AKUMSAN D+ NOIR AVEC OM | C11: Pcs. | D11: LID | E11: 3032 | F11: 399
A12: 420L0343 | B12: =+VLOOKUP(A12,SOTCK!C:F,4,0) -> COUV L3 T-AKUMSAN D+NOIR AVEC OM | C12: Pcs. | D12: LID | E12: 2486 | F12: 134
A13: 420L0542 | B13: =+VLOOKUP(A13,SOTCK!C:F,4,0) -> COUV L5 T-AKUMSAN D+NOIR AVEC OM | C13: Pcs. | D13: LID | E13: 454 | F13: 50
A14: 420D2304 | B14: =+VLOOKUP(A14,SOTCK!C:F,4,0) -> COUV D23 T-AKUMSAN D+NOIR AVEC OM | C14: Pcs. | D14: LID | E14: 3990 | F14: 319
A15: 420D2305 | B15: =+VLOOKUP(A15,SOTCK!C:F,4,0) -> COUV D23 T-AKUMSAN G+NOIR AVEC OM | C15: Pcs. | D15: LID | E15: 479 | F15: 0
A16: 420N5005 | B16: =+VLOOKUP(A16,SOTCK!C:F,4,0) -> COUV N50 T-AKUMSAN D+NOIR AVEC OM | C16: Pcs. | D16: LID | E16: 5498 | F16: 286
A17: 420N5006 | B17: =+VLOOKUP(A17,SOTCK!C:F,4,0) -> COUV N50 T-AKUMSAN G+NOIR AVEC OM | C17: Pcs. | D17: LID | E17: 1999 | F17: 0
A18: 420N7005 | B18: =+VLOOKUP(A18,SOTCK!C:F,4,0) -> COUV N70 T-AKUMSAN D+NOIR AVEC OM | C18: Pcs. | D18: LID | E18: 1058 | F18: 59
A19: 420N7006 | B19: COUV N70 T-AKUMSAN G+ NOIR AVEC OM | C19: Pcs. | D19: LID | E19: 354 | F19: 0
A20: 400D2304 | B20: =+VLOOKUP(A20,SOTCK!C:F,4,0) -> BAC D23 P0 C33 NOIR ALISTEAUX MONBAT | C20: Pcs. | D20: BOX | E20: 4469 | F20: 319
A21: 400N5003 | B21: =+VLOOKUP(A21,SOTCK!C:F,4,0) -> BAC N50 P0 C40 NOIR ALISTEAUX MONBAT | C21: Pcs. | D21: BOX | E21: 7497 | F21: 286
A22: 400N7002 | B22: =+VLOOKUP(A22,SOTCK!C:F,4,0) -> BAC N70 P0 C46,5 B01NOIR 200541 | C22: Pcs. | D22: BOX | E22: 1411 | F22: 59
A23: 490T2301 | B23: COUVRE COUVERCLE D23 T-AKUMSAN NOIR | C23: Pcs. | D23: UPPER LID | E23: 4469 | F23: 319
A24: 490T5001 | B24: COUVRE COUVERCLE N50 T-AKUMSAN NOIR | C24: Pcs. | D24: UPPER LID | E24: 7497 | F24: 286
A25: 490T7001 | B25: COUVRE COUVERCLE N70 T-AKUMSAN NOIR | C25: Pcs. | D25: UPPER LID | E25: 1411 | F25: 59
A26: 490TL0102 | B26: COUVRE COUVERCLE L1T-AKUMSAN NOIR | C26: Pcs. | D26: UPPER LID | E26: 2029 | F26: 176.4
A27: 490TL0202 | B27: COUVRE COUVERCLE L2T-AKUMSAN NOIR | C27: Pcs. | D27: UPPER LID | E27: 3032 | F27: 399
A28: 490TL0302 | B28: COUVRE COUVERCLE L3 T-AKUMSAN NOIR | C28: Pcs. | D28: UPPER LID | E28: 2486 | F28: 134
A29: 490TL0502 | B29: COUVRE COUVERCLE L5 T-AKUMSAN NOIR | C29: Pcs. | D29: UPPER LID | E29: 454 | F29: 50
A31: Besoin en plaque commande Bahrein
A33: DIN code | B33: MONBAT code | C33: Capacity, C20 (Ah) | D33: BOX | E33: Layout | F33: Terminal | G33: BHD | H33: Qty per pallet with box (pcs) | I33: Nour | K33: Plaque + | M33: Plaque -
I34: Pltts. | J34: Nombre de batterie | K34: Pcs. | L34: Total LB+ | M34: Pcs. | N34: Total LB-
A35: MF54459 | B35: A145L1P4_1 | C35: 44 | D35: L1 | E35: 0 | F35: 1 | G35: B13 | H35: 84 | I35: 2 | J35: =+I35*H35 -> 168 | K35: 4 | L35: =+J35*K35*6*1.1 -> 4435.2 | M35: 5 | N35: =+J35*M35*6*1.1 -> 5544
A36: MF55559 | B36: A156L2P4_1 | C36: 55 | D36: L2 | E36: 0 | F36: 1 | G36: B13 | H36: 76 | I36: =4 -> 4 | J36: =+I36*H36 -> 304 | K36: 5 | L36: =+J36*K36*6*1.1 -> 10032 | M36: 6 | N36: =+J36*M36*6*1.1 -> 12038.4
A37: MF56219 | B37: A166L2P4_1 | C37: 62 | D37: L2 | E37: 0 | F37: 1 | G37: B13 | H37: 76 | I37: 1 | J37: =+I37*H37 -> 76 | K37: 6 | L37: =+J37*K37*6*1.1 -> 3009.6 | M37: 6 | N37: =+J37*M37*6*1.1 -> 3009.6
A38: MF57220 | B38: A177L3P4_1 | C38: 72 | D38: L3 | E38: 0 | F38: 1 | G38: B13 | H38: 64 | I38: 2 | J38: =+I38*H38 -> 128 | K38: 7 | L38: =+J38*K38*6*1.1 -> 5913.6 | M38: 7 | N38: =+J38*M38*6*1.1 -> 5913.6
A39: MF60038 | B39: A190L5P4_1 | C39: 100 | D39: L5 | E39: 0 | F39: 1 | G39: B13 | H39: 48 | I39: 1 | J39: =+I39*H39 -> 48 | K39: 9 | L39: =+J39*K39*6*1.1 -> 2851.2 | M39: 10 | N39: =+J39*M39*6*1.1 -> 3168
K40: Total LB | L40: =SUM(L35:L39) -> 26241.6 | N40: =SUM(N35:N39) -> 29673.6
D42: MONBAT FORMULA JIS series (High Temperature Execution) | I42: Total | K42: Plaque
A43: DIN code | B43: MONBAT code | C43: Capacity, C20 (Ah) | D43: BOX | E43: Layout | F43: Terminal | G43: BHD | H43: Qty per pallet with box (pcs) | I43: Nour | K43: Plaque + | M43: Plaque -
I44: Pltts. | J44: Nombre de batterie | K44: Pcs. | L44: Total M+ | M44: Pcs. | N44: Total M-
A45: MF55D23L | B45: G255J6X4_1 | C45: 60 | D45: D23 | E45: 0 | F45: 1 | G45: B1 | H45: 76 | I45: 4 | J45: =+I45*H45 -> 304 | K45: 5 | L45: =+J45*K45*6*1.1 -> 10032 | M45: 5 | N45: =+J45*M45*6*1.1 -> 10032
A46: MF80D26L | B46: G266J7X4_1 | C46: 70 | D46: D26 | E46: 0 | F46: 1 | G46: B1 | H46: 68 | I46: 4 | J46: =+I46*H46 -> 272 | K46: 6 | L46: =+J46*K46*6*1.1 -> 10771.2 | M46: 6 | N46: =+J46*M46*6*1.1 -> 10771.2
A47: MF115D31L | B47: G288J0X4_1 | C47: 95 | D47: D31 | E47: 0 | F47: 1 | G47: B1 | H47: 56 | I47: 1 | J47: =+I47*H47 -> 56 | K47: 8 | L47: =+J47*K47*6*1.1 -> 2956.8 | M47: 8 | N47: =+J47*M47*6*1.1 -> 2956.8
H48: Total | I48: =SUM(I35:I39)+SUM(I45:I47) -> 19 | J48: =SUM(J35:J39)+SUM(J45:J47) -> 1356 | K48: Total M | L48: =SUM(L45:L49) -> 3960 | N48: =SUM(N45:N49) -> 3960
A50: Besoin en plaque commande Bin Shihon
I52: Total
A53: DIN code | B53: MONBAT code | C53: Capacity, C20 (Ah) | D53: BOX | E53: Layout | F53: Terminal | G53: BHD | H53: Qty per pallet with box (pcs) | I53: Nour | K53: Plaque + | M53: Plaque -
I54: Pltts. | J54: Nombre de batterie | K54: Pcs. | L54: Total LB+ | M54: Pcs. | N54: Total LB-
A55: MF54459 | B55: A145L1P4_1 | C55: 44 | D55: L1 | E55: 0 | F55: 1 | G55: B13 | H55: 84 | I55: 23 | J55: 1932 | K55: 4 | L55: =+J55*K55*6*1.1 -> 51004.8 | M55: 5 | N55: =+J55*M55*6*1.1 -> 63756
A56: MF55559 | B56: A156L2P4_1 | C56: 55 | D56: L2 | E56: 0 | F56: 1 | G56: B13 | H56: 76 | I56: 30 | J56: 2280 | K56: 5 | L56: =+J56*K56*6*1.1 -> 75240 | M56: 6 | N56: =+J56*M56*6*1.1 -> 90288
A57: MF56219 | B57: A166L2P4_1 | C57: 62 | D57: L2 | E57: 0 | F57: 1 | G57: B13 | H57: 76 | I57: 8 | J57: 608 | K57: 6 | L57: =+J57*K57*6*1.1 -> 24076.8 | M57: 6 | N57: =+J57*M57*6*1.1 -> 24076.8
A58: MF56638 | B58: A167L3P4_1 | C58: 66 | D58: L3 | E58: 0 | F58: 1 | G58: B13 | H58: 64 | I58: 15 | J58: 960 | K58: 6 | L58: =+J58*K58*6*1.1 -> 38016 | M58: 7 | N58: =+J58*M58*6*1.1 -> 44352
A59: MF57220 | B59: A177L3P4_1 | C59: 72 | D59: L3 | E59: 0 | F59: 1 | G59: B13 | H59: 64 | I59: 22 | J59: 1408 | K59: 7 | L59: =+J59*K59*6*1.1 -> 65049.6 | M59: 7 | N59: =+J59*M59*6*1.1 -> 65049.6
A60: MF58827 | B60: A189L5P4_1 | C60: 88 | D60: L5 | E60: 0 | F60: 1 | G60: B13 | H60: 48 | I60: 6 | J60: 288 | K60: 8 | L60: =+J60*K60*6*1.1 -> 15206.4 | M60: 9 | N60: =+J60*M60*6*1.1 -> 17107.2
A61: MF60038 | B61: A190L5P4_1 | C61: 100 | D61: L5 | E61: 0 | F61: 1 | G61: B13 | H61: 48 | I61: 3 | J61: 144 | K61: 9 | L61: =+J61*K61*6*1.1 -> 8553.6 | M61: 10 | N61: =+J61*M61*6*1.1 -> 9504
K62: Total LB | L62: =SUM(L55:L61) -> 277147.2 | N62: =SUM(N55:N61) -> 314133.6
D64: MONBAT FORMULA JIS series (High Temperature Execution) | I64: Total | K64: Plaque
A65: DIN code | B65: MONBAT code | C65: Capacity, C20 (Ah) | D65: BOX | E65: Layout | F65: Terminal | G65: BHD | H65: Qty per pallet with box (pcs) | I65: Nour | K65: Plaque + | M65: Plaque -
I66: Pltts. | J66: Nombre de batterie | K66: Pcs. | L66: Total M+ | M66: Pcs. | N66: Total M-
A67: MF55D23L | B67: G255J6X4_1 | C67: 60 | D67: D23 | E67: 0 | F67: 1 | G67: B1 | H67: 76 | I67: 44 | J67: 3344 | K67: 5 | L67: =+J67*K67*6*1.1 -> 110352 | M67: 5 | N67: =+J67*M67*6*1.1 -> 110352
A68: MF75D23L | B68: G256J6X4_1 | C68: 65 | D68: D23 | E68: 0 | F68: 1 | G68: B1 | H68: 76 | I68: 6 | J68: 456 | K68: 5 | L68: =+J68*K68*6*1.1 -> 15048 | M68: 6 | N68: =+J68*M68*6*1.1 -> 18057.6
A69: MF55D23R | B69: G255J6X4_1 | C69: 60 | D69: D23 | E69: 1 | F69: 1 | G69: B1 | H69: 76 | I69: 6 | J69: 456 | K69: 5 | L69: =+J69*K69*6*1.1 -> 15048 | M69: 5 | N69: =+J69*M69*6*1.1 -> 15048
A70: MF48D26L | B70: G245J7X4_1 | C70: 50 | D70: D26 | E70: 0 | F70: 1 | G70: B1 | H70: 68 | I70: 37 | J70: 2516 | K70: 4 | L70: =+J70*K70*6*1.1 -> 66422.4 | M70: 5 | N70: =+J70*M70*6*1.1 -> 83028
A71: MF80D26L | B71: G266J7X4_1 | C71: 70 | D71: D26 | E71: 0 | F71: 1 | G71: B1 | H71: 68 | I71: 40 | J71: 2720 | K71: 6 | L71: =+J71*K71*6*1.1 -> 107712 | M71: 6 | N71: =+J71*M71*6*1.1 -> 107712
A72: MF48D26R | B72: G245J7X4_1 | C72: 50 | D72: D26 | E72: 1 | F72: 1 | G72: B1 | H72: 68 | I72: 20 | J72: 1360 | K72: 4 | L72: =+J72*K72*6*1.1 -> 35904 | M72: 5 | N72: =+J72*M72*6*1.1 -> 44880
A73: MF80D26R | B73: G266J7X4_1 | C73: 70 | D73: D26 | E73: 1 | F73: 1 | G73: B1 | H73: 68 | I73: 8 | J73: 544 | K73: 6 | L73: =+J73*K73*6*1.1 -> 21542.4 | M73: 6 | N73: =+J73*M73*6*1.1 -> 21542.4
A74: MF65D31L | B74: G266J0X4_1 | C74: 70 | D74: D31 | E74: 0 | F74: 1 | G74: B1 | H74: 56 | I74: 8 | J74: 448 | K74: 6 | L74: =+J74*K74*6*1.1 -> 17740.8 | M74: 6 | N74: =+J74*M74*6*1.1 -> 17740.8
A75: MF95D31L | B75: G277J0X4_1 | C75: 80 | D75: D31 | E75: 0 | F75: 1 | G75: B1 | H75: 56 | I75: 5 | J75: 280 | K75: 7 | L75: =+J75*K75*6*1.1 -> 12936 | M75: 7 | N75: =+J75*M75*6*1.1 -> 12936
A76: MF105D31L | B76: G278J0X4_1 | C76: 90 | D76: D31 | E76: 0 | F76: 1 | G76: B1 | H76: 56 | I76: 5 | J76: 280 | K76: 7 | L76: =+J76*K76*6*1.1 -> 12936 | M76: 8 | N76: =+J76*M76*6*1.1 -> 14784
A77: MF65D31R | B77: G266J0X4_1 | C77: 70 | D77: D31 | E77: 1 | F77: 1 | G77: B1 | H77: 56 | I77: 6 | J77: 336 | K77: 6 | L77: =+J77*K77*6*1.1 -> 13305.6 | M77: 6 | N77: =+J77*M77*6*1.1 -> 13305.6
H78: Total | I78: 292 | J78: 20360 | K78: Total M | L78: =SUM(L67:L77) -> 428947.2 | N78: =SUM(N67:N77) -> 459386.4

Sheet SOTCK
A1: ld_site | B1: ld_loc | C1: Code | D1: Désignation 1 | E1: Désignation 2 | F1: Désignation 3 | G1: UN | H1: Quantité
A2: 007 | B2: MPA | C2: 310oxyde01 | D2: OXYDE ROUGE | F2: OXYDE ROUGE | G2: KG | H2: 0
A3: 007 | B3: MPA | C3: 350B13N | D3: PLAQUE DECOUPEE LIMEE | E3: B13N/148 F | F3: PLAQUE DECOUPEE LIMEEB13N/148 F | G3: KG | H3: 0
A4: 007 | B4: MPA | C4: 350B14 | D4: PLAQUE DECOUPEE LIMEE | E4: B14 N/148 F | F4: PLAQUE DECOUPEE LIMEEB14 N/148 F | G4: KG | H4: 0
A5: 007 | B5: MPA | C5: 400B9001 | D5: BAC COMPACT B90 C49 | E5: P19,5 T2 OPAQUE 34911011B70 | F5: BAC COMPACT B90 C49P19,5 T2 OPAQUE 34911011B70 | G5: UN | H5: 826
A6: 007 | B6: MPA | C6: 400B98001 | D6: BAC B98 COMPACT P19.5 | E6: OPAQUE | F6: BAC B98 COMPACT P19.5OPAQUE | G6: UN | H6: 0
A7: 007 | B7: MPA | C7: 400D2301 | D7: BAC D23 P15.5 NOIR | F7: BAC D23 P15.5 NOIR | G7: UN | H7: 0
A8: 007 | B8: MPA | C8: 400D2302 | D8: BAC D23 P0 C33 B01 NOIR | E8: 201373 | F8: BAC D23 P0 C33 B01 NOIR201373 | G8: UN | H8: 1122
A9: 007 | B9: MPA | C9: 400D2304 | D9: BAC D23 P0 C33 NOIR A | E9: LISTEAUX MONBAT | F9: BAC D23 P0 C33 NOIR ALISTEAUX MONBAT | G9: UN | H9: 351
A10: 007 | B10: MPA | C10: 400E0203 | D10: BAC E2B P0 OPAQUE | E10: 20581001D40 | F10: BAC E2B P0 OPAQUE20581001D40 | G10: UN | H10: 0
A11: 007 | B11: MPA | C11: 400E0204 | D11: BAC E2B P0 NOIR | E11: 2058 1003D40 | F11: BAC E2B P0 NOIR2058 1003D40 | G11: UN | H11: 319
A12: 007 | B12: MPA | C12: 400L0103 | D12: BAC L1B PO NOIR C22 | E12: 22521008C40 | F12: BAC L1B PO NOIR C2222521008C40 | G12: UN | H12: =1680+131 -> 1811
A13: 007 | B13: MPA | C13: 400L0111 | D13: BAC L1B PO NOIR C28 | E13: 25331014B70 | F13: BAC L1B PO NOIR C2825331014B70 | G13: UN | H13: 976
A14: 007 | B14: MPA | C14: 400L0115 | D14: BAC L1 B PO GRIS C22 | E14: 22521024B70 | F14: BAC L1 B PO GRIS C2222521024B70 | G14: UN | H14: 1118
A15: 007 | B15: MPA | C15: 400L0116 | D15: BAC L1 GRIS P0 C26 | E15: 26901010B70 | F15: BAC L1 GRIS P0 C2626901010B70 | G15: UN | H15: 0
A16: 007 | B16: MPA | C16: 400L0117 | D16: BAC L1 NOIR PO C26 NON PERCE 26901001P70 | E16: 26901001P70 | F16: BAC L1 NOIR PO C26 NON PERCE 26901001P7026901001P70 | G16: UN | H16: 3899
A17: 007 | B17: MPA | C17: 400L0118 | D17: BAC L1 NOIR P0 C28 | E17: 25341044B70 | F17: BAC L1 NOIR P0 C2825341044B70 | G17: UN | H17: =2640+1425 -> 4065
A18: 007 | B18: MPA | C18: 400L0119 | D18: BAC L1 OPAQUE P0 C26 | E18: 26901006P70 | F18: BAC L1 OPAQUE P0 C2626901006P70 | G18: UN | H18: 0
A19: 007 | B19: MPA | C19: 400L0120 | D19: BAC L1 GRIS P0 C22 | E19: 25391019B70 | F19: BAC L1 GRIS P0 C2225391019B70 | G19: UN | H19: 2925
A20: 007 | B20: MPA | C20: 400L0121 | D20: BAC L1 NOIR P0 C22 | E20: 25391020B70 | F20: BAC L1 NOIR P0 C2225391020B70 | G20: UN | H20: 5368
A21: 007 | B21: MPA | C21: 400L0123 | D21: BAC L1 NOIR P0 C31.5 | E21: AVEC LISTEAUX ET TALON | F21: BAC L1 NOIR P0 C31.5AVEC LISTEAUX ET TALON | G21: UN | H21: 696
A22: 007 | B22: MPA | C22: 400L0201 | D22: BAC L2 BASSE PRISME 0 OP | E22: C34 | F22: BAC L2 BASSE PRISME 0 OPC34 | G22: UN | H22: 0
A23: 007 | B23: MPA | C23: 400L0202 | D23: BAC L2 BASSE P0 NOIR C34 | E23: 25181011B77 | F23: BAC L2 BASSE P0 NOIR C3425181011B77 | G23: UN | H23: 2240
A24: 007 | B24: MPA | C24: 400L0203 | D24: BAC L2 C34.3 P0 OPAQUE | E24: 38881085B77 | F24: BAC L2 C34.3 P0 OPAQUE38881085B77 | G24: UN | H24: 0
A25: 007 | B25: MPA | C25: 400l0204 | D25: BAC L2B NOIR PO C28 | F25: BAC L2B NOIR PO C28 | G25: UN | H25: 3240
A26: 007 | B26: MPA | C26: 400L0207 | D26: BAC L2 GRIS P0 C34 -TAXI | E26: 25171040B77 | F26: BAC L2 GRIS P0 C34 -TAXI25171040B77 | G26: UN | H26: 991
A27: 007 | B27: MPA | C27: 400L0211 | D27: BAC L2 BASSE GRIS P0 C28 | E27: 25701004B77 | F27: BAC L2 BASSE GRIS P0 C2825701004B77 | G27: UN | H27: 432
A28: 007 | B28: MPA | C28: 400L0212 | D28: BAC L2 GRIS PO C28 | E28: 25691011B77 | F28: BAC L2 GRIS PO C2825691011B77 | G28: UN | H28: 4346
A29: 007 | B29: MPA | C29: 400L0213 | D29: BAC L2 NOIR PO C28 | E29: 25691010B77 | F29: BAC L2 NOIR PO C2825691010B77 | G29: UN | H29: 6652
A30: 007 | B30: MPA | C30: 400L0214 | D30: BAC L2 C28 P0 OPAQUE | E30: 256910112B77 | F30: BAC L2 C28 P0 OPAQUE256910112B77 | G30: UN | H30: 0
A31: 007 | B31: MPA | C31: 400L0218 | D31: BAC L2 NOIR P0 C34,3 | E31: 38881099B77 | F31: BAC L2 NOIR P0 C34,338881099B77 | G31: UN | H31: 486
A32: 007 | B32: MPA | C32: 400L0219 | D32: BAC L2 GRIS28G PO C28 | E32: 25691022B77 | F32: BAC L2 GRIS28G PO C2825691022B77 | G32: UN | H32: 0
A33: 007 | B33: MPA | C33: 400L0220 | D33: BAC L2 NOIR PO C36 AVEC | E33: LISTEAUX ET TALON MONBAT | F33: BAC L2 NOIR PO C36 AVECLISTEAUX ET TALON MONBAT | G33: UN | H33: 0
A34: 007 | B34: MPA | C34: 400L0304 | D34: BAC L3 C33 P0 OPAQUE | E34: 26941001C40 | F34: BAC L3 C33 P0 OPAQUE26941001C40 | G34: UN | H34: 0
A35: 007 | B35: MPA | C35: 400L0306 | D35: BAC L3B P0 NOIR C40 | E35: 26651004B74 | F35: BAC L3B P0 NOIR C4026651004B74 | G35: UN | H35: 8651
A36: 007 | B36: MPA | C36: 400L0312 | D36: BAC L3 BASSE GRIS P0 C34 | E36: 34451034C40 | F36: BAC L3 BASSE GRIS P0 C3434451034C40 | G36: UN | H36: 2019
A37: 007 | B37: MPA | C37: 400L0313 | D37: BAC L3 GRIS P0 C33 | E37: 2B341004B70 | F37: BAC L3 GRIS P0 C332B341004B70 | G37: UN | H37: 319
... A39: 007 | B39: MPA | C39: 400L0315 | D39: BAC L3 OPAQUE P0 C40 | E39: 24941008P70 | F39: BAC L3 OPAQUE P0 C4024941008P70 | G39: UN | H39: 0
A40: 007 | B40: MPA | C40: 400L0316 | D40: BAC L3 GRIS P0 C40 GRIS - TAXI | F40: BAC L3 GRIS P0 C40 GRIS - TAXI | G40: UN | H40: 296
A41: 007 | B41: MPA | C41: 400L0318 | D41: BAC L3 NOIR P0 C40 | E41: 2B331002B74 | F41: BAC L3 NOIR P0 C402B331002B74 | G41: UN | H41: 6611
A42: 007 | B42: MPA | C42: 400L0319 | D42: BAC L3 GRIS28G P0 C33 | E42: 2B341009B74 | F42: BAC L3 GRIS28G P0 C332B341009B74 | G42: UN | H42: 199
A43: 007 | B43: MPA | C43: 400L0321 | D43: BAC L3 NOIR P0 C43.5 | E43: AVEC LISTEAUX ET TALON | F43: BAC L3 NOIR P0 C43.5AVEC LISTEAUX ET TALON | G43: UN | H43: 260
A44: 007 | B44: MPA | C44: 400L0401 | D44: BAC L4 NOIR P0 C46,5 | E44: 21081020B70 | F44: BAC L4 NOIR P0 C46,521081020B70 | G44: UN | H44: 842
A45: 007 | B45: MPA | C45: 400L0402 | D45: BAC L4B NOIR P0 C46,5 | E45: 21071019B70 | F45: BAC L4B NOIR P0 C46,521071019B70 | G45: UN | H45: 66
A46: 007 | B46: MPA | C46: 400L0404 | D46: BAC L4B OPAQUE P0 C46,5 | E46: 21071015B70 | F46: BAC L4B OPAQUE P0 C46,521071015B70 | G46: UN | H46: 0
A47: 007 | B47: MPA | C47: 400L0405 | D47: BAC L4 OPAQUE P0 C46,5 | E47: 21081028B70 | F47: BAC L4 OPAQUE P0 C46,521081028B70 | G47: UN | H47: 0
A48: 007 | B48: MPA | C48: 400L0503 | D48: BAC L5 C45 P0 OPAQUE | E48: 27231002C40 | F48: BAC L5 C45 P0 OPAQUE27231002C40 | G48: UN | H48: 0
A49: 007 | B49: MPA | C49: 400l0506 | D49: BAC L5B C45 P0 NOIR | F49: BAC L5B C45 P0 NOIR | G49: UN | H49: 2028
A50: 007 | B50: MPA | C50: 400L0509 | D50: BAC L5 GRIS P0 C45 | E50: 27231006B77 | F50: BAC L5 GRIS P0 C4527231006B77 | G50: UN | H50: 0
A51: 007 | B51: MPA | C51: 400L0511 | D51: BAC L5 P0 C52 OPAQUE | E51: 20641061P77 | F51: BAC L5 P0 C52 OPAQUE20641061P77 | G51: UN | H51: 0
A52: 007 | B52: MPA | C52: 400L0512 | D52: BAC L5 NOIR P0 C54,4 RENFORCE | E52: DIN - GEL | F52: BAC L5 NOIR P0 C54,4 RENFORCE DIN - GEL | G52: UN | H52: 124
A53: 007 | B53: MPA | C53: 400L0513 | D53: BAC L5 C45 P0 NOIR | E53: 27231007B77 | F53: BAC L5 C45 P0 NOIR27231007B77 | G53: UN | H53: 4993
A54: 007 | B54: MPA | C54: 400L0518 | D54: BAC L5 NOIR P0 C52 | E54: 20641062B77 | F54: BAC L5 NOIR P0 C5220641062B77 | G54: UN | H54: 8835
A55: 007 | B55: MPA | C55: 400L0519 | D55: BAC L5B NOIR P0 C52 | F55: BAC L5B NOIR P0 C52 | G55: UN | H55: 33
A56: 007 | B56: MPA | C56: 400L0618 | D56: BAC L6 NOIR P0 C58,8 | E56: 24121021B74 | F56: BAC L6 NOIR P0 C58,824121021B74 | G56: UN | H56: 845
A57: 007 | B57: MPA | C57: 400M1001 | D57: BAC M10 P15.8 C33 OP | E57: 30241002D40 | F57: BAC M10 P15.8 C33 OP30241002D40 | G57: UN | H57: 0
A58: 007 | B58: MPA | C58: 400M1005 | D58: BAC M10 BASSE P0 C33 | E58: NOIR | F58: BAC M10 BASSE P0 C33NOIR | G58: UN | H58: 0
A59: 007 | B59: MPA | C59: 400M1008 | D59: BAC M10 P15,4 C33 GRIS | E59: 30241012B70 | F59: BAC M10 P15,4 C33 GRIS30241012B70 | G59: UN | H59: 435
A60: 007 | B60: MPA | C60: 400M1009 | D60: BAC M10 P15,4 C33 NOIR | E60: 30241013B70 | F60: BAC M10 P15,4 C33 NOIR30241013B70 | G60: UN | H60: 269
A61: 007 | B61: MPA | C61: 400M1011 | D61: BAC M10B P5,5 C38 NOIR | E61: B03 AKU 200836 | F61: BAC M10B P5,5 C38 NOIRB03 AKU 200836 | G61: UN | H61: 853
A62: 007 | B62: MPA | C62: 400M1013 | D62: BAC M10B P0 C38 NOIR | E62: 33191014B70 | F62: BAC M10B P0 C38 NOIR33191014B70 | G62: UN | H62: 0
A63: 007 | B63: MPA | C63: 400M1102 | D63: BAC M11 P8.5 C46.5 OP | E63: 22241001D47 | F63: BAC M11 P8.5 C46.5 OP22241001D47 | G63: UN | H63: 0
A64: 007 | B64: MPA | C64: 400M1104 | D64: BAC M11 P8.5 C46,3 NOIR | E64: 22241008B70 | F64: BAC M11 P8.5 C46,3 NOIR22241008B70 | G64: UN | H64: 0
A65: 007 | B65: MPA | C65: 400M1107 | D65: BAC M11B P0 C46,6 NOIR | E65: 200442 | F65: BAC M11B P0 C46,6 NOIR200442 | G65: UN | H65: 0
A66: 007 | B66: MPA | C66: 400M1110 | D66: BAC M11 P8,5 C46 GRIS | E66: 22241025B70 | F66: BAC M11 P8,5 C46 GRIS22241025B70 | G66: UN | H66: 1425
A67: 007 | B67: MPA | C67: 400M1111 | D67: BAC M11B P0 C46,65 NOIR | E67: AKU 200526 | F67: BAC M11B P0 C46,65 NOIRAKU 200526 | G67: UN | H67: 0
... A77: 007 | B77: MPA | C77: 400M1410 | D77: BAC M14 P0 C60 OPAQUE | E77: 35321003D40 | F77: BAC M14 P0 C60 OPAQUE35321003D40 | G77: UN | H77: 0
A78: 007 | B78: MPA | C78: 400M1411 | D78: BAC M14 K NOIR C60 P7 | F78: BAC M14 K NOIR C60 P7 | G78: UN | H78: 0
A79: 007 | B79: MPA | C79: 400M1412 | D79: BAC M14 OPAQUE P0 C65 | E79: 25891002D40 | F79: BAC M14 OPAQUE P0 C6525891002D40 | G79: UN | H79: 0
A80: 007 | B80: MPA | C80: 400M1413 | D80: BAC M14 NOIR PO C60 | E80: 35321017B70 | F80: BAC M14 NOIR PO C6035321017B70 | G80: UN | H80: 675
A81: 007 | B81: MPA | C81: 400M1509 | D81: BAC M15 GRIS PO C78 | E81: 35331028B74 | F81: BAC M15 GRIS PO C7835331028B74 | G81: UN | H81: 176
A82: 007 | B82: MPA | C82: 400M1510 | D82: BAC M15 NOIR PO C78 | E82: 35331021B70 | F82: BAC M15 NOIR PO C7835331021B70 | G82: UN | H82: 0
A83: 007 | B83: MPA | C83: 400M1513 | D83: BAC M15 K NOIR C78,5 P7 | E83: 35331024D40 | F83: BAC M15 K NOIR C78,5 P735331024D40 | G83: UN | H83: 0
A84: 007 | B84: MPA | C84: 400M1516 | D84: BAC M15 NOIR PO C78 B01 | E84: AVEC LISTEAUX 35331032B74 | F84: BAC M15 NOIR PO C78 B01AVEC LISTEAUX 35331032B74 | G84: UN | H84: 0
A85: 007 | B85: MPA | C85: 400M1517 | D85: BAC M15 NOIR C78,5 P0 NERVURES FLEXIBLES | E85: 27571001B70 | F85: BAC M15 NOIR C78,5 P0 NERVURES FLEXIBLES27571001B70 | G85: UN | H85: 190
A86: 007 | B86: MPA | C86: 400M1606 | D86: BAC M16 GRIS C102 P16 | E86: 20891032B74 | F86: BAC M16 GRIS C102 P1620891032B74 | G86: UN | H86: 757
A87: 007 | B87: MPA | C87: 400M1607 | D87: BAC M16 K NOIR C102 P16 | F87: BAC M16 K NOIR C102 P16 | G87: UN | H87: 0
A88: 007 | B88: MPA | C88: 400M1608 | D88: BAC M16 P0 C102 NOIR | E88: 20891024P70 | F88: BAC M16 P0 C102 NOIR20891024P70 | G88: UN | H88: 658
A89: 007 | B89: MPA | C89: 400M1609 | D89: BAC M16 NOIR PO C102 B01 | E89: AVEC LISTEAUX 20891039B74 | F89: BAC M16 NOIR PO C102 B01AVEC LISTEAUX 20891039B74 | G89: UN | H89: 58
A90: 007 | B90: MPA | C90: 400M1610 | D90: BAC M16 OPAQUE P16 C102 | E90: B01 AVEC LISTEAUX 20891040B74 | F90: BAC M16 OPAQUE P16 C102B01 AVEC LISTEAUX 20891040B74 | G90: UN | H90: 0
A91: 007 | B91: MPA | C91: 400MAC110 | D91: BAC 110MAC P0 C78 OPAQUE | E91: 33642028D40 | F91: BAC 110MAC P0 C78 OPAQUE33642028D40 | G91: UN | H91: 0
A92: 007 | B92: MPA | C92: 400MAC14301 | D92: BAC 143MAC OPAQUE P0 C90 | E92: 35281028D70 | F92: BAC 143MAC OPAQUE P0 C9035281028D70 | G92: UN | H92: 0
A93: 007 | B93: MPA | C93: 400MAC14302 | D93: BAC 143MAC BASSE OPAQUE | E93: P0 C90 | F93: BAC 143MAC BASSE OPAQUEP0 C90 | G93: UN | H93: 0
A94: 007 | B94: MPA | C94: 400MAT13201 | D94: BAC MAT132 NOIR P0 C67 | E94: 31091007P70 | F94: BAC MAT132 NOIR P0 C6731091007P70 | G94: UN | H94: 0
A95: 007 | B95: MPA | C95: 400N5001 | D95: BAC N50 P11 C33 OPAQUE | F95: BAC N50 P11 C33 OPAQUE | G95: UN | H95: 0
A96: 007 | B96: MPA | C96: 400N5002 | D96: BAC N50 P0 C38 B00 NOIR | E96: 200457 | F96: BAC N50 P0 C38 B00 NOIR200457 | G96: UN | H96: 659
A97: 007 | B97: MPA | C97: 400N5003 | D97: BAC N50 P0 C40 NOIR A | E97: LISTEAUX MONBAT | F97: BAC N50 P0 C40 NOIR ALISTEAUX MONBAT | G97: UN | H97: 202
A98: 007 | B98: MPA | C98: 400N7001 | D98: BAC N70 P7,5 C44,3 | E98: OPAQUE | F98: BAC N70 P7,5 C44,3OPAQUE | G98: UN | H98: 0
A99: 007 | B99: MPA | C99: 400N7002 | D99: BAC N70 P0 C46,5 B01 | E99: NOIR 200541 | F99: BAC N70 P0 C46,5 B01NOIR 200541 | G99: UN | H99: 283
A100: 007 | B100: MPA | C100: 400NAT001 | D100: BAC NATO OPAQUE P11.6 | E100: 25231006C40 | F100: BAC NATO OPAQUE P11.625231006C40 | G100: UN | H100: 0
A101: 007 | B101: MPA | C101: 400NAT002 | D101: BAC NATO NOIR P11.6 | E101: 25321006B70 | F101: BAC NATO NOIR P11.625321006B70 | G101: UN | H101: 384
A102: 007 | B102: MPA | C102: 400NAT003 | D102: BAC NATO AGM GRIS P0 | E102: 27581004B70 | F102: BAC NATO AGM GRIS P027581004B70 | G102: UN | H102: 105
A103: 007 | B103: MPA | C103: 400NS4002 | D103: BAC NS40 P0 NOIR | E103: SANS LISTEAUX 27181001B70 | F103: BAC NS40 P0 NOIRSANS LISTEAUX 27181001B70 | G103: UN | H103: 646
A104: 007 | B104: MPA | C104: 400NS4003 | D104: BAC NS40 P0 NOIR V250 | E104: LISTEAUX KOREAN 2B221014B70 | F104: BAC NS40 P0 NOIR V250LISTEAUX KOREAN 2B221014B70 | G104: UN | H104: 1440
A105: 007 | B105: MPA | C105: 400NS6001 | D105: BAC NS60B P0 OPAQUE | F105: BAC NS60B P0 OPAQUE | G105: UN | H105: 0
A106: 007 | B106: MPA | C106: 400NS6002 | D106: BAC NS60 P0 C34 NOIR | E106: 27251002B74 | F106: BAC NS60 P0 C34 NOIR27251002B74 | G106: UN | H106: 1419
A107: 007 | B107: MPA | C107: 420B9002 | D107: COUVB90 COMPACT DROITE | E107: NOIR 34922028B70 | F107: COUVB90 COMPACT DROITENOIR 34922028B70 | G107: UN | H107: 292
A108: 007 | B108: MPA | C108: 420D2303 | D108: COUV D23 T-AKUMSAN D+ | E108: NOIR 301598 | F108: COUV D23 T-AKUMSAN D+NOIR 301598 | G108: UN | H108: 1090
A109: 007 | B109: MPA | C109: 420D2304 | D109: COUV D23 T-AKUMSAN D+ | E109: NOIR AVEC OM | F109: COUV D23 T-AKUMSAN D+NOIR AVEC OM | G109: UN | H109: 0
A110: 007 | B110: MPA | C110: 420D2305 | D110: COUV D23 T-AKUMSAN G+ | E110: NOIR AVEC OM | F110: COUV D23 T-AKUMSAN G+NOIR AVEC OM | G110: UN | H110: 24
...

Sheet CMD
A1: Site | B1: Supplier | C1: Ref ordered | D1: PO Status | E1: Date ordered | F1: Date requested | G1: Confirmation date | H1: Confirmation number | I1: Pick up date | J1: Delivery date | K1: Code | L1: Description | M1: Supplier code | N1: Quantity ordered | O1: Confirmed Qty | P1: Qty received | Q1: Remaining to be delivered | R1: UM | S1: Price per unit | T1: Currency | U1: Amount confirmed qty | V1: Open amount qty | W1: Incoterm | X1: Payment mode | Y1: Invoice number | Z1: Total quantity in transit | AA1: Total quantity sent | AB1: Remaining quantity | AC1: Remaining Qt value
A2: SNA1 | B2: SOVEMA | C2: PO220217 | D2: Confirmed | E2: 44600 | F2: 44694 | G2: 44694 | H2: 1019432 | K2: 701ELE024 | L2: CARTE sortie Redresseur CS20007/01 RED2008/2009 | N2: 1 | O2: 1 | Q2: 1 | R2: UN | S2: 360.9 | T2: EUR | U2: 360.9 | V2: 360.9 | W2: ExW | X2: VIR30J | AA2: 0 | AB2: 1 | AC2: 360.9
A3: SNA2 | B3: PELIPAPER | C3: PO220825 | D3: loaded | E3: 44673 | F3: 44742 | G3: 44742 | H3: 290422-01 | I3: 44824 | K3: 430P2010 | L3: SEP PAPIER G laize 103 mm 12,5 g/m² | N3: 260000 | O3: 260000 | Q3: 260000 | R3: M2 | S3: 0.04313 | T3: EUR | U3: 11213.8 | V3: 11213.8 | W3: EXW | X3: CAD | Z3: 260000 | AA3: 260000 | AB3: 0 | AC3: 0
A4: SNA2 | B4: PELIPAPER | C4: PO220825 | D4: loaded | E4: 44673 | F4: 44742 | G4: 44742 | H4: 290422-01 | I4: 44824 | K4: 430P2011 | L4: SEP PAPIER G laize 128 mm 12,5 g/m² | N4: 180000 | O4: 180000 | Q4: 180000 | R4: M2 | S4: 0.04313 | T4: EUR | U4: 7763.4 | V4: 7763.4 | W4: EXW | X4: CAD | Z4: 180000 | AA4: 180000 | AB4: 0 | AC4: 0
A5: SNA1 | B5: ACCUMA | C5: PO220965 | D5: Confirmed | E5: 44706 | F5: 44732 | G5: 44732 | H5: 22-1413 | K5: 460D2709 | L5: BOUCHON D27 ROUGE | M5: 39153003B70 | N5: 45000 | O5: 45000 | Q5: 45000 | R5: UN | S5: 0.027 | T5: EUR | U5: 1215 | V5: 1215 | W5: ExW | X5: VIR 60J | AA5: 0 | AB5: 45000 | AC5: 1215
A6: SNA1 | B6: ACCUMA | C6: PO221251 | D6: loaded | E6: 44742 | F6: 44760 | G6: 44777 | H6: 22-1729 | I6: 44827 | J6: 44838 | K6: 460D1818 | L6: BOUCHON D18 ROUGE FILETEE 29963003D40 | M6: 29963003D40 | N6: 96000 | O6: 104000 | P6: 25150 | Q6: 78850 | R6: UN | S6: 0.027 | T6: EUR | U6: 2808 | V6: 2128.95 | W6: ExW | X6: VIR 60J | Y6: 22-1131 | AA6: 25150 | AB6: 78850 | AC6: 2128.95
A7: SNA1 | B7: MICROPOROUS | C7: PO221707 | D7: loaded | E7: 44810 | F7: 44834 | G7: 44847 | H7: 22-1075 | I7: 44833 | K7: 430P1004 | L7: SEPARATEUR 161X1,2X0,2 | M7: FRQJ-200A219 | N7: 59431 | O7: 59431 | Q7: 59431 | R7: M² | S7: 0.6471 | T7: EUR | U7: 38457.8 | V7: 38457.8 | W7: ExW | X7: VIR 90J | Z7: 59431 | AA7: 59431 | AB7: 0 | AC7: 0
A8: SNA1 | B8: ACCUMA | C8: PO221712 | D8: loaded | E8: 44811 | F8: 44844 | G8: 44848 | H8: 22-2314 | I8: 44827 | J8: 44838 | K8: 400B9001 | L8: BAC COMPACT B90 C49 P19,5 T2 OPAQUE 34911011B70 | M8: 34911008B70 | N8: 756 | O8: 756 | P8: 504 | Q8: 252 | R8: UN | S8: 3.5 | T8: EUR | U8: 2646 | V8: 882 | W8: ExW | X8: VIR 60J | Y8: 22-1131 | AA8: 504 | AB8: 252 | AC8: 882
A9: SNA1 | B9: ACCUMA | C9: PO221712 | D9: Confirmed | E9: 44811 | F9: 44844 | G9: 44848 | H9: 22-2314 | K9: 420B9002 | L9: COUVB90 COMPACT DROITE NOIR 34922028B70 | M9: 34922028D40 | N9: 850 | O9: 850 | Q9: 850 | R9: UN | S9: 1.7 | T9: EUR | U9: 1445 | V9: 1445 | W9: ExW | X9: VIR 60J | AA9: 0 | AB9: 850 | AC9: 1445
A10: SNA1 | B10: ACCUMA | C10: PO221712 | D10: Confirmed | E10: 44811 | F10: 44844 | G10: 44848 | H10: 22-2314 | K10: 440B9002 | L10: RAMPE B90 COMPACT NOIR | M10: 2A233002B70 | N10: 1000 | O10: 1000 | Q10: 1000 | R10: UN | S10: 0.188 | T10: EUR | U10: 188 | V10: 188 | W10: ExW | X10: VIR 60J | AA10: 0 | AB10: 1000 | AC10: 188
A11: SNA1 | B11: ACCUMA | C11: PO221712 | D11: Confirmed | E11: 44811 | F11: 44837 | G11: 44848 | H11: 22-2314 | K11: 400L0103 | L11: BAC L1B PO NOIR C22 22521008C40 | M11: 22521008C40 | N11: 1440 | O11: 1440 | Q11: 1440 | R11: UN | S11: 1.4 | T11: EUR | U11: 2016 | V11: 2016 | W11: ExW | X11: VIR 60J | AA11: 0 | AB11: 1440 | AC11: 2016
A12: SNA1 | B12: ACCUMA | C12: PO221712 | D12: loaded | E12: 44811 | F12: 44837 | G12: 44848 | H12: 22-2314 | I12: 44827 | J12: 44838 | K12: 400L0118 | L12: BAC L1 NOIR P0 C28 25341044B70 | M12: 25341044B70 | N12: 3080 | O12: 3120 | P12: 960 | Q12: 2160 | R12: UN | S12: 1.43 | T12: EUR | U12: 4461.6 | V12: 3088.8 | W12: ExW | X12: VIR 60J | Y12: 22-1131 | AA12: 960 | AB12: 2160 | AC12: 3088.8
A13: SNA1 | B13: ACCUMA | C13: PO221712 | D13: Confirmed | E13: 44811 | F13: 44830 | G13: 44848 | H13: 22-2314 | K13: 400L0218 | L13: BAC L2 NOIR P0 C34,3 38881090B77 | M13: 38881099B77 | N13: 9306 | O13: 9504 | Q13: 9504 | R13: UN | S13: 1.496 | T13: EUR | U13: 14217.984 | V13: 14217.984 | W13: ExW | X13: VIR 60J | AA13: 0 | AB13: 9504 | AC13: 14217.984
A14: SNA1 | B14: ACCUMA | C14: PO221712 | D14: loaded | E14: 44811 | F14: 44830 | G14: 44848 | H14: 22-2314 | I14: 44827 | J14: 44838 | K14: 400L0318 | L14: BAC L3 NOIR P0 C40 2B331002B74 | M14: 2B331002B74 | N14: 12096 | O14: 12096 | P14: 1536 | Q14: 10560 | R14: UN | S14: 1.611 | T14: EUR | U14: 19486.656 | V14: 17012.16 | W14: ExW | X14: VIR 60J | Y14: 22-1131 | AA14: 1536 | AB14: 10560 | AC14: 17012.16
A15: SNA1 | B15: ACCUMA | C15: PO221712 | D15: Confirmed | E15: 44811 | F15: 44830 | G15: 44848 | H15: 22-2314 | K15: 400M1009 | L15: BAC M10 P15,4 C33 NOIR 30241008B70 | M15: 30241013B70 | N15: 7938 | O15: 7938 | Q15: 7938 | R15: UN | S15: 2.215 | T15: EUR | U15: 17582.67 | V15: 17582.67 | W15: ExW | X15: VIR 60J | AA15: 0 | AB15: 7938 | AC15: 17582.67
A16: SNA1 | B16: ACCUMA | C16: PO221712 | D16: Confirmed | E16: 44811 | F16: 44830 | G16: 44848 | H16: 22-2314 | K16: 420M1014 | L16: COUV M10 G FLAT NOIR 22462007B70 | M16: 22462007B70 | N16: 8064 | O16: 8064 | Q16: 8064 | R16: UN | S16: 0.85 | T16: EUR | U16: 6854.4 | V16: 6854.4 | W16: ExW | X16: VIR 60J | AA16: 0 | AB16: 8064 | AC16: 6854.4
A17: SNA1 | B17: ACCUMA | C17: PO221712 | D17: Confirmed | E17: 44811 | F17: 44830 | G17: 44848 | H17: 22-2314 | K17: 400M1104 | L17: BAC M11 P8.5 C46,3 NOIR 22241008B70 | M17: 22241008B70 | N17: 2898 | O17: 2898 | Q17: 2898 | R17: UN | S17: 2.278 | T17: EUR | U17: 6601.644 | V17: 6601.644 | W17: ExW | X17: VIR 60J | AA17: 0 | AB17: 2898 | AC17: 6601.644
A18: SNA1 | B18: ACCUMA | C18: PO221712 | D18: Confirmed | E18: 44811 | F18: 44830 | G18: 44848 | H18: 22-2314 | K18: 420M1125 | L18: COUV M11 G FLAT NOIR M18 22482045B70 | M18: 22482045B70 | N18: 2784 | O18: 2784 | Q18: 2784 | R18: UN | S18: 0.96 | T18: EUR | U18: 2672.64 | V18: 2672.64 | W18: ExW | X18: VIR 60J | AA18: 0 | AB18: 2784 | AC18: 2672.64
A19: SNA1 | B19: ACCUMA | C19: PO221712 | D19: Confirmed | E19: 44811 | F19: 44837 | G19: 44848 | H19: 22-2314 | K19: 420M1126 | L19: COUV M11 D FLAT NOIR M18 22482044B70 | M19: 22482044B70 | N19: 1160 | O19: 1160 | Q19: 1160 | R19: UN | S19: 0.96 | T19: EUR | U19: 1113.6 | V19: 1113.6 | W19: ExW | X19: VIR 60J | AA19: 0 | AB19: 1160 | AC19: 1113.6
A20: SNA1 | B20: ACCUMA | C20: PO221712 | D20: loaded | E20: 44811 | F20: 44837 | G20: 44848 | H20: 22-2314 | I20: 44827 | J20: 44838 | K20: 400M1203 | L20: BAC M12 GRIS C49 P12,5 21631007B70 | M20: 21631007B70 | N20: 720 | O20: 720 | P20: 480 | Q20: 240 | R20: UN | S20: 3.25 | T20: EUR | U20: 2340 | V20: 780 | W20: ExW | X20: VIR 60J | Y20: 22-1131 | AA20: 480 | AB20: 240 | AC20: 780
A21: SNA1 | B21: ACCUMA | C21: PO221712 | D21: Confirmed | E21: 44811 | F21: 44837 | G21: 44848 | H21: 22-2314 | I21: 44827 | K21: 400M1409 | L21: BAC M14 GRIS PO C60 35321021B74 | M21: 35321021B74 | N21: 1089 | O21: 1089 | Q21: 1089 | R21: UN | S21: 4.82 | T21: EUR | U21: 5248.98 | V21: 5248.98 | W21: ExW | X21: VIR 60J | AA21: 0 | AB21: 1089 | AC21: 5248.98
A22: SNA1 | B22: ACCUMA | C22: PO221712 | D22: Confirmed | E22: 44811 | F22: 44837 | G22: 44848 | H22: 22-2314 | K22: 420M1413 | L22: COUV M14 GAUCHE GRIS 35422083B70 | M22: 35422083B70 | N22: 1536 | O22: 1536 | Q22: 1536 | R22: UN | S22: 1.887 | T22: EUR | U22: 2898.432 | V22: 2898.432 | W22: ExW | X22: VIR 60J | AA22: 0 | AB22: 1536 | AC22: 2898.432
A23: SNA1 | B23: ACCUMA | C23: PO221712 | D23: Confirmed | E23: 44811 | F23: 44830 | G23: 44848 | H23: 22-2314 | K23: 400M1509 | L23: BAC M15 GRIS PO C78 35331028B74 | M23: 35331028B74 | N23: 4235 | O23: 4235 | Q23: 4235 | R23: UN | S23: 5.1 | T23: EUR | U23: 21598.5 | V23: 21598.5 | W23: ExW | X23: VIR 60J | AA23: 0 | AB23: 4235 | AC23: 21598.5
A24: SNA1 | B24: ACCUMA | C24: PO221712 | D24: Confirmed | E24: 44811 | F24: 44830 | G24: 44848 | H24: 22-2314 | K24: 420M1502 | L24: COUV.M15 GAUCHE NOIR 35402026B70 | M24: 35402026B70 | N24: 1400 | O24: 1400 | Q24: 1400 | R24: UN | S24: 1.78 | T24: EUR | U24: 2492 | V24: 2492 | W24: ExW | X24: VIR 60J | AA24: 0 | AB24: 1400 | AC24: 2492
A25: SNA1 | B25: ACCUMA | C25: PO221712 | D25: Confirmed | E25: 44811 | F25: 44830 | G25: 44848 | H25: 22-2314 | K25: 420M1515 | L25: COUV M15 GAUCHE GRIS 35402089B70 | M25: 35402089B70 | N25: 3500 | O25: 3500 | Q25: 3500 | R25: UN | S25: 1.972 | T25: EUR | U25: 6902 | V25: 6902 | W25: ExW | X25: VIR 60J | AA25: 0 | AB25: 3500 | AC25: 6902
A26: SNA2 | B26: ELINOIL04 | C26: PO221815 | D26: loaded | E26: 44820 | I26: 44829 | K26: 610X0014 | L26: COKE DE PETROLE | N26: 44210 | O26: 44210 | Q26: 44210 | R26: KG | S26: 0.434 | T26: EUR | U26: 19187.14 | V26: 19187.14 | W26: CFR | X26: CAD | Z26: 44210 | AA26: 44210 | AB26: 0 | AC26: 0
A27: SNA1 | B27: SOVEMA | C27: PO221893 | D27: Confirmed | E27: 44832 | F27: 44865 | G27: 44862 | H27: 1020460 | K27: 815RES005 | L27: RESISTANCE TUBE 500W A3024050 pompe COS | N27: 4 | O27: 4 | Q27: 4 | R27: UN | S27: 71.38 | T27: EUR | U27: 285.52 | V27: 285.52 | W27: EXW | X27: VIR 90J | AA27: 0 | AB27: 4 | AC27: 285.52
A28: SNA1 | B28: SOVEMA | C28: PO221893 | D28: Confirmed | E28: 44832 | F28: 44865 | G28: 44862 | H28: 1020460 | K28: 810COU005 | L28: COURROIE ENVELOPPEUSE A0131957 | N28: 2 | O28: 2 | Q28: 2 | R28: UN | S28: 818 | T28: EUR | U28: 1636 | V28: 1636 | W28: EXW | X28: VIR 90J | AA28: 0 | AB28: 2 | AC28: 1636
A29: SNA1 | B29: SOVEMA | C29: PO221893 | D29: Confirmed | E29: 44832 | F29: 44865 | G29: 44862 | H29: 1020460 | K29: 702ELE020 | L29: THERMOCOUPLE D2*100 A3025007 | N29: 20 | O29: 20 | Q29: 20 | R29: UN | S29: 26.87 | T29: EUR | U29: 537.4 | V29: 537.4 | W29: EXW | X29: VIR 90J | AA29: 0 | AB29: 20 | AC29: 537.4
A30: SNA1 | B30: SOVEMA | C30: PO221893 | D30: Confirmed | E30: 44832 | F30: 44865 | G30: 44862 | H30: 1020460 | K30: 710MEC026 | L30: Pneumatic valve (fin de course) A7009345 | N30: 8 | O30: 8 | Q30: 8 | R30: #N/A | S30: 29.3 | T30: EUR | U30: 234.4 | V30: 234.4 | W30: EXW | X30: VIR 90J | AA30: 0 | AB30: 8 | AC30: 234.4
A31: SNA1 | B31: SOVEMA | C31: PO221893 | D31: Confirmed | E31: 44832 | F31: 44865 | G31: 44862 | H31: 1020460 | K31: 702MECO77 | L31: VERIN A7005732 D80 C35 PN05374.35 PANIER | N31: 4 | O31: 4 | Q31: 4 | R31: UN | S31: 170.8 | T31: EUR | U31: 683.2 | V31: 683.2 | W31: EXW | X31: VIR 90J | AA31: 0 | AB31: 4 | AC31: 683.2
A32: SNA1 | B32: AKUMSAN | C32: PO221927 | D32: Confirmed | E32: 44833 | F32: 44865 | G32: 44855 | H32: 2199 | K32: 400N5002 | L32: BAC N50 PO C38 B00 NOIR 200457 | N32: 1960 | O32: 1960 | Q32: 1960 | R32: UN | S32: 2.0755 | T32: EUR | U32: 4067.98 | V32: 4067.98 | W32: EXW | X32: VIR 90J | AA32: 0 | AB32: 1960 | AC32: 4067.98
A33: SNA1 | B33: AKUMSAN | C33: PO221927 | D33: Confirmed | E33: 44833 | F33: 44865 | G33: 44855 | H33: 2199 | K33: 420N5005 | L33: couv N50 T-akumsan D+ noir avec OM | N33: 138 | O33: 138 | Q33: 138 | R33: UN | S33: 1.0849 | T33: EUR | U33: 149.7162 | V33: 149.7162 | W33: EXW | X33: VIR 90J | AA33: 0 | AB33: 138 | AC33: 149.7162
A34: SNA1 | B34: AKUMSAN | C34: PO221927 | D34: Confirmed | E34: 44833 | F34: 44865 | G34: 44855 | H34: 2199 | K34: 420N5006 | L34: couv N50 T-akumsan G+ noir avec OM | N34: 2392 | O34: 2392 | Q34: 2392 | R34: UN | S34: 1.0849 | T34: EUR | U34: 2595.0808 | V34: 2595.0808 | W34: EXW | X34: VIR 90J | AA34: 0 | AB34: 2392 | AC34: 2595.0808
A35: SNA1 | B35: AKUMSAN | C35: PO221927 | D35: Confirmed | E35: 44833 | F35: 44865 | G35: 44855 | H35: 2199 | K35: 490T5001 | L35: couvre couvercle N50 T-akumsan noir | N35: 2400 | O35: 2400 | Q35: 2400 | R35: UN | S35: 0.4351 | T35: EUR | U35: 1044.24 | V35: 1044.24 | W35: EXW | X35: VIR 90J | AA35: 0 | AB35: 2400 | AC35: 1044.24
A36: SNA1 | B36: AKUMSAN | C36: PO221927 | D36: Confirmed | E36: 44833 | F36: 44865 | G36: 44855 | H36: 2199 | K36: 400N7002 | L36: BAC N70 po C46 B01 noir 200541 | N36: 1440 | O36: 1440 | Q36: 1440 | R36: UN | S36: 2.047 | T36: EUR | U36: 2947.68 | V36: 2947.68 | W36: EXW | X36: VIR 90J | AA36: 0 | AB36: 1440 | AC36: 2947.68
A37: SNA1 | B37: AKUMSAN | C37: PO221927 | D37: Confirmed | E37: 44833 | F37: 44865 | G37: 44855 | H37: 2199 | K37: 420N7005 | L37: couv N70 T-akumsan D+ noir avec OM | N37: 504 | O37: 504 | Q37: 504 | R37: UN | S37: 1.1322 | T37: EUR | U37: 570.6288 | V37: 570.6288 | W37: EXW | X37: VIR 90J | AA37: 0 | AB37: 504 | AC37: 570.6288
A38: SNA1 | B38: AKUMSAN | C38: PO221927 | D38: Confirmed | E38: 44833 | F38: 44865 | G38: 44855 | H38: 2199 | K38: 420N7006 | L38: couv N70 T-akumsan G+ noir avec OM | N38: 1188 | O38: 1188 | Q38: 1188 | R38: UN | S38: 1.1322 | T38: EUR | U38: 1345.0536 | V38: 1345.0536 | W38: EXW | X38: VIR 90J | AA38: 0 | AB38: 1188 | AC38: 1345.0536
A39: SNA1 | B39: AKUMSAN | C39: PO221927 | D39: Confirmed | E39: 44833 | F39: 44865 | G39: 44855 | H39: 2199 | K39: 490T7001 | L39: couvre couvercle N70 T-akumsan noir | N39: 1536 | O39: 1536 | Q39: 1536 | R39: UN | S39: 0.4564 | T39: EUR | U39: 701.0304 | V39: 701.0304 | W39: EXW | X39: VIR 90J | AA39: 0 | AB39: 1536 | AC39: 701.0304
K40: 400D2304 | L40: BAC D23 P0 C33 NOIR A LISTEAUX | M40: 221296 | N40: 1320 | O40: 1320 | Q40: 1320 | R40: UN | S40: 2.0677 | T40: EUR | U40: 2729.364 | V40: 2729.364 | W40: EXW | X40: VIR 90J
K41: 420D2304 | L41: COUV D23 T-AKUMSAN D+ NOIR AVEC OM | M41: 322274 | N41: 1150 | O41: 1150 | Q41: 1150 | R41: UN | S41: 1.146 | T41: EUR | U41: 1317.9 | V41: 1317.9 | W41: EXW | X41: VIR 90J
K42: 420D2305 | L42: COUV D23 T-AKUMSAN G+ NOIR AVEC OM | M42: 322278 | N42: 350 | O42: 350 | Q42: 350 | R42: UN | S42: 1.146 | T42: EUR | U42: 401.1 | V42: 401.1 | W42: EXW | X42: VIR 90J
K43: 490T2301 | L43: COUVRE COUVERCLE D23 T-AKUMSAN NOIR | M43: 710302 | N43: 1440 | O43: 1440 | Q43: 1440 | R43: UN | S43: 0.4556 | T43: EUR | U43: 656.064 | V43: 656.064 | W43: EXW | X43: VIR 90J
K44: 420L0142 | L44: COUV L1 T-AKUMSAN D+ NOIR AVEC OM | M44: 322177 | N44: 1350 | O44: 1350 | Q44: 1350 | R44: UN | S44: 1.2034 | T44: EUR | U44: 1624.59 | V44: 1624.59 | W44: EXW | X44: VIR 90J
K45: 490TL0102 | L45: COUVRE COUVERCLE L1T-AKUMSAN NOIR | M45: 710319 | N45: 1152 | O45: 1152 | Q45: 1152 | R45: UN | S45: 0.3798 | T45: EUR | U45: 437.5296 | V45: 437.5296 | W45: EXW | X45: VIR 90J
K46: 420L0243 | L46: COUV L2 T-AKUMSAN D+ NOIR AVEC OM | M46: 322197 | N46: 1584 | O46: 1584 | Q46: 1584 | R46: UN | S46: 1.2527 | T46: EUR | U46: 1984.2768 | V46: 1984.2768 | W46: EXW | X46: VIR 90J
K47: 490TL0202 | L47: COUVRE COUVERCLE L2T-AKUMSAN NOIR | M47: 710303 | N47: 1344 | O47: 1344 | Q47: 1344 | R47: UN | S47: 0.4223 | T47: EUR | U47: 567.5712 | V47: 567.5712 | W47: EXW | X47: VIR 90J
K48: 420L0343 | L48: COUV L3 T-AKUMSAN D+ NOIR AVEC OM | M48: 322198 | N48: 2024 | O48: 2024 | Q48: 2024 | R48: UN | S48: 1.3177 | T48: EUR | U48: 2667.0248 | V48: 2667.0248 | W48: EXW | X48: VIR 90J
K49: 490TL0302 | L49: COUVRE COUVERCLE L3 T-AKUMSAN NOIR | M49: 710304 | N49: 1728 | O49: 1728 | Q49: 1728 | R49: UN | S49: 0.4723 | T49: EUR | U49: 816.1344 | V49: 816.1344 | W49: EXW | X49: VIR 90J
K50: 420L0542 | L50: COUV L5 T-AKUMSAN D+ NOIR AVEC OM | M50: 322179 | N50: 800 | O50: 800 | Q50: 800 | R50: UN | S50: 1.4044 | T50: EUR | U50: 1123.52 | V50: 1123.52 | W50: EXW | X50: VIR 90J
K51: 490TL0502 | L51: COUVRE COUVERCLE L5 T-AKUMSAN NOIR | M51: 710305 | N51: 756 | O51: 756 | Q51: 756 | R51: UN | S51: 0.5287 | T51: EUR | U51: 399.6972 | V51: 399.6972 | W51: EXW | X51: VIR 90J
... K59: 490T7001 | L59: COUVRE COUVERCLE N70 T-AKUMSAN NOIR | M59: 710300 | N59: 1152 | O59: 1152 | Q59: 1152 | R59: UN | S59: 0.4884 | T59: EUR | U59: 562.6368 | V59: 562.6368 | W59: EXW | X59: VIR 90J

Sheet Recap CMD
A1: Code | B1: Description | C1: Somme de Remaining to be delivered
A2: 400B9001 | B2: BAC COMPACT B90 C49 P19,5 T2 OPAQUE 34911011B70 | C2: 252
A3: 400D2304 | B3: BAC D23 P0 C33 NOIR A LISTEAUX | C3: 1320
A4: 400L0103 | B4: BAC L1B PO NOIR C22 22521008C40 | C4: 1440
A5: 400L0118 | B5: BAC L1 NOIR P0 C28 25341044B70 | C5: 2160
A6: 400L0218 | B6: BAC L2 NOIR P0 C34,3 38881090B77 | C6: 9504
A7: 400L0318 | B7: BAC L3 NOIR P0 C40 2B331002B74 | C7: 10560
A8: 400M1009 | B8: BAC M10 P15,4 C33 NOIR 30241008B70 | C8: 7938
A9: 400M1104 | B9: BAC M11 P8.5 C46,3 NOIR 22241008B70 | C9: 2898
A10: 400M1203 | B10: BAC M12 GRIS C49 P12,5 21631007B70 | C10: 240
A11: 400M1409 | B11: BAC M14 GRIS PO C60 35321021B74 | C11: 1089
A12: 400M1509 | B12: BAC M15 GRIS PO C78 35331028B74 | C12: 4235
A13: 400N5002 | B13: BAC N50 PO C38 B00 NOIR 200457 | C13: 1960
... A52: 815RES005 | B52: RESISTANCE TUBE 500W A3024050 pompe COS | C52: 4
