Workbook
Name _01_ПЛОЧА_плюс: [1]!П_ПЛОЧА[Ime1]
Name _02_ПЛОЧА_минус: [1]!О_ПЛОЧА[Ime1]
Name _03_СЕПАРАТОР: [1]!СЕПАРАТОР[Ime1]
Name _04_КУТИЯ: [1]!КУТИЯ[Ime1]
Name _05_МОНТАЖ_СПЛАВ: [1]!МОНТАЖНА_СПЛАВ[Ime1]
Name _06_КАПАК: [1]!КАПАК[Ime1]
Name _07_ДРУГ_МОНТАЖЕН_МАТЕРИАЛ: [1]!ДРУГ_МОНТАЖЕН_МАТ[Ime1]
Name _08_ЕЛЕКТРОЛИТ: [1]!ЕЛЕКТРОЛИТ[Ime1]
Name _09_МАЛЪК_КАПАК: [1]!МАЛЪК_КАПАК[Ime1]
Name _10_ДРУГ_ФОРМИРАЩ_МАТЕРИАЛ: [1]!ДРУГ_ФОРМИРАЩ_МАТ[Ime1]
Name _11_КОРИГИРАЩ_МАТЕРИАЛ: [1]!КОРИГИРАЩ_МАТ[Ime1]
Name _12_МАТЕРИАЛ_ЗА_КЪСТАМИЗАЦИЯ: [1]!МАТ_ЗА_КЪСТАМИЗАЦИЯ[Ime1]
Name _Производител_решетка_минус: '[1]Формуляр В стр1'!$C$9
Name _Производител_решетка_плюс: '[1]Формуляр В стр1'!$C$8
Name BoxGroupList: #REF!
Name GroupList: GroupList_t[GROUP]
Name GroupList: GroupList_t[GROUP]
Name GroupList: GroupList_t[GROUP]
Name MgroupList: MgroupList_t[Mgroup]
Name MgroupList: MgroupList_t[Mgroup]
Name MgroupList: MgroupList_t[Mgroup]
Name MtypeList: MtypeList_t[Mtype]
Name MtypeList: MtypeList_t[Mtype]
Name MtypeList: MtypeList_t[Mtype]
Name StageList: StageList_t[STAGE]
Name StageList: StageList_t[STAGE]
Name StageList: StageList_t[STAGE]
Name StatusList: StatusList_t[STATUS]
Name StatusList: StatusList_t[STATUS]
Name StatusList: StatusList_t[STATUS]
Name TechnologyGroupList: #REF!
Name TypeList: TypeList_t[TYPE]
Name TypeList: TypeList_t[TYPE]
Name TypeList: TypeList_t[TYPE]
Name НОВА_ЛЕНТА: [1]!РЕШЕТКА_инфо31[ИМЕ]
Name НОВА_ПЛОЧА: [1]!ПЛОЧА_инфо[ИМЕ]
Name НОВА_РЕШЕТКА: [1]!РЕШЕТКА_инфо[ИМЕ]
Name НОВО_СМЦ: [1]!НОВО_СМЦ_таблица[СМЦ_група]
Name НОВО_СМЦ_група_име: [1]!НОВО_СМЦ_таблица[[СМЦ_група]:[СМЦ]]
Name ОЛОВА_и_СПЛАВИ: [1]!ОЛОВА[Ime1]
Name ПРОИЗВЕЖДАНА_ЛЕНТА: [1]!ЛЕНТА[Ime1]
Name ПРОИЗВЕЖДАНА_ПАСТА: [1]!ПАСТА[Ime1]
Name ПРОИЗВЕЖДАНА_РЕШЕТКА: [1]!РЕШЕТКА[Ime1]
Name СМЦ_в_АЛМА: [1]!СМЦ_ГРУПА[Column1]
Name СМЦ_ГРУПА_: [1]!СМЦ_ГРУПА[Column1]
Name СТАТУС_ЛЕНТА: [1]!Table31[СТАТУС в лента]
Name СТАТУС_ПЛОЧА_ЛИНИЯ_2: [1]!СТАТУС_ПЛОЧА[СТАТУС в плоча Линия 2]
Name СТАТУС_ПЛОЧА_ЛИНИЯ_3_4: [1]!СТАТУС_ПЛОЧА36[СТАТУС в плоча Линия 3/4]
Name СТАТУС_ПЛОЧА_ЛИНИЯ_5: [1]!СТАТУС_ПЛОЧА37[СТАТУС в плоча Линия 5]
Name СТАТУС_ПЛОЧА_ПАСТА: [1]!СТАТУС_ПЛОЧА3739[СТАТУС в плоча Линия 5]
Name СТАТУС_РЕШЕТКИ_: [1]!СТАТУС_РЕШЕТКИ[СТАТУС в решетка]
Name СТАТУС_СМЦ: [1]!СТАТУС[СТАТУС в батерия]
Name Участък_батерии_: [1]!УЧАСТЪК_батерии[УЧАСТЪК]
Name УЧАСТЪК_ленти_: [1]!УЧАСТЪК_ленти[УЧАСТЪК]
Name УЧАСТЪК_плочи_: [1]!УЧАСТЪК_плочи[УЧАСТЪК]
Name УЧАСТЪК_решетки_: [1]!УЧАСТЪК_решетки[УЧАСТЪК]

Sheet RawMaterial
B4: 44806.73 | C4: 1308 | D4: Масло wheel lube (за конкаст и конрол) | E4: L | F4: RawMaterial | G4: OTHER
C5: 1318 | D5: Обезмаслител | E5: KG | F5: RawMaterial | G5: OTHER
C6: 1319 | D6: Сода каустик - люспи | E6: KG | F6: RawMaterial | G6: OTHER
C7: 310OXYDE01 | D7: OXYDE ROUGE | E7: KG | F7: RawMaterial | G7: OXYDE
C8: 400B9001 | D8: BAC COMPACT B90 C49 P19,5 T2 OPAQUE | E8: UN | F8: RawMaterial | G8: BOX
C9: 400D2302 | D9: BAC D23 P0 C33 B01 NOIR | E9: UN | F9: RawMaterial | G9: BOX
C10: 400D2304 | D10: Box J6 black with bord TR - BG suplair | E10: UN | F10: RawMaterial | G10: BOX
C11: 400L0103 | D11: BAC L1 B PO NOIR C22 | E11: UN | F11: RawMaterial | G11: BOX
C12: 400L0111 | D12: BAC L1B PO NOIR C28 25331003P70 | E12: UN | F12: RawMaterial | G12: BOX
C13: 400L0117 | D13: BAC L1 NOIR PO C26 26901001P70 | E13: UN | F13: RawMaterial | G13: BOX
C14: 400L0118 | D14: BAC L1 NOIR P0 C28 25341044B70 | E14: UN | F14: RawMaterial | G14: BOX
C15: 400L0121 | D15: BAC L1 NOIR P0 C22 25391020B70 | E15: UN | F15: RawMaterial | G15: BOX
C16: 400L0202 | D16: BAC L2 BASSE P0 NOIR C34 25181011B77 | E16: UN | F16: RawMaterial | G16: BOX
... C392: P60005 | D392: Вода-деминерализирана | E392: L | F392: RawMaterial | G392: OTHER

Sheet ANALYSIS
B2: GROUP | C2: BATTERY
D5: BOX | E5: LID | F5: LEAD | G5: SEPARATOR | H5: SULFURIC ACID | I5: UPPER LID | J5: VALVE | K5: EXPANDER | L5: PAPER | M5: MAGIC EYE | N5: OTHER | O5: PLUG
D6: RawMaterial | E6: RawMaterial | F6: RawMaterial | G6: RawMaterial | H6: RawMaterial | I6: RawMaterial | J6: RawMaterial | K6: RawMaterial | L6: RawMaterial | M6: RawMaterial | N6: RawMaterial | O6: RawMaterial
B7: 44806.73 | C7: 106N11 | D7: 1 | E7: 1 | F7: 16.863241 | G7: 2.15127 | H7: 4.5254165 | J7: 6 | K7: 0.040818805 | N7: 5.8593744
C8: 10D23255155 | D8: 1 | E8: 1 | F8: 8.1155346 | G8: 1.051008 | H8: 2.0154709 | I8: 1 | K8: 0.026672079 | L8: 1.990656 | N8: 12.068406
C9: 10D26255158 | D9: 1 | E9: 1 | F9: 8.9678875 | G9: 1.31376 | H9: 3.1727585 | I9: 1 | K9: 0.026672079 | L9: 2.21184 | N9: 8.2347265
C10: 10D26255165 | D10: 1 | E10: 1 | F10: 8.9678875 | G10: 1.31376 | H10: 3.1727585 | I10: 1 | K10: 0.026672079 | L10: 2.21184 | N10: 9.2347265
C11: 10D26G | D11: 1 | E11: 1 | F11: 9.7268121 | G11: 1.31376 | H11: 3.2355776 | I11: 1 | K11: 0.032006495 | L11: 2.433024 | N11: 8.3009063
C12: 10D31 | D12: 1 | E12: 1 | F12: 13.109367 | G12: 1.839264 | H12: 3.737206 | I12: 1 | K12: 0.042675327 | L12: 3.31776 | N12: 10.827322
C13: 10L1H133141 | D13: 1 | E13: 1 | F13: 5.3650359 | G13: 0.857808 | H13: 1.7699058 | J13: 6 | K13: 0.015980594 | L13: 1.218 | N13: 9.8015793 | O13: 1
C14: 10L1H133165 | D14: 1 | E14: 1 | F14: 5.3650359 | G14: 0.857808 | H14: 1.7699058 | J14: 6 | K14: 0.015980594 | L14: 1.218 | N14: 10.801579 | O14: 1
C15: 10L1H152121 | D15: 1 | E15: 1 | F15: 5.4353671 | G15: 0.63112 | H15: 1.777618 | J15: 6 | K15: 0.011985445 | L15: 1.218 | N15: 10.814163 | O15: 1
C16: 10L2B155258 | D16: 1 | E16: 1 | F16: 7.343145 | G16: 1.07226 | H16: 1.9616556 | J16: 6 | K16: 0.019975742 | L16: 1.74 | M16: 1 | N16: 2.0103829 | O16: 1
C17: 10L2H133141 | D17: 1 | E17: 1 | F17: 6.6936649 | G17: 1.07226 | H17: 2.0201119 | J17: 6 | K17: 0.019975742 | L17: 1.566 | N17: 12.061531 | O17: 1
C18: 10L2H133165 | D18: 1 | E18: 1 | F18: 6.6936649 | G18: 1.07226 | H18: 2.0201119 | J18: 6 | K18: 0.019975742 | L18: 1.566 | N18: 11.061531 | O18: 1
C19: 10L2H152121 | D19: 1 | E19: 1 | F19: 6.6936649 | G19: 1.07226 | H19: 2.0201119 | J19: 6 | K19: 0.019975742 | L19: 1.566 | N19: 6.0615308 | O19: 1
C20: 10L2H155165 | D20: 1 | E20: 1 | F20: 6.6936649 | G20: 1.07226 | H20: 2.0201119 | J20: 6 | K20: 0.019975742 | L20: 1.566 | N20: 11.061531 | O20: 1
C21: 10L2H155255 | D21: 1 | E21: 1 | F21: 7.343145 | G21: 1.07226 | H21: 1.9616556 | J21: 6 | K21: 0.019975742 | L21: 1.74 | M21: 1 | N21: 14.010383 | O21: 1
C22: 10L2H155258 | D22: 1 | E22: 1 | F22: 7.343145 | G22: 1.07226 | H22: 1.9616556 | J22: 6 | K22: 0.019975742 | L22: 1.74 | M22: 1 | N22: 14.010383 | O22: 1
C23: 10L2H233131 | D23: 1 | E23: 1 | F23: 6.6936649 | G23: 1.07226 | H23: 2.0201119 | J23: 6 | K23: 0.019975742 | L23: 1.566 | N23: 11.061531 | O23: 1
C24: 10L2H233135 | D24: 1 | E24: 1 | F24: 6.6936649 | G24: 1.07226 | H24: 2.0201119 | J24: 6 | K24: 0.019975742 | L24: 1.566 | N24: 11.061531 | O24: 1
C25: 10L2H233331 | D25: 1 | E25: 1 | F25: 6.6936649 | G25: 1.07226 | H25: 2.0201119 | J25: 6 | K25: 0.019975742 | L25: 1.566 | N25: 11.061531 | O25: 1
C26: 10L2H233335 | D26: 1 | E26: 1 | F26: 7.9222939 | G26: 1.286712 | H26: 2.107727 | J26: 6 | K26: 0.023970891 | L26: 1.914 | N26: 11.158891 | O26: 1
C27: 10L3B133224 | D27: 1 | E27: 1 | F27: 8.0222939 | G27: 1.286712 | H27: 2.138426 | J27: 6 | K27: 0.023970891 | L27: 1.914 | N27: 11.18959 | O27: 1
C28: 10L3B155258 | D28: 1 | E28: 1 | F28: 8.671774 | G28: 1.286712 | H28: 2.5563727 | I28: 1 | K28: 0.023970891 | L28: 2.088 | M28: 1 | N28: 2.6148455 | O28: 1
C29: 10L3H133224 | D29: 1 | E29: 1 | F29: 8.0222939 | G29: 1.286712 | H29: 2.138426 | J29: 6 | K29: 0.023970891 | L29: 1.914 | N29: 11.18959 | O29: 1
C30: 10L3H155141 | D30: 1 | E30: 1 | F30: 8.0222939 | G30: 1.286712 | H30: 2.138426 | J30: 6 | K30: 0.023970891 | L30: 1.914 | N30: 11.18959 | O30: 1
C31: 10L3H155165 | D31: 1 | E31: 1 | F31: 8.671774 | G31: 1.286712 | H31: 2.5563727 | I31: 1 | K31: 0.023970891 | L31: 2.088 | M31: 1 | N31: 11.614845 | O31: 1
C32: 10L4H155258 | D32: 1 | E32: 1 | F32: 10.649883 | G32: 1.71576 | H32: 2.9349694 | J32: 6 | K32: 0.027966039 | L32: 2.61 | M32: 1 | N32: 11.010496
C33: 10L5H133124 | D33: 1 | E33: 1 | F33: 10.679552 | G33: 1.715616 | H33: 3.4161673 | J33: 6 | K33: 0.031961187 | L33: 2.61 | M33: 1 | N33: 12.486823 | O33: 1
C34: 10L5H133241 | D34: 1 | E34: 1 | F34: 10.679552 | G34: 1.715616 | H34: 3.4161673 | J34: 6 | K34: 0.031961187 | L34: 2.61 | M34: 1 | N34: 12.486823 | O34: 1
C35: 10L5H155124 | D35: 1 | E35: 1 | F35: 11.329032 | G35: 1.715616 | H35: 3.4513239 | J35: 6 | K35: 0.031961187 | L35: 2.784 | M35: 1 | N35: 8.5292876 | O35: 1
C36: 10L5H155165 | D36: 1 | E36: 1 | F36: 11.329032 | G36: 1.715616 | H36: 3.4513239 | J36: 6 | K36: 0.031961187 | L36: 2.784 | M36: 1 | N36: 3.5292876 | O36: 1
C37: 10M10133165 | D37: 1 | E37: 1 | F37: 7.40011 | G37: 1.051008 | H37: 3.1465018 | J37: 6 | K37: 0.021337663 | L37: 1.769472 | N37: 14.196076
C38: 10M10155141 | D38: 1 | E38: 1 | F38: 7.40011 | G38: 1.051008 | H38: 3.1465018 | J38: 6 | K38: 0.021337663 | L38: 1.769472 | N38: 12.196076
C39: 10M10155258 | D39: 1 | E39: 1 | F39: 7.40011 | G39: 1.051008 | H39: 3.1465018 | J39: 6 | K39: 0.021337663 | L39: 1.769472 | N39: 14.196076
C40: 10M10155265 | D40: 1 | E40: 1 | F40: 8.1590346 | G40: 1.31376 | H40: 3.1998459 | J40: 6 | K40: 0.026672079 | L40: 1.990656 | N40: 14.252781
C41: 10M10233165 | D41: 1 | E41: 1 | F41: 8.1590346 | G41: 1.31376 | H41: 3.1998459 | J41: 6 | K41: 0.026672079 | L41: 1.990656 | N41: 12.252781
C42: 10M11155254 | D42: 1 | E42: 1 | F42: 10.782665 | G42: 1.576512 | H42: 3.5723302 | J42: 6 | K42: 0.032006495 | L42: 2.654208 | N42: 4.6466918
C43: 10M11155265 | D43: 1 | E43: 1 | F43: 10.782665 | G43: 1.576512 | H43: 3.5723302 | J43: 6 | K43: 0.032006495 | L43: 2.654208 | N43: 4.6466918
...

Sheet BOM
B2: BOM_NOUR
B4: =COUNTBLANK(BOM_NOUR[STAGE]) -> 0 | C4: =COUNTBLANK(BOM_NOUR[TYPE]) -> 0 | D4: =COUNTBLANK(BOM_NOUR[GROUP]) -> 0 | E4: =COUNTBLANK(BOM_NOUR[CODE]) -> 0 | F4: =COUNTBLANK(BOM_NOUR[NAME]) -> 0 | G4: =COUNTBLANK(BOM_NOUR[MEASURE]) -> 0 | H4: =COUNTBLANK(BOM_NOUR[QTY]) -> 0 | I4: =COUNTBLANK(BOM_NOUR[Mcode]) -> 0 | J4: =COUNTBLANK(BOM_NOUR[Mname]) -> 0 | K4: =COUNTBLANK(BOM_NOUR[Mmeasure]) -> 0 | L4: =COUNTBLANK(BOM_NOUR[Mqty]) -> 0 | M4: =COUNTBLANK(BOM_NOUR[Mtype]) -> 0 | N4: =COUNTBLANK(BOM_NOUR[Mgroup]) -> 0 | P4: =COUNTBLANK(BOM_NOUR[TW]) -> 0 | R4: =COUNTBLANK(BOM_NOUR[STATUS]) -> 0
B5: STAGE | C5: TYPE | D5: GROUP | E5: CODE | F5: NAME | G5: MEASURE | H5: QTY | I5: Mcode | J5: Mname | K5: Mmeasure | L5: Mqty | M5: Mtype | N5: Mgroup | O5: SERIE | P5: TW | Q5: LE in kg | R5: STATUS
B6: 05.Assembly | C6: SUBPRODUCT | D6: UFBATTERY | E6: UF12L2H155165 | F6: BATT SF MF PL2H D NR/NR | G6: UN | H6: 1 | I6: 600P0004 | J6: PB SB 3.2 | K6: KG | L6: 1.2 | M6: RawMaterial | N6: LEAD | P6: {=IF(BOM_NOUR[[#This Row],[STAGE]]="05.Assembly", SUMPRODUCT(--(BOM_NOUR[[#This Row],[STAGE]]=TW_T[STAGE])*(BOM_NOUR[[#This Row],[Mgroup]]=TW_T[Mgroup]),TW_T[TW]), SUMPRODUCT(--(BOM_NOUR[[#This Row],[STAGE]]=TW_T[STAGE]),TW_T[TW]))} -> 0.027543228 | R6: CONSIDERED
B7: 07.Formation | C7: PRODUCT | D7: BATTERY | E7: 12L2H155165 | F7: BATT SF MF PL2H D NR/NR | G7: UN | H7: 1 | I7: 520X0027 | J7: ETIQ PORTANT LA LETTRE D | K7: UN | L7: 1 | M7: RawMaterial | N7: OTHER | P7: {=IF(BOM_NOUR[[#This Row],[STAGE]]="05.Assembly", SUMPRODUCT(--(BOM_NOUR[[#This Row],[STAGE]]=TW_T[STAGE])*(BOM_NOUR[[#This Row],[Mgroup]]=TW_T[Mgroup]),TW_T[TW]), SUMPRODUCT(--(BOM_NOUR[[#This Row],[STAGE]]=TW_T[STAGE]),TW_T[TW]))} -> 0.0018917585 | R7: CONSIDERED
B8: 07.Formation | C8: PRODUCT | D8: BATTERY | E8: 12L2H155165 | F8: BATT SF MF PL2H D NR/NR | G8: UN | H8: 1 | I8: UF12L2H155165 | J8: BATT SF MF PL2H D NR/NR | K8: UN | L8: 1 | M8: Subproduct | N8: UFBATTERY | P8: {=IF(BOM_NOUR[[#This Row],[STAGE]]="05.Assembly", SUMPRODUCT(--(BOM_NOUR[[#This Row],[STAGE]]=TW_T[STAGE])*(BOM_NOUR[[#This Row],[Mgroup]]=TW_T[Mgroup]),TW_T[TW]), SUMPRODUCT(--(BOM_NOUR[[#This Row],[STAGE]]=TW_T[STAGE]),TW_T[TW]))} -> 0.0018917585 | R8: CONSIDERED
B9: 07.Formation | C9: PRODUCT | D9: BATTERY | E9: 12L2H155165 | F9: BATT SF MF PL2H D NR/NR | G9: UN | H9: 1 | I9: 420L0234 | J9: COUV COUVERCLE L2 NOIR | K9: UN | L9: 1 | M9: RawMaterial | N9: UPPER LID | P9: {=IF(BOM_NOUR[[#This Row],[STAGE]]="05.Assembly", SUMPRODUCT(--(BOM_NOUR[[#This Row],[STAGE]]=TW_T[STAGE])*(BOM_NOUR[[#This Row],[Mgroup]]=TW_T[Mgroup]),TW_T[TW]), SUMPRODUCT(--(BOM_NOUR[[#This Row],[STAGE]]=TW_T[STAGE]),TW_T[TW]))} -> 0.0018917585 | R9: CONSIDERED
B10: 07.Formation | C10: PRODUCT | D10: BATTERY | E10: 12L2H155165 | F10: BATT SF MF PL2H D NR/NR | G10: UN | H10: 1 | I10: 521X0005 | J10: ETIQUETTE TUV | K10: UN | L10: 1 | M10: RawMaterial | N10: OTHER | P10: {=IF(BOM_NOUR[[#This Row],[STAGE]]="05.Assembly", SUMPRODUCT(--(BOM_NOUR[[#This Row],[STAGE]]=TW_T[STAGE])*(BOM_NOUR[[#This Row],[Mgroup]]=TW_T[Mgroup]),TW_T[TW]), SUMPRODUCT(--(BOM_NOUR[[#This Row],[STAGE]]=TW_T[STAGE]),TW_T[TW]))} -> 0.0018917585 | R10: CONSIDERED
B11: 07.Formation | C11: PRODUCT | D11: BATTERY | E11: 12L2H155165 | F11: BATT SF MF PL2H D NR/NR | G11: UN | H11: 1 | I11: 521X0290 | J11: ETIQ COUV1 L1 | K11: UN | L11: 1 | M11: RawMaterial | N11: OTHER | P11: {=IF(BOM_NOUR[[#This Row],[STAGE]]="05.Assembly", SUMPRODUCT(--(BOM_NOUR[[#This Row],[STAGE]]=TW_T[STAGE])*(BOM_NOUR[[#This Row],[Mgroup]]=TW_T[Mgroup]),TW_T[TW]), SUMPRODUCT(--(BOM_NOUR[[#This Row],[STAGE]]=TW_T[STAGE]),TW_T[TW]))} -> 0.0018917585 | R11: CONSIDERED
B12: 07.Formation | C12: PRODUCT | D12: BATTERY | E12: 12L2H155165 | F12: BATT SF MF PL2H D NR/NR | G12: UN | H12: 1 | I12: 521X0293 | J12: ETIQ COUV2 L1 | K12: UN | L12: 1 | M12: RawMaterial | N12: OTHER | P12: {=IF(BOM_NOUR[[#This Row],[STAGE]]="05.Assembly", SUMPRODUCT(--(BOM_NOUR[[#This Row],[STAGE]]=TW_T[STAGE])*(BOM_NOUR[[#This Row],[Mgroup]]=TW_T[Mgroup]),TW_T[TW]), SUMPRODUCT(--(BOM_NOUR[[#This Row],[STAGE]]=TW_T[STAGE]),TW_T[TW]))} -> 0.0018917585 | R12: CONSIDERED
B13: 07.Formation | C13: PRODUCT | D13: BATTERY | E13: 12L2H155165 | F13: BATT SF MF PL2H D NR/NR | G13: UN | H13: 1 | I13: 490B0011 | J13: CACHE BORNE POS. ROUGE POULIE | K13: UN | L13: 1 | M13: RawMaterial | N13: OTHER | P13: {=IF(BOM_NOUR[[#This Row],[STAGE]]="05.Assembly", SUMPRODUCT(--(BOM_NOUR[[#This Row],[STAGE]]=TW_T[STAGE])*(BOM_NOUR[[#This Row],[Mgroup]]=TW_T[Mgroup]),TW_T[TW]), SUMPRODUCT(--(BOM_NOUR[[#This Row],[STAGE]]=TW_T[STAGE]),TW_T[TW]))} -> 0.0018917585 | R13: CONSIDERED
B14: 07.Formation | C14: PRODUCT | D14: BATTERY | E14: 12L2H155165 | F14: BATT SF MF PL2H D NR/NR | G14: UN | H14: 1 | I14: 490B0012 | J14: CACHE BORNE NEG.BLANC POULIE | K14: UN | L14: 1 | M14: RawMaterial | N14: OTHER | P14: {=IF(BOM_NOUR[[#This Row],[STAGE]]="05.Assembly", SUMPRODUCT(--(BOM_NOUR[[#This Row],[STAGE]]=TW_T[STAGE])*(BOM_NOUR[[#This Row],[Mgroup]]=TW_T[Mgroup]),TW_T[TW]), SUMPRODUCT(--(BOM_NOUR[[#This Row],[STAGE]]=TW_T[STAGE]),TW_T[TW]))} -> 0.0018917585 | R14: CONSIDERED
B15: 07.Formation | C15: PRODUCT | D15: BATTERY | E15: 12L2H155165 | F15: BATT SF MF PL2H D NR/NR | G15: UN | H15: 1 | I15: 490R0001 | J15: RONDELLE NEG. BLANCHE | K15: UN | L15: 1 | M15: RawMaterial | N15: OTHER | P15: {=IF(BOM_NOUR[[#This Row],[STAGE]]="05.Assembly", SUMPRODUCT(--(BOM_NOUR[[#This Row],[STAGE]]=TW_T[STAGE])*(BOM_NOUR[[#This Row],[Mgroup]]=TW_T[Mgroup]),TW_T[TW]), SUMPRODUCT(--(BOM_NOUR[[#This Row],[STAGE]]=TW_T[STAGE]),TW_T[TW]))} -> 0.0018917585 | R15: CONSIDERED
B16: 07.Formation | C16: PRODUCT | D16: BATTERY | E16: 12L2H155165 | F16: BATT SF MF PL2H D NR/NR | G16: UN | H16: 1 | I16: 490R0002 | J16: RONDELLE POSITIVE ROUGE | K16: UN | L16: 1 | M16: RawMaterial | N16: OTHER | P16: {=IF(BOM_NOUR[[#This Row],[STAGE]]="05.Assembly", SUMPRODUCT(--(BOM_NOUR[[#This Row],[STAGE]]=TW_T[STAGE])*(BOM_NOUR[[#This Row],[Mgroup]]=TW_T[Mgroup]),TW_T[TW]), SUMPRODUCT(--(BOM_NOUR[[#This Row],[STAGE]]=TW_T[STAGE]),TW_T[TW]))} -> 0.0018917585 | R16: CONSIDERED
B17: 07.Formation | C17: PRODUCT | D17: BATTERY | E17: 12L2H155165 | F17: BATT SF MF PL2H D NR/NR | G17: UN | H17: 1 | I17: 460D1813 | J17: OEIL MAGIC NOIR D57.2 AKUMSAN | K17: UN | L17: 1 | M17: RawMaterial | N17: MAGIC EYE | P17: {=IF(BOM_NOUR[[#This Row],[STAGE]]="05.Assembly", SUMPRODUCT(--(BOM_NOUR[[#This Row],[STAGE]]=TW_T[STAGE])*(BOM_NOUR[[#This Row],[Mgroup]]=TW_T[Mgroup]),TW_T[TW]), SUMPRODUCT(--(BOM_NOUR[[#This Row],[STAGE]]=TW_T[STAGE]),TW_T[TW]))} -> 0.0018917585 | R17: CONSIDERED
... B2879: 07.Formation | C2879: PRODUCT | D2879: BATTERY | E2879: ML34CF003L1X13 | F2879: BATTERIE FINIE TR16 | G2879: UN | H2879: 1 | I2879: 490R0002 | J2879: RONDELLE POSITIVE ROUGE | K2879: UN | L2879: 2 | M2879: RawMaterial | N2879: OTHER | P2879: {=IF(BOM_NOUR[[#This Row],[STAGE]]="05.Assembly", SUMPRODUCT(--(BOM_NOUR[[#This Row],[STAGE]]=TW_T[STAGE])*(BOM_NOUR[[#This Row],[Mgroup]]=TW_T[Mgroup]),TW_T[TW]), SUMPRODUCT(--(BOM_NOUR[[#This Row],[STAGE]]=TW_T[STAGE]),TW_T[TW]))} -> 0.0018917585 | R2879: CONSIDERED
B2880: 07.Formation | C2880: PRODUCT | D2880: BATTERY | E2880: KX45J4X102L1 | F2880: Стартерна батерия 45Ah 12V L - KX45J4X102L1 | G2880: UN | H2880: 1 | I2880: UFKX45J4X102L1 | J2880: Стартерна батерия 45Ah 12V L - KX45J4X102L1 | K2880: UN | L2880: 1 | M2880: Subproduct | N2880: UFBATTERY | P2880: {=IF(BOM_NOUR[[#This Row],[STAGE]]="05.Assembly", SUMPRODUCT(--(BOM_NOUR[[#This Row],[STAGE]]=TW_T[STAGE])*(BOM_NOUR[[#This Row],[Mgroup]]=TW_T[Mgroup]),TW_T[TW]), SUMPRODUCT(--(BOM_NOUR[[#This Row],[STAGE]]=TW_T[STAGE]),TW_T[TW]))} -> 0.0018917585 | R2880: CONSIDERED
B2881: 07.Formation | C2881: PRODUCT | D2881: BATTERY | E2881: KX45J4X102L1 | F2881: Стартерна батерия 45Ah 12V L - KX45J4X102L1 | G2881: UN | H2881: 1 | I2881: 490TNS6001 | J2881: Protective cover J4 black | K2881: UN | L2881: 1 | M2881: RawMaterial | N2881: UPPER LID | P2881: {=IF(BOM_NOUR[[#This Row],[STAGE]]="05.Assembly", SUMPRODUCT(--(BOM_NOUR[[#This Row],[STAGE]]=TW_T[STAGE])*(BOM_NOUR[[#This Row],[Mgroup]]=TW_T[Mgroup]),TW_T[TW]), SUMPRODUCT(--(BOM_NOUR[[#This Row],[STAGE]]=TW_T[STAGE]),TW_T[TW]))} -> 0.0018917585 | R2881: CONSIDERED
B2882: 07.Formation | C2882: PRODUCT | D2882: BATTERY | E2882: KX45J4X102L1 | F2882: Стартерна батерия 45Ah 12V L - KX45J4X102L1 | G2882: UN | H2882: 1 | I2882: M80600090002 | J2882: Индикатор 19.16 / 55 мм | K2882: UN | L2882: 1 | M2882: RawMaterial | N2882: MAGIC EYE | P2882: {=IF(BOM_NOUR[[#This Row],[STAGE]]="05.Assembly", SUMPRODUCT(--(BOM_NOUR[[#This Row],[STAGE]]=TW_T[STAGE])*(BOM_NOUR[[#This Row],[Mgroup]]=TW_T[Mgroup]),TW_T[TW]), SUMPRODUCT(--(BOM_NOUR[[#This Row],[STAGE]]=TW_T[STAGE]),TW_T[TW]))} -> 0.0018917585 | R2882: CONSIDERED
B2883: 05.Assembly | C2883: SUBPRODUCT | D2883: UFBATTERY | E2883: UFKX45J4X102L1 | F2883: Стартерна батерия 45Ah 12V L - KX45J4X102L1 | G2883: UN | H2883: 1 | I2883: M80300110454 | J2883: Капак J4 X L черен с око | K2883: UN | L2883: 1 | M2883: RawMaterial | N2883: LID | P2883: {=IF(BOM_NOUR[[#This Row],[STAGE]]="05.Assembly", SUMPRODUCT(--(BOM_NOUR[[#This Row],[STAGE]]=TW_T[STAGE])*(BOM_NOUR[[#This Row],[Mgroup]]=TW_T[Mgroup]),TW_T[TW]), SUMPRODUCT(--(BOM_NOUR[[#This Row],[STAGE]]=TW_T[STAGE]),TW_T[TW]))} -> 0.021919227 | R2883: CONSIDERED
B2884: 05.Assembly | C2884: SUBPRODUCT | D2884: UFBATTERY | E2884: UFKX45J4X102L1 | F2884: Стартерна батерия 45Ah 12V L - KX45J4X102L1 | G2884: UN | H2884: 1 | I2884: M80200110451 | J2884: Кутия J4 черна без борд | K2884: UN | L2884: 1 | M2884: RawMaterial | N2884: BOX | P2884: {=IF(BOM_NOUR[[#This Row],[STAGE]]="05.Assembly", SUMPRODUCT(--(BOM_NOUR[[#This Row],[STAGE]]=TW_T[STAGE])*(BOM_NOUR[[#This Row],[Mgroup]]=TW_T[Mgroup]),TW_T[TW]), SUMPRODUCT(--(BOM_NOUR[[#This Row],[STAGE]]=TW_T[STAGE]),TW_T[TW]))} -> 0.023456076 | R2884: CONSIDERED
B2885: 07.Formation | C2885: PRODUCT | D2885: BATTERY | E2885: KX45J4X102L1 | F2885: Стартерна батерия 45Ah 12V L - KX45J4X102L1 | G2885: UN | H2885: 1 | I2885: P60006 | J2885: Електролит - 1.24 г/см3 | K2885: L | L2885: 2.74 | M2885: Subproduct | N2885: ELECTROLYTE | P2885: {=IF(BOM_NOUR[[#This Row],[STAGE]]="05.Assembly", SUMPRODUCT(--(BOM_NOUR[[#This Row],[STAGE]]=TW_T[STAGE])*(BOM_NOUR[[#This Row],[Mgroup]]=TW_T[Mgroup]),TW_T[TW]), SUMPRODUCT(--(BOM_NOUR[[#This Row],[STAGE]]=TW_T[STAGE]),TW_T[TW]))} -> 0.0018917585 | R2885: CONSIDERED
B2886: 07.Formation | C2886: PRODUCT | D2886: BATTERY | E2886: KX45J4X102L1 | F2886: Стартерна батерия 45Ah 12V L - KX45J4X102L1 | G2886: UN | H2886: 1 | I2886: 600A0013 | J2886: ACIDE SULFURIQUE 1.27 | K2886: L | L2886: 0.62 | M2886: Subproduct | N2886: ELECTROLYTE | P2886: {=IF(BOM_NOUR[[#This Row],[STAGE]]="05.Assembly", SUMPRODUCT(--(BOM_NOUR[[#This Row],[STAGE]]=TW_T[STAGE])*(BOM_NOUR[[#This Row],[Mgroup]]=TW_T[Mgroup]),TW_T[TW]), SUMPRODUCT(--(BOM_NOUR[[#This Row],[STAGE]]=TW_T[STAGE]),TW_T[TW]))} -> 0.0018917585 | R2886: CONSIDERED
B2887: 05.Assembly | C2887: SUBPRODUCT | D2887: UFBATTERY | E2887: UFKX45J4X102L1 | F2887: Стартерна батерия 45Ah 12V L - KX45J4X102L1 | G2887: UN | H2887: 1 | I2887: M80400051222 | J2887: Джоб сепаратор 122/1,1/0,2 | K2887: M2 | L2887: 0.80227 | M2887: RawMaterial | N2887: SEPARATOR | P2887: {=IF(BOM_NOUR[[#This Row],[STAGE]]="05.Assembly", SUMPRODUCT(--(BOM_NOUR[[#This Row],[STAGE]]=TW_T[STAGE])*(BOM_NOUR[[#This Row],[Mgroup]]=TW_T[Mgroup]),TW_T[TW]), SUMPRODUCT(--(BOM_NOUR[[#This Row],[STAGE]]=TW_T[STAGE]),TW_T[TW]))} -> 0.034300749 | R2887: CONSIDERED
B2888: 05.Assembly | C2888: SUBPRODUCT | D2888: UFBATTERY | E2888: UFKX45J4X102L1 | F2888: Стартерна батерия 45Ah 12V L - KX45J4X102L1 | G2888: UN | H2888: 1 | I2888: 490C0016 | J2888: Plastic inserter for JIS box | K2888: UN | L2888: 3 | M2888: RawMaterial | N2888: OTHER | P2888: {=IF(BOM_NOUR[[#This Row],[STAGE]]="05.Assembly", SUMPRODUCT(--(BOM_NOUR[[#This Row],[STAGE]]=TW_T[STAGE])*(BOM_NOUR[[#This Row],[Mgroup]]=TW_T[Mgroup]),TW_T[TW]), SUMPRODUCT(--(BOM_NOUR[[#This Row],[STAGE]]=TW_T[STAGE]),TW_T[TW]))} -> 0 | R2888: CONSIDERED
B2889: 05.Assembly | C2889: SUBPRODUCT | D2889: UFBATTERY | E2889: UFKX45J4X102L1 | F2889: Стартерна батерия 45Ah 12V L - KX45J4X102L1 | G2889: UN | H2889: 1 | I2889: P51158 | J2889: Kex+ Отрязана неформирана плоча | K2889: UN | L2889: 24 | M2889: Subproduct | N2889: PLATE_Cutted | P2889: {=IF(BOM_NOUR[[#This Row],[STAGE]]="05.Assembly", SUMPRODUCT(--(BOM_NOUR[[#This Row],[STAGE]]=TW_T[STAGE])*(BOM_NOUR[[#This Row],[Mgroup]]=TW_T[Mgroup]),TW_T[TW]), SUMPRODUCT(--(BOM_NOUR[[#This Row],[STAGE]]=TW_T[STAGE]),TW_T[TW]))} -> 0.034300749 | R2889: CONSIDERED
B2890: 05.Assembly | C2890: SUBPRODUCT | D2890: UFBATTERY | E2890: UFKX45J4X102L1 | F2890: Стартерна батерия 45Ah 12V L - KX45J4X102L1 | G2890: UN | H2890: 1 | I2890: P51159 | J2890: Kex- Отрязана неформирана плоча | K2890: UN | L2890: 30 | M2890: Subproduct | N2890: PLATE_Cutted | P2890: {=IF(BOM_NOUR[[#This Row],[STAGE]]="05.Assembly", SUMPRODUCT(--(BOM_NOUR[[#This Row],[STAGE]]=TW_T[STAGE])*(BOM_NOUR[[#This Row],[Mgroup]]=TW_T[Mgroup]),TW_T[TW]), SUMPRODUCT(--(BOM_NOUR[[#This Row],[STAGE]]=TW_T[STAGE]),TW_T[TW]))} -> 0.034300749 | R2890: CONSIDERED
B2891: 05.Assembly | C2891: SUBPRODUCT | D2891: UFBATTERY | E2891: UFKX45J4X102L1 | F2891: Стартерна батерия 45Ah 12V L - KX45J4X102L1 | G2891: UN | H2891: 1 | I2891: 600P0004 | J2891: PB SB 3.2 | K2891: KG | L2891: 0.646 | M2891: RawMaterial | N2891: LEAD | P2891: {=IF(BOM_NOUR[[#This Row],[STAGE]]="05.Assembly", SUMPRODUCT(--(BOM_NOUR[[#This Row],[STAGE]]=TW_T[STAGE])*(BOM_NOUR[[#This Row],[Mgroup]]=TW_T[Mgroup]),TW_T[TW]), SUMPRODUCT(--(BOM_NOUR[[#This Row],[STAGE]]=TW_T[STAGE]),TW_T[TW]))} -> 0.027543228 | R2891: CONSIDERED
B2892: 07.Formation | C2892: PRODUCT | D2892: BATTERY | E2892: KX45J4XB102L1 | F2892: Стартерна батерия 40Ah 12V L- KX45J4XB102L1 | G2892: UN | H2892: 1 | I2892: UFKX45J4XB102L1 | J2892: Стартерна батерия 40Ah 12V L- KX45J4XB102L1 | K2892: UN | L2892: 1 | M2892: Subproduct | N2892: UFBATTERY | P2892: {=IF(BOM_NOUR[[#This Row],[STAGE]]="05.Assembly", SUMPRODUCT(--(BOM_NOUR[[#This Row],[STAGE]]=TW_T[STAGE])*(BOM_NOUR[[#This Row],[Mgroup]]=TW_T[Mgroup]),TW_T[TW]), SUMPRODUCT(--(BOM_NOUR[[#This Row],[STAGE]]=TW_T[STAGE]),TW_T[TW]))} -> 0.0018917585 | R2892: CONSIDERED
B2893: 07.Formation | C2893: PRODUCT | D2893: BATTERY | E2893: KX45J4XB102L1 | F2893: Стартерна батерия 40Ah 12V L- KX45J4XB102L1 | G2893: UN | H2893: 1 | I2893: 490TNS6001 | J2893: Protective cover J4 black | K2893: UN | L2893: 1 | M2893: RawMaterial | N2893: UPPER LID | P2893: {=IF(BOM_NOUR[[#This Row],[STAGE]]="05.Assembly", SUMPRODUCT(--(BOM_NOUR[[#This Row],[STAGE]]=TW_T[STAGE])*(BOM_NOUR[[#This Row],[Mgroup]]=TW_T[Mgroup]),TW_T[TW]), SUMPRODUCT(--(BOM_NOUR[[#This Row],[STAGE]]=TW_T[STAGE]),TW_T[TW]))} -> 0.0018917585 | R2893: CONSIDERED
B2894: 07.Formation | C2894: PRODUCT | D2894: BATTERY | E2894: KX45J4XB102L1 | F2894: Стартерна батерия 40Ah 12V L- KX45J4XB102L1 | G2894: UN | H2894: 1 | I2894: M80600090002 | J2894: Индикатор 19.16 / 55 мм | K2894: UN | L2894: 1 | M2894: RawMaterial | N2894: MAGIC EYE | P2894: {=IF(BOM_NOUR[[#This Row],[STAGE]]="05.Assembly", SUMPRODUCT(--(BOM_NOUR[[#This Row],[STAGE]]=TW_T[STAGE])*(BOM_NOUR[[#This Row],[Mgroup]]=TW_T[Mgroup]),TW_T[TW]), SUMPRODUCT(--(BOM_NOUR[[#This Row],[STAGE]]=TW_T[STAGE]),TW_T[TW]))} -> 0.0018917585 | R2894: CONSIDERED
B2895: 05.Assembly | C2895: SUBPRODUCT | D2895: UFBATTERY | E2895: UFKX45J4XB102L1 | F2895: Стартерна батерия 40Ah 12V L- KX45J4XB102L1 | G2895: UN | H2895: 1 | I2895: M80300110456 | J2895: Капак J4 X L черен с око с втулка Z | K2895: UN | L2895: 1 | M2895: RawMaterial | N2895: LID | P2895: {=IF(BOM_NOUR[[#This Row],[STAGE]]="05.Assembly", SUMPRODUCT(--(BOM_NOUR[[#This Row],[STAGE]]=TW_T[STAGE])*(BOM_NOUR[[#This Row],[Mgroup]]=TW_T[Mgroup]),TW_T[TW]), SUMPRODUCT(--(BOM_NOUR[[#This Row],[STAGE]]=TW_T[STAGE]),TW_T[TW]))} -> 0.021919227 | R2895: CONSIDERED
B2896: 05.Assembly | C2896: SUBPRODUCT | D2896: UFBATTERY | E2896: UFKX45J4XB102L1 | F2896: Стартерна батерия 40Ah 12V L- KX45J4XB102L1 | G2896: UN | H2896: 1 | I2896: M80200110451 | J2896: Кутия J4 черна без борд | K2896: UN | L2896: 1 | M2896: RawMaterial | N2896: BOX | P2896: {=IF(BOM_NOUR[[#This Row],[STAGE]]="05.Assembly", SUMPRODUCT(--(BOM_NOUR[[#This Row],[STAGE]]=TW_T[STAGE])*(BOM_NOUR[[#This Row],[Mgroup]]=TW_T[Mgroup]),TW_T[TW]), SUMPRODUCT(--(BOM_NOUR[[#This Row],[STAGE]]=TW_T[STAGE]),TW_T[TW]))} -> 0.023456076 | R2896: CONSIDERED
B2897: 07.Formation | C2897: PRODUCT | D2897: BATTERY | E2897: KX45J4XB102L1 | F2897: Стартерна батерия 40Ah 12V L- KX45J4XB102L1 | G2897: UN | H2897: 1 | I2897: P60006 | J2897: Електролит - 1.24 г/см3 | K2897: L | L2897: 2.74 | M2897: Subproduct | N2897: ELECTROLYTE | P2897: {=IF(BOM_NOUR[[#This Row],[STAGE]]="05.Assembly", SUMPRODUCT(--(BOM_NOUR[[#This Row],[STAGE]]=TW_T[STAGE])*(BOM_NOUR[[#This Row],[Mgroup]]=TW_T[Mgroup]),TW_T[TW]), SUMPRODUCT(--(BOM_NOUR[[#This Row],[STAGE]]=TW_T[STAGE]),TW_T[TW]))} -> 0.0018917585 | R2897: CONSIDERED
B2898: 07.Formation | C2898: PRODUCT | D2898: BATTERY | E2898: KX45J4XB102L1 | F2898: Стартерна батерия 40Ah 12V L- KX45J4XB102L1 | G2898: UN | H2898: 1 | I2898: 600A0013 | J2898: ACIDE SULFURIQUE 1.27 | K2898: L | L2898: 0.62 | M2898: Subproduct | N2898: ELECTROLYTE | P2898: {=IF(BOM_NOUR[[#This Row],[STAGE]]="05.Assembly", SUMPRODUCT(--(BOM_NOUR[[#This Row],[STAGE]]=TW_T[STAGE])*(BOM_NOUR[[#This Row],[Mgroup]]=TW_T[Mgroup]),TW_T[TW]), SUMPRODUCT(--(BOM_NOUR[[#This Row],[STAGE]]=TW_T[STAGE]),TW_T[TW]))} -> 0.0018917585 | R2898: CONSIDERED
B2899: 05.Assembly | C2899: SUBPRODUCT | D2899: UFBATTERY | E2899: UFKX45J4XB102L1 | F2899: Стартерна батерия 40Ah 12V L- KX45J4XB102L1 | G2899: UN | H2899: 1 | I2899: M80400051222 | J2899: Джоб сепаратор 122/1,1/0,2 | K2899: M2 | L2899: 0.80227 | M2899: RawMaterial | N2899: SEPARATOR | P2899: {=IF(BOM_NOUR[[#This Row],[STAGE]]="05.Assembly", SUMPRODUCT(--(BOM_NOUR[[#This Row],[STAGE]]=TW_T[STAGE])*(BOM_NOUR[[#This Row],[Mgroup]]=TW_T[Mgroup]),TW_T[TW]), SUMPRODUCT(--(BOM_NOUR[[#This Row],[STAGE]]=TW_T[STAGE]),TW_T[TW]))} -> 0.034300749 | R2899: CONSIDERED
B2900: 05.Assembly | C2900: SUBPRODUCT | D2900: UFBATTERY | E2900: UFKX45J4XB102L1 | F2900: Стартерна батерия 40Ah 12V L- KX45J4XB102L1 | G2900: UN | H2900: 1 | I2900: 490C0016 | J2900: Plastic inserter for JIS box | K2900: UN | L2900: 3 | M2900: RawMaterial | N2900: OTHER | P2900: {=IF(BOM_NOUR[[#This Row],[STAGE]]="05.Assembly", SUMPRODUCT(--(BOM_NOUR[[#This Row],[STAGE]]=TW_T[STAGE])*(BOM_NOUR[[#This Row],[Mgroup]]=TW_T[Mgroup]),TW_T[TW]), SUMPRODUCT(--(BOM_NOUR[[#This Row],[STAGE]]=TW_T[STAGE]),TW_T[TW]))} -> 0 | R2900: CONSIDERED
B2901: 05.Assembly | C2901: SUBPRODUCT | D2901: UFBATTERY | E2901: UFKX45J4XB102L1 | F2901: Стартерна батерия 40Ah 12V L- KX45J4XB102L1 | G2901: UN | H2901: 1 | I2901: P51158 | J2901: Kex+ Отрязана неформирана плоча | K2901: UN | L2901: 24 | M2901: Subproduct | N2901: PLATE_Cutted | P2901: {=IF(BOM_NOUR[[#This Row],[STAGE]]="05.Assembly", SUMPRODUCT(--(BOM_NOUR[[#This Row],[STAGE]]=TW_T[STAGE])*(BOM_NOUR[[#This Row],[Mgroup]]=TW_T[Mgroup]),TW_T[TW]), SUMPRODUCT(--(BOM_NOUR[[#This Row],[STAGE]]=TW_T[STAGE]),TW_T[TW]))} -> 0.034300749 | R2901: CONSIDERED
B2902: 05.Assembly | C2902: SUBPRODUCT | D2902: UFBATTERY | E2902: UFKX45J4XB102L1 | F2902: Стартерна батерия 40Ah 12V L- KX45J4XB102L1 | G2902: UN | H2902: 1 | I2902: P51159 | J2902: Kex- Отрязана неформирана плоча | K2902: UN | L2902: 30 | M2902: Subproduct | N2902: PLATE_Cutted | P2902: {=IF(BOM_NOUR[[#This Row],[STAGE]]="05.Assembly", SUMPRODUCT(--(BOM_NOUR[[#This Row],[STAGE]]=TW_T[STAGE])*(BOM_NOUR[[#This Row],[Mgroup]]=TW_T[Mgroup]),TW_T[TW]), SUMPRODUCT(--(BOM_NOUR[[#This Row],[STAGE]]=TW_T[STAGE]),TW_T[TW]))} -> 0.034300749 | R2902: CONSIDERED
B2903: 05.Assembly | C2903: SUBPRODUCT | D2903: UFBATTERY | E2903: UFKX45J4XB102L1 | F2903: Стартерна батерия 40Ah 12V L- KX45J4XB102L1 | G2903: UN | H2903: 1 | I2903: 600P0004 | J2903: PB SB 3.2 | K2903: KG | L2903: 0.646 | M2903: RawMaterial | N2903: LEAD | P2903: {=IF(BOM_NOUR[[#This Row],[STAGE]]="05.Assembly", SUMPRODUCT(--(BOM_NOUR[[#This Row],[STAGE]]=TW_T[STAGE])*(BOM_NOUR[[#This Row],[Mgroup]]=TW_T[Mgroup]),TW_T[TW]), SUMPRODUCT(--(BOM_NOUR[[#This Row],[STAGE]]=TW_T[STAGE]),TW_T[TW]))} -> 0.027543228 | R2903: CONSIDERED
...

Sheet ADD
B2: STAGE & GROUP & TYPE & STATUS | N2: TW (%) by STAGES
B5: STAGE | D5: TYPE | F5: GROUP | H5: Mtype | J5: Mgroup | L5: STATUS | N5: STAGE | O5: Mgroup | P5: TW | S5: Workstation | T5: % | U5: Target
B6: 01.GravityCasting | D6: PRODUCT | F6: BATTERY | H6: RawMaterial | J6: BOX | L6: Considered | N6: 01.GravityCasting | P6: =ADD!$T$9 -> 0.0026022972 | R6: Plates Manufacturing | S6: Strip | T6: 0.0020375705 | U6: 0.005
B7: 01.Oxide | D7: SUBPRODUCT | F7: BOX | H7: Subproduct | J7: ELECTROLYTE | L7: NotConsidered | N7: 01.Oxide | P7: =ADD!$T$10 -> 0 | S7: Punching | T7: 0.0015345269 | U7: 0.005
B8: 01.StripCasting | F8: ELECTROLYTE | J8: EXPANDER | N8: 01.StripCasting | P8: =ADD!$T$6 -> 0.0020375705 | S8: Grid C | T8: 0 | U8: 0
B9: 02.Mixing | F9: EXPANDER | J9: GRID_P | N9: 02.Mixing | P9: =ADD!$T$11 -> 0 | S9: Grid I | T9: 0.0026022972 | U9: 0.001
B10: 02.Punching | F10: GRIDx2_GC | J10: GRIDx2_GC | N10: 02.Punching | P10: =ADD!$T$7 -> 0.0015345269 | S10: Oxide | T10: 0 | U10: 0.001
B11: 03.Pasting | F11: GRID_P | J11: LEAD | N11: 03.Pasting | P11: =ADD!$W$12 -> 0.046937198 | S11: Mixing | T11: 0 | U11: 0.002
B12: 04.Cutting | F12: LID | J12: LID | N12: 04.Cutting | P12: =ADD!$W$14 -> 0.039769873 | S12: Pasting | T12: 0.030593703 | U12: 0.032 | W12: =(1/(1-T13)/(1-T12)-1)/(1/(1-T13)/(1-T12)) -> 0.046937198 | X12: =(1/(1-U13)/(1-U12)-1)/(1/(1-U13)/(1-U12)) -> 0.033936
B13: 05.Assembly | F13: OXYDE | J13: MAGIC EYE | N13: 05.Assembly | O13: PLATE_Cutted | P13: =ADD!$W$18 -> 0.034300749 | S13: Curing | T13: 0.016859283 | U13: 0.002
B14: 07.Formation | F14: PASTE | J14: OTHER | N14: 05.Assembly | O14: PLATE_Pasted | P14: =ADD!$W$18 -> 0.034300749 | S14: Brushing | T14: 0.011917726 | U14: 0 | W14: =(1/(1-T15)/(1-T14)-1)/(1/(1-T15)/(1-T14)) -> 0.039769873 | X14: =(1/(1-U15)/(1-U14)-1)/(1/(1-U15)/(1-U14)) -> 0.002
B15: 00.Electrolyte | F15: PLATE_Cutted | J15: OXYDE | N15: 05.Assembly | O15: SEPARATOR | P15: =ADD!$W$18 -> 0.034300749 | S15: Filing/Cutting | T15: 0.028188085 | U15: 0.002
F16: PLATE_Pasted | J16: PAPER | N16: 05.Assembly | O16: BOX | P16: =ADD!W20 -> 0.023456076
F17: PLATEx2_Pasted | J17: PASTE | N17: 05.Assembly | O17: LID | P17: =ADD!W21 -> 0.021919227 | S17: Workstation | T17: % | U17: Target
F18: STRIP_P | J18: PLATE_Cutted | N18: 05.Assembly | O18: LEAD | P18: =ADD!W19 -> 0.027543228 | R18: Assembly | S18: 1.Enveloping | T18: 0.0069489164 | U18: 0.005 | W18: =(1/(1-T24)/(1-T21)/(1-T20)/(1-T19)/(1-T18)-1) /(1/(1-T24)/(1-T21)/(1-T20)/(1-T19)/(1-T18)) -> 0.034300749 | X18: =(1/(1-U24)/(1-U21)/(1-U20)/(1-U19)/(1-U18)-1) /(1/(1-U24)/(1-U21)/(1-U20)/(1-U19)/(1-U18)) -> 0.022799831
F19: UFBATTERY | J19: PLATE_P | N19: 07.Formation | P19: =ADD!T25 -> 0.0018917585 | S19: 2.COS | T19: 0.0041853227 | U19: 0.003 | W19: =(1/(1-T24)/(1-T21)/(1-T20)/(1-T19)-1) /(1/(1-T24)/(1-T21)/(1-T20)/(1-T19)) -> 0.027543228 | X19: =(1/(1-U24)/(1-U21)/(1-U20)/(1-U19)-1) /(1/(1-U24)/(1-U21)/(1-U20)/(1-U19)) -> 0.017889278
J20: PLATE_Pasted | S20: 3.Intercell welding | T20: 0.001571291 | U20: 0.002 | W20: =(1/(1-T24)/(1-T21)/(1-T20)-1) /(1/(1-T24)/(1-T21)/(1-T20)) -> 0.023456076 | X20: =(1/(1-U24)/(1-U21)/(1-U20)-1) /(1/(1-U24)/(1-U21)/(1-U20)) -> 0.01493408
J21: PLATEx2_Pasted | S21: 4.Box-lid welding | T21: 0.011038229 | U21: 0.005 | W21: =(1/(1-T24)/(1-T21)-1) /(1/(1-T24)/(1-T21)) -> 0.021919227 | X21: =(1/(1-U24)/(1-U21)-1) /(1/(1-U24)/(1-U21)) -> 0.01296
J22: PPR
J23: SEPARATOR | S23: Workstation | T23: % | U23: Target
J24: STRIP_P | R24: Formation | S24: Assembly | T24: 0.011002445 | U24: 0.008
J25: SULFURIC ACID | S25: Formation | T25: 0.0018917585 | U25: 0.002
J26: UFBATTERY
J27: UPPER LID
J28: VALVE
J29: PLUG
J30: BATTERY
