Workbook
Name _01_ПЛОЧА_плюс: [1]!П_ПЛОЧА[Ime1]
Name _02_ПЛОЧА_минус: [1]!О_ПЛОЧА[Ime1]
Name _03_СЕПАРАТОР: [1]!СЕПАРАТОР[Ime1]
Name _04_КУТИЯ: [1]!КУТИЯ[Ime1]
Name _05_МОНТАЖ_СПЛАВ: [1]!МОНТАЖНА_СПЛАВ[Ime1]
Name _06_КАПАК: [1]!КАПАК[Ime1]
Name _07_ДРУГ_МОНТАЖЕН_МАТЕРИАЛ: [1]!ДРУГ_МОНТАЖЕН_МАТ[Ime1]
Name _08_ЕЛЕКТРОЛИТ: [1]!ЕЛЕКТРОЛИТ[Ime1]
Name _09_МАЛЪК_КАПАК: [1]!МАЛЪК_КАПАК[Ime1]
Name _10_ДРУГ_ФОРМИРАЩ_МАТЕРИАЛ: [1]!ДРУГ_ФОРМИРАЩ_МАТ[Ime1]
Name _11_КОРИГИРАЩ_МАТЕРИАЛ: [1]!КОРИГИРАЩ_МАТ[Ime1]
Name _12_МАТЕРИАЛ_ЗА_КЪСТАМИЗАЦИЯ: [1]!МАТ_ЗА_КЪСТАМИЗАЦИЯ[Ime1]
Name _Производител_решетка_минус: '[1]Формуляр В стр1'!$C$9
Name _Производител_решетка_плюс: '[1]Формуляр В стр1'!$C$8
Name BoxGroupList: #REF!
Name GroupList: GroupList_t[GROUP]
Name GroupList: GroupList_t[GROUP]
Name GroupList: GroupList_t[GROUP]
Name MgroupList: MgroupList_t[Mgroup]
Name MgroupList: MgroupList_t[Mgroup]
Name MgroupList: MgroupList_t[Mgroup]
Name MtypeList: MtypeList_t[Mtype]
Name MtypeList: MtypeList_t[Mtype]
Name MtypeList: MtypeList_t[Mtype]
Name StageList: StageList_t[STAGE]
Name StageList: StageList_t[STAGE]
Name StageList: StageList_t[STAGE]
Name StatusList: StatusList_t[STATUS]
Name StatusList: StatusList_t[STATUS]
Name StatusList: StatusList_t[STATUS]
Name TechnologyGroupList: #REF!
Name TypeList: TypeList_t[TYPE]
Name TypeList: TypeList_t[TYPE]
Name TypeList: TypeList_t[TYPE]
Name НОВА_ЛЕНТА: [1]!РЕШЕТКА_инфо31[ИМЕ]
Name НОВА_ПЛОЧА: [1]!ПЛОЧА_инфо[ИМЕ]
Name НОВА_РЕШЕТКА: [1]!РЕШЕТКА_инфо[ИМЕ]
Name НОВО_СМЦ: [1]!НОВО_СМЦ_таблица[СМЦ_група]
Name НОВО_СМЦ_група_име: [1]!НОВО_СМЦ_таблица[[СМЦ_група]:[СМЦ]]
Name ОЛОВА_и_СПЛАВИ: [1]!ОЛОВА[Ime1]
Name ПРОИЗВЕЖДАНА_ЛЕНТА: [1]!ЛЕНТА[Ime1]
Name ПРОИЗВЕЖДАНА_ПАСТА: [1]!ПАСТА[Ime1]
Name ПРОИЗВЕЖДАНА_РЕШЕТКА: [1]!РЕШЕТКА[Ime1]
Name СМЦ_в_АЛМА: [1]!СМЦ_ГРУПА[Column1]
Name СМЦ_ГРУПА_: [1]!СМЦ_ГРУПА[Column1]
Name СТАТУС_ЛЕНТА: [1]!Table31[СТАТУС в лента]
Name СТАТУС_ПЛОЧА_ЛИНИЯ_2: [1]!СТАТУС_ПЛОЧА[СТАТУС в плоча Линия 2]
Name СТАТУС_ПЛОЧА_ЛИНИЯ_3_4: [1]!СТАТУС_ПЛОЧА36[СТАТУС в плоча Линия 3/4]
Name СТАТУС_ПЛОЧА_ЛИНИЯ_5: [1]!СТАТУС_ПЛОЧА37[СТАТУС в плоча Линия 5]
Name СТАТУС_ПЛОЧА_ПАСТА: [1]!СТАТУС_ПЛОЧА3739[СТАТУС в плоча Линия 5]
Name СТАТУС_РЕШЕТКИ_: [1]!СТАТУС_РЕШЕТКИ[СТАТУС в решетка]
Name СТАТУС_СМЦ: [1]!СТАТУС[СТАТУС в батерия]
Name Участък_батерии_: [1]!УЧАСТЪК_батерии[УЧАСТЪК]
Name УЧАСТЪК_ленти_: [1]!УЧАСТЪК_ленти[УЧАСТЪК]
Name УЧАСТЪК_плочи_: [1]!УЧАСТЪК_плочи[УЧАСТЪК]
Name УЧАСТЪК_решетки_: [1]!УЧАСТЪК_решетки[УЧАСТЪК]

Sheet RawMaterial
B4: 44806.73 | C4: 1308 | D4: Масло wheel lube (за конкаст и конрол) | E4: L | F4: RawMaterial | G4: OTHER
C5: 1318 | D5: Обезмаслител | E5: KG | F5: RawMaterial | G5: OTHER
C6: 1319 | D6: Сода каустик - люспи | E6: KG | F6: RawMaterial | G6: OTHER
C7: 310OXYDE01 | D7: OXYDE ROUGE | E7: KG | F7: RawMaterial | G7: OXYDE
C8: 400B9001 | D8: BAC COMPACT B90 C49 P19,5 T2 OPAQUE | E8: UN | F8: RawMaterial | G8: BOX
C9: 400D2302 | D9: BAC D23 P0 C33 B01 NOIR | E9: UN | F9: RawMaterial | G9: BOX
C10: 400D2304 | D10: Box J6 black with bord TR - BG suplair | E10: UN | F10: RawMaterial | G10: BOX
C11: 400L0103 | D11: BAC L1 B PO NOIR C22 | E11: UN | F11: RawMaterial | G11: BOX
C12: 400L0111 | D12: BAC L1B PO NOIR C28 25331003P70 | E12: UN | F12: RawMaterial | G12: BOX
C13: 400L0117 | D13: BAC L1 NOIR PO C26 26901001P70 | E13: UN | F13: RawMaterial | G13: BOX
C14: 400L0118 | D14: BAC L1 NOIR P0 C28 25341044B70 | E14: UN | F14: RawMaterial | G14: BOX
C15: 400L0121 | D15: BAC L1 NOIR P0 C22 25391020B70 | E15: UN | F15: RawMaterial | G15: BOX
C16: 400L0202 | D16: BAC L2 BASSE P0 NOIR C34 25181011B77 | E16: UN | F16: RawMaterial | G16: BOX
... C392: P60005 | D392: Вода-деминерализирана | E392: L | F392: RawMaterial | G392: OTHER

Sheet ANALYSIS
B2: GROUP | C2: BATTERY
D5: BOX | E5: LID | F5: LEAD | G5: SEPARATOR | H5: SULFURIC ACID | I5: UPPER LID | J5: VALVE | K5: EXPANDER | L5: PAPER | M5: MAGIC EYE | N5: OTHER | O5: PLUG
D6: RawMaterial | E6: RawMaterial | F6: RawMaterial | G6: RawMaterial | H6: RawMaterial | I6: RawMaterial | J6: RawMaterial | K6: RawMaterial | L6: RawMaterial | M6: RawMaterial | N6: RawMaterial | O6: RawMaterial
B7: 44806.73 | C7: 106N11 | D7: 1 | E7: 1 | F7: 16.863241 | G7: 2.15127 | H7: 4.5254165 | J7: 6 | K7: 0.040818805 | N7: 5.8593744
C8: 10D23255155 | D8: 1 | E8: 1 | F8: 8.1155346 | G8: 1.051008 | H8: 2.0154709 | I8: 1 | K8: 0.026672079 | L8: 1.990656 | N8: 12.068406
C9: 10D26255158 | D9: 1 | E9: 1 | F9: 8.9678875 | G9: 1.31376 | H9: 3.1727585 | I9: 1 | K9: 0.026672079 | L9: 2.21184 | N9: 8.2347265
C10: 10D26255165 | D10: 1 | E10: 1 | F10: 8.9678875 | G10: 1.31376 | H10: 3.1727585 | I10: 1 | K10: 0.026672079 | L10: 2.21184 | N10: 9.2347265
C11: 10D26G | D11: 1 | E11: 1 | F11: 9.7268121 | G11: 1.31376 | H11: 3.2355776 | I11: 1 | K11: 0.032006495 | L11: 2.433024 | N11: 8.3009063
C12: 10D31 | D12: 1 | E12: 1 | F12: 13.109367 | G12: 1.839264 | H12: 3.737206 | I12: 1 | K12: 0.042675327 | L12: 3.31776 | N12: 10.827322
C13: 10L1H133141 | D13: 1 | E13: 1 | F13: 5.3650359 | G13: 0.857808 | H13: 1.7699058 | J13: 6 | K13: 0.015980594 | L13: 1.218 | N13: 9.8015793 | O13: 1
C14: 10L1H133165 | D14: 1 | E14: 1 | F14: 5.3650359 | G14: 0.857808 | H14: 1.7699058 | J14: 6 | K14: 0.015980594 | L14: 1.218 | N14: 10.801579 | O14: 1
C15: 10L1H152121 | D15: 1 | E15: 1 | F15: 5.4353671 | G15: 0.63112 | H15: 1.777618 | J15: 6 | K15: 0.011985445 | L15: 1.218 | N15: 10.814163 | O15: 1
C16: 10L2B155258 | D16: 1 | E16: 1 | F16: 7.343145 | G16: 1.07226 | H16: 1.9616556 | J16: 6 | K16: 0.019975742 | L16: 1.74 | M16: 1 | N16: 2.0103829 | O16: 1
C17: 10L2H133141 | D17: 1 | E17: 1 | F17: 6.6936649 | G17: 1.07226 | H17: 2.0201119 | J17: 6 | K17: 0.019975742 | L17: 1.566 | N17: 12.061531 | O17: 1
C18: 10L2H133165 | D18: 1 | E18: 1 | F18: 6.6936649 | G18: 1.07226 | H18: 2.0201119 | J18: 6 | K18: 0.019975742 | L18: 1.566 | N18: 11.061531 | O18: 1
C19: 10L2H152121 | D19: 1 | E19: 1 | F19: 6.6936649 | G19: 1.07226 | H19: 2.0201119 | J19: 6 | K19: 0.019975742 | L19: 1.566 | N19: 6.0615308 | O19: 1
C20: 10L2H155165 | D20: 1 | E20: 1 | F20: 6.6936649 | G20: 1.07226 | H20: 2.0201119 | J20: 6 | K20: 0.019975742 | L20: 1.566 | N20: 11.061531 | O20: 1
C21: 10L2H155255 | D21: 1 | E21: 1 | F21: 7.343145 | G21: 1.07226 | H21: 1.9616556 | J21: 6 | K21: 0.019975742 | L21: 1.74 | M21: 1 | N21: 14.010383 | O21: 1
C22: 10L2H155258 | D22: 1 | E22: 1 | F22: 7.343145 | G22: 1.07226 | H22: 1.9616556 | J22: 6 | K22: 0.019975742 | L22: 1.74 | M22: 1 | N22: 14.010383 | O22: 1
C23: 10L2H233131 | D23: 1 | E23: 1 | F23: 6.6936649 | G23: 1.07226 | H23: 2.0201119 | J23: 6 | K23: 0.019975742 | L23: 1.566 | N23: 11.061531 | O23: 1
C24: 10L2H233135 | D24: 1 | E24: 1 | F24: 6.6936649 | G24: 1.07226 | H24: 2.0201119 | J24: 6 | K24: 0.019975742 | L24: 1.566 | N24: 11.061531 | O24: 1
C25: 10L2H233331 | D25: 1 | E25: 1 | F25: 6.6936649 | G25: 1.07226 | H25: 2.0201119 | J25: 6 | K25: 0.019975742 | L25: 1.566 | N25: 11.061531 | O25: 1
C26: 10L2H233335 | D26: 1 | E26: 1 | F26: 7.9222939 | G26: 1.286712 | H26: 2.107727 | J26: 6 | K26: 0.023970891 | L26: 1.914 | N26: 11.158891 | O26: 1
C27: 10L3B133224 | D27: 1 | E27: 1 | F27: 8.0222939 | G27: 1.286712 | H27: 2.138426 | J27: 6 | K27: 0.023970891 | L27: 1.914 | N27: 11.18959 | O27: 1
C28: 10L3B155258 | D28: 1 | E28: 1 | F28: 8.671774 | G28: 1.286712 | H28: 2.5563727 | I28: 1 | K28: 0.023970891 | L28: 2.088 | M28: 1 | N28: 2.6148455 | O28: 1
C29: 10L3H133224 | D29: 1 | E29: 1 | F29: 8.0222939 | G29: 1.286712 | H29: 2.138426 | J29: 6 | K29: 0.023970891 | L29: 1.914 | N29: 11.18959 | O29: 1
C30: 10L3H155141 | D30: 1 | E30: 1 | F30: 8.0222939 | G30: 1.286712 | H30: 2.138426 | J30: 6 | K30: 0.023970891 | L30: 1.914 | N30: 11.18959 | O30: 1
C31: 10L3H155165 | D31: 1 | E31: 1 | F31: 8.671774 | G31: 1.286712 | H31: 2.5563727 | I31: 1 | K31: 0.023970891 | L31: 2.088 | M31: 1 | N31: 11.614845 | O31: 1
C32: 10L4H155258 | D32: 1 | E32: 1 | F32: 10.649883 | G32: 1.71576 | H32: 2.9349694 | J32: 6 | K32: 0.027966039 | L32: 2.61 | M32: 1 | N32: 11.010496
C33: 10L5H133124 | D33: 1 | E33: 1 | F33: 10.679552 | G33: 1.715616 | H33: 3.4161673 | J33: 6 | K33: 0.031961187 | L33: 2.61 | M33: 1 | N33: 12.486823 | O33: 1
C34: 10L5H133241 | D34: 1 | E34: 1 | F34: 10.679552 | G34: 1.715616 | H34: 3.4161673 | J34: 6 | K34: 0.031961187 | L34: 2.61 | M34: 1 | N34: 12.486823 | O34: 1
C35: 10L5H155124 | D35: 1 | E35: 1 | F35: 11.329032 | G35: 1.715616 | H35: 3.4513239 | J35: 6 | K35: 0.031961187 | L35: 2.784 | M35: 1 | N35: 8.5292876 | O35: 1
C36: 10L5H155165 | D36: 1 | E36: 1 | F36: 11.329032 | G36: 1.715616 | H36: 3.4513239 | J36: 6 | K36: 0.031961187 | L36: 2.784 | M36: 1 | N36: 3.5292876 | O36: 1
C37: 10M10133165 | D37: 1 | E37: 1 | F37: 7.40011 | G37: 1.051008 | H37: 3.1465018 | J37: 6 | K37: 0.021337663 | L37: 1.769472 | N37: 14.196076
C38: 10M10155141 | D38: 1 | E38: 1 | F38: 7.40011 | G38: 1.051008 | H38: 3.1465018 | J38: 6 | K38: 0.021337663 | L38: 1.769472 | N38: 12.196076
C39: 10M10155258 | D39: 1 | E39: 1 | F39: 7.40011 | G39: 1.051008 | H39: 3.1465018 | J39: 6 | K39: 0.021337663 | L39: 1.769472 | N39: 14.196076
C40: 10M10155265 | D40: 1 | E40: 1 | F40: 8.1590346 | G40: 1.31376 | H40: 3.1998459 | J40: 6 | K40: 0.026672079 | L40: 1.990656 | N40: 14.252781
C41: 10M10233165 | D41: 1 | E41: 1 | F41: 8.1590346 | G41: 1.31376 | H41: 3.1998459 | J41: 6 | K41: 0.026672079 | L41: 1.990656 | N41: 12.252781
C42: 10M11155254 | D42: 1 | E42: 1 | F42: 10.782665 | G42: 1.576512 | H42: 3.5723302 | J42: 6 | K42: 0.032006495 | L42: 2.654208 | N42: 4.6466918
C43: 10M11155265 | D43: 1 | E43: 1 | F43: 10.782665 | G43: 1.576512 | H43: 3.5723302 | J43: 6 | K43: 0.032006495 | L43: 2.654208 | N43: 4.6466918
C44: 10M11233224 | D44: 1 | E44: 1 | F44: 9.9738121 | G44: 1.576512 | H44: 3.5141426 | J44: 6 | K44: 0.032006495 | L44: 2.433024 | N44: 10.579471
C45: 10M14 | D45: 1 | E45: 1 | F45: 18.177095 | G45: 2.295216 | H45: 5.4414217 | J45: 6 | K45: 0.048009743 | L45: 3.981312 | N45: 5.5614248
C46: 10M14133141 | D46: 1 | E46: 1 | F46: 16.529862 | G46: 2.040192 | H46: 5.5284943 | J46: 6 | K46: 0.042675327 | L46: 3.538944 | N46: 14.635164
C47: 10M14133165 | D47: 1 | E47: 1 | F47: 16.529862 | G47: 2.040192 | H47: 5.5284943 | J47: 6 | K47: 0.042675327 | L47: 3.538944 | N47: 15.635164
C48: 10M15 | D48: 1 | E48: 1 | F48: 19.90702 | G48: 2.295216 | H48: 6.5142759 | J48: 6 | K48: 0.053344159 | L48: 4.202496 | N48: 7.6376397
... C53: 10M16133165 | D53: 1 | E53: 1 | F53: 22.754988 | G53: 3.060288 | H53: 8.8812149 | J53: 6 | K53: 0.062747677 | L53: 5.308416 | N53: 18.04181
C54: 10NS40 | D54: 1 | E54: 1 | F54: 6.0732254 | G54: 0.78228 | H54: 1.5645129 | J54: 6 | K54: 0.017007836 | N54: 7.6930449 | O54: 1
C55: 10NS40155151 | D55: 1 | E55: 1 | F55: 5.5271516 | G55: 0.78228 | H55: 1.5327649 | I55: 1 | K55: 0.013606268 | N55: 7.6501511 | O55: 1
C56: 10NS40155155 | D56: 1 | E56: 1 | F56: 5.5271516 | G56: 0.78228 | H56: 1.5327649 | J56: 6 | K56: 0.013606268 | N56: 7.6501511 | O56: 1
C57: 10NS40D | D57: 1 | E57: 1 | F57: 6.0732254 | G57: 0.78228 | H57: 1.5645129 | J57: 6 | K57: 0.017007836 | N57: 1.6930449 | O57: 1
C58: 10NS40G | D58: 1 | E58: 1 | F58: 6.0732254 | G58: 0.78228 | H58: 1.5645129 | J58: 6 | K58: 0.017007836 | N58: 7.6930449 | O58: 1
C59: 10NS60 | D59: 1 | E59: 1 | F59: 7.5175133 | G59: 0.97785 | H59: 1.9564211 | J59: 6 | K59: 0.020409403 | N59: 8.1142997 | O59: 1
C60: 10PL1BK | D60: 1 | E60: 1 | F60: 6.011416 | G60: 0.857808 | H60: 1.5860005 | J60: 6 | K60: 0.015980594 | L60: 1.392 | N60: 10.624982
C61: 10PL1BSMFRD | D61: 1 | E61: 1 | F61: 6.5905649 | G61: 0.857808 | H61: 1.6259519 | I61: 1 | K61: 0.019975742 | L61: 1.566 | N61: 10.667371
C62: 10PL1G | D62: 1 | E62: 1 | F62: 6.014516 | G62: 0.857808 | H62: 1.6834035 | J62: 6 | K62: 0.015980594 | L62: 1.392 | N62: 10.722385
C63: 10PL1K | D63: 1 | E63: 1 | F63: 6.014516 | G63: 0.857808 | H63: 1.6834035 | J63: 6 | K63: 0.015980594 | L63: 1.392 | N63: 10.722385
C64: 10PL1SMFRD | D64: 1 | E64: 1 | F64: 6.5936649 | G64: 0.857808 | H64: 1.7233549 | I64: 1 | K64: 0.019975742 | L64: 1.566 | N64: 10.764774
C65: 10PL2BK | D65: 1 | E65: 1 | F65: 7.299145 | G65: 1.07226 | H65: 1.9616556 | J65: 6 | K65: 0.019975742 | L65: 1.74 | N65: 11.010383
C66: 10PL2BMF | D66: 1 | E66: 1 | F66: 6.6936649 | G66: 1.07 | H66: 1.9064119 | J66: 6 | K66: 0.019975742 | L66: 1.566 | M66: 1 | N66: 10.947831
C67: 10PL2G | D67: 1 | E67: 1 | F67: 7.343145 | G67: 1.07226 | H67: 2.0677756 | J67: 6 | K67: 0.019975742 | L67: 1.74 | N67: 8.1165029 | O67: 2
C68: 10PL2K | D68: 1 | E68: 1 | F68: 7.299145 | G68: 1.07226 | H68: 2.0984746 | J68: 6 | K68: 0.019975742 | L68: 1.74 | N68: 11.147202
C69: 10PL2MF | D69: 1 | E69: 1 | F69: 6.6936649 | G69: 1.07 | H69: 1.9064119 | J69: 6 | K69: 0.019975742 | L69: 1.566 | M69: 1 | N69: 10.947831
C70: 10PL3BMF | D70: 1 | E70: 1 | F70: 8.671774 | G70: 1.29 | H70: 2.4585907 | J70: 6 | K70: 0.023970891 | L70: 2.088 | M70: 1 | N70: 11.517063 | O70: 1
C71: 10PL3BSMFRD | D71: 1 | E71: 1 | F71: 9.2029229 | G71: 1.286712 | H71: 2.4833822 | I71: 1 | K71: 0.027966039 | L71: 2.262 | N71: 11.544292
C72: 10PL3SMFRD | D72: 1 | E72: 1 | F72: 9.2029229 | G72: 1.286712 | H72: 2.5963242 | I72: 1 | K72: 0.027966039 | L72: 2.262 | N72: 11.657234
C73: 10PL590SMFRD | D73: 1 | E73: 1 | F73: 13.13681 | G73: 1.715616 | H73: 3.5788905 | I73: 1 | K73: 0.039951484 | L73: 3.306 | N73: 12.669037
C74: 10PL5SMF90 | D74: 1 | E74: 1 | F74: 13.13681 | G74: 1.93023 | H74: 3.5788905 | I74: 1 | K74: 0.039951484 | L74: 3.306 | N74: 12.669037
C75: 10PL5SMFRD | D75: 1 | E75: 1 | F75: 11.908181 | G75: 1.715616 | H75: 3.4912754 | I75: 1 | K75: 0.035956336 | L75: 2.958 | N75: 12.571676
C76: 10PM10S | D76: 1 | E76: 1 | F76: 8.9678875 | G76: 1.31376 | H76: 3.1822335 | J76: 6 | K76: 0.026672079 | L76: 2.21184 | N76: 3.2442015
C77: 10PR110 | D77: 1 | E77: 1 | F77: 14.838645 | G77: 2.102016 | H77: 4.9250977 | J77: 2 | K77: 0.048009743 | L77: 3.760128 | N77: 14.027607
C78: 10PRM10D | D78: 1 | E78: 1 | F78: 9.3651639 | G78: 1.31376 | H78: 3.2125121 | J78: 6 | K78: 0.026672079 | L78: 2.21184 | N78: 10.27918
C79: 10PRM11D | D79: 1 | E79: 1 | F79: 13.109367 | G79: 1.839264 | H79: 3.499573 | J79: 6 | K79: 0.042675327 | L79: 3.31776 | N79: 12.589689
C80: 10S5100RD | D80: 1 | E80: 1 | F80: 13.13681 | G80: 2.14 | H80: 3.5951875 | J80: 6 | K80: 0.039951484 | L80: 3.306 | M80: 1 | N80: 15.685334
C81: 12L1H155255 | D81: 1 | E81: 1 | F81: 6.014516 | G81: 0.857808 | H81: 1.6834035 | I81: 1 | K81: 0.015980594 | L81: 1.392 | M81: 1 | N81: 10.722385 | O81: 1
C82: 12L1H155258 | D82: 1 | E82: 1 | F82: 6.014516 | G82: 0.857808 | H82: 1.6834035 | I82: 1 | K82: 0.015980594 | L82: 1.392 | M82: 1 | N82: 10.722385 | O82: 1
C83: 12L2H155165 | D83: 1 | E83: 1 | F83: 6.7639961 | G83: 1.07235 | H83: 1.7310671 | I83: 1 | K83: 0.015980594 | L83: 1.566 | M83: 1 | N83: 9.7773574
C84: 12L3H155255 | D84: 1 | E84: 1 | F84: 8.671774 | G84: 1.286712 | H84: 2.5563727 | I84: 1 | K84: 0.023970891 | L84: 2.088 | M84: 1 | N84: 11.614845 | O84: 1
C85: G255J6X112R1 | D85: 1 | E85: 1 | F85: 8.3187765 | G85: 1.28304 | H85: 1.2219455 | I85: 1 | L85: 0.0615 | M85: 1 | N85: 6.393189
C86: G45J6X112L1 | D86: 1 | E86: 1 | F86: 7.4373997 | G86: 1.02643 | H86: 1.9807584 | I86: 1 | L86: 0.02508 | M86: 1 | N86: 6.8825255
C87: G67J0X112L1 | D87: 1 | E87: 1 | F87: 10.533575 | G87: 1.53965 | H87: 2.8191233 | I87: 1 | L87: 0.03624 | M87: 1 | N87: 8.565944
C88: G67J0X112R1 | D88: 1 | E88: 1 | F88: 10.533575 | G88: 1.53965 | H88: 2.8191233 | I88: 1 | L88: 0.03624 | M88: 1 | N88: 8.565944
C89: K134J3X102R1 | D89: 1 | E89: 1 | F89: 4.856206 | G89: 0.6017 | H89: 1.1749594 | I89: 1 | L89: 0.03276 | M89: 1 | N89: 7.4957737
C90: K145J4X102L1 | D90: 1 | E90: 1 | F90: 6.1782455 | G90: 0.80227 | H90: 1.4594912 | I90: 1 | L90: 0.04212 | M90: 1 | N90: 6.0894408
C91: K145J4X102R1 | D91: 1 | E91: 1 | F91: 6.1782455 | G91: 0.80227 | H91: 1.4594912 | I91: 1 | L91: 0.04212 | M91: 1 | N91: 6.0894408
C92: K145J4XB102L1 | D92: 1 | E92: 1 | F92: 6.1782455 | G92: 0.80227 | H92: 1.4594912 | I92: 1 | L92: 0.04212 | M92: 1 | N92: 6.0894408
C93: K145J4XB102R1 | D93: 1 | E93: 1 | F93: 6.1782455 | G93: 0.80227 | H93: 1.4594912 | I93: 1 | L93: 0.04212 | M93: 1 | N93: 8.0894408
C94: KX34J3X102R1 | D94: 1 | E94: 1 | F94: 4.856206 | G94: 0.6017 | H94: 1.2366574 | I94: 1 | L94: 0.01512 | M94: 1 | N94: 5.4618737
C95: KX44J3X102R1 | D95: 1 | E95: 1 | F95: 5.5181579 | G95: 0.80227 | H95: 1.2596829 | I95: 1 | L95: 0.01728 | M95: 1 | N95: 5.5421681
C96: KX45J4X102L1 | D96: 1 | E96: 1 | F96: 6.0742455 | G96: 0.80227 | H96: 1.5342932 | I96: 1 | L96: 0.01944 | M96: 1 | N96: 6.0483408
... C99: KX45J4XB102R1 | D99: 1 | E99: 1 | F99: 6.0742455 | G99: 0.80227 | H99: 1.5342932 | I99: 1 | L99: 0.01944 | M99: 1 | N99: 6.0483408
C100: LB00L6K5072R1S12 | D100: 1 | E100: 1 | F100: 13.78629 | G100: 2.14452 | H100: 3.9081511 | J100: 6 | K100: 0.039951484 | L100: 3.48 | M100: 1 | N100: 10.005606 | O100: 1
C101: LB00L6K5172R1Z22 | D101: 1 | E101: 1 | F101: 13.78629 | G101: 2.14452 | H101: 3.9081511 | J101: 6 | K101: 0.039951484 | L101: 3.48 | M101: 1 | N101: 11.005606
C102: LB44B1K072R1S12 | D102: 1 | E102: 1 | F102: 6.011416 | G102: 0.857808 | H102: 1.5860005 | J102: 6 | K102: 0.015980594 | L102: 1.392 | N102: 7.6249823
C103: LB44B1K072R1S13 | D103: 1 | E103: 1 | F103: 6.011416 | G103: 0.857808 | H103: 1.5860005 | J103: 6 | K103: 0.015980594 | L103: 1.392 | N103: 10.624982
C104: LB44B1W072R1S13 | D104: 1 | E104: 1 | F104: 6.011416 | G104: 0.857808 | H104: 1.5860005 | I104: 1 | K104: 0.015980594 | L104: 1.392 | N104: 7.6249823
C105: LB44L1K072R1S12 | D105: 1 | E105: 1 | F105: 6.014516 | G105: 0.857808 | H105: 1.6834035 | J105: 6 | K105: 0.015980594 | L105: 1.392 | N105: 7.7223853
C106: LB44L1K072R1S13 | D106: 1 | E106: 1 | F106: 6.014516 | G106: 0.857808 | H106: 1.6834035 | J106: 6 | K106: 0.015980594 | L106: 1.392 | N106: 10.722385
C107: LB44L1W072R1S13 | D107: 1 | E107: 1 | F107: 6.014516 | G107: 0.857808 | H107: 1.6834035 | I107: 1 | K107: 0.015980594 | L107: 1.392 | N107: 10.722385
C108: LB45B1K072R1S13 | D108: 1 | E108: 1 | F108: 6.5905649 | G108: 0.857808 | H108: 1.6259519 | J108: 6 | K108: 0.019975742 | L108: 1.566 | N108: 10.667371
C109: LB45B1K5172R1S13 | D109: 1 | E109: 1 | F109: 6.5936649 | G109: 1.07226 | H109: 1.7343459 | J109: 6 | K109: 0.019975742 | L109: 1.566 | M109: 1 | N109: 10.775765
...

Sheet BOM
B2: BOM_NOUR
B4: =COUNTBLANK(BOM_NOUR[STAGE]) -> 0 | C4: =COUNTBLANK(BOM_NOUR[TYPE]) -> 0 | D4: =COUNTBLANK(BOM_NOUR[GROUP]) -> 0 | E4: =COUNTBLANK(BOM_NOUR[CODE]) -> 0 | F4: =COUNTBLANK(BOM_NOUR[NAME]) -> 0 | G4: =COUNTBLANK(BOM_NOUR[MEASURE]) -> 0 | H4: =COUNTBLANK(BOM_NOUR[QTY]) -> 0 | I4: =COUNTBLANK(BOM_NOUR[Mcode]) -> 0 | J4: =COUNTBLANK(BOM_NOUR[Mname]) -> 0 | K4: =COUNTBLANK(BOM_NOUR[Mmeasure]) -> 0 | L4: =COUNTBLANK(BOM_NOUR[Mqty]) -> 0 | M4: =COUNTBLANK(BOM_NOUR[Mtype]) -> 0 | N4: =COUNTBLANK(BOM_NOUR[Mgroup]) -> 0 | P4: =COUNTBLANK(BOM_NOUR[TW]) -> 0 | R4: =COUNTBLANK(BOM_NOUR[STATUS]) -> 0
B5: STAGE | C5: TYPE | D5: GROUP | E5: CODE | F5: NAME | G5: MEASURE | H5: QTY | I5: Mcode | J5: Mname | K5: Mmeasure | L5: Mqty | M5: Mtype | N5: Mgroup | O5: SERIE | P5: TW | Q5: LE in kg | R5: STATUS
B6: 05.Assembly | C6: SUBPRODUCT | D6: UFBATTERY | E6: UF12L2H155165 | F6: BATT SF MF PL2H D NR/NR | G6: UN | H6: 1 | I6: 600P0004 | J6: PB SB 3.2 | K6: KG | L6: 1.2 | M6: RawMaterial | N6: LEAD | P6: {=IF(BOM_NOUR[[#This Row],[STAGE]]="05.Assembly", SUMPRODUCT(--(BOM_NOUR[[#This Row],[STAGE]]=TW_T[STAGE])*(BOM_NOUR[[#This Row],[Mgroup]]=TW_T[Mgroup]),TW_T[TW]), SUMPRODUCT(--(BOM_NOUR[[#This Row],[STAGE]]=TW_T[STAGE]),TW_T[TW]))} -> 0.027543228 | R6: CONSIDERED
B7: 07.Formation | C7: PRODUCT | D7: BATTERY | E7: 12L2H155165 | F7: BATT SF MF PL2H D NR/NR | G7: UN | H7: 1 | I7: 520X0027 | J7: ETIQ PORTANT LA LETTRE D | K7: UN | L7: 1 | M7: RawMaterial | N7: OTHER | P7: {=IF(BOM_NOUR[[#This Row],[STAGE]]="05.Assembly", SUMPRODUCT(--(BOM_NOUR[[#This Row],[STAGE]]=TW_T[STAGE])*(BOM_NOUR[[#This Row],[Mgroup]]=TW_T[Mgroup]),TW_T[TW]), SUMPRODUCT(--(BOM_NOUR[[#This Row],[STAGE]]=TW_T[STAGE]),TW_T[TW]))} -> 0.0018917585 | R7: CONSIDERED
B8: 07.Formation | C8: PRODUCT | D8: BATTERY | E8: 12L2H155165 | F8: BATT SF MF PL2H D NR/NR | G8: UN | H8: 1 | I8: UF12L2H155165 | J8: BATT SF MF PL2H D NR/NR | K8: UN | L8: 1 | M8: Subproduct | N8: UFBATTERY | P8: {=IF(BOM_NOUR[[#This Row],[STAGE]]="05.Assembly", SUMPRODUCT(--(BOM_NOUR[[#This Row],[STAGE]]=TW_T[STAGE])*(BOM_NOUR[[#This Row],[Mgroup]]=TW_T[Mgroup]),TW_T[TW]), SUMPRODUCT(--(BOM_NOUR[[#This Row],[STAGE]]=TW_T[STAGE]),TW_T[TW]))} -> 0.0018917585 | R8: CONSIDERED
B9: 07.Formation | C9: PRODUCT | D9: BATTERY | E9: 12L2H155165 | F9: BATT SF MF PL2H D NR/NR | G9: UN | H9: 1 | I9: 420L0234 | J9: COUV COUVERCLE L2 NOIR | K9: UN | L9: 1 | M9: RawMaterial | N9: UPPER LID | P9: {=IF(BOM_NOUR[[#This Row],[STAGE]]="05.Assembly", SUMPRODUCT(--(BOM_NOUR[[#This Row],[STAGE]]=TW_T[STAGE])*(BOM_NOUR[[#This Row],[Mgroup]]=TW_T[Mgroup]),TW_T[TW]), SUMPRODUCT(--(BOM_NOUR[[#This Row],[STAGE]]=TW_T[STAGE]),TW_T[TW]))} -> 0.0018917585 | R9: CONSIDERED
B10: 07.Formation | C10: PRODUCT | D10: BATTERY | E10: 12L2H155165 | F10: BATT SF MF PL2H D NR/NR | G10: UN | H10: 1 | I10: 521X0005 | J10: ETIQUETTE TUV | K10: UN | L10: 1 | M10: RawMaterial | N10: OTHER | P10: {=IF(BOM_NOUR[[#This Row],[STAGE]]="05.Assembly", SUMPRODUCT(--(BOM_NOUR[[#This Row],[STAGE]]=TW_T[STAGE])*(BOM_NOUR[[#This Row],[Mgroup]]=TW_T[Mgroup]),TW_T[TW]), SUMPRODUCT(--(BOM_NOUR[[#This Row],[STAGE]]=TW_T[STAGE]),TW_T[TW]))} -> 0.0018917585 | R10: CONSIDERED
B11: 07.Formation | C11: PRODUCT | D11: BATTERY | E11: 12L2H155165 | F11: BATT SF MF PL2H D NR/NR | G11: UN | H11: 1 | I11: 521X0290 | J11: ETIQ COUV1 L1 | K11: UN | L11: 1 | M11: RawMaterial | N11: OTHER | P11: {=IF(BOM_NOUR[[#This Row],[STAGE]]="05.Assembly", SUMPRODUCT(--(BOM_NOUR[[#This Row],[STAGE]]=TW_T[STAGE])*(BOM_NOUR[[#This Row],[Mgroup]]=TW_T[Mgroup]),TW_T[TW]), SUMPRODUCT(--(BOM_NOUR[[#This Row],[STAGE]]=TW_T[STAGE]),TW_T[TW]))} -> 0.0018917585 | R11: CONSIDERED
B12: 07.Formation | C12: PRODUCT | D12: BATTERY | E12: 12L2H155165 | F12: BATT SF MF PL2H D NR/NR | G12: UN | H12: 1 | I12: 521X0293 | J12: ETIQ COUV2 L1 | K12: UN | L12: 1 | M12: RawMaterial | N12: OTHER | P12: {=IF(BOM_NOUR[[#This Row],[STAGE]]="05.Assembly", SUMPRODUCT(--(BOM_NOUR[[#This Row],[STAGE]]=TW_T[STAGE])*(BOM_NOUR[[#This Row],[Mgroup]]=TW_T[Mgroup]),TW_T[TW]), SUMPRODUCT(--(BOM_NOUR[[#This Row],[STAGE]]=TW_T[STAGE]),TW_T[TW]))} -> 0.0018917585 | R12: CONSIDERED
B13: 07.Formation | C13: PRODUCT | D13: BATTERY | E13: 12L2H155165 | F13: BATT SF MF PL2H D NR/NR | G13: UN | H13: 1 | I13: 490B0011 | J13: CACHE BORNE POS. ROUGE POULIE | K13: UN | L13: 1 | M13: RawMaterial | N13: OTHER | P13: {=IF(BOM_NOUR[[#This Row],[STAGE]]="05.Assembly", SUMPRODUCT(--(BOM_NOUR[[#This Row],[STAGE]]=TW_T[STAGE])*(BOM_NOUR[[#This Row],[Mgroup]]=TW_T[Mgroup]),TW_T[TW]), SUMPRODUCT(--(BOM_NOUR[[#This Row],[STAGE]]=TW_T[STAGE]),TW_T[TW]))} -> 0.0018917585 | R13: CONSIDERED
B14: 07.Formation | C14: PRODUCT | D14: BATTERY | E14: 12L2H155165 | F14: BATT SF MF PL2H D NR/NR | G14: UN | H14: 1 | I14: 490B0012 | J14: CACHE BORNE NEG.BLANC POULIE | K14: UN | L14: 1 | M14: RawMaterial | N14: OTHER | P14: {=IF(BOM_NOUR[[#This Row],[STAGE]]="05.Assembly", SUMPRODUCT(--(BOM_NOUR[[#This Row],[STAGE]]=TW_T[STAGE])*(BOM_NOUR[[#This Row],[Mgroup]]=TW_T[Mgroup]),TW_T[TW]), SUMPRODUCT(--(BOM_NOUR[[#This Row],[STAGE]]=TW_T[STAGE]),TW_T[TW]))} -> 0.0018917585 | R14: CONSIDERED
B15: 07.Formation | C15: PRODUCT | D15: BATTERY | E15: 12L2H155165 | F15: BATT SF MF PL2H D NR/NR | G15: UN | H15: 1 | I15: 490R0001 | J15: RONDELLE NEG. BLANCHE | K15: UN | L15: 1 | M15: RawMaterial | N15: OTHER | P15: {=IF(BOM_NOUR[[#This Row],[STAGE]]="05.Assembly", SUMPRODUCT(--(BOM_NOUR[[#This Row],[STAGE]]=TW_T[STAGE])*(BOM_NOUR[[#This Row],[Mgroup]]=TW_T[Mgroup]),TW_T[TW]), SUMPRODUCT(--(BOM_NOUR[[#This Row],[STAGE]]=TW_T[STAGE]),TW_T[TW]))} -> 0.0018917585 | R15: CONSIDERED
B16: 07.Formation | C16: PRODUCT | D16: BATTERY | E16: 12L2H155165 | F16: BATT SF MF PL2H D NR/NR | G16: UN | H16: 1 | I16: 490R0002 | J16: RONDELLE POSITIVE ROUGE | K16: UN | L16: 1 | M16: RawMaterial | N16: OTHER | P16: {=IF(BOM_NOUR[[#This Row],[STAGE]]="05.Assembly", SUMPRODUCT(--(BOM_NOUR[[#This Row],[STAGE]]=TW_T[STAGE])*(BOM_NOUR[[#This Row],[Mgroup]]=TW_T[Mgroup]),TW_T[TW]), SUMPRODUCT(--(BOM_NOUR[[#This Row],[STAGE]]=TW_T[STAGE]),TW_T[TW]))} -> 0.0018917585 | R16: CONSIDERED
B17: 07.Formation | C17: PRODUCT | D17: BATTERY | E17: 12L2H155165 | F17: BATT SF MF PL2H D NR/NR | G17: UN | H17: 1 | I17: 460D1813 | J17: OEIL MAGIC NOIR D57.2 AKUMSAN | K17: UN | L17: 1 | M17: RawMaterial | N17: MAGIC EYE | P17: {=IF(BOM_NOUR[[#This Row],[STAGE]]="05.Assembly", SUMPRODUCT(--(BOM_NOUR[[#This Row],[STAGE]]=TW_T[STAGE])*(BOM_NOUR[[#This Row],[Mgroup]]=TW_T[Mgroup]),TW_T[TW]), SUMPRODUCT(--(BOM_NOUR[[#This Row],[STAGE]]=TW_T[STAGE]),TW_T[TW]))} -> 0.0018917585 | R17: CONSIDERED
... B2879: 07.Formation | C2879: PRODUCT | D2879: BATTERY | E2879: ML34CF003L1X13 | F2879: BATTERIE FINIE TR16 | G2879: UN | H2879: 1 | I2879: 490R0002 | J2879: RONDELLE POSITIVE ROUGE | K2879: UN | L2879: 2 | M2879: RawMaterial | N2879: OTHER | P2879: {=IF(BOM_NOUR[[#This Row],[STAGE]]="05.Assembly", SUMPRODUCT(--(BOM_NOUR[[#This Row],[STAGE]]=TW_T[STAGE])*(BOM_NOUR[[#This Row],[Mgroup]]=TW_T[Mgroup]),TW_T[TW]), SUMPRODUCT(--(BOM_NOUR[[#This Row],[STAGE]]=TW_T[STAGE]),TW_T[TW]))} -> 0.0018917585 | R2879: CONSIDERED
B2880: 07.Formation | C2880: PRODUCT | D2880: BATTERY | E2880: KX45J4X102L1 | F2880: Стартерна батерия 45Ah 12V L - KX45J4X102L1 | G2880: UN | H2880: 1 | I2880: UFKX45J4X102L1 | J2880: Стартерна батерия 45Ah 12V L - KX45J4X102L1 | K2880: UN | L2880: 1 | M2880: Subproduct | N2880: UFBATTERY | P2880: {=IF(BOM_NOUR[[#This Row],[STAGE]]="05.Assembly", SUMPRODUCT(--(BOM_NOUR[[#This Row],[STAGE]]=TW_T[STAGE])*(BOM_NOUR[[#This Row],[Mgroup]]=TW_T[Mgroup]),TW_T[TW]), SUMPRODUCT(--(BOM_NOUR[[#This Row],[STAGE]]=TW_T[STAGE]),TW_T[TW]))} -> 0.0018917585 | R2880: CONSIDERED
B2881: 07.Formation | C2881: PRODUCT | D2881: BATTERY | E2881: KX45J4X102L1 | F2881: Стартерна батерия 45Ah 12V L - KX45J4X102L1 | G2881: UN | H2881: 1 | I2881: 490TNS6001 | J2881: Protective cover J4 black | K2881: UN | L2881: 1 | M2881: RawMaterial | N2881: UPPER LID | P2881: {=IF(BOM_NOUR[[#This Row],[STAGE]]="05.Assembly", SUMPRODUCT(--(BOM_NOUR[[#This Row],[STAGE]]=TW_T[STAGE])*(BOM_NOUR[[#This Row],[Mgroup]]=TW_T[Mgroup]),TW_T[TW]), SUMPRODUCT(--(BOM_NOUR[[#This Row],[STAGE]]=TW_T[STAGE]),TW_T[TW]))} -> 0.0018917585 | R2881: CONSIDERED
B2882: 07.Formation | C2882: PRODUCT | D2882: BATTERY | E2882: KX45J4X102L1 | F2882: Стартерна батерия 45Ah 12V L - KX45J4X102L1 | G2882: UN | H2882: 1 | I2882: M80600090002 | J2882: Индикатор 19.16 / 55 мм | K2882: UN | L2882: 1 | M2882: RawMaterial | N2882: MAGIC EYE | P2882: {=IF(BOM_NOUR[[#This Row],[STAGE]]="05.Assembly", SUMPRODUCT(--(BOM_NOUR[[#This Row],[STAGE]]=TW_T[STAGE])*(BOM_NOUR[[#This Row],[Mgroup]]=TW_T[Mgroup]),TW_T[TW]), SUMPRODUCT(--(BOM_NOUR[[#This Row],[STAGE]]=TW_T[STAGE]),TW_T[TW]))} -> 0.0018917585 | R2882: CONSIDERED
B2883: 05.Assembly | C2883: SUBPRODUCT | D2883: UFBATTERY | E2883: UFKX45J4X102L1 | F2883: Стартерна батерия 45Ah 12V L - KX45J4X102L1 | G2883: UN | H2883: 1 | I2883: M80300110454 | J2883: Капак J4 X L черен с око | K2883: UN | L2883: 1 | M2883: RawMaterial | N2883: LID | P2883: {=IF(BOM_NOUR[[#This Row],[STAGE]]="05.Assembly", SUMPRODUCT(--(BOM_NOUR[[#This Row],[STAGE]]=TW_T[STAGE])*(BOM_NOUR[[#This Row],[Mgroup]]=TW_T[Mgroup]),TW_T[TW]), SUMPRODUCT(--(BOM_NOUR[[#This Row],[STAGE]]=TW_T[STAGE]),TW_T[TW]))} -> 0.021919227 | R2883: CONSIDERED
B2884: 05.Assembly | C2884: SUBPRODUCT | D2884: UFBATTERY | E2884: UFKX45J4X102L1 | F2884: Стартерна батерия 45Ah 12V L - KX45J4X102L1 | G2884: UN | H2884: 1 | I2884: M80200110451 | J2884: Кутия J4 черна без борд | K2884: UN | L2884: 1 | M2884: RawMaterial | N2884: BOX | P2884: {=IF(BOM_NOUR[[#This Row],[STAGE]]="05.Assembly", SUMPRODUCT(--(BOM_NOUR[[#This Row],[STAGE]]=TW_T[STAGE])*(BOM_NOUR[[#This Row],[Mgroup]]=TW_T[Mgroup]),TW_T[TW]), SUMPRODUCT(--(BOM_NOUR[[#This Row],[STAGE]]=TW_T[STAGE]),TW_T[TW]))} -> 0.023456076 | R2884: CONSIDERED
B2885: 07.Formation | C2885: PRODUCT | D2885: BATTERY | E2885: KX45J4X102L1 | F2885: Стартерна батерия 45Ah 12V L - KX45J4X102L1 | G2885: UN | H2885: 1 | I2885: P60006 | J2885: Електролит - 1.24 г/см3 | K2885: L | L2885: 2.74 | M2885: Subproduct | N2885: ELECTROLYTE | P2885: {=IF(BOM_NOUR[[#This Row],[STAGE]]="05.Assembly", SUMPRODUCT(--(BOM_NOUR[[#This Row],[STAGE]]=TW_T[STAGE])*(BOM_NOUR[[#This Row],[Mgroup]]=TW_T[Mgroup]),TW_T[TW]), SUMPRODUCT(--(BOM_NOUR[[#This Row],[STAGE]]=TW_T[STAGE]),TW_T[TW]))} -> 0.0018917585 | R2885: CONSIDERED
B2886: 07.Formation | C2886: PRODUCT | D2886: BATTERY | E2886: KX45J4X102L1 | F2886: Стартерна батерия 45Ah 12V L - KX45J4X102L1 | G2886: UN | H2886: 1 | I2886: 600A0013 | J2886: ACIDE SULFURIQUE 1.27 | K2886: L | L2886: 0.62 | M2886: Subproduct | N2886: ELECTROLYTE | P2886: {=IF(BOM_NOUR[[#This Row],[STAGE]]="05.Assembly", SUMPRODUCT(--(BOM_NOUR[[#This Row],[STAGE]]=TW_T[STAGE])*(BOM_NOUR[[#This Row],[Mgroup]]=TW_T[Mgroup]),TW_T[TW]), SUMPRODUCT(--(BOM_NOUR[[#This Row],[STAGE]]=TW_T[STAGE]),TW_T[TW]))} -> 0.0018917585 | R2886: CONSIDERED
B2887: 05.Assembly | C2887: SUBPRODUCT | D2887: UFBATTERY | E2887: UFKX45J4X102L1 | F2887: Стартерна батерия 45Ah 12V L - KX45J4X102L1 | G2887: UN | H2887: 1 | I2887: M80400051222 | J2887: Джоб сепаратор 122/1,1/0,2 | K2887: M2 | L2887: 0.80227 | M2887: RawMaterial | N2887: SEPARATOR | P2887: {=IF(BOM_NOUR[[#This Row],[STAGE]]="05.Assembly", SUMPRODUCT(--(BOM_NOUR[[#This Row],[STAGE]]=TW_T[STAGE])*(BOM_NOUR[[#This Row],[Mgroup]]=TW_T[Mgroup]),TW_T[TW]), SUMPRODUCT(--(BOM_NOUR[[#This Row],[STAGE]]=TW_T[STAGE]),TW_T[TW]))} -> 0.034300749 | R2887: CONSIDERED
B2888: 05.Assembly | C2888: SUBPRODUCT | D2888: UFBATTERY | E2888: UFKX45J4X102L1 | F2888: Стартерна батерия 45Ah 12V L - KX45J4X102L1 | G2888: UN | H2888: 1 | I2888: 490C0016 | J2888: Plastic inserter for JIS box | K2888: UN | L2888: 3 | M2888: RawMaterial | N2888: OTHER | P2888: {=IF(BOM_NOUR[[#This Row],[STAGE]]="05.Assembly", SUMPRODUCT(--(BOM_NOUR[[#This Row],[STAGE]]=TW_T[STAGE])*(BOM_NOUR[[#This Row],[Mgroup]]=TW_T[Mgroup]),TW_T[TW]), SUMPRODUCT(--(BOM_NOUR[[#This Row],[STAGE]]=TW_T[STAGE]),TW_T[TW]))} -> 0 | R2888: CONSIDERED
B2889: 05.Assembly | C2889: SUBPRODUCT | D2889: UFBATTERY | E2889: UFKX45J4X102L1 | F2889: Стартерна батерия 45Ah 12V L - KX45J4X102L1 | G2889: UN | H2889: 1 | I2889: P51158 | J2889: Kex+ Отрязана неформирана плоча | K2889: UN | L2889: 24 | M2889: Subproduct | N2889: PLATE_Cutted | P2889: {=IF(BOM_NOUR[[#This Row],[STAGE]]="05.Assembly", SUMPRODUCT(--(BOM_NOUR[[#This Row],[STAGE]]=TW_T[STAGE])*(BOM_NOUR[[#This Row],[Mgroup]]=TW_T[Mgroup]),TW_T[TW]), SUMPRODUCT(--(BOM_NOUR[[#This Row],[STAGE]]=TW_T[STAGE]),TW_T[TW]))} -> 0.034300749 | R2889: CONSIDERED
B2890: 05.Assembly | C2890: SUBPRODUCT | D2890: UFBATTERY | E2890: UFKX45J4X102L1 | F2890: Стартерна батерия 45Ah 12V L - KX45J4X102L1 | G2890: UN | H2890: 1 | I2890: P51159 | J2890: Kex- Отрязана неформирана плоча | K2890: UN | L2890: 30 | M2890: Subproduct | N2890: PLATE_Cutted | P2890: {=IF(BOM_NOUR[[#This Row],[STAGE]]="05.Assembly", SUMPRODUCT(--(BOM_NOUR[[#This Row],[STAGE]]=TW_T[STAGE])*(BOM_NOUR[[#This Row],[Mgroup]]=TW_T[Mgroup]),TW_T[TW]), SUMPRODUCT(--(BOM_NOUR[[#This Row],[STAGE]]=TW_T[STAGE]),TW_T[TW]))} -> 0.034300749 | R2890: CONSIDERED
B2891: 05.Assembly | C2891: SUBPRODUCT | D2891: UFBATTERY | E2891: UFKX45J4X102L1 | F2891: Стартерна батерия 45Ah 12V L - KX45J4X102L1 | G2891: UN | H2891: 1 | I2891: 600P0004 | J2891: PB SB 3.2 | K2891: KG | L2891: 0.646 | M2891: RawMaterial | N2891: LEAD | P2891: {=IF(BOM_NOUR[[#This Row],[STAGE]]="05.Assembly", SUMPRODUCT(--(BOM_NOUR[[#This Row],[STAGE]]=TW_T[STAGE])*(BOM_NOUR[[#This Row],[Mgroup]]=TW_T[Mgroup]),TW_T[TW]), SUMPRODUCT(--(BOM_NOUR[[#This Row],[STAGE]]=TW_T[STAGE]),TW_T[TW]))} -> 0.027543228 | R2891: CONSIDERED
B2892: 07.Formation | C2892: PRODUCT | D2892: BATTERY | E2892: KX45J4XB102L1 | F2892: Стартерна батерия 40Ah 12V L- KX45J4XB102L1 | G2892: UN | H2892: 1 | I2892: UFKX45J4XB102L1 | J2892: Стартерна батерия 40Ah 12V L- KX45J4XB102L1 | K2892: UN | L2892: 1 | M2892: Subproduct | N2892: UFBATTERY | P2892: {=IF(BOM_NOUR[[#This Row],[STAGE]]="05.Assembly", SUMPRODUCT(--(BOM_NOUR[[#This Row],[STAGE]]=TW_T[STAGE])*(BOM_NOUR[[#This Row],[Mgroup]]=TW_T[Mgroup]),TW_T[TW]), SUMPRODUCT(--(BOM_NOUR[[#This Row],[STAGE]]=TW_T[STAGE]),TW_T[TW]))} -> 0.0018917585 | R2892: CONSIDERED
B2893: 07.Formation | C2893: PRODUCT | D2893: BATTERY | E2893: KX45J4XB102L1 | F2893: Стартерна батерия 40Ah 12V L- KX45J4XB102L1 | G2893: UN | H2893: 1 | I2893: 490TNS6001 | J2893: Protective cover J4 black | K2893: UN | L2893: 1 | M2893: RawMaterial | N2893: UPPER LID | P2893: {=IF(BOM_NOUR[[#This Row],[STAGE]]="05.Assembly", SUMPRODUCT(--(BOM_NOUR[[#This Row],[STAGE]]=TW_T[STAGE])*(BOM_NOUR[[#This Row],[Mgroup]]=TW_T[Mgroup]),TW_T[TW]), SUMPRODUCT(--(BOM_NOUR[[#This Row],[STAGE]]=TW_T[STAGE]),TW_T[TW]))} -> 0.0018917585 | R2893: CONSIDERED
B2894: 07.Formation | C2894: PRODUCT | D2894: BATTERY | E2894: KX45J4XB102L1 | F2894: Стартерна батерия 40Ah 12V L- KX45J4XB102L1 | G2894: UN | H2894: 1 | I2894: M80600090002 | J2894: Индикатор 19.16 / 55 мм | K2894: UN | L2894: 1 | M2894: RawMaterial | N2894: MAGIC EYE | P2894: {=IF(BOM_NOUR[[#This Row],[STAGE]]="05.Assembly", SUMPRODUCT(--(BOM_NOUR[[#This Row],[STAGE]]=TW_T[STAGE])*(BOM_NOUR[[#This Row],[Mgroup]]=TW_T[Mgroup]),TW_T[TW]), SUMPRODUCT(--(BOM_NOUR[[#This Row],[STAGE]]=TW_T[STAGE]),TW_T[TW]))} -> 0.0018917585 | R2894: CONSIDERED
B2895: 05.Assembly | C2895: SUBPRODUCT | D2895: UFBATTERY | E2895: UFKX45J4XB102L1 | F2895: Стартерна батерия 40Ah 12V L- KX45J4XB102L1 | G2895: UN | H2895: 1 | I2895: M80300110456 | J2895: Капак J4 X L черен с око с втулка Z | K2895: UN | L2895: 1 | M2895: RawMaterial | N2895: LID | P2895: {=IF(BOM_NOUR[[#This Row],[STAGE]]="05.Assembly", SUMPRODUCT(--(BOM_NOUR[[#This Row],[STAGE]]=TW_T[STAGE])*(BOM_NOUR[[#This Row],[Mgroup]]=TW_T[Mgroup]),TW_T[TW]), SUMPRODUCT(--(BOM_NOUR[[#This Row],[STAGE]]=TW_T[STAGE]),TW_T[TW]))} -> 0.021919227 | R2895: CONSIDERED
B2896: 05.Assembly | C2896: SUBPRODUCT | D2896: UFBATTERY | E2896: UFKX45J4XB102L1 | F2896: Стартерна батерия 40Ah 12V L- KX45J4XB102L1 | G2896: UN | H2896: 1 | I2896: M80200110451 | J2896: Кутия J4 черна без борд | K2896: UN | L2896: 1 | M2896: RawMaterial | N2896: BOX | P2896: {=IF(BOM_NOUR[[#This Row],[STAGE]]="05.Assembly", SUMPRODUCT(--(BOM_NOUR[[#This Row],[STAGE]]=TW_T[STAGE])*(BOM_NOUR[[#This Row],[Mgroup]]=TW_T[Mgroup]),TW_T[TW]), SUMPRODUCT(--(BOM_NOUR[[#This Row],[STAGE]]=TW_T[STAGE]),TW_T[TW]))} -> 0.023456076 | R2896: CONSIDERED
B2897: 07.Formation | C2897: PRODUCT | D2897: BATTERY | E2897: KX45J4XB102L1 | F2897: Стартерна батерия 40Ah 12V L- KX45J4XB102L1 | G2897: UN | H2897: 1 | I2897: P60006 | J2897: Електролит - 1.24 г/см3 | K2897: L | L2897: 2.74 | M2897: Subproduct | N2897: ELECTROLYTE | P2897: {=IF(BOM_NOUR[[#This Row],[STAGE]]="05.Assembly", SUMPRODUCT(--(BOM_NOUR[[#This Row],[STAGE]]=TW_T[STAGE])*(BOM_NOUR[[#This Row],[Mgroup]]=TW_T[Mgroup]),TW_T[TW]), SUMPRODUCT(--(BOM_NOUR[[#This Row],[STAGE]]=TW_T[STAGE]),TW_T[TW]))} -> 0.0018917585 | R2897: CONSIDERED
B2898: 07.Formation | C2898: PRODUCT | D2898: BATTERY | E2898: KX45J4XB102L1 | F2898: Стартерна батерия 40Ah 12V L- KX45J4XB102L1 | G2898: UN | H2898: 1 | I2898: 600A0013 | J2898: ACIDE SULFURIQUE 1.27 | K2898: L | L2898: 0.62 | M2898: Subproduct | N2898: ELECTROLYTE | P2898: {=IF(BOM_NOUR[[#This Row],[STAGE]]="05.Assembly", SUMPRODUCT(--(BOM_NOUR[[#This Row],[STAGE]]=TW_T[STAGE])*(BOM_NOUR[[#This Row],[Mgroup]]=TW_T[Mgroup]),TW_T[TW]), SUMPRODUCT(--(BOM_NOUR[[#This Row],[STAGE]]=TW_T[STAGE]),TW_T[TW]))} -> 0.0018917585 | R2898: CONSIDERED
B2899: 05.Assembly | C2899: SUBPRODUCT | D2899: UFBATTERY | E2899: UFKX45J4XB102L1 | F2899: Стартерна батерия 40Ah 12V L- KX45J4XB102L1 | G2899: UN | H2899: 1 | I2899: M80400051222 | J2899: Джоб сепаратор 122/1,1/0,2 | K2899: M2 | L2899: 0.80227 | M2899: RawMaterial | N2899: SEPARATOR | P2899: {=IF(BOM_NOUR[[#This Row],[STAGE]]="05.Assembly", SUMPRODUCT(--(BOM_NOUR[[#This Row],[STAGE]]=TW_T[STAGE])*(BOM_NOUR[[#This Row],[Mgroup]]=TW_T[Mgroup]),TW_T[TW]), SUMPRODUCT(--(BOM_NOUR[[#This Row],[STAGE]]=TW_T[STAGE]),TW_T[TW]))} -> 0.034300749 | R2899: CONSIDERED
B2900: 05.Assembly | C2900: SUBPRODUCT | D2900: UFBATTERY | E2900: UFKX45J4XB102L1 | F2900: Стартерна батерия 40Ah 12V L- KX45J4XB102L1 | G2900: UN | H2900: 1 | I2900: 490C0016 | J2900: Plastic inserter for JIS box | K2900: UN | L2900: 3 | M2900: RawMaterial | N2900: OTHER | P2900: {=IF(BOM_NOUR[[#This Row],[STAGE]]="05.Assembly", SUMPRODUCT(--(BOM_NOUR[[#This Row],[STAGE]]=TW_T[STAGE])*(BOM_NOUR[[#This Row],[Mgroup]]=TW_T[Mgroup]),TW_T[TW]), SUMPRODUCT(--(BOM_NOUR[[#This Row],[STAGE]]=TW_T[STAGE]),TW_T[TW]))} -> 0 | R2900: CONSIDERED
B2901: 05.Assembly | C2901: SUBPRODUCT | D2901: UFBATTERY | E2901: UFKX45J4XB102L1 | F2901: Стартерна батерия 40Ah 12V L- KX45J4XB102L1 | G2901: UN | H2901: 1 | I2901: P51158 | J2901: Kex+ Отрязана неформирана плоча | K2901: UN | L2901: 24 | M2901: Subproduct | N2901: PLATE_Cutted | P2901: {=IF(BOM_NOUR[[#This Row],[STAGE]]="05.Assembly", SUMPRODUCT(--(BOM_NOUR[[#This Row],[STAGE]]=TW_T[STAGE])*(BOM_NOUR[[#This Row],[Mgroup]]=TW_T[Mgroup]),TW_T[TW]), SUMPRODUCT(--(BOM_NOUR[[#This Row],[STAGE]]=TW_T[STAGE]),TW_T[TW]))} -> 0.034300749 | R2901: CONSIDERED
B2902: 05.Assembly | C2902: SUBPRODUCT | D2902: UFBATTERY | E2902: UFKX45J4XB102L1 | F2902: Стартерна батерия 40Ah 12V L- KX45J4XB102L1 | G2902: UN | H2902: 1 | I2902: P51159 | J2902: Kex- Отрязана неформирана плоча | K2902: UN | L2902: 30 | M2902: Subproduct | N2902: PLATE_Cutted | P2902: {=IF(BOM_NOUR[[#This Row],[STAGE]]="05.Assembly", SUMPRODUCT(--(BOM_NOUR[[#This Row],[STAGE]]=TW_T[STAGE])*(BOM_NOUR[[#This Row],[Mgroup]]=TW_T[Mgroup]),TW_T[TW]), SUMPRODUCT(--(BOM_NOUR[[#This Row],[STAGE]]=TW_T[STAGE]),TW_T[TW]))} -> 0.034300749 | R2902: CONSIDERED
B2903: 05.Assembly | C2903: SUBPRODUCT | D2903: UFBATTERY | E2903: UFKX45J4XB102L1 | F2903: Стартерна батерия 40Ah 12V L- KX45J4XB102L1 | G2903: UN | H2903: 1 | I2903: 600P0004 | J2903: PB SB 3.2 | K2903: KG | L2903: 0.646 | M2903: RawMaterial | N2903: LEAD | P2903: {=IF(BOM_NOUR[[#This Row],[STAGE]]="05.Assembly", SUMPRODUCT(--(BOM_NOUR[[#This Row],[STAGE]]=TW_T[STAGE])*(BOM_NOUR[[#This Row],[Mgroup]]=TW_T[Mgroup]),TW_T[TW]), SUMPRODUCT(--(BOM_NOUR[[#This Row],[STAGE]]=TW_T[STAGE]),TW_T[TW]))} -> 0.027543228 | R2903: CONSIDERED
B2904: 07.Formation | C2904: PRODUCT | D2904: BATTERY | E2904: G45J6X112L1 | F2904: Стартерна батерия 60Ah 12V L - G45J6X112L1 | G2904: UN | H2904: 1 | I2904: UFG45J6X112L1 | J2904: Стартерна батерия 60Ah 12V L - G45J6X112L1 | K2904: UN | L2904: 1 | M2904: Subproduct | N2904: UFBATTERY | P2904: {=IF(BOM_NOUR[[#This Row],[STAGE]]="05.Assembly", SUMPRODUCT(--(BOM_NOUR[[#This Row],[STAGE]]=TW_T[STAGE])*(BOM_NOUR[[#This Row],[Mgroup]]=TW_T[Mgroup]),TW_T[TW]), SUMPRODUCT(--(BOM_NOUR[[#This Row],[STAGE]]=TW_T[STAGE]),TW_T[TW]))} -> 0.0018917585 | R2904: CONSIDERED
B2905: 07.Formation | C2905: PRODUCT | D2905: BATTERY | E2905: G45J6X112L1 | F2905: Стартерна батерия 60Ah 12V L - G45J6X112L1 | G2905: UN | H2905: 1 | I2905: 490T5001 | J2905: COUVRE COUVERCLE N50 T-AKUMSAN NOIR | K2905: UN | L2905: 1 | M2905: RawMaterial | N2905: UPPER LID | P2905: {=IF(BOM_NOUR[[#This Row],[STAGE]]="05.Assembly", SUMPRODUCT(--(BOM_NOUR[[#This Row],[STAGE]]=TW_T[STAGE])*(BOM_NOUR[[#This Row],[Mgroup]]=TW_T[Mgroup]),TW_T[TW]), SUMPRODUCT(--(BOM_NOUR[[#This Row],[STAGE]]=TW_T[STAGE]),TW_T[TW]))} -> 0.0018917585 | R2905: CONSIDERED
B2906: 07.Formation | C2906: PRODUCT | D2906: BATTERY | E2906: G45J6X112L1 | F2906: Стартерна батерия 60Ah 12V L - G45J6X112L1 | G2906: UN | H2906: 1 | I2906: M80600090002 | J2906: Индикатор 19.16 / 55 мм | K2906: UN | L2906: 1 | M2906: RawMaterial | N2906: MAGIC EYE | P2906: {=IF(BOM_NOUR[[#This Row],[STAGE]]="05.Assembly", SUMPRODUCT(--(BOM_NOUR[[#This Row],[STAGE]]=TW_T[STAGE])*(BOM_NOUR[[#This Row],[Mgroup]]=TW_T[Mgroup]),TW_T[TW]), SUMPRODUCT(--(BOM_NOUR[[#This Row],[STAGE]]=TW_T[STAGE]),TW_T[TW]))} -> 0.0018917585 | R2906: CONSIDERED
B2907: 05.Assembly | C2907: SUBPRODUCT | D2907: UFBATTERY | E2907: UFG45J6X112L1 | F2907: Стартерна батерия 60Ah 12V L - G45J6X112L1 | G2907: UN | H2907: 1 | I2907: 420D2305 | J2907: Couvercle D23 G NR AVEC OM | K2907: UN | L2907: 1 | M2907: RawMaterial | N2907: LID | P2907: {=IF(BOM_NOUR[[#This Row],[STAGE]]="05.Assembly", SUMPRODUCT(--(BOM_NOUR[[#This Row],[STAGE]]=TW_T[STAGE])*(BOM_NOUR[[#This Row],[Mgroup]]=TW_T[Mgroup]),TW_T[TW]), SUMPRODUCT(--(BOM_NOUR[[#This Row],[STAGE]]=TW_T[STAGE]),TW_T[TW]))} -> 0.021919227 | R2907: CONSIDERED
B2908: 05.Assembly | C2908: SUBPRODUCT | D2908: UFBATTERY | E2908: UFG45J6X112L1 | F2908: Стартерна батерия 60Ah 12V L - G45J6X112L1 | G2908: UN | H2908: 1 | I2908: M802001106012 | J2908: Кутия J6 черна с борд BG | K2908: UN | L2908: 1 | M2908: RawMaterial | N2908: BOX | P2908: {=IF(BOM_NOUR[[#This Row],[STAGE]]="05.Assembly", SUMPRODUCT(--(BOM_NOUR[[#This Row],[STAGE]]=TW_T[STAGE])*(BOM_NOUR[[#This Row],[Mgroup]]=TW_T[Mgroup]),TW_T[TW]), SUMPRODUCT(--(BOM_NOUR[[#This Row],[STAGE]]=TW_T[STAGE]),TW_T[TW]))} -> 0.023456076 | R2908: CONSIDERED
B2909: 07.Formation | C2909: PRODUCT | D2909: BATTERY | E2909: G45J6X112L1 | F2909: Стартерна батерия 60Ah 12V L - G45J6X112L1 | G2909: UN | H2909: 1 | I2909: P60006 | J2909: Електролит - 1.24 г/см3 | K2909: L | L2909: 3.63 | M2909: Subproduct | N2909: ELECTROLYTE | P2909: {=IF(BOM_NOUR[[#This Row],[STAGE]]="05.Assembly", SUMPRODUCT(--(BOM_NOUR[[#This Row],[STAGE]]=TW_T[STAGE])*(BOM_NOUR[[#This Row],[Mgroup]]=TW_T[Mgroup]),TW_T[TW]), SUMPRODUCT(--(BOM_NOUR[[#This Row],[STAGE]]=TW_T[STAGE]),TW_T[TW]))} -> 0.0018917585 | R2909: CONSIDERED
B2910: 07.Formation | C2910: PRODUCT | D2910: BATTERY | E2910: G45J6X112L1 | F2910: Стартерна батерия 60Ah 12V L - G45J6X112L1 | G2910: UN | H2910: 1 | I2910: 600A0013 | J2910: ACIDE SULFURIQUE 1.27 | K2910: L | L2910: 0.72 | M2910: Subproduct | N2910: ELECTROLYTE | P2910: {=IF(BOM_NOUR[[#This Row],[STAGE]]="05.Assembly", SUMPRODUCT(--(BOM_NOUR[[#This Row],[STAGE]]=TW_T[STAGE])*(BOM_NOUR[[#This Row],[Mgroup]]=TW_T[Mgroup]),TW_T[TW]), SUMPRODUCT(--(BOM_NOUR[[#This Row],[STAGE]]=TW_T[STAGE]),TW_T[TW]))} -> 0.0018917585 | R2910: CONSIDERED
B2911: 05.Assembly | C2911: SUBPRODUCT | D2911: UFBATTERY | E2911: UFG45J6X112L1 | F2911: Стартерна батерия 60Ah 12V L - G45J6X112L1 | G2911: UN | H2911: 1 | I2911: P51160 | J2911: Gp+ Отрязана неформирана плоча | K2911: UN | L2911: 24 | M2911: Subproduct | N2911: PLATE_Cutted | P2911: {=IF(BOM_NOUR[[#This Row],[STAGE]]="05.Assembly", SUMPRODUCT(--(BOM_NOUR[[#This Row],[STAGE]]=TW_T[STAGE])*(BOM_NOUR[[#This Row],[Mgroup]]=TW_T[Mgroup]),TW_T[TW]), SUMPRODUCT(--(BOM_NOUR[[#This Row],[STAGE]]=TW_T[STAGE]),TW_T[TW]))} -> 0.034300749 | R2911: CONSIDERED
B2912: 05.Assembly | C2912: SUBPRODUCT | D2912: UFBATTERY | E2912: UFG45J6X112L1 | F2912: Стартерна батерия 60Ah 12V L - G45J6X112L1 | G2912: UN | H2912: 1 | I2912: 490C0015 | J2912: Plastic inserter for DIN type box | K2912: UN | L2912: 3 | M2912: RawMaterial | N2912: OTHER | P2912: {=IF(BOM_NOUR[[#This Row],[STAGE]]="05.Assembly", SUMPRODUCT(--(BOM_NOUR[[#This Row],[STAGE]]=TW_T[STAGE])*(BOM_NOUR[[#This Row],[Mgroup]]=TW_T[Mgroup]),TW_T[TW]), SUMPRODUCT(--(BOM_NOUR[[#This Row],[STAGE]]=TW_T[STAGE]),TW_T[TW]))} -> 0 | R2912: CONSIDERED
B2913: 05.Assembly | C2913: SUBPRODUCT | D2913: UFBATTERY | E2913: UFG45J6X112L1 | F2913: Стартерна батерия 60Ah 12V L - G45J6X112L1 | G2913: UN | H2913: 1 | I2913: P30085 | J2913: Gn- Отрязана неформирана плоча | K2913: UN | L2913: 30 | M2913: Subproduct | N2913: PLATE_Cutted | P2913: {=IF(BOM_NOUR[[#This Row],[STAGE]]="05.Assembly", SUMPRODUCT(--(BOM_NOUR[[#This Row],[STAGE]]=TW_T[STAGE])*(BOM_NOUR[[#This Row],[Mgroup]]=TW_T[Mgroup]),TW_T[TW]), SUMPRODUCT(--(BOM_NOUR[[#This Row],[STAGE]]=TW_T[STAGE]),TW_T[TW]))} -> 0.034300749 | R2913: CONSIDERED
B2914: 05.Assembly | C2914: SUBPRODUCT | D2914: UFBATTERY | E2914: UFG45J6X112L1 | F2914: Стартерна батерия 60Ah 12V L - G45J6X112L1 | G2914: UN | H2914: 1 | I2914: M804000516212 | J2914: Джоб сепаратор 162/0,9/0,175 DuroForceUltra | K2914: M2 | L2914: 1.02643 | M2914: RawMaterial | N2914: SEPARATOR | P2914: {=IF(BOM_NOUR[[#This Row],[STAGE]]="05.Assembly", SUMPRODUCT(--(BOM_NOUR[[#This Row],[STAGE]]=TW_T[STAGE])*(BOM_NOUR[[#This Row],[Mgroup]]=TW_T[Mgroup]),TW_T[TW]), SUMPRODUCT(--(BOM_NOUR[[#This Row],[STAGE]]=TW_T[STAGE]),TW_T[TW]))} -> 0.034300749 | R2914: CONSIDERED
B2915: 05.Assembly | C2915: SUBPRODUCT | D2915: UFBATTERY | E2915: UFG45J6X112L1 | F2915: Стартерна батерия 60Ah 12V L - G45J6X112L1 | G2915: UN | H2915: 1 | I2915: 600P0004 | J2915: PB SB 3.2 | K2915: KG | L2915: 0.82 | M2915: RawMaterial | N2915: LEAD | P2915: {=IF(BOM_NOUR[[#This Row],[STAGE]]="05.Assembly", SUMPRODUCT(--(BOM_NOUR[[#This Row],[STAGE]]=TW_T[STAGE])*(BOM_NOUR[[#This Row],[Mgroup]]=TW_T[Mgroup]),TW_T[TW]), SUMPRODUCT(--(BOM_NOUR[[#This Row],[STAGE]]=TW_T[STAGE]),TW_T[TW]))} -> 0.027543228 | R2915: CONSIDERED
B2916: 07.Formation | C2916: PRODUCT | D2916: BATTERY | E2916: G67J0X112L1 | F2916: Стартерна батерия 90Ah 12V L - G67J0X112L1 | G2916: UN | H2916: 1 | I2916: UFG67J0X112L1 | J2916: Стартерна батерия 90Ah 12V L - G67J0X112L1 | K2916: UN | L2916: 1 | M2916: Subproduct | N2916: UFBATTERY | P2916: {=IF(BOM_NOUR[[#This Row],[STAGE]]="05.Assembly", SUMPRODUCT(--(BOM_NOUR[[#This Row],[STAGE]]=TW_T[STAGE])*(BOM_NOUR[[#This Row],[Mgroup]]=TW_T[Mgroup]),TW_T[TW]), SUMPRODUCT(--(BOM_NOUR[[#This Row],[STAGE]]=TW_T[STAGE]),TW_T[TW]))} -> 0.0018917585 | R2916: CONSIDERED
B2917: 07.Formation | C2917: PRODUCT | D2917: BATTERY | E2917: G67J0X112L1 | F2917: Стартерна батерия 90Ah 12V L - G67J0X112L1 | G2917: UN | H2917: 1 | I2917: 490T7001 | J2917: COUVRE COUVERCLE N70 T-AKUMSAN NOIR | K2917: UN | L2917: 1 | M2917: RawMaterial | N2917: UPPER LID | P2917: {=IF(BOM_NOUR[[#This Row],[STAGE]]="05.Assembly", SUMPRODUCT(--(BOM_NOUR[[#This Row],[STAGE]]=TW_T[STAGE])*(BOM_NOUR[[#This Row],[Mgroup]]=TW_T[Mgroup]),TW_T[TW]), SUMPRODUCT(--(BOM_NOUR[[#This Row],[STAGE]]=TW_T[STAGE]),TW_T[TW]))} -> 0.0018917585 | R2917: CONSIDERED
B2918: 07.Formation | C2918: PRODUCT | D2918: BATTERY | E2918: G67J0X112L1 | F2918: Стартерна батерия 90Ah 12V L - G67J0X112L1 | G2918: UN | H2918: 1 | I2918: M80600090002 | J2918: Индикатор 19.16 / 55 мм | K2918: UN | L2918: 1 | M2918: RawMaterial | N2918: MAGIC EYE | P2918: {=IF(BOM_NOUR[[#This Row],[STAGE]]="05.Assembly", SUMPRODUCT(--(BOM_NOUR[[#This Row],[STAGE]]=TW_T[STAGE])*(BOM_NOUR[[#This Row],[Mgroup]]=TW_T[Mgroup]),TW_T[TW]), SUMPRODUCT(--(BOM_NOUR[[#This Row],[STAGE]]=TW_T[STAGE]),TW_T[TW]))} -> 0.0018917585 | R2918: CONSIDERED
B2919: 05.Assembly | C2919: SUBPRODUCT | D2919: UFBATTERY | E2919: UFG67J0X112L1 | F2919: Стартерна батерия 90Ah 12V L - G67J0X112L1 | G2919: UN | H2919: 1 | I2919: 420N7006 | J2919: Lid J0 X L black with eye | K2919: UN | L2919: 1 | M2919: RawMaterial | N2919: LID | P2919: {=IF(BOM_NOUR[[#This Row],[STAGE]]="05.Assembly", SUMPRODUCT(--(BOM_NOUR[[#This Row],[STAGE]]=TW_T[STAGE])*(BOM_NOUR[[#This Row],[Mgroup]]=TW_T[Mgroup]),TW_T[TW]), SUMPRODUCT(--(BOM_NOUR[[#This Row],[STAGE]]=TW_T[STAGE]),TW_T[TW]))} -> 0.021919227 | R2919: CONSIDERED
B2920: 05.Assembly | C2920: SUBPRODUCT | D2920: UFBATTERY | E2920: UFG67J0X112L1 | F2920: Стартерна батерия 90Ah 12V L - G67J0X112L1 | G2920: UN | H2920: 1 | I2920: 400N7003 | J2920: Box J0 D black with bord | K2920: UN | L2920: 1 | M2920: RawMaterial | N2920: BOX | P2920: {=IF(BOM_NOUR[[#This Row],[STAGE]]="05.Assembly", SUMPRODUCT(--(BOM_NOUR[[#This Row],[STAGE]]=TW_T[STAGE])*(BOM_NOUR[[#This Row],[Mgroup]]=TW_T[Mgroup]),TW_T[TW]), SUMPRODUCT(--(BOM_NOUR[[#This Row],[STAGE]]=TW_T[STAGE]),TW_T[TW]))} -> 0.023456076 | R2920: CONSIDERED
B2921: 07.Formation | C2921: PRODUCT | D2921: BATTERY | E2921: G67J0X112L1 | F2921: Стартерна батерия 90Ah 12V L - G67J0X112L1 | G2921: UN | H2921: 1 | I2921: P60006 | J2921: Електролит - 1.24 г/см3 | K2921: L | L2921: 5.24 | M2921: Subproduct | N2921: ELECTROLYTE | P2921: {=IF(BOM_NOUR[[#This Row],[STAGE]]="05.Assembly", SUMPRODUCT(--(BOM_NOUR[[#This Row],[STAGE]]=TW_T[STAGE])*(BOM_NOUR[[#This Row],[Mgroup]]=TW_T[Mgroup]),TW_T[TW]), SUMPRODUCT(--(BOM_NOUR[[#This Row],[STAGE]]=TW_T[STAGE]),TW_T[TW]))} -> 0.0018917585 | R2921: CONSIDERED
B2922: 07.Formation | C2922: PRODUCT | D2922: BATTERY | E2922: G67J0X112L1 | F2922: Стартерна батерия 90Ah 12V L - G67J0X112L1 | G2922: UN | H2922: 1 | I2922: 600A0013 | J2922: ACIDE SULFURIQUE 1.27 | K2922: L | L2922: 0.93 | M2922: Subproduct | N2922: ELECTROLYTE | P2922: {=IF(BOM_NOUR[[#This Row],[STAGE]]="05.Assembly", SUMPRODUCT(--(BOM_NOUR[[#This Row],[STAGE]]=TW_T[STAGE])*(BOM_NOUR[[#This Row],[Mgroup]]=TW_T[Mgroup]),TW_T[TW]), SUMPRODUCT(--(BOM_NOUR[[#This Row],[STAGE]]=TW_T[STAGE]),TW_T[TW]))} -> 0.0018917585 | R2922: CONSIDERED
B2923: 05.Assembly | C2923: SUBPRODUCT | D2923: UFBATTERY | E2923: UFG67J0X112L1 | F2923: Стартерна батерия 90Ah 12V L - G67J0X112L1 | G2923: UN | H2923: 1 | I2923: P51160 | J2923: Gp+ Отрязана неформирана плоча | K2923: UN | L2923: 36 | M2923: Subproduct | N2923: PLATE_Cutted | P2923: {=IF(BOM_NOUR[[#This Row],[STAGE]]="05.Assembly", SUMPRODUCT(--(BOM_NOUR[[#This Row],[STAGE]]=TW_T[STAGE])*(BOM_NOUR[[#This Row],[Mgroup]]=TW_T[Mgroup]),TW_T[TW]), SUMPRODUCT(--(BOM_NOUR[[#This Row],[STAGE]]=TW_T[STAGE]),TW_T[TW]))} -> 0.034300749 | R2923: CONSIDERED
B2924: 05.Assembly | C2924: SUBPRODUCT | D2924: UFBATTERY | E2924: UFG67J0X112L1 | F2924: Стартерна батерия 90Ah 12V L - G67J0X112L1 | G2924: UN | H2924: 1 | I2924: 490C0015 | J2924: Plastic inserter for DIN type box | K2924: UN | L2924: 3 | M2924: RawMaterial | N2924: OTHER | P2924: {=IF(BOM_NOUR[[#This Row],[STAGE]]="05.Assembly", SUMPRODUCT(--(BOM_NOUR[[#This Row],[STAGE]]=TW_T[STAGE])*(BOM_NOUR[[#This Row],[Mgroup]]=TW_T[Mgroup]),TW_T[TW]), SUMPRODUCT(--(BOM_NOUR[[#This Row],[STAGE]]=TW_T[STAGE]),TW_T[TW]))} -> 0 | R2924: CONSIDERED
B2925: 05.Assembly | C2925: SUBPRODUCT | D2925: UFBATTERY | E2925: UFG67J0X112L1 | F2925: Стартерна батерия 90Ah 12V L - G67J0X112L1 | G2925: UN | H2925: 1 | I2925: P30085 | J2925: Gn- Отрязана неформирана плоча | K2925: UN | L2925: 42 | M2925: Subproduct | N2925: PLATE_Cutted | P2925: {=IF(BOM_NOUR[[#This Row],[STAGE]]="05.Assembly", SUMPRODUCT(--(BOM_NOUR[[#This Row],[STAGE]]=TW_T[STAGE])*(BOM_NOUR[[#This Row],[Mgroup]]=TW_T[Mgroup]),TW_T[TW]), SUMPRODUCT(--(BOM_NOUR[[#This Row],[STAGE]]=TW_T[STAGE]),TW_T[TW]))} -> 0.034300749 | R2925: CONSIDERED
B2926: 05.Assembly | C2926: SUBPRODUCT | D2926: UFBATTERY | E2926: UFG67J0X112L1 | F2926: Стартерна батерия 90Ah 12V L - G67J0X112L1 | G2926: UN | H2926: 1 | I2926: M804000516212 | J2926: Джоб сепаратор 162/0,9/0,175 DuroForceUltra | K2926: M2 | L2926: 1.53965 | M2926: RawMaterial | N2926: SEPARATOR | P2926: {=IF(BOM_NOUR[[#This Row],[STAGE]]="05.Assembly", SUMPRODUCT(--(BOM_NOUR[[#This Row],[STAGE]]=TW_T[STAGE])*(BOM_NOUR[[#This Row],[Mgroup]]=TW_T[Mgroup]),TW_T[TW]), SUMPRODUCT(--(BOM_NOUR[[#This Row],[STAGE]]=TW_T[STAGE]),TW_T[TW]))} -> 0.034300749 | R2926: CONSIDERED
B2927: 05.Assembly | C2927: SUBPRODUCT | D2927: UFBATTERY | E2927: UFG67J0X112L1 | F2927: Стартерна батерия 90Ah 12V L - G67J0X112L1 | G2927: UN | H2927: 1 | I2927: 600P0004 | J2927: PB SB 3.2 | K2927: KG | L2927: 0.95 | M2927: RawMaterial | N2927: LEAD | P2927: {=IF(BOM_NOUR[[#This Row],[STAGE]]="05.Assembly", SUMPRODUCT(--(BOM_NOUR[[#This Row],[STAGE]]=TW_T[STAGE])*(BOM_NOUR[[#This Row],[Mgroup]]=TW_T[Mgroup]),TW_T[TW]), SUMPRODUCT(--(BOM_NOUR[[#This Row],[STAGE]]=TW_T[STAGE]),TW_T[TW]))} -> 0.027543228 | R2927: CONSIDERED
B2928: 07.Formation | C2928: PRODUCT | D2928: BATTERY | E2928: G67J0X112R1 | F2928: Стартерна батерия 90Ah 12V R - G67J0X112R1 | G2928: UN | H2928: 1 | I2928: UFG67J0X112R1 | J2928: Стартерна батерия 90Ah 12V R - G67J0X112R1 | K2928: UN | L2928: 1 | M2928: Subproduct | N2928: UFBATTERY | P2928: {=IF(BOM_NOUR[[#This Row],[STAGE]]="05.Assembly", SUMPRODUCT(--(BOM_NOUR[[#This Row],[STAGE]]=TW_T[STAGE])*(BOM_NOUR[[#This Row],[Mgroup]]=TW_T[Mgroup]),TW_T[TW]), SUMPRODUCT(--(BOM_NOUR[[#This Row],[STAGE]]=TW_T[STAGE]),TW_T[TW]))} -> 0.0018917585 | R2928: CONSIDERED
B2929: 07.Formation | C2929: PRODUCT | D2929: BATTERY | E2929: G67J0X112R1 | F2929: Стартерна батерия 90Ah 12V R - G67J0X112R1 | G2929: UN | H2929: 1 | I2929: 490T7001 | J2929: COUVRE COUVERCLE N70 T-AKUMSAN NOIR | K2929: UN | L2929: 1 | M2929: RawMaterial | N2929: UPPER LID | P2929: {=IF(BOM_NOUR[[#This Row],[STAGE]]="05.Assembly", SUMPRODUCT(--(BOM_NOUR[[#This Row],[STAGE]]=TW_T[STAGE])*(BOM_NOUR[[#This Row],[Mgroup]]=TW_T[Mgroup]),TW_T[TW]), SUMPRODUCT(--(BOM_NOUR[[#This Row],[STAGE]]=TW_T[STAGE]),TW_T[TW]))} -> 0.0018917585 | R2929: CONSIDERED
B2930: 07.Formation | C2930: PRODUCT | D2930: BATTERY | E2930: G67J0X112R1 | F2930: Стартерна батерия 90Ah 12V R - G67J0X112R1 | G2930: UN | H2930: 1 | I2930: M80600090002 | J2930: Индикатор 19.16 / 55 мм | K2930: UN | L2930: 1 | M2930: RawMaterial | N2930: MAGIC EYE | P2930: {=IF(BOM_NOUR[[#This Row],[STAGE]]="05.Assembly", SUMPRODUCT(--(BOM_NOUR[[#This Row],[STAGE]]=TW_T[STAGE])*(BOM_NOUR[[#This Row],[Mgroup]]=TW_T[Mgroup]),TW_T[TW]), SUMPRODUCT(--(BOM_NOUR[[#This Row],[STAGE]]=TW_T[STAGE]),TW_T[TW]))} -> 0.0018917585 | R2930: CONSIDERED
B2931: 05.Assembly | C2931: SUBPRODUCT | D2931: UFBATTERY | E2931: UFG67J0X112R1 | F2931: Стартерна батерия 90Ah 12V R - G67J0X112R1 | G2931: UN | H2931: 1 | I2931: 420N7005 | J2931: Lid J0 X R black with eye | K2931: UN | L2931: 1 | M2931: RawMaterial | N2931: LID | P2931: {=IF(BOM_NOUR[[#This Row],[STAGE]]="05.Assembly", SUMPRODUCT(--(BOM_NOUR[[#This Row],[STAGE]]=TW_T[STAGE])*(BOM_NOUR[[#This Row],[Mgroup]]=TW_T[Mgroup]),TW_T[TW]), SUMPRODUCT(--(BOM_NOUR[[#This Row],[STAGE]]=TW_T[STAGE]),TW_T[TW]))} -> 0.021919227 | R2931: CONSIDERED
B2932: 05.Assembly | C2932: SUBPRODUCT | D2932: UFBATTERY | E2932: UFG67J0X112R1 | F2932: Стартерна батерия 90Ah 12V R - G67J0X112R1 | G2932: UN | H2932: 1 | I2932: 400N7003 | J2932: Box J0 D black with bord | K2932: UN | L2932: 1 | M2932: RawMaterial | N2932: BOX | P2932: {=IF(BOM_NOUR[[#This Row],[STAGE]]="05.Assembly", SUMPRODUCT(--(BOM_NOUR[[#This Row],[STAGE]]=TW_T[STAGE])*(BOM_NOUR[[#This Row],[Mgroup]]=TW_T[Mgroup]),TW_T[TW]), SUMPRODUCT(--(BOM_NOUR[[#This Row],[STAGE]]=TW_T[STAGE]),TW_T[TW]))} -> 0.023456076 | R2932: CONSIDERED
B2933: 07.Formation | C2933: PRODUCT | D2933: BATTERY | E2933: G67J0X112R1 | F2933: Стартерна батерия 90Ah 12V R - G67J0X112R1 | G2933: UN | H2933: 1 | I2933: P60006 | J2933: Електролит - 1.24 г/см3 | K2933: L | L2933: 5.24 | M2933: Subproduct | N2933: ELECTROLYTE | P2933: {=IF(BOM_NOUR[[#This Row],[STAGE]]="05.Assembly", SUMPRODUCT(--(BOM_NOUR[[#This Row],[STAGE]]=TW_T[STAGE])*(BOM_NOUR[[#This Row],[Mgroup]]=TW_T[Mgroup]),TW_T[TW]), SUMPRODUCT(--(BOM_NOUR[[#This Row],[STAGE]]=TW_T[STAGE]),TW_T[TW]))} -> 0.0018917585 | R2933: CONSIDERED
B2934: 07.Formation | C2934: PRODUCT | D2934: BATTERY | E2934: G67J0X112R1 | F2934: Стартерна батерия 90Ah 12V R - G67J0X112R1 | G2934: UN | H2934: 1 | I2934: 600A0013 | J2934: ACIDE SULFURIQUE 1.27 | K2934: L | L2934: 0.93 | M2934: Subproduct | N2934: ELECTROLYTE | P2934: {=IF(BOM_NOUR[[#This Row],[STAGE]]="05.Assembly", SUMPRODUCT(--(BOM_NOUR[[#This Row],[STAGE]]=TW_T[STAGE])*(BOM_NOUR[[#This Row],[Mgroup]]=TW_T[Mgroup]),TW_T[TW]), SUMPRODUCT(--(BOM_NOUR[[#This Row],[STAGE]]=TW_T[STAGE]),TW_T[TW]))} -> 0.0018917585 | R2934: CONSIDERED
B2935: 05.Assembly | C2935: SUBPRODUCT | D2935: UFBATTERY | E2935: UFG67J0X112R1 | F2935: Стартерна батерия 90Ah 12V R - G67J0X112R1 | G2935: UN | H2935: 1 | I2935: P51160 | J2935: Gp+ Отрязана неформирана плоча | K2935: UN | L2935: 36 | M2935: Subproduct | N2935: PLATE_Cutted | P2935: {=IF(BOM_NOUR[[#This Row],[STAGE]]="05.Assembly", SUMPRODUCT(--(BOM_NOUR[[#This Row],[STAGE]]=TW_T[STAGE])*(BOM_NOUR[[#This Row],[Mgroup]]=TW_T[Mgroup]),TW_T[TW]), SUMPRODUCT(--(BOM_NOUR[[#This Row],[STAGE]]=TW_T[STAGE]),TW_T[TW]))} -> 0.034300749 | R2935: CONSIDERED
B2936: 05.Assembly | C2936: SUBPRODUCT | D2936: UFBATTERY | E2936: UFG67J0X112R1 | F2936: Стартерна батерия 90Ah 12V R - G67J0X112R1 | G2936: UN | H2936: 1 | I2936: 490C0015 | J2936: Plastic inserter for DIN type box | K2936: UN | L2936: 3 | M2936: RawMaterial | N2936: OTHER | P2936: {=IF(BOM_NOUR[[#This Row],[STAGE]]="05.Assembly", SUMPRODUCT(--(BOM_NOUR[[#This Row],[STAGE]]=TW_T[STAGE])*(BOM_NOUR[[#This Row],[Mgroup]]=TW_T[Mgroup]),TW_T[TW]), SUMPRODUCT(--(BOM_NOUR[[#This Row],[STAGE]]=TW_T[STAGE]),TW_T[TW]))} -> 0 | R2936: CONSIDERED
B2937: 05.Assembly | C2937: SUBPRODUCT | D2937: UFBATTERY | E2937: UFG67J0X112R1 | F2937: Стартерна батерия 90Ah 12V R - G67J0X112R1 | G2937: UN | H2937: 1 | I2937: P30085 | J2937: Gn- Отрязана неформирана плоча | K2937: UN | L2937: 42 | M2937: Subproduct | N2937: PLATE_Cutted | P2937: {=IF(BOM_NOUR[[#This Row],[STAGE]]="05.Assembly", SUMPRODUCT(--(BOM_NOUR[[#This Row],[STAGE]]=TW_T[STAGE])*(BOM_NOUR[[#This Row],[Mgroup]]=TW_T[Mgroup]),TW_T[TW]), SUMPRODUCT(--(BOM_NOUR[[#This Row],[STAGE]]=TW_T[STAGE]),TW_T[TW]))} -> 0.034300749 | R2937: CONSIDERED
B2938: 05.Assembly | C2938: SUBPRODUCT | D2938: UFBATTERY | E2938: UFG67J0X112R1 | F2938: Стартерна батерия 90Ah 12V R - G67J0X112R1 | G2938: UN | H2938: 1 | I2938: M804000516212 | J2938: Джоб сепаратор 162/0,9/0,175 DuroForceUltra | K2938: M2 | L2938: 1.53965 | M2938: RawMaterial | N2938: SEPARATOR | P2938: {=IF(BOM_NOUR[[#This Row],[STAGE]]="05.Assembly", SUMPRODUCT(--(BOM_NOUR[[#This Row],[STAGE]]=TW_T[STAGE])*(BOM_NOUR[[#This Row],[Mgroup]]=TW_T[Mgroup]),TW_T[TW]), SUMPRODUCT(--(BOM_NOUR[[#This Row],[STAGE]]=TW_T[STAGE]),TW_T[TW]))} -> 0.034300749 | R2938: CONSIDERED
B2939: 05.Assembly | C2939: SUBPRODUCT | D2939: UFBATTERY | E2939: UFG67J0X112R1 | F2939: Стартерна батерия 90Ah 12V R - G67J0X112R1 | G2939: UN | H2939: 1 | I2939: 600P0004 | J2939: PB SB 3.2 | K2939: KG | L2939: 0.95 | M2939: RawMaterial | N2939: LEAD | P2939: {=IF(BOM_NOUR[[#This Row],[STAGE]]="05.Assembly", SUMPRODUCT(--(BOM_NOUR[[#This Row],[STAGE]]=TW_T[STAGE])*(BOM_NOUR[[#This Row],[Mgroup]]=TW_T[Mgroup]),TW_T[TW]), SUMPRODUCT(--(BOM_NOUR[[#This Row],[STAGE]]=TW_T[STAGE]),TW_T[TW]))} -> 0.027543228 | R2939: CONSIDERED
B2940: 07.Formation | C2940: PRODUCT | D2940: BATTERY | E2940: K145J4X102L1 | F2940: Стартерна батерия 45Ah 12V L - K145J4X102L1 | G2940: UN | H2940: 1 | I2940: UFK145J4X102L1 | J2940: Стартерна батерия 45Ah 12V L - K145J4X102L1 | K2940: UN | L2940: 1 | M2940: Subproduct | N2940: UFBATTERY | P2940: {=IF(BOM_NOUR[[#This Row],[STAGE]]="05.Assembly", SUMPRODUCT(--(BOM_NOUR[[#This Row],[STAGE]]=TW_T[STAGE])*(BOM_NOUR[[#This Row],[Mgroup]]=TW_T[Mgroup]),TW_T[TW]), SUMPRODUCT(--(BOM_NOUR[[#This Row],[STAGE]]=TW_T[STAGE]),TW_T[TW]))} -> 0.0018917585 | R2940: CONSIDERED
B2941: 07.Formation | C2941: PRODUCT | D2941: BATTERY | E2941: K145J4X102L1 | F2941: Стартерна батерия 45Ah 12V L - K145J4X102L1 | G2941: UN | H2941: 1 | I2941: 490TNS6001 | J2941: Protective cover J4 black | K2941: UN | L2941: 1 | M2941: RawMaterial | N2941: UPPER LID | P2941: {=IF(BOM_NOUR[[#This Row],[STAGE]]="05.Assembly", SUMPRODUCT(--(BOM_NOUR[[#This Row],[STAGE]]=TW_T[STAGE])*(BOM_NOUR[[#This Row],[Mgroup]]=TW_T[Mgroup]),TW_T[TW]), SUMPRODUCT(--(BOM_NOUR[[#This Row],[STAGE]]=TW_T[STAGE]),TW_T[TW]))} -> 0.0018917585 | R2941: CONSIDERED
B2942: 07.Formation | C2942: PRODUCT | D2942: BATTERY | E2942: K145J4X102L1 | F2942: Стартерна батерия 45Ah 12V L - K145J4X102L1 | G2942: UN | H2942: 1 | I2942: 460D1845 | J2942: Magic eye 19.16 / 60 мм (X) | K2942: UN | L2942: 1 | M2942: RawMaterial | N2942: MAGIC EYE | P2942: {=IF(BOM_NOUR[[#This Row],[STAGE]]="05.Assembly", SUMPRODUCT(--(BOM_NOUR[[#This Row],[STAGE]]=TW_T[STAGE])*(BOM_NOUR[[#This Row],[Mgroup]]=TW_T[Mgroup]),TW_T[TW]), SUMPRODUCT(--(BOM_NOUR[[#This Row],[STAGE]]=TW_T[STAGE]),TW_T[TW]))} -> 0.0018917585 | R2942: CONSIDERED
B2943: 05.Assembly | C2943: SUBPRODUCT | D2943: UFBATTERY | E2943: UFK145J4X102L1 | F2943: Стартерна батерия 45Ah 12V L - K145J4X102L1 | G2943: UN | H2943: 1 | I2943: M80300110454 | J2943: Капак J4 X L черен с око | K2943: UN | L2943: 1 | M2943: RawMaterial | N2943: LID | P2943: {=IF(BOM_NOUR[[#This Row],[STAGE]]="05.Assembly", SUMPRODUCT(--(BOM_NOUR[[#This Row],[STAGE]]=TW_T[STAGE])*(BOM_NOUR[[#This Row],[Mgroup]]=TW_T[Mgroup]),TW_T[TW]), SUMPRODUCT(--(BOM_NOUR[[#This Row],[STAGE]]=TW_T[STAGE]),TW_T[TW]))} -> 0.021919227 | R2943: CONSIDERED
B2944: 05.Assembly | C2944: SUBPRODUCT | D2944: UFBATTERY | E2944: UFK145J4X102L1 | F2944: Стартерна батерия 45Ah 12V L - K145J4X102L1 | G2944: UN | H2944: 1 | I2944: M80200110451 | J2944: Кутия J4 черна без борд | K2944: UN | L2944: 1 | M2944: RawMaterial | N2944: BOX | P2944: {=IF(BOM_NOUR[[#This Row],[STAGE]]="05.Assembly", SUMPRODUCT(--(BOM_NOUR[[#This Row],[STAGE]]=TW_T[STAGE])*(BOM_NOUR[[#This Row],[Mgroup]]=TW_T[Mgroup]),TW_T[TW]), SUMPRODUCT(--(BOM_NOUR[[#This Row],[STAGE]]=TW_T[STAGE]),TW_T[TW]))} -> 0.023456076 | R2944: CONSIDERED
B2945: 07.Formation | C2945: PRODUCT | D2945: BATTERY | E2945: K145J4X102L1 | F2945: Стартерна батерия 45Ah 12V L - K145J4X102L1 | G2945: UN | H2945: 1 | I2945: P60008 | J2945: Електролит - 1.225 г/см3 | K2945: L | L2945: 2.74 | M2945: Subproduct | N2945: ELECTROLYTE | P2945: {=IF(BOM_NOUR[[#This Row],[STAGE]]="05.Assembly", SUMPRODUCT(--(BOM_NOUR[[#This Row],[STAGE]]=TW_T[STAGE])*(BOM_NOUR[[#This Row],[Mgroup]]=TW_T[Mgroup]),TW_T[TW]), SUMPRODUCT(--(BOM_NOUR[[#This Row],[STAGE]]=TW_T[STAGE]),TW_T[TW]))} -> 0.0018917585 | R2945: CONSIDERED
B2946: 07.Formation | C2946: PRODUCT | D2946: BATTERY | E2946: K145J4X102L1 | F2946: Стартерна батерия 45Ah 12V L - K145J4X102L1 | G2946: UN | H2946: 1 | I2946: 600A0013 | J2946: ACIDE SULFURIQUE 1.27 | K2946: L | L2946: 0.62 | M2946: Subproduct | N2946: ELECTROLYTE | P2946: {=IF(BOM_NOUR[[#This Row],[STAGE]]="05.Assembly", SUMPRODUCT(--(BOM_NOUR[[#This Row],[STAGE]]=TW_T[STAGE])*(BOM_NOUR[[#This Row],[Mgroup]]=TW_T[Mgroup]),TW_T[TW]), SUMPRODUCT(--(BOM_NOUR[[#This Row],[STAGE]]=TW_T[STAGE]),TW_T[TW]))} -> 0.0018917585 | R2946: CONSIDERED
B2947: 05.Assembly | C2947: SUBPRODUCT | D2947: UFBATTERY | E2947: UFK145J4X102L1 | F2947: Стартерна батерия 45Ah 12V L - K145J4X102L1 | G2947: UN | H2947: 1 | I2947: M80400051222 | J2947: Джоб сепаратор 122/1,1/0,2 | K2947: M2 | L2947: 0.80227 | M2947: RawMaterial | N2947: SEPARATOR | P2947: {=IF(BOM_NOUR[[#This Row],[STAGE]]="05.Assembly", SUMPRODUCT(--(BOM_NOUR[[#This Row],[STAGE]]=TW_T[STAGE])*(BOM_NOUR[[#This Row],[Mgroup]]=TW_T[Mgroup]),TW_T[TW]), SUMPRODUCT(--(BOM_NOUR[[#This Row],[STAGE]]=TW_T[STAGE]),TW_T[TW]))} -> 0.034300749 | R2947: CONSIDERED
B2948: 05.Assembly | C2948: SUBPRODUCT | D2948: UFBATTERY | E2948: UFK145J4X102L1 | F2948: Стартерна батерия 45Ah 12V L - K145J4X102L1 | G2948: UN | H2948: 1 | I2948: 490C0016 | J2948: Plastic inserter for JIS box | K2948: UN | L2948: 3 | M2948: RawMaterial | N2948: OTHER | P2948: {=IF(BOM_NOUR[[#This Row],[STAGE]]="05.Assembly", SUMPRODUCT(--(BOM_NOUR[[#This Row],[STAGE]]=TW_T[STAGE])*(BOM_NOUR[[#This Row],[Mgroup]]=TW_T[Mgroup]),TW_T[TW]), SUMPRODUCT(--(BOM_NOUR[[#This Row],[STAGE]]=TW_T[STAGE]),TW_T[TW]))} -> 0 | R2948: CONSIDERED
B2949: 05.Assembly | C2949: SUBPRODUCT | D2949: UFBATTERY | E2949: UFK145J4X102L1 | F2949: Стартерна батерия 45Ah 12V L - K145J4X102L1 | G2949: UN | H2949: 1 | I2949: P30104 | J2949: K1ex+ Отрязана неформирана плоча | K2949: UN | L2949: 24 | M2949: Subproduct | N2949: PLATE_Cutted | P2949: {=IF(BOM_NOUR[[#This Row],[STAGE]]="05.Assembly", SUMPRODUCT(--(BOM_NOUR[[#This Row],[STAGE]]=TW_T[STAGE])*(BOM_NOUR[[#This Row],[Mgroup]]=TW_T[Mgroup]),TW_T[TW]), SUMPRODUCT(--(BOM_NOUR[[#This Row],[STAGE]]=TW_T[STAGE]),TW_T[TW]))} -> 0.034300749 | R2949: CONSIDERED
B2950: 05.Assembly | C2950: SUBPRODUCT | D2950: UFBATTERY | E2950: UFK145J4X102L1 | F2950: Стартерна батерия 45Ah 12V L - K145J4X102L1 | G2950: UN | H2950: 1 | I2950: P30105 | J2950: K1ex- Отрязана неформирана плоча | K2950: UN | L2950: 30 | M2950: Subproduct | N2950: PLATE_Cutted | P2950: {=IF(BOM_NOUR[[#This Row],[STAGE]]="05.Assembly", SUMPRODUCT(--(BOM_NOUR[[#This Row],[STAGE]]=TW_T[STAGE])*(BOM_NOUR[[#This Row],[Mgroup]]=TW_T[Mgroup]),TW_T[TW]), SUMPRODUCT(--(BOM_NOUR[[#This Row],[STAGE]]=TW_T[STAGE]),TW_T[TW]))} -> 0.034300749 | R2950: CONSIDERED
B2951: 05.Assembly | C2951: SUBPRODUCT | D2951: UFBATTERY | E2951: UFK145J4X102L1 | F2951: Стартерна батерия 45Ah 12V L - K145J4X102L1 | G2951: UN | H2951: 1 | I2951: 600P0004 | J2951: PB SB 3.2 | K2951: KG | L2951: 0.75 | M2951: RawMaterial | N2951: LEAD | P2951: {=IF(BOM_NOUR[[#This Row],[STAGE]]="05.Assembly", SUMPRODUCT(--(BOM_NOUR[[#This Row],[STAGE]]=TW_T[STAGE])*(BOM_NOUR[[#This Row],[Mgroup]]=TW_T[Mgroup]),TW_T[TW]), SUMPRODUCT(--(BOM_NOUR[[#This Row],[STAGE]]=TW_T[STAGE]),TW_T[TW]))} -> 0.027543228 | R2951: CONSIDERED
B2952: 07.Formation | C2952: PRODUCT | D2952: BATTERY | E2952: K145J4XB102L1 | F2952: Стартерна батерия 45Ah 12V L- K145J4XB102L1 | G2952: UN | H2952: 1 | I2952: UFK145J4XB102L1 | J2952: Стартерна батерия 45Ah 12V L- K145J4XB102L1 | K2952: UN | L2952: 1 | M2952: Subproduct | N2952: UFBATTERY | P2952: {=IF(BOM_NOUR[[#This Row],[STAGE]]="05.Assembly", SUMPRODUCT(--(BOM_NOUR[[#This Row],[STAGE]]=TW_T[STAGE])*(BOM_NOUR[[#This Row],[Mgroup]]=TW_T[Mgroup]),TW_T[TW]), SUMPRODUCT(--(BOM_NOUR[[#This Row],[STAGE]]=TW_T[STAGE]),TW_T[TW]))} -> 0.0018917585 | R2952: CONSIDERED
B2953: 07.Formation | C2953: PRODUCT | D2953: BATTERY | E2953: K145J4XB102L1 | F2953: Стартерна батерия 45Ah 12V L- K145J4XB102L1 | G2953: UN | H2953: 1 | I2953: 490TNS6001 | J2953: Protective cover J4 black | K2953: UN | L2953: 1 | M2953: RawMaterial | N2953: UPPER LID | P2953: {=IF(BOM_NOUR[[#This Row],[STAGE]]="05.Assembly", SUMPRODUCT(--(BOM_NOUR[[#This Row],[STAGE]]=TW_T[STAGE])*(BOM_NOUR[[#This Row],[Mgroup]]=TW_T[Mgroup]),TW_T[TW]), SUMPRODUCT(--(BOM_NOUR[[#This Row],[STAGE]]=TW_T[STAGE]),TW_T[TW]))} -> 0.0018917585 | R2953: CONSIDERED
B2954: 07.Formation | C2954: PRODUCT | D2954: BATTERY | E2954: K145J4XB102L1 | F2954: Стартерна батерия 45Ah 12V L- K145J4XB102L1 | G2954: UN | H2954: 1 | I2954: 460D1845 | J2954: Magic eye 19.16 / 60 мм (X) | K2954: UN | L2954: 1 | M2954: RawMaterial | N2954: MAGIC EYE | P2954: {=IF(BOM_NOUR[[#This Row],[STAGE]]="05.Assembly", SUMPRODUCT(--(BOM_NOUR[[#This Row],[STAGE]]=TW_T[STAGE])*(BOM_NOUR[[#This Row],[Mgroup]]=TW_T[Mgroup]),TW_T[TW]), SUMPRODUCT(--(BOM_NOUR[[#This Row],[STAGE]]=TW_T[STAGE]),TW_T[TW]))} -> 0.0018917585 | R2954: CONSIDERED
B2955: 05.Assembly | C2955: SUBPRODUCT | D2955: UFBATTERY | E2955: UFK145J4XB102L1 | F2955: Стартерна батерия 45Ah 12V L- K145J4XB102L1 | G2955: UN | H2955: 1 | I2955: M80300110456 | J2955: Капак J4 X L черен с око с втулка Z | K2955: UN | L2955: 1 | M2955: RawMaterial | N2955: LID | P2955: {=IF(BOM_NOUR[[#This Row],[STAGE]]="05.Assembly", SUMPRODUCT(--(BOM_NOUR[[#This Row],[STAGE]]=TW_T[STAGE])*(BOM_NOUR[[#This Row],[Mgroup]]=TW_T[Mgroup]),TW_T[TW]), SUMPRODUCT(--(BOM_NOUR[[#This Row],[STAGE]]=TW_T[STAGE]),TW_T[TW]))} -> 0.021919227 | R2955: CONSIDERED
B2956: 05.Assembly | C2956: SUBPRODUCT | D2956: UFBATTERY | E2956: UFK145J4XB102L1 | F2956: Стартерна батерия 45Ah 12V L- K145J4XB102L1 | G2956: UN | H2956: 1 | I2956: M80200110451 | J2956: Кутия J4 черна без борд | K2956: UN | L2956: 1 | M2956: RawMaterial | N2956: BOX | P2956: {=IF(BOM_NOUR[[#This Row],[STAGE]]="05.Assembly", SUMPRODUCT(--(BOM_NOUR[[#This Row],[STAGE]]=TW_T[STAGE])*(BOM_NOUR[[#This Row],[Mgroup]]=TW_T[Mgroup]),TW_T[TW]), SUMPRODUCT(--(BOM_NOUR[[#This Row],[STAGE]]=TW_T[STAGE]),TW_T[TW]))} -> 0.023456076 | R2956: CONSIDERED
B2957: 07.Formation | C2957: PRODUCT | D2957: BATTERY | E2957: K145J4XB102L1 | F2957: Стартерна батерия 45Ah 12V L- K145J4XB102L1 | G2957: UN | H2957: 1 | I2957: P60008 | J2957: Електролит - 1.225 г/см3 | K2957: L | L2957: 2.74 | M2957: Subproduct | N2957: ELECTROLYTE | P2957: {=IF(BOM_NOUR[[#This Row],[STAGE]]="05.Assembly", SUMPRODUCT(--(BOM_NOUR[[#This Row],[STAGE]]=TW_T[STAGE])*(BOM_NOUR[[#This Row],[Mgroup]]=TW_T[Mgroup]),TW_T[TW]), SUMPRODUCT(--(BOM_NOUR[[#This Row],[STAGE]]=TW_T[STAGE]),TW_T[TW]))} -> 0.0018917585 | R2957: CONSIDERED
B2958: 07.Formation | C2958: PRODUCT | D2958: BATTERY | E2958: K145J4XB102L1 | F2958: Стартерна батерия 45Ah 12V L- K145J4XB102L1 | G2958: UN | H2958: 1 | I2958: 600A0013 | J2958: ACIDE SULFURIQUE 1.27 | K2958: L | L2958: 0.62 | M2958: Subproduct | N2958: ELECTROLYTE | P2958: {=IF(BOM_NOUR[[#This Row],[STAGE]]="05.Assembly", SUMPRODUCT(--(BOM_NOUR[[#This Row],[STAGE]]=TW_T[STAGE])*(BOM_NOUR[[#This Row],[Mgroup]]=TW_T[Mgroup]),TW_T[TW]), SUMPRODUCT(--(BOM_NOUR[[#This Row],[STAGE]]=TW_T[STAGE]),TW_T[TW]))} -> 0.0018917585 | R2958: CONSIDERED
B2959: 05.Assembly | C2959: SUBPRODUCT | D2959: UFBATTERY | E2959: UFK145J4XB102L1 | F2959: Стартерна батерия 45Ah 12V L- K145J4XB102L1 | G2959: UN | H2959: 1 | I2959: M80400051222 | J2959: Джоб сепаратор 122/1,1/0,2 | K2959: M2 | L2959: 0.80227 | M2959: RawMaterial | N2959: SEPARATOR | P2959: {=IF(BOM_NOUR[[#This Row],[STAGE]]="05.Assembly", SUMPRODUCT(--(BOM_NOUR[[#This Row],[STAGE]]=TW_T[STAGE])*(BOM_NOUR[[#This Row],[Mgroup]]=TW_T[Mgroup]),TW_T[TW]), SUMPRODUCT(--(BOM_NOUR[[#This Row],[STAGE]]=TW_T[STAGE]),TW_T[TW]))} -> 0.034300749 | R2959: CONSIDERED
B2960: 05.Assembly | C2960: SUBPRODUCT | D2960: UFBATTERY | E2960: UFK145J4XB102L1 | F2960: Стартерна батерия 45Ah 12V L- K145J4XB102L1 | G2960: UN | H2960: 1 | I2960: 490C0016 | J2960: Plastic inserter for JIS box | K2960: UN | L2960: 3 | M2960: RawMaterial | N2960: OTHER | P2960: {=IF(BOM_NOUR[[#This Row],[STAGE]]="05.Assembly", SUMPRODUCT(--(BOM_NOUR[[#This Row],[STAGE]]=TW_T[STAGE])*(BOM_NOUR[[#This Row],[Mgroup]]=TW_T[Mgroup]),TW_T[TW]), SUMPRODUCT(--(BOM_NOUR[[#This Row],[STAGE]]=TW_T[STAGE]),TW_T[TW]))} -> 0 | R2960: CONSIDERED
B2961: 05.Assembly | C2961: SUBPRODUCT | D2961: UFBATTERY | E2961: UFK145J4XB102L1 | F2961: Стартерна батерия 45Ah 12V L- K145J4XB102L1 | G2961: UN | H2961: 1 | I2961: P30104 | J2961: K1ex+ Отрязана неформирана плоча | K2961: UN | L2961: 24 | M2961: Subproduct | N2961: PLATE_Cutted | P2961: {=IF(BOM_NOUR[[#This Row],[STAGE]]="05.Assembly", SUMPRODUCT(--(BOM_NOUR[[#This Row],[STAGE]]=TW_T[STAGE])*(BOM_NOUR[[#This Row],[Mgroup]]=TW_T[Mgroup]),TW_T[TW]), SUMPRODUCT(--(BOM_NOUR[[#This Row],[STAGE]]=TW_T[STAGE]),TW_T[TW]))} -> 0.034300749 | R2961: CONSIDERED
B2962: 05.Assembly | C2962: SUBPRODUCT | D2962: UFBATTERY | E2962: UFK145J4XB102L1 | F2962: Стартерна батерия 45Ah 12V L- K145J4XB102L1 | G2962: UN | H2962: 1 | I2962: P30105 | J2962: K1ex- Отрязана неформирана плоча | K2962: UN | L2962: 30 | M2962: Subproduct | N2962: PLATE_Cutted | P2962: {=IF(BOM_NOUR[[#This Row],[STAGE]]="05.Assembly", SUMPRODUCT(--(BOM_NOUR[[#This Row],[STAGE]]=TW_T[STAGE])*(BOM_NOUR[[#This Row],[Mgroup]]=TW_T[Mgroup]),TW_T[TW]), SUMPRODUCT(--(BOM_NOUR[[#This Row],[STAGE]]=TW_T[STAGE]),TW_T[TW]))} -> 0.034300749 | R2962: CONSIDERED
B2963: 05.Assembly | C2963: SUBPRODUCT | D2963: UFBATTERY | E2963: UFK145J4XB102L1 | F2963: Стартерна батерия 45Ah 12V L- K145J4XB102L1 | G2963: UN | H2963: 1 | I2963: 600P0004 | J2963: PB SB 3.2 | K2963: KG | L2963: 0.75 | M2963: RawMaterial | N2963: LEAD | P2963: {=IF(BOM_NOUR[[#This Row],[STAGE]]="05.Assembly", SUMPRODUCT(--(BOM_NOUR[[#This Row],[STAGE]]=TW_T[STAGE])*(BOM_NOUR[[#This Row],[Mgroup]]=TW_T[Mgroup]),TW_T[TW]), SUMPRODUCT(--(BOM_NOUR[[#This Row],[STAGE]]=TW_T[STAGE]),TW_T[TW]))} -> 0.027543228 | R2963: CONSIDERED
...

Sheet ADD
B2: STAGE & GROUP & TYPE & STATUS | N2: TW (%) by STAGES
B5: STAGE | D5: TYPE | F5: GROUP | H5: Mtype | J5: Mgroup | L5: STATUS | N5: STAGE | O5: Mgroup | P5: TW | S5: Workstation | T5: % | U5: Target
B6: 01.GravityCasting | D6: PRODUCT | F6: BATTERY | H6: RawMaterial | J6: BOX | L6: Considered | N6: 01.GravityCasting | P6: =ADD!$T$9 -> 0.0026022972 | R6: Plates Manufacturing | S6: Strip | T6: 0.0020375705 | U6: 0.005
B7: 01.Oxide | D7: SUBPRODUCT | F7: BOX | H7: Subproduct | J7: ELECTROLYTE | L7: NotConsidered | N7: 01.Oxide | P7: =ADD!$T$10 -> 0 | S7: Punching | T7: 0.0015345269 | U7: 0.005
B8: 01.StripCasting | F8: ELECTROLYTE | J8: EXPANDER | N8: 01.StripCasting | P8: =ADD!$T$6 -> 0.0020375705 | S8: Grid C | T8: 0 | U8: 0
B9: 02.Mixing | F9: EXPANDER | J9: GRID_P | N9: 02.Mixing | P9: =ADD!$T$11 -> 0 | S9: Grid I | T9: 0.0026022972 | U9: 0.001
B10: 02.Punching | F10: GRIDx2_GC | J10: GRIDx2_GC | N10: 02.Punching | P10: =ADD!$T$7 -> 0.0015345269 | S10: Oxide | T10: 0 | U10: 0.001
B11: 03.Pasting | F11: GRID_P | J11: LEAD | N11: 03.Pasting | P11: =ADD!$W$12 -> 0.046937198 | S11: Mixing | T11: 0 | U11: 0.002
B12: 04.Cutting | F12: LID | J12: LID | N12: 04.Cutting | P12: =ADD!$W$14 -> 0.039769873 | S12: Pasting | T12: 0.030593703 | U12: 0.032 | W12: =(1/(1-T13)/(1-T12)-1)/(1/(1-T13)/(1-T12)) -> 0.046937198 | X12: =(1/(1-U13)/(1-U12)-1)/(1/(1-U13)/(1-U12)) -> 0.033936
B13: 05.Assembly | F13: OXYDE | J13: MAGIC EYE | N13: 05.Assembly | O13: PLATE_Cutted | P13: =ADD!$W$18 -> 0.034300749 | S13: Curing | T13: 0.016859283 | U13: 0.002
B14: 07.Formation | F14: PASTE | J14: OTHER | N14: 05.Assembly | O14: PLATE_Pasted | P14: =ADD!$W$18 -> 0.034300749 | S14: Brushing | T14: 0.011917726 | U14: 0 | W14: =(1/(1-T15)/(1-T14)-1)/(1/(1-T15)/(1-T14)) -> 0.039769873 | X14: =(1/(1-U15)/(1-U14)-1)/(1/(1-U15)/(1-U14)) -> 0.002
B15: 00.Electrolyte | F15: PLATE_Cutted | J15: OXYDE | N15: 05.Assembly | O15: SEPARATOR | P15: =ADD!$W$18 -> 0.034300749 | S15: Filing/Cutting | T15: 0.028188085 | U15: 0.002
F16: PLATE_Pasted | J16: PAPER | N16: 05.Assembly | O16: BOX | P16: =ADD!W20 -> 0.023456076
F17: PLATEx2_Pasted | J17: PASTE | N17: 05.Assembly | O17: LID | P17: =ADD!W21 -> 0.021919227 | S17: Workstation | T17: % | U17: Target
F18: STRIP_P | J18: PLATE_Cutted | N18: 05.Assembly | O18: LEAD | P18: =ADD!W19 -> 0.027543228 | R18: Assembly | S18: 1.Enveloping | T18: 0.0069489164 | U18: 0.005 | W18: =(1/(1-T24)/(1-T21)/(1-T20)/(1-T19)/(1-T18)-1) /(1/(1-T24)/(1-T21)/(1-T20)/(1-T19)/(1-T18)) -> 0.034300749 | X18: =(1/(1-U24)/(1-U21)/(1-U20)/(1-U19)/(1-U18)-1) /(1/(1-U24)/(1-U21)/(1-U20)/(1-U19)/(1-U18)) -> 0.022799831
F19: UFBATTERY | J19: PLATE_P | N19: 07.Formation | P19: =ADD!T25 -> 0.0018917585 | S19: 2.COS | T19: 0.0041853227 | U19: 0.003 | W19: =(1/(1-T24)/(1-T21)/(1-T20)/(1-T19)-1) /(1/(1-T24)/(1-T21)/(1-T20)/(1-T19)) -> 0.027543228 | X19: =(1/(1-U24)/(1-U21)/(1-U20)/(1-U19)-1) /(1/(1-U24)/(1-U21)/(1-U20)/(1-U19)) -> 0.017889278
J20: PLATE_Pasted | S20: 3.Intercell welding | T20: 0.001571291 | U20: 0.002 | W20: =(1/(1-T24)/(1-T21)/(1-T20)-1) /(1/(1-T24)/(1-T21)/(1-T20)) -> 0.023456076 | X20: =(1/(1-U24)/(1-U21)/(1-U20)-1) /(1/(1-U24)/(1-U21)/(1-U20)) -> 0.01493408
J21: PLATEx2_Pasted | S21: 4.Box-lid welding | T21: 0.011038229 | U21: 0.005 | W21: =(1/(1-T24)/(1-T21)-1) /(1/(1-T24)/(1-T21)) -> 0.021919227 | X21: =(1/(1-U24)/(1-U21)-1) /(1/(1-U24)/(1-U21)) -> 0.01296
J22: PPR
J23: SEPARATOR | S23: Workstation | T23: % | U23: Target
J24: STRIP_P | R24: Formation | S24: Assembly | T24: 0.011002445 | U24: 0.008
J25: SULFURIC ACID | S25: Formation | T25: 0.0018917585 | U25: 0.002
J26: UFBATTERY
J27: UPPER LID
J28: VALVE
J29: PLUG
J30: BATTERY
