Workbook
Name DebResh: [2]Data!$B$5:$C$36
Name Separator: [2]Data!$E$20:$F$26
Name SeparM2: #REF!
Name SeparM2: #REF!
Name SeparM2: #REF!
Name ново: #REF!
Name ново: #REF!
Name ново: #REF!

Sheet Forcast 2023
C2: PREVISION APPRO. SND 2023
A3: NOUVEAU Code long / BOM/ | B3: Local market code | C3: Janvier | D3: Février | E3: Mars | F3: Avril | G3: Mai | H3: Juin | I3: Juillet | J3: Août | K3: Septembre | L3: Octobre | M3: Novembre | N3: Décembre | O3: Total 2023 | Q3: Stock de sécurité Mensuel (Pour Les ddes imprévues)
C4: quantity | D4: quantity | E4: quantity | F4: quantity | G4: quantity | H4: quantity | I4: quantity | J4: quantity | K4: quantity | L4: quantity | M4: quantity | N4: quantity | O4: quantity
A5: ML34CF303L1X12 | B5: 10MAR16 | C5: 90 | D5: 90 | E5: 80 | F5: 100 | G5: 120 | H5: 150 | I5: 150 | J5: 130 | K5: 140 | L5: 120 | M5: 120 | N5: 90 | O5: =C5+D5+E5+F5+G5+H5+I5+J5+K5+L5+M5+N5 -> 1380 | P5: =MAX(C5:N5) -> 150 | Q5: 50
A6: TOTAL MARINE | C6: =SUM(C5) -> 90 | D6: =SUM(D5) -> 90 | E6: =SUM(E5) -> 80 | F6: =SUM(F5) -> 100 | G6: =SUM(G5) -> 120 | H6: =SUM(H5) -> 150 | I6: =SUM(I5) -> 150 | J6: =SUM(J5) -> 130 | ... O6: =SUM(O5) -> 1380 | P6: =MAX(C6:N6) -> 150 | Q6: =SUM(Q5) -> 50
A7: % / total sales | C7: =C6/C$60 -> 0.0054380665 | D7: =D6/D$60 -> 0.0058290155 | E7: =E6/E$60 -> 0.0058565154 | F7: =F6/F$60 -> 0.0087070091 | G7: =G6/G$60 -> 0.0076824584 | H7: =H6/H$60 -> 0.0066830029 | I7: =I6/I$60 -> 0.0053715309 | J7: =J6/J$60 -> 0.0047882136 | ... O7: =O6/O$60 -> 0.0058974359 | P7: =MAX(C7:N7) -> 0.0087070091
A8: MRT44J3X102R1Z44 | B8: 10NS40 | C8: 250 | D8: 220 | E8: 200 | F8: 200 | G8: 220 | H8: 350 | I8: 350 | J8: 350 | K8: 350 | L8: 320 | M8: 300 | N8: 300 | O8: =C8+D8+E8+F8+G8+H8+I8+J8+K8+L8+M8+N8 -> 3410 | P8: =MAX(C8:N8) -> 350 | Q8: 150
A9: MRT44J3X102L1Z44 | B9: 10NS40G | C9: 10 | E9: 10 | G9: 10 | H9: 10 | I9: 5 | J9: 10 | K9: 10 | L9: 5 | M9: 10 | O9: =C9+D9+E9+F9+G9+H9+I9+J9+K9+L9+M9+N9 -> 80 | P9: =MAX(C9:N9) -> 10
A10: MRT45J4X102R1Z44 | B10: 10NS60 | C10: 50 | D10: 50 | E10: 50 | F10: 40 | G10: 40 | H10: 50 | I10: 60 | J10: 60 | K10: 60 | L10: 50 | M10: 60 | N10: 50 | O10: =C10+D10+E10+F10+G10+H10+I10+J10+K10+L10+M10+N10 -> 620 | P10: =MAX(C10:N10) -> 60
A11: M55J6X172R1Z44 | B11: 10D23 | C11: 10 | D11: 10 | E11: 5 | F11: 5 | G11: 10 | H11: 5 | I11: 5 | J11: 10 | K11: 10 | L11: 10 | M11: 10 | N11: 15 | O11: =C11+D11+E11+F11+G11+H11+I11+J11+K11+L11+M11+N11 -> 105 | P11: =MAX(C11:N11) -> 15
A12: M56J7X102L1Z44 | B12: 10D26 | C12: 350 | D12: 320 | E12: 250 | F12: 200 | G12: 300 | H12: 500 | I12: 600 | J12: 580 | K12: 550 | L12: 480 | M12: 500 | N12: 350 | O12: =C12+D12+E12+F12+G12+H12+I12+J12+K12+L12+M12+N12 -> 4980 | P12: =MAX(C12:N12) -> 600 | Q12: 200
A13: M56J7X102R1Z44 | B13: 10D26D | C13: 50 | D13: 45 | E13: 35 | F13: 40 | G13: 60 | H13: 70 | I13: 120 | J13: 80 | K13: 100 | L13: 80 | M13: 90 | N13: 60 | O13: =C13+D13+E13+F13+G13+H13+I13+J13+K13+L13+M13+N13 -> 830 | P13: =MAX(C13:N13) -> 120
A14: M78J0X182L1Z44 | B14: 10D31 | C14: 220 | D14: 180 | E14: 150 | F14: 140 | G14: 180 | H14: 230 | I14: 300 | J14: 300 | K14: 220 | L14: 200 | M14: 180 | N14: 140 | O14: =C14+D14+E14+F14+G14+H14+I14+J14+K14+L14+M14+N14 -> 2440 | P14: =MAX(C14:N14) -> 300 | Q14: 100
A15: M78J0X182R1Z44 | B15: 10D31D | C15: 100 | D15: 70 | E15: 50 | F15: 50 | G15: 80 | H15: 100 | I15: 180 | J15: 150 | K15: 110 | L15: 100 | M15: 100 | N15: 80 | O15: =C15+D15+E15+F15+G15+H15+I15+J15+K15+L15+M15+N15 -> 1170 | P15: =MAX(C15:N15) -> 180
A16: LB45L1W172R1Z44 | B16: 10PRL1 | C16: 500 | D16: 400 | E16: 300 | F16: 220 | G16: 280 | H16: 500 | I16: 500 | J16: 420 | K16: 430 | L16: 300 | M16: 300 | N16: 300 | O16: =C16+D16+E16+F16+G16+H16+I16+J16+K16+L16+M16+N16 -> 4450 | P16: =MAX(C16:N16) -> 500 | Q16: 500
A17: LB45B1W172R1Z44 | B17: 10PRL1B | C17: 150 | D17: 130 | E17: 80 | F17: 100 | G17: 160 | H17: 140 | I17: 180 | J17: 180 | K17: 150 | L17: 130 | M17: 100 | N17: 90 | O17: =C17+D17+E17+F17+G17+H17+I17+J17+K17+L17+M17+N17 -> 1590 | P17: =MAX(C17:N17) -> 180
A18: LB45L1W172L1Z44 | B18: 10PRL1G | C18: 75 | D18: 20 | E18: 70 | F18: 0 | G18: 40 | H18: 70 | I18: 100 | J18: 90 | K18: 50 | L18: 90 | M18: 40 | N18: 75 | O18: =C18+D18+E18+F18+G18+H18+I18+J18+K18+L18+M18+N18 -> 720 | P18: =MAX(C18:N18) -> 100
A19: LB56L2W172R1Z44 | B19: 10PRL2 | C19: 550 | D19: 450 | E19: 350 | F19: 300 | G19: 370 | H19: 600 | I19: 800 | J19: 800 | K19: 700 | L19: 550 | M19: 450 | N19: 330 | O19: =C19+D19+E19+F19+G19+H19+I19+J19+K19+L19+M19+N19 -> 6250 | P19: =MAX(C19:N19) -> 800 | Q19: 500
A20: LB56B2W172R1Z44 | B20: 10PRL2B | C20: 35 | D20: 30 | E20: 20 | F20: 5 | G20: 30 | H20: 50 | I20: 80 | J20: 70 | K20: 70 | L20: 30 | M20: 50 | N20: 30 | O20: =C20+D20+E20+F20+G20+H20+I20+J20+K20+L20+M20+N20 -> 500 | P20: =MAX(C20:N20) -> 80
A21: LB67L3W172R1Z44 | B21: 10PRL3 | C21: 550 | D21: 450 | E21: 300 | F21: 260 | G21: 420 | H21: 580 | I21: 680 | J21: 620 | K21: 600 | L21: 600 | M21: 500 | N21: 440 | O21: =C21+D21+E21+F21+G21+H21+I21+J21+K21+L21+M21+N21 -> 6000 | P21: =MAX(C21:N21) -> 680 | Q21: 500
A22: LB67B3W172R1Z44 | B22: 10PRL3B | C22: 40 | D22: 40 | E22: 40 | F22: 30 | G22: 40 | H22: 50 | I22: 80 | J22: 80 | K22: 80 | L22: 50 | M22: 50 | N22: 40 | O22: =C22+D22+E22+F22+G22+H22+I22+J22+K22+L22+M22+N22 -> 620 | P22: =MAX(C22:N22) -> 80
A23: TOTAL PREMIUM | C23: =SUM(C8:C22) -> 2940 | D23: =SUM(D8:D22) -> 2415 | E23: =SUM(E8:E22) -> 1910 | F23: =SUM(F8:F22) -> 1590 | G23: =SUM(G8:G22) -> 2240 | H23: =SUM(H8:H22) -> 3305 | I23: =SUM(I8:I22) -> 4040 | J23: =SUM(J8:J22) -> 3800 | ... O23: =SUM(O8:O22) -> 33765 | P23: =MAX(C23:N23) -> 4040 | Q23: =SUM(Q8:Q22) -> 1950
A24: % / total Sales | C24: =C23/C$60 -> 0.1776435 | D24: =D23/D$60 -> 0.15641192 | E24: =E23/E$60 -> 0.1398243 | F24: =F23/F$60 -> 0.13844145 | G24: =G23/G$60 -> 0.14340589 | H24: =H23/H$60 -> 0.14724883 | I24: =I23/I$60 -> 0.14467323 | J24: =J23/J$60 -> 0.13996317 | ... O24: =O23/O$60 -> 0.14429487 | P24: =MAX(C24:N24) -> 0.1776435
A25: LB55L1W172R1Z55 | B25: 10S1 | C25: 1100 | D25: 1000 | E25: 1000 | F25: 750 | G25: 1100 | H25: 1900 | I25: 2300 | J25: 2200 | K25: 1700 | L25: 1400 | M25: 1300 | N25: 1200 | O25: =C25+D25+E25+F25+G25+H25+I25+J25+K25+L25+M25+N25 -> 16950 | P25: =MAX(C25:N25) -> 2300 | Q25: 800
A26: LB66L2W172R1Z55 | B26: 10S2 | C26: 1400 | D26: 1100 | E26: 900 | F26: 900 | G26: 1300 | H26: 2100 | I26: 3000 | J26: 2950 | K26: 2400 | L26: 2200 | M26: 1900 | N26: 1850 | O26: =C26+D26+E26+F26+G26+H26+I26+J26+K26+L26+M26+N26 -> 22000 | P26: =MAX(C26:N26) -> 3000 | Q26: 1000
A27: LB77L3W172R1Z55 | B27: 10S3 | C27: 1500 | D27: 1400 | E27: 1300 | F27: 950 | G27: 1300 | H27: 2100 | I27: 3100 | J27: 3100 | K27: 2500 | L27: 2100 | M27: 2100 | N27: 1900 | O27: =C27+D27+E27+F27+G27+H27+I27+J27+K27+L27+M27+N27 -> 23350 | P27: =MAX(C27:N27) -> 3100 | Q27: 1000
A28: LB90L5W172R1Z55 | B28: 10S5 | C28: 300 | D28: 340 | E28: 300 | F28: 250 | G28: 350 | H28: 370 | I28: 400 | J28: 400 | K28: 400 | L28: 380 | M28: 360 | N28: 350 | O28: =C28+D28+E28+F28+G28+H28+I28+J28+K28+L28+M28+N28 -> 4200 | P28: =MAX(C28:N28) -> 400 | Q28: 150
A29: TOTAL SMART | C29: =SUM(C25:C28) -> 4300 | D29: =SUM(D25:D28) -> 3840 | E29: =SUM(E25:E28) -> 3500 | F29: =SUM(F25:F28) -> 2850 | G29: =SUM(G25:G28) -> 4050 | H29: =SUM(H25:H28) -> 6470 | I29: =SUM(I25:I28) -> 8800 | J29: =SUM(J25:J28) -> 8650 | ... O29: =SUM(O25:O28) -> 66500 | P29: =MAX(C29:N29) -> 8800 | Q29: =SUM(Q25:Q28) -> 2950
A30: % / total Sales | C30: =C29/C$60 -> 0.25981873 | D30: =D29/D$60 -> 0.24870466 | E30: =E29/E$60 -> 0.25622255 | F30: =F29/F$60 -> 0.24814976 | G30: =G29/G$60 -> 0.25928297 | H30: =H29/H$60 -> 0.28826019 | I30: =I29/I$60 -> 0.31512981 | J30: =J29/J$60 -> 0.31860037 | ... O30: =O29/O$60 -> 0.28418803 | P30: =MAX(C30:N30) -> 0.31860037
A31: LB44L1K072R1S12 | B31: 10PL1 | C31: 1000 | D31: 950 | E31: 900 | F31: 850 | G31: 1050 | H31: 1700 | I31: 2000 | J31: 1900 | K31: 1300 | L31: 1250 | M31: 1300 | N31: 1000 | O31: =C31+D31+E31+F31+G31+H31+I31+J31+K31+L31+M31+N31 -> 15200 | P31: =MAX(C31:N31) -> 2000 | Q31: 800
A32: LB44B1K072R1S12 | B32: 10PL1B | O32: =C32+D32+E32+F32+G32+H32+I32+J32+K32+L32+M32+N32 -> 0 | P32: =MAX(C32:N32) -> 0
A33: LB55L2K072R1S12 | B33: 10PL2 | C33: 800 | D33: 850 | E33: 700 | F33: 650 | G33: 850 | H33: 1200 | I33: 1600 | J33: 1400 | K33: 1200 | L33: 1000 | M33: 1000 | N33: 950 | O33: =C33+D33+E33+F33+G33+H33+I33+J33+K33+L33+M33+N33 -> 12200 | P33: =MAX(C33:N33) -> 1600 | Q33: 600
A34: LB55B2K072R1S12 | B34: 10PL2B | O34: =C34+D34+E34+F34+G34+H34+I34+J34+K34+L34+M34+N34 -> 0 | P34: =MAX(C34:N34) -> 0
A35: LB66L3K072R1S12 | B35: 10PL3 | C35: 1100 | D35: 1100 | E35: 1050 | F35: 850 | G35: 1150 | H35: 1800 | I35: 2200 | J35: 2200 | K35: 1700 | L35: 1700 | M35: 1600 | N35: 1500 | O35: =C35+D35+E35+F35+G35+H35+I35+J35+K35+L35+M35+N35 -> 17950 | P35: =MAX(C35:N35) -> 2200 | Q35: 800
A36: LB66B3K072R1S12 | B36: 10PL3B | O36: =C36+D36+E36+F36+G36+H36+I36+J36+K36+L36+M36+N36 -> 0 | P36: =MAX(C36:N36) -> 0
A37: LB88L5K072R1S12 | B37: 10PL5 | C37: 220 | D37: 220 | E37: 200 | F37: 190 | G37: 320 | H37: 350 | I37: 320 | J37: 280 | K37: 300 | L37: 280 | M37: 280 | N37: 230 | O37: =C37+D37+E37+F37+G37+H37+I37+J37+K37+L37+M37+N37 -> 3190 | P37: =MAX(C37:N37) -> 350 | Q37: 100
A38: LB00L6K5072R1S12 | B38: 10PL6MF | C38: 50 | D38: 40 | E38: 50 | F38: 40 | G38: 50 | H38: 50 | I38: 50 | J38: 60 | K38: 60 | L38: 80 | M38: 80 | N38: 70 | O38: =C38+D38+E38+F38+G38+H38+I38+J38+K38+L38+M38+N38 -> 680 | P38: =MAX(C38:N38) -> 80
A39: M55M10F043L1S13 | B39: 10PM10 | C39: 1500 | D39: 1400 | E39: 1200 | F39: 950 | G39: 1400 | H39: 2100 | I39: 2600 | J39: 2500 | K39: 2400 | L39: 2300 | M39: 2150 | N39: 2100 | O39: =C39+D39+E39+F39+G39+H39+I39+J39+K39+L39+M39+N39 -> 22600 | P39: =MAX(C39:N39) -> 2600 | Q39: 1000
A40: MSP55M10F042L1S13 | B40: 10PM10S | C40: 1000 | D40: 1100 | E40: 1000 | F40: 680 | G40: 700 | H40: 1200 | I40: 1300 | J40: 1300 | K40: 1350 | L40: 1320 | M40: 1250 | N40: 900 | O40: =C40+D40+E40+F40+G40+H40+I40+J40+K40+L40+M40+N40 -> 13100 | P40: =MAX(C40:N40) -> 1350 | Q40: 400
A41: M77M11F043L1S13 | B41: 10PM11 | C41: 1000 | D41: 1000 | E41: 900 | F41: 850 | G41: 1050 | H41: 1300 | I41: 1500 | J41: 1400 | K41: 1500 | L41: 1400 | M41: 1400 | N41: 1500 | O41: =C41+D41+E41+F41+G41+H41+I41+J41+K41+L41+M41+N41 -> 14800 | P41: =MAX(C41:N41) -> 1500 | Q41: 700
...

Sheet Cache borne
A1: Image | C1: Code | D1: Description | E1: Image du couvercle avec bouchons
C2: S | D2: Cache borne pour les couvercles K,Destinées pour les bornes DIN
C3: J | D3: Cache borne pour uniquement pour les caches J3 et J4 sans adaptateur.
C4: Z | D4: Cache borne pour les couvercles SMF
A5: Забележка Lors de la commande d'une rondelle + 2 écrous sur chaque borne appariée, le capuchon de borne D ou T n'est pas installé. Pod S uniquement.
A7: Code | B7: Couleur | D7: Code RAL | E7: Code Terre
A8: 1 | B8: Rouge rouge | D8: RAL 3020 | E8: St. Rouge
A9: 2 | B9: Le noir | D9: Ral 9005 | E9: Le noir
A10: 3 | B10: Bleu ciel / Bleu clair | D10: RAL 5015 | E10: Cv.Cin
A11: 4 | B11: Vert / Zelena | D11: Ral 6016 | E11: T. Zelen
A12: 5 | B12: Jaune / Jaune | D12: Ral 1033 | E12: Jaune
A13: 6 | B13: Marine / Bleu Foncé | D13: RAL 5010 | E13: T. Fils
A14: 7 | B14: Orange / Orange | D14: Ral 2011 | E14: Orange
A15: 8 | B15: Argent | D15: RAL 7040 | E15: Gris
A16: 9 | B16: Bleu | D16: RAL 5017 | E16: Bleu
A17: 0 | B17: Vert clair | D17: Ral 6018 | E17: Saint-vert
C18: X | D18: Borne double

Sheet logique de sku code
D1: Le codage de chaque SKU pour le produit fini de batterie est définie sur la base de la logique suivante. Cette logique est applicable aux batteries de démarrage.
D4: Batterie codée
B5: Indication du type de charge | D5: Type de plaque positive | E5: Nombre de plaques positives | F5: Nombre de plaques négatives | G5: Type de boîte | H5: Type de couvercle | I5: Magic Eye / Séparateur GM / Résine | K5: Type bord | L5: Combinaison de couleurs | M5: Polarité | N5: Mise en charge | O5: Bouchons de bornes | P5: Couleur + | Q5: Couleur -
B6: La désignation non formatée est utilisée dans les programmes de comptabilité pour déterminer le prix et dans les cas où une batterie non formée est vendue. | D6: Maximum 3 symboles | E6: 1 caractère, et si les plaques sont plus de 10, seul le deuxième caractère du nombre décimal est affiché (Par exemple 12 plaques, et 2 est affiché) | F6: 1 caractère, et si les plaques sont plus de 10, seul le deuxième caractère du nombre décimal est affiché (Par exemple 12 plaques, et 2 est affiché) | G6: Maximum 3 symboles | H6: Maximum 2 symboles | I6: Combinaisons | K6: Maximum 4 symboles | L6: 1 symbole | M6: 1 symbole | N6: 1 symbole | O6: Non inclus dans le code SKU, utilisé dans les applications commerciales. Il n'est pas nécessaire d'être inclus dans le code SMC, car Monbat produit sur la base d'une commande pour un client spécifique
B8: 10PL1 | C8: LB44L1K073R1G22
B10: Type de frais | D10: TYPE DE PLAQUE | F10: Nombre de plaques + | G10: Nombre de plaques - | H10: BOÎTE | J10: COUVERCLE | L10: Magic Eye / Séparateur GM / Résine | N10: Bord | P10: Combinaisons de couleurs | S10: Polarité | U10: Mise en charge | W10: Capuchons de bornes - type | Y10: Cache-bornes - couleur + | AA10: Cache-bornes - couleur - | AC10: Caps color (for lybia)
B11: Х | D11: Х | F11: Х | G11: Х | H11: ХХ | J11: Х | L11: Х | N11: Х | P11: Х | S11: Х | U11: Х | W11: X | Y11: X | AA11: X | AC11: X
B12: UF | C12: Indique que la batterie n'est pas formée | D12: Symbole | E12: Type de batterie | F12: X | G12: X | H12: Symbole | I12: Type de boîte | J12: Symbole | K12: Type de couvercle | L12: Symbole | M12: Combinaisons | N12: Symbole | O12: Taper | P12: Symbole | Q12: Boîte | R12: Couvercle | S12: L | T12: La gauche | U12: 0 | V12: Chargé à sec | W12: S | Y12: 1 | Z12: rouge | AA12: 1 | AB12: rouge | AC12: 1 | AD12: Red
D13: KG | E13: Intelligent L1-L6 ; Premium L1-L3 ; Puissance L1-L5 ; Libye | H13: L0 | I13: L0 | J13: K | K13: KAMINA avec conduit d'évacuation central | L13: 0 | M13: Non non Non | N13: 0 | O13: B0 | P13: 0 | Q13: blanche | R13: blanche | S13: R | T13: Droit | U13: 1 | V13: Charge humide | W13: J | Y13: 2 | Z13: le noir | AA13: 2/3 | AB13: le noir | AC13: 2 | AD13: yellow
D14: LBT | E14: HD L2-L3 | H14: L1 | I14: L1 | J14: F | K14: Plat, avec échappement par soupapes | L14: 1 | M14: Oui/Non/Non | N14: 1 | O14: B1 | P14: 1 | Q14: blanche | R14: le noir | U14: 2 | V14: Informe | W14: Z | Y14: 3 | Z14: Blanc | AA14: 0 | AB14: Blanc
D15: MSP | E15: Jumbo M14-M15 ; Haut de gamme M10 | H15: L2 | I15: L2 | J15: P | K15: Couvercle SMF d'Akumsan (visuellement KAMINA) | L15: 2 | M15: Oui/Oui/Non | N15: 3 | O15: В13 | P15: 2 | Q15: le noir | R15: le noir | W15: X | Y15: 4 | Z15: Bleu | AA15: 4 | AB15: Bleu
D16: ML | E16: Jumbo M16 MSL+ / ML- ; 200 mars | H16: L3 | I16: L3 | J16: tu | K16: Non Kamino avec valve intégrée | L16: 3 | M16: Non/Oui/Non | N16: 4 | O16: B13/B14 avec adaptateur | P16: 3 | Q16: grise | R16: grise | Y16: 5 | Z16: Vert | AA16: 5 | AB16: Vert
D17: MT | E17: HD M10-M11 | H17: L4 | I17: L4 | J17: w | K17: Couverture SMF d'Accumalux | L17: 4 | M17: Oui/Non/Oui | N17: 5 | O17: B19 | P17: 4 | Q17: le noir | R17: jaune
D18: M | E18: Puissance M10-M12 ; Premium M11-M12 ; Norme JIS D23-D26-D31 | H18: L5 | I18: L5 | J18: X | K18: Couverture SMF PREMIUM d'Akumsan | L18: 5 | M18: Non/Non/Oui | N18: 6 | O18: N | P18: 5 | Q18: le noir | R18: grise
D19: E | E19: NS40-NS60 | H19: L6 | I19: L6 | J19: B | K19: Couvercle de bloc | L19: 6 | M19: Non/Oui/Oui | N19: 7 | O19: B13 | P19: 6 | Q19: le noir | R19: bleu
D20: TRM | E20: NS40-NS60 | H20: B1 | I20: LB1 | J20: N / A | K20: OTAN | L20: 7 | M20: Oui oui oui | N20: 8 | O20: B3 | P20: 7 | Q20: le noir | R20: rouge
D21: LB1 | E21: Haute température DIN , papier polyester | H21: B2 | I21: LB2 | J21: К5 | K21: KAMINA avec conduit d'évacuation central pare-flammes intégré | P21: 8 | Q21: bleu | R21: le noir
D22: M1 | E22: Haute température JIS, papier polyester | H22: B3 | I22: LB3 | J22: DL | K22: COUVERCLE DOUBLE MF pour batteries de camions | P22: 9 | Q22: grise | R22: le noir
H23: B4 | I23: LB4
H24: B5 | I24: LB5
H25: J0 | I25: D31
H26: J3 | I26: NS40
H27: J4 | I27: NS60
H28: J6 | I28: D23
H29: J7 | I29: D26
H30: À | I30: M14
H31: B | I31: M15
H32: C | I32: M16
H33: M10 | I33: Gr24
H34: M11 | I34: Gr28
... H36: MF110 | I36: C90

Sheet Stk BSF
L1: 45017
D3: SUIVI STOCK BSF / LOCAL & EXPORT
G5: Couleur | I5: Polatité | K5: Conception | N5: 45016 | O5: 45017 | W5: =+O5+1 -> 45018 | AE5: =+W5+1 -> 45019 | AM5: =+AE5+1 -> 45020 | AU5: =+AM5+1 -> 45021 | BC5: =+AU5+1 -> 45022 | BK5: =+BC5+1 -> 45023 | BS5: =+BK5+1 -> 45024 | CA5: =+BS5+1 -> 45025 | CI5: =+CA5+1 -> 45026 | CQ5: =+CI5+1 -> 45027 | CY5: =+CQ5+1 -> 45028 | DG5: =+CY5+1 -> 45029 | DO5: =+DG5+1 -> 45030 | DW5: =+DO5+1 -> 45031 | EE5: =+DW5+1 -> 45032 | EM5: =+EE5+1 -> 45033 | EU5: =+EM5+1 -> 45034 | FC5: =+EU5+1 -> 45035 | FK5: =+FC5+1 -> 45036 | FS5: =+FK5+1 -> 45037 | GA5: =+FS5+1 -> 45038 | GI5: =+GA5+1 -> 45039 | GQ5: =+GI5+1 -> 45040 | GY5: =+GQ5+1 -> 45041 | HG5: =+GY5+1 -> 45042 | HO5: =+HG5+1 -> 45043 | HW5: =+HO5+1 -> 45044 | IE5: =+HW5+1 -> 45045 | IM5: =+IE5+1 -> 45046 | IU5: =+IM5+1 -> 45047 | JD5: TOTAL : | JO5: Equivalent PLQ Montées
B6: Client | C6: NOUVEAU Code long / BOM/ | D6: Code commercial | E6: Code international | F6: Bac | G6: Bac | H6: Couv. | I6: D | J6: Poids, Moyenne ±5 % | K6: (+) | L6: (-) | M6: UN | N6: SI | O6: Prod° SF | P6: Récep Achat | Q6: Tr. Megrine | R6: Rép LABO | S6: Tr. LABO | T6: Tr. Charge | U6: Ret. Charge | V6: SF | W6: Prod° SF | X6: Récep STA | Y6: Tr. STA | Z6: Rép LABO | AA6: Tr. LABO | AB6: Tr. Charge | AC6: Ret. Charge | AD6: SF | AE6: Prod° SF | AF6: Récep STA | AG6: Tr. STA | AH6: Rép LABO | AI6: Tr. LABO | AJ6: Tr. Charge | AK6: Ret. Charge | AL6: SF | AM6: Prod° SF | AN6: Récep STA | AO6: Tr. STA | AP6: Rép LABO | AQ6: Tr. LABO | AR6: Tr. Charge | AS6: Ret. Charge | AT6: SF | AU6: Prod° SF | AV6: Récep STA | AW6: Tr. STA | AX6: Rép LABO | AY6: Tr. LABO | AZ6: Tr. Charge | BA6: Ret. Charge | BB6: SF | BC6: Prod° SF | BD6: Récep STA | BE6: Tr. STA | BF6: Rép LABO | BG6: Tr. LABO | BH6: Tr. Charge | BI6: Ret. Charge | BJ6: SF | BK6: Prod° SF | BL6: Récep STA | BM6: Tr. STA | BN6: Rép LABO | BO6: Tr. LABO | BP6: Tr. Charge | BQ6: Ret. Charge | BR6: SF | BS6: Prod° SF | BT6: Récep STA | BU6: Tr. STA | BV6: Rép LABO | BW6: Tr. LABO | BX6: Tr. Charge | BY6: Ret. Charge | BZ6: SF | CA6: Prod° SF | CB6: Récep STA | CC6: Tr. STA | CD6: Rép LABO | CE6: Tr. LABO | CF6: Tr. Charge | CG6: Ret. Charge | CH6: SF | CI6: Prod° SF | CJ6: Récep STA | CK6: Tr. STA | CL6: Rép LABO | CM6: Tr. LABO | CN6: Tr. Charge | CO6: Ret. Charge | CP6: SF | CQ6: Prod° SF | CR6: Récep STA | CS6: Tr. STA | CT6: Rép LABO | CU6: Tr. LABO | CV6: Tr. Charge | CW6: Ret. Charge | CX6: SF | CY6: Prod° SF | CZ6: Récep STA | DA6: Tr. STA | DB6: Rép LABO | DC6: Tr. LABO | DD6: Tr. Charge | DE6: Ret. Charge | DF6: SF | DG6: Prod° SF | DH6: Récep STA | DI6: Tr. STA | DJ6: Rép LABO | DK6: Tr. LABO | DL6: Tr. Charge | DM6: Ret. Charge | DN6: SF | DO6: Prod° SF | DP6: Récep STA | DQ6: Tr. STA | DR6: Rép LABO | DS6: Tr. LABO | DT6: Tr. Charge | DU6: Ret. Charge | DV6: SF | DW6: Prod° SF | DX6: Récep STA | DY6: Tr. STA | DZ6: Rép LABO | EA6: Tr. LABO | EB6: Tr. Charge | EC6: Ret. Charge | ED6: SF | EE6: Prod° SF | EF6: Récep STA | EG6: Tr. STA | EH6: Rép LABO | EI6: Tr. LABO | EJ6: Tr. Charge | EK6: Ret. Charge | EL6: SF | EM6: Prod° SF | EN6: Récep STA | EO6: Tr. STA | EP6: Rép LABO | EQ6: Tr. LABO | ER6: Tr. Charge | ES6: Ret. Charge | ET6: SF | EU6: Prod° SF | EV6: Récep STA | EW6: Tr. STA | EX6: Rép LABO | EY6: Tr. LABO | EZ6: Tr. Charge | FA6: Ret. Charge | FB6: SF | FC6: Prod° SF | FD6: Récep STA | FE6: Tr. STA | FF6: Rép LABO | FG6: Tr. LABO | FH6: Tr. Charge | FI6: Ret. Charge | FJ6: SF | FK6: Prod° SF | FL6: Récep STA | FM6: Tr. STA | FN6: Rép LABO | FO6: Tr. LABO | FP6: Tr. Charge | FQ6: Ret. Charge | FR6: SF | FS6: Prod° SF | FT6: Récep STA | FU6: Tr. STA | FV6: Rép LABO | FW6: Tr. LABO | FX6: Tr. Charge | FY6: Ret. Charge | FZ6: SF | GA6: Prod° SF | GB6: Récep STA | GC6: Tr. STA | GD6: Rép LABO | GE6: Tr. LABO | GF6: Tr. Charge | GG6: Ret. Charge | GH6: SF | GI6: Prod° SF | GJ6: Récep STA | GK6: Tr. STA | GL6: Rép LABO | GM6: Tr. LABO | GN6: Tr. Charge | GO6: Ret. Charge | GP6: SF | GQ6: Prod° SF | GR6: Récep STA | GS6: Tr. STA | GT6: Rép LABO | GU6: Tr. LABO | GV6: Tr. Charge | GW6: Ret. Charge | GX6: SF | GY6: Prod° SF | GZ6: Récep STA | HA6: Tr. STA | HB6: Rép LABO | HC6: Tr. LABO | HD6: Tr. Charge | HE6: Ret. Charge | HF6: SF | HG6: Prod° SF | HH6: Récep STA | HI6: Tr. STA | HJ6: Rép LABO | HK6: Tr. LABO | HL6: Tr. Charge | HM6: Ret. Charge | HN6: SF | HO6: Prod° SF | HP6: Récep STA | HQ6: Tr. STA | HR6: Rép LABO | HS6: Tr. LABO | HT6: Tr. Charge | HU6: Ret. Charge | HV6: SF | HW6: Prod° SF | HX6: Récep STA | HY6: Tr. STA | HZ6: Rép LABO | IA6: Tr. LABO | IB6: Tr. Charge | IC6: Ret. Charge | ID6: SF | IE6: Prod° SF | IF6: Récep STA | IG6: Tr. STA | IH6: Rép LABO | II6: Tr. LABO | IJ6: Tr. Charge | IK6: Ret. Charge | IL6: SF | IM6: Prod° SF | IN6: Récep STA | IO6: Tr. STA | IP6: Rép LABO | IQ6: Tr. LABO | IR6: Tr. Charge | IS6: Ret. Charge | IT6: SF | IU6: Prod° SF | IV6: Récep STA | IW6: Tr. STA | IX6: Rép LABO | IY6: Tr. LABO | IZ6: Tr. Charge | JA6: Ret. Charge | JB6: SF | JD6: Prod° SF | JE6: Récep STA | JF6: Tr. STA | JG6: Rép LABO | JH6: Tr. LABO | JI6: Tr. Charge | JJ6: Ret. Charge | JK6: SF
B7: Local | C7: LB55L1W172R1Z55 | D7: S1 | E7: SMF 55027 | F7: L1 | G7: NR | H7: NR | I7: D | J7: 12,6 | K7: 5 | L7: 5 | M7: UN | N7: 0 | V7: =+N7+O7+P7+R7-S7-Q7-T7+U7 -> 0 | AD7: =+V7+W7+X7-Y7+Z7-AA7-AB7+AC7 -> 0 | AL7: =+AD7+AE7+AF7-AG7+AH7-AI7-AJ7+AK7 -> 0 | AT7: =+AL7+AM7+AN7-AO7+AP7-AQ7-AR7+AS7 -> 0 | BB7: =+AT7+AU7+AV7-AW7+AX7-AY7-AZ7+BA7 -> 0 | BJ7: =+BB7+BC7+BD7-BE7+BF7-BG7-BH7+BI7 -> 0 | BR7: =+BJ7+BK7+BL7-BM7+BN7-BO7-BP7+BQ7 -> 0 | BZ7: =+BR7+BS7+BT7-BU7+BV7-BW7-BX7+BY7 -> 0 | CH7: =+BZ7+CA7+CB7-CC7+CD7-CE7-CF7+CG7 -> 0 | CI7: 240 | CN7: 240 | CP7: =+CH7+CI7+CJ7-CK7+CL7-CM7-CN7+CO7 -> 0 | CQ7: 794 | CV7: 48 | CX7: =+CP7+CQ7+CR7-CS7+CT7-CU7-CV7+CW7 -> 746 | DF7: =+CX7+CY7+CZ7-DA7+DB7-DC7-DD7+DE7 -> 746 | DN7: =+DF7+DG7+DH7-DI7+DJ7-DK7-DL7+DM7 -> 746 | DV7: =+DN7+DO7+DP7-DQ7+DR7-DS7-DT7+DU7 -> 746 | ED7: =+DV7+DW7+DX7-DY7+DZ7-EA7-EB7+EC7 -> 746 | EL7: =+ED7+EE7+EF7-EG7+EH7-EI7-EJ7+EK7 -> 746 | ET7: =+EL7+EM7+EN7-EO7+EP7-EQ7-ER7+ES7 -> 746 | FB7: =+ET7+EU7+EV7-EW7+EX7-EY7-EZ7+FA7 -> 746 | FJ7: =+FB7+FC7+FD7-FE7+FF7-FG7-FH7+FI7 -> 746 | FR7: =+FJ7+FK7+FL7-FM7+FN7-FO7-FP7+FQ7 -> 746 | FZ7: =+FR7+FS7+FT7-FU7+FV7-FW7-FX7+FY7 -> 746 | GH7: =+FZ7+GA7+GB7-GC7+GD7-GE7-GF7+GG7 -> 746 | GP7: =+GH7+GI7+GJ7-GK7+GL7-GM7-GN7+GO7 -> 746 | GX7: =+GP7+GQ7+GR7-GS7+GT7-GU7-GV7+GW7 -> 746 | HF7: =+GX7+GY7+GZ7-HA7+HB7-HC7-HD7+HE7 -> 746 | HN7: =+HF7+HG7+HH7-HI7+HJ7-HK7-HL7+HM7 -> 746 | HV7: =+HN7+HO7+HP7-HQ7+HR7-HS7-HT7+HU7 -> 746 | ID7: =+HV7+HW7+HX7-HY7+HZ7-IA7-IB7+IC7 -> 746 | IL7: =+ID7+IE7+IF7-IG7+IH7-II7-IJ7+IK7 -> 746 | IT7: =+IL7+IM7+IN7-IO7+IP7-IQ7-IR7+IS7 -> 746 | JB7: =+IT7+IU7+IV7-IW7+IX7-IY7-IZ7+JA7 -> 746 | JD7: =+O7+W7+AE7+AM7+AU7+BC7+BK7+BS7+CA7+CI7+CQ7+CY7+DG7+DO7+DW7+EE7+EM7+EU7+FC7+FK7+FS7+GA7+GI7+GQ7+GY7+HG7+HO7+HW7+IE7+IM7+IU7 -> 1034 | JE7: =+P7+X7+AF7+AN7+AV7+BD7+BL7+BT7+CB7+CJ7+CR7+CZ7+DH7+DP7+DX7+EF7+EN7+EV7+FD7+FL7+FT7+GB7+GJ7+GR7+GZ7+HH7+HP7+HX7+IF7+IN7+IV7 -> 0 | JF7: =+Q7+Y7+AG7+AO7+AW7+BE7+BM7+BU7+CC7+CK7+CS7+DA7+DI7+DQ7+DY7+EG7+EO7+EW7+FE7+FM7+FU7+GC7+GK7+GS7+HA7+HI7+HQ7+HY7+IG7+IO7+IW7 -> 0 | JG7: =+R7+Z7+AH7+AP7+AX7+BF7+BN7+BV7+CD7+CL7+CT7+DB7+DJ7+DR7+DZ7+EH7+EP7+EX7+FF7+FN7+FV7+GD7+GL7+GT7+HB7+HJ7+HR7+HZ7+IH7+IP7+IX7 -> 0 | JH7: =+S7+AA7+AI7+AQ7+AY7+BG7+BO7+BW7+CE7+CM7+CU7+DC7+DK7+DS7+EA7+EI7+EQ7+EY7+FG7+FO7+FW7+GE7+GM7+GU7+HC7+HK7+HS7+IA7+II7+IQ7+IY7 -> 0 | JI7: =+T7+AB7+AJ7+AR7+AZ7+BH7+BP7+BX7+CF7+CN7+CV7+DD7+DL7+DT7+EB7+EJ7+ER7+EZ7+FH7+FP7+FX7+GF7+GN7+GV7+HD7+HL7+HT7+IB7+IJ7+IR7+IZ7 -> 288 | JJ7: =+U7+AC7+AK7+AS7+BA7+BI7+BQ7+BY7+CG7+CO7+CW7+DE7+DM7+DU7+EC7+EK7+ES7+FA7+FI7+FQ7+FY7+GG7+GO7+GW7+HE7+HM7+HU7+IC7+IK7+IS7+JA7 -> 0 | JK7: =+N7+JD7+JE7-JF7+JG7-JH7-JI7+JJ7 -> 746 | JM7: =+JK7-JB7 -> 0 | JO7: =+JD7*((K7+L7)*6) -> 62040
B8: Local | C8: LB66L2W172R1Z55 | D8: S2 | E8: SMF 56219 | F8: L2 | G8: NR | H8: NR | I8: D | J8: 14,6 | K8: 6 | L8: 6 | M8: UN | N8: 0 | V8: =+N8+O8+P8+R8-S8-Q8-T8+U8 -> 0 | AD8: =+V8+W8+X8-Y8+Z8-AA8-AB8+AC8 -> 0 | AF8: 80 | AJ8: 80 | AL8: =+AD8+AE8+AF8-AG8+AH8-AI8-AJ8+AK8 -> 0 | AM8: 570 | AR8: 570 | AT8: =+AL8+AM8+AN8-AO8+AP8-AQ8-AR8+AS8 -> 0 | AU8: 977 | AZ8: 977 | BB8: =+AT8+AU8+AV8-AW8+AX8-AY8-AZ8+BA8 -> 0 | BC8: 242 | BH8: 171 | BJ8: =+BB8+BC8+BD8-BE8+BF8-BG8-BH8+BI8 -> 71 | BQ8: 17 | BR8: =+BJ8+BK8+BL8-BM8+BN8-BO8-BP8+BQ8 -> 88 | BZ8: =+BR8+BS8+BT8-BU8+BV8-BW8-BX8+BY8 -> 88 | CH8: =+BZ8+CA8+CB8-CC8+CD8-CE8-CF8+CG8 -> 88 | CP8: =+CH8+CI8+CJ8-CK8+CL8-CM8-CN8+CO8 -> 88 | CX8: =+CP8+CQ8+CR8-CS8+CT8-CU8-CV8+CW8 -> 88 | DF8: =+CX8+CY8+CZ8-DA8+DB8-DC8-DD8+DE8 -> 88 | DN8: =+DF8+DG8+DH8-DI8+DJ8-DK8-DL8+DM8 -> 88 | DV8: =+DN8+DO8+DP8-DQ8+DR8-DS8-DT8+DU8 -> 88 | ED8: =+DV8+DW8+DX8-DY8+DZ8-EA8-EB8+EC8 -> 88 | EL8: =+ED8+EE8+EF8-EG8+EH8-EI8-EJ8+EK8 -> 88 | ET8: =+EL8+EM8+EN8-EO8+EP8-EQ8-ER8+ES8 -> 88 | FB8: =+ET8+EU8+EV8-EW8+EX8-EY8-EZ8+FA8 -> 88 | FJ8: =+FB8+FC8+FD8-FE8+FF8-FG8-FH8+FI8 -> 88 | FR8: =+FJ8+FK8+FL8-FM8+FN8-FO8-FP8+FQ8 -> 88 | FZ8: =+FR8+FS8+FT8-FU8+FV8-FW8-FX8+FY8 -> 88 | GH8: =+FZ8+GA8+GB8-GC8+GD8-GE8-GF8+GG8 -> 88 | GP8: =+GH8+GI8+GJ8-GK8+GL8-GM8-GN8+GO8 -> 88 | GX8: =+GP8+GQ8+GR8-GS8+GT8-GU8-GV8+GW8 -> 88 | HF8: =+GX8+GY8+GZ8-HA8+HB8-HC8-HD8+HE8 -> 88 | HN8: =+HF8+HG8+HH8-HI8+HJ8-HK8-HL8+HM8 -> 88 | HV8: =+HN8+HO8+HP8-HQ8+HR8-HS8-HT8+HU8 -> 88 | ID8: =+HV8+HW8+HX8-HY8+HZ8-IA8-IB8+IC8 -> 88 | IL8: =+ID8+IE8+IF8-IG8+IH8-II8-IJ8+IK8 -> 88 | IT8: =+IL8+IM8+IN8-IO8+IP8-IQ8-IR8+IS8 -> 88 | JB8: =+IT8+IU8+IV8-IW8+IX8-IY8-IZ8+JA8 -> 88 | JD8: =+O8+W8+AE8+AM8+AU8+BC8+BK8+BS8+CA8+CI8+CQ8+CY8+DG8+DO8+DW8+EE8+EM8+EU8+FC8+FK8+FS8+GA8+GI8+GQ8+GY8+HG8+HO8+HW8+IE8+IM8+IU8 -> 1789 | JE8: =+P8+X8+AF8+AN8+AV8+BD8+BL8+BT8+CB8+CJ8+CR8+CZ8+DH8+DP8+DX8+EF8+EN8+EV8+FD8+FL8+FT8+GB8+GJ8+GR8+GZ8+HH8+HP8+HX8+IF8+IN8+IV8 -> 80 | JF8: =+Q8+Y8+AG8+AO8+AW8+BE8+BM8+BU8+CC8+CK8+CS8+DA8+DI8+DQ8+DY8+EG8+EO8+EW8+FE8+FM8+FU8+GC8+GK8+GS8+HA8+HI8+HQ8+HY8+IG8+IO8+IW8 -> 0 | JG8: =+R8+Z8+AH8+AP8+AX8+BF8+BN8+BV8+CD8+CL8+CT8+DB8+DJ8+DR8+DZ8+EH8+EP8+EX8+FF8+FN8+FV8+GD8+GL8+GT8+HB8+HJ8+HR8+HZ8+IH8+IP8+IX8 -> 0 | JH8: =+S8+AA8+AI8+AQ8+AY8+BG8+BO8+BW8+CE8+CM8+CU8+DC8+DK8+DS8+EA8+EI8+EQ8+EY8+FG8+FO8+FW8+GE8+GM8+GU8+HC8+HK8+HS8+IA8+II8+IQ8+IY8 -> 0 | JI8: =+T8+AB8+AJ8+AR8+AZ8+BH8+BP8+BX8+CF8+CN8+CV8+DD8+DL8+DT8+EB8+EJ8+ER8+EZ8+FH8+FP8+FX8+GF8+GN8+GV8+HD8+HL8+HT8+IB8+IJ8+IR8+IZ8 -> 1798 | JJ8: =+U8+AC8+AK8+AS8+BA8+BI8+BQ8+BY8+CG8+CO8+CW8+DE8+DM8+DU8+EC8+EK8+ES8+FA8+FI8+FQ8+FY8+GG8+GO8+GW8+HE8+HM8+HU8+IC8+IK8+IS8+JA8 -> 17 | JK8: =+N8+JD8+JE8-JF8+JG8-JH8-JI8+JJ8 -> 88 | JM8: =+JK8-JB8 -> 0 | JO8: =+JD8*((K8+L8)*6) -> 128808
A9: 160 | B9: Local | C9: LB77L3W172R1Z55 | D9: S3 | E9: SMF 57412 | F9: L3 | G9: NR | H9: NR | I9: D | J9: 17,9 | K9: 7 | L9: 7 | M9: UN | N9: 0 | V9: =+N9+O9+P9+R9-S9-Q9-T9+U9 -> 0 | AD9: =+V9+W9+X9-Y9+Z9-AA9-AB9+AC9 -> 0 | AF9: 67 | AJ9: 67 | AL9: =+AD9+AE9+AF9-AG9+AH9-AI9-AJ9+AK9 -> 0 | AT9: =+AL9+AM9+AN9-AO9+AP9-AQ9-AR9+AS9 -> 0 | BB9: =+AT9+AU9+AV9-AW9+AX9-AY9-AZ9+BA9 -> 0 | BJ9: =+BB9+BC9+BD9-BE9+BF9-BG9-BH9+BI9 -> 0 | BR9: =+BJ9+BK9+BL9-BM9+BN9-BO9-BP9+BQ9 -> 0 | BZ9: =+BR9+BS9+BT9-BU9+BV9-BW9-BX9+BY9 -> 0 | CH9: =+BZ9+CA9+CB9-CC9+CD9-CE9-CF9+CG9 -> 0 | CP9: =+CH9+CI9+CJ9-CK9+CL9-CM9-CN9+CO9 -> 0 | CQ9: 160 | CV9: 160 | CX9: =+CP9+CQ9+CR9-CS9+CT9-CU9-CV9+CW9 -> 0 | DF9: =+CX9+CY9+CZ9-DA9+DB9-DC9-DD9+DE9 -> 0 | DN9: =+DF9+DG9+DH9-DI9+DJ9-DK9-DL9+DM9 -> 0 | DV9: =+DN9+DO9+DP9-DQ9+DR9-DS9-DT9+DU9 -> 0 | ED9: =+DV9+DW9+DX9-DY9+DZ9-EA9-EB9+EC9 -> 0 | EL9: =+ED9+EE9+EF9-EG9+EH9-EI9-EJ9+EK9 -> 0 | ET9: =+EL9+EM9+EN9-EO9+EP9-EQ9-ER9+ES9 -> 0 | FB9: =+ET9+EU9+EV9-EW9+EX9-EY9-EZ9+FA9 -> 0 | FJ9: =+FB9+FC9+FD9-FE9+FF9-FG9-FH9+FI9 -> 0 | FR9: =+FJ9+FK9+FL9-FM9+FN9-FO9-FP9+FQ9 -> 0 | FZ9: =+FR9+FS9+FT9-FU9+FV9-FW9-FX9+FY9 -> 0 | GH9: =+FZ9+GA9+GB9-GC9+GD9-GE9-GF9+GG9 -> 0 | GP9: =+GH9+GI9+GJ9-GK9+GL9-GM9-GN9+GO9 -> 0 | GX9: =+GP9+GQ9+GR9-GS9+GT9-GU9-GV9+GW9 -> 0 | HF9: =+GX9+GY9+GZ9-HA9+HB9-HC9-HD9+HE9 -> 0 | HN9: =+HF9+HG9+HH9-HI9+HJ9-HK9-HL9+HM9 -> 0 | HV9: =+HN9+HO9+HP9-HQ9+HR9-HS9-HT9+HU9 -> 0 | ID9: =+HV9+HW9+HX9-HY9+HZ9-IA9-IB9+IC9 -> 0 | IL9: =+ID9+IE9+IF9-IG9+IH9-II9-IJ9+IK9 -> 0 | IT9: =+IL9+IM9+IN9-IO9+IP9-IQ9-IR9+IS9 -> 0 | JB9: =+IT9+IU9+IV9-IW9+IX9-IY9-IZ9+JA9 -> 0 | JD9: =+O9+W9+AE9+AM9+AU9+BC9+BK9+BS9+CA9+CI9+CQ9+CY9+DG9+DO9+DW9+EE9+EM9+EU9+FC9+FK9+FS9+GA9+GI9+GQ9+GY9+HG9+HO9+HW9+IE9+IM9+IU9 -> 160 | JE9: =+P9+X9+AF9+AN9+AV9+BD9+BL9+BT9+CB9+CJ9+CR9+CZ9+DH9+DP9+DX9+EF9+EN9+EV9+FD9+FL9+FT9+GB9+GJ9+GR9+GZ9+HH9+HP9+HX9+IF9+IN9+IV9 -> 67 | JF9: =+Q9+Y9+AG9+AO9+AW9+BE9+BM9+BU9+CC9+CK9+CS9+DA9+DI9+DQ9+DY9+EG9+EO9+EW9+FE9+FM9+FU9+GC9+GK9+GS9+HA9+HI9+HQ9+HY9+IG9+IO9+IW9 -> 0 | JG9: =+R9+Z9+AH9+AP9+AX9+BF9+BN9+BV9+CD9+CL9+CT9+DB9+DJ9+DR9+DZ9+EH9+EP9+EX9+FF9+FN9+FV9+GD9+GL9+GT9+HB9+HJ9+HR9+HZ9+IH9+IP9+IX9 -> 0 | JH9: =+S9+AA9+AI9+AQ9+AY9+BG9+BO9+BW9+CE9+CM9+CU9+DC9+DK9+DS9+EA9+EI9+EQ9+EY9+FG9+FO9+FW9+GE9+GM9+GU9+HC9+HK9+HS9+IA9+II9+IQ9+IY9 -> 0 | JI9: =+T9+AB9+AJ9+AR9+AZ9+BH9+BP9+BX9+CF9+CN9+CV9+DD9+DL9+DT9+EB9+EJ9+ER9+EZ9+FH9+FP9+FX9+GF9+GN9+GV9+HD9+HL9+HT9+IB9+IJ9+IR9+IZ9 -> 227 | JJ9: =+U9+AC9+AK9+AS9+BA9+BI9+BQ9+BY9+CG9+CO9+CW9+DE9+DM9+DU9+EC9+EK9+ES9+FA9+FI9+FQ9+FY9+GG9+GO9+GW9+HE9+HM9+HU9+IC9+IK9+IS9+JA9 -> 0 | JK9: =+N9+JD9+JE9-JF9+JG9-JH9-JI9+JJ9 -> 0 | JM9: =+JK9-JB9 -> 0 | JO9: =+JD9*((K9+L9)*6) -> 13440
B10: Local | C10: LB90L5W172R1Z55 | D10: S5 | E10: SMF 60044 | F10: L5 | G10: NR | H10: NR | I10: D | J10: 22,8 | K10: 9 | L10: 10 | M10: UN | N10: =293+38-72 -> 259 | T10: =294-72 -> 222 | V10: =+N10+O10+P10+R10-S10-Q10-T10+U10 -> 37 | AD10: =+V10+W10+X10-Y10+Z10-AA10-AB10+AC10 -> 37 | AL10: =+AD10+AE10+AF10-AG10+AH10-AI10-AJ10+AK10 -> 37 | AT10: =+AL10+AM10+AN10-AO10+AP10-AQ10-AR10+AS10 -> 37 | BB10: =+AT10+AU10+AV10-AW10+AX10-AY10-AZ10+BA10 -> 37 | BC10: 144 | BH10: 144 | BJ10: =+BB10+BC10+BD10-BE10+BF10-BG10-BH10+BI10 -> 37 | BK10: =376 -> 376 | BP10: 376 | BR10: =+BJ10+BK10+BL10-BM10+BN10-BO10-BP10+BQ10 -> 37 | BZ10: =+BR10+BS10+BT10-BU10+BV10-BW10-BX10+BY10 -> 37 | CH10: =+BZ10+CA10+CB10-CC10+CD10-CE10-CF10+CG10 -> 37 | CP10: =+CH10+CI10+CJ10-CK10+CL10-CM10-CN10+CO10 -> 37 | CX10: =+CP10+CQ10+CR10-CS10+CT10-CU10-CV10+CW10 -> 37 | DF10: =+CX10+CY10+CZ10-DA10+DB10-DC10-DD10+DE10 -> 37 | DN10: =+DF10+DG10+DH10-DI10+DJ10-DK10-DL10+DM10 -> 37 | DV10: =+DN10+DO10+DP10-DQ10+DR10-DS10-DT10+DU10 -> 37 | ED10: =+DV10+DW10+DX10-DY10+DZ10-EA10-EB10+EC10 -> 37 | EL10: =+ED10+EE10+EF10-EG10+EH10-EI10-EJ10+EK10 -> 37 | ET10: =+EL10+EM10+EN10-EO10+EP10-EQ10-ER10+ES10 -> 37 | FB10: =+ET10+EU10+EV10-EW10+EX10-EY10-EZ10+FA10 -> 37 | FJ10: =+FB10+FC10+FD10-FE10+FF10-FG10-FH10+FI10 -> 37 | FR10: =+FJ10+FK10+FL10-FM10+FN10-FO10-FP10+FQ10 -> 37 | FZ10: =+FR10+FS10+FT10-FU10+FV10-FW10-FX10+FY10 -> 37 | GH10: =+FZ10+GA10+GB10-GC10+GD10-GE10-GF10+GG10 -> 37 | GP10: =+GH10+GI10+GJ10-GK10+GL10-GM10-GN10+GO10 -> 37 | GX10: =+GP10+GQ10+GR10-GS10+GT10-GU10-GV10+GW10 -> 37 | HF10: =+GX10+GY10+GZ10-HA10+HB10-HC10-HD10+HE10 -> 37 | HN10: =+HF10+HG10+HH10-HI10+HJ10-HK10-HL10+HM10 -> 37 | HV10: =+HN10+HO10+HP10-HQ10+HR10-HS10-HT10+HU10 -> 37 | ID10: =+HV10+HW10+HX10-HY10+HZ10-IA10-IB10+IC10 -> 37 | IL10: =+ID10+IE10+IF10-IG10+IH10-II10-IJ10+IK10 -> 37 | IT10: =+IL10+IM10+IN10-IO10+IP10-IQ10-IR10+IS10 -> 37 | JB10: =+IT10+IU10+IV10-IW10+IX10-IY10-IZ10+JA10 -> 37 | JD10: =+O10+W10+AE10+AM10+AU10+BC10+BK10+BS10+CA10+CI10+CQ10+CY10+DG10+DO10+DW10+EE10+EM10+EU10+FC10+FK10+FS10+GA10+GI10+GQ10+GY10+HG10+HO10+HW10+IE10+IM10+IU10 -> 520 | JE10: =+P10+X10+AF10+AN10+AV10+BD10+BL10+BT10+CB10+CJ10+CR10+CZ10+DH10+DP10+DX10+EF10+EN10+EV10+FD10+FL10+FT10+GB10+GJ10+GR10+GZ10+HH10+HP10+HX10+IF10+IN10+IV10 -> 0 | JF10: =+Q10+Y10+AG10+AO10+AW10+BE10+BM10+BU10+CC10+CK10+CS10+DA10+DI10+DQ10+DY10+EG10+EO10+EW10+FE10+FM10+FU10+GC10+GK10+GS10+HA10+HI10+HQ10+HY10+IG10+IO10+IW10 -> 0 | JG10: =+R10+Z10+AH10+AP10+AX10+BF10+BN10+BV10+CD10+CL10+CT10+DB10+DJ10+DR10+DZ10+EH10+EP10+EX10+FF10+FN10+FV10+GD10+GL10+GT10+HB10+HJ10+HR10+HZ10+IH10+IP10+IX10 -> 0 | JH10: =+S10+AA10+AI10+AQ10+AY10+BG10+BO10+BW10+CE10+CM10+CU10+DC10+DK10+DS10+EA10+EI10+EQ10+EY10+FG10+FO10+FW10+GE10+GM10+GU10+HC10+HK10+HS10+IA10+II10+IQ10+IY10 -> 0 | JI10: =+T10+AB10+AJ10+AR10+AZ10+BH10+BP10+BX10+CF10+CN10+CV10+DD10+DL10+DT10+EB10+EJ10+ER10+EZ10+FH10+FP10+FX10+GF10+GN10+GV10+HD10+HL10+HT10+IB10+IJ10+IR10+IZ10 -> 742 | JJ10: =+U10+AC10+AK10+AS10+BA10+BI10+BQ10+BY10+CG10+CO10+CW10+DE10+DM10+DU10+EC10+EK10+ES10+FA10+FI10+FQ10+FY10+GG10+GO10+GW10+HE10+HM10+HU10+IC10+IK10+IS10+JA10 -> 0 | JK10: =+N10+JD10+JE10-JF10+JG10-JH10-JI10+JJ10 -> 37 | JM10: =+JK10-JB10 -> 0 | JO10: =+JD10*((K10+L10)*6) -> 59280
B11: Local | C11: LB45B1W172R1Z44 | D11: PRL1B | E11: SMF 54512 | F11: L1B | G11: NR | H11: NR | I11: D | J11: 11,6 | K11: 4 | L11: 5 | M11: UN | N11: 84 | T11: 39 | V11: =+N11+O11+P11+R11-S11-Q11-T11+U11 -> 45 | AD11: =+V11+W11+X11-Y11+Z11-AA11-AB11+AC11 -> 45 | AL11: =+AD11+AE11+AF11-AG11+AH11-AI11-AJ11+AK11 -> 45 | AT11: =+AL11+AM11+AN11-AO11+AP11-AQ11-AR11+AS11 -> 45 | BB11: =+AT11+AU11+AV11-AW11+AX11-AY11-AZ11+BA11 -> 45 | BJ11: =+BB11+BC11+BD11-BE11+BF11-BG11-BH11+BI11 -> 45 | BR11: =+BJ11+BK11+BL11-BM11+BN11-BO11-BP11+BQ11 -> 45 | BZ11: =+BR11+BS11+BT11-BU11+BV11-BW11-BX11+BY11 -> 45 | CH11: =+BZ11+CA11+CB11-CC11+CD11-CE11-CF11+CG11 -> 45 | CP11: =+CH11+CI11+CJ11-CK11+CL11-CM11-CN11+CO11 -> 45 | CX11: =+CP11+CQ11+CR11-CS11+CT11-CU11-CV11+CW11 -> 45 | DF11: =+CX11+CY11+CZ11-DA11+DB11-DC11-DD11+DE11 -> 45 | DN11: =+DF11+DG11+DH11-DI11+DJ11-DK11-DL11+DM11 -> 45 | DV11: =+DN11+DO11+DP11-DQ11+DR11-DS11-DT11+DU11 -> 45 | ED11: =+DV11+DW11+DX11-DY11+DZ11-EA11-EB11+EC11 -> 45 | EL11: =+ED11+EE11+EF11-EG11+EH11-EI11-EJ11+EK11 -> 45 | ET11: =+EL11+EM11+EN11-EO11+EP11-EQ11-ER11+ES11 -> 45 | FB11: =+ET11+EU11+EV11-EW11+EX11-EY11-EZ11+FA11 -> 45 | FJ11: =+FB11+FC11+FD11-FE11+FF11-FG11-FH11+FI11 -> 45 | FR11: =+FJ11+FK11+FL11-FM11+FN11-FO11-FP11+FQ11 -> 45 | FZ11: =+FR11+FS11+FT11-FU11+FV11-FW11-FX11+FY11 -> 45 | GH11: =+FZ11+GA11+GB11-GC11+GD11-GE11-GF11+GG11 -> 45 | GP11: =+GH11+GI11+GJ11-GK11+GL11-GM11-GN11+GO11 -> 45 | GX11: =+GP11+GQ11+GR11-GS11+GT11-GU11-GV11+GW11 -> 45 | HF11: =+GX11+GY11+GZ11-HA11+HB11-HC11-HD11+HE11 -> 45 | HN11: =+HF11+HG11+HH11-HI11+HJ11-HK11-HL11+HM11 -> 45 | HV11: =+HN11+HO11+HP11-HQ11+HR11-HS11-HT11+HU11 -> 45 | ID11: =+HV11+HW11+HX11-HY11+HZ11-IA11-IB11+IC11 -> 45 | IL11: =+ID11+IE11+IF11-IG11+IH11-II11-IJ11+IK11 -> 45 | IT11: =+IL11+IM11+IN11-IO11+IP11-IQ11-IR11+IS11 -> 45 | JB11: =+IT11+IU11+IV11-IW11+IX11-IY11-IZ11+JA11 -> 45 | JD11: =+O11+W11+AE11+AM11+AU11+BC11+BK11+BS11+CA11+CI11+CQ11+CY11+DG11+DO11+DW11+EE11+EM11+EU11+FC11+FK11+FS11+GA11+GI11+GQ11+GY11+HG11+HO11+HW11+IE11+IM11+IU11 -> 0 | JE11: =+P11+X11+AF11+AN11+AV11+BD11+BL11+BT11+CB11+CJ11+CR11+CZ11+DH11+DP11+DX11+EF11+EN11+EV11+FD11+FL11+FT11+GB11+GJ11+GR11+GZ11+HH11+HP11+HX11+IF11+IN11+IV11 -> 0 | JF11: =+Q11+Y11+AG11+AO11+AW11+BE11+BM11+BU11+CC11+CK11+CS11+DA11+DI11+DQ11+DY11+EG11+EO11+EW11+FE11+FM11+FU11+GC11+GK11+GS11+HA11+HI11+HQ11+HY11+IG11+IO11+IW11 -> 0 | JG11: =+R11+Z11+AH11+AP11+AX11+BF11+BN11+BV11+CD11+CL11+CT11+DB11+DJ11+DR11+DZ11+EH11+EP11+EX11+FF11+FN11+FV11+GD11+GL11+GT11+HB11+HJ11+HR11+HZ11+IH11+IP11+IX11 -> 0 | JH11: =+S11+AA11+AI11+AQ11+AY11+BG11+BO11+BW11+CE11+CM11+CU11+DC11+DK11+DS11+EA11+EI11+EQ11+EY11+FG11+FO11+FW11+GE11+GM11+GU11+HC11+HK11+HS11+IA11+II11+IQ11+IY11 -> 0 | JI11: =+T11+AB11+AJ11+AR11+AZ11+BH11+BP11+BX11+CF11+CN11+CV11+DD11+DL11+DT11+EB11+EJ11+ER11+EZ11+FH11+FP11+FX11+GF11+GN11+GV11+HD11+HL11+HT11+IB11+IJ11+IR11+IZ11 -> 39 | JJ11: =+U11+AC11+AK11+AS11+BA11+BI11+BQ11+BY11+CG11+CO11+CW11+DE11+DM11+DU11+EC11+EK11+ES11+FA11+FI11+FQ11+FY11+GG11+GO11+GW11+HE11+HM11+HU11+IC11+IK11+IS11+JA11 -> 0 | JK11: =+N11+JD11+JE11-JF11+JG11-JH11-JI11+JJ11 -> 45 | JM11: =+JK11-JB11 -> 0 | JO11: =+JD11*((K11+L11)*6) -> 0
B12: Local | C12: LB45L1W172R1Z44 | D12: PRL1D | E12: SMF 54459 | F12: L1 | G12: NR | H12: NR | I12: D | J12: 11,8 | K12: 4 | L12: 5 | M12: UN | N12: 0 | V12: =+N12+O12+P12+R12-S12-Q12-T12+U12 -> 0 | AD12: =+V12+W12+X12-Y12+Z12-AA12-AB12+AC12 -> 0 | AL12: =+AD12+AE12+AF12-AG12+AH12-AI12-AJ12+AK12 -> 0 | AT12: =+AL12+AM12+AN12-AO12+AP12-AQ12-AR12+AS12 -> 0 | BB12: =+AT12+AU12+AV12-AW12+AX12-AY12-AZ12+BA12 -> 0 | BJ12: =+BB12+BC12+BD12-BE12+BF12-BG12-BH12+BI12 -> 0 | BR12: =+BJ12+BK12+BL12-BM12+BN12-BO12-BP12+BQ12 -> 0 | BZ12: =+BR12+BS12+BT12-BU12+BV12-BW12-BX12+BY12 -> 0 | CH12: =+BZ12+CA12+CB12-CC12+CD12-CE12-CF12+CG12 -> 0 | CP12: =+CH12+CI12+CJ12-CK12+CL12-CM12-CN12+CO12 -> 0 | CQ12: 340 | CX12: =+CP12+CQ12+CR12-CS12+CT12-CU12-CV12+CW12 -> 340 | CY12: 363 | DF12: =+CX12+CY12+CZ12-DA12+DB12-DC12-DD12+DE12 -> 703 | DN12: =+DF12+DG12+DH12-DI12+DJ12-DK12-DL12+DM12 -> 703 | DV12: =+DN12+DO12+DP12-DQ12+DR12-DS12-DT12+DU12 -> 703 | ED12: =+DV12+DW12+DX12-DY12+DZ12-EA12-EB12+EC12 -> 703 | EL12: =+ED12+EE12+EF12-EG12+EH12-EI12-EJ12+EK12 -> 703 | ET12: =+EL12+EM12+EN12-EO12+EP12-EQ12-ER12+ES12 -> 703 | FB12: =+ET12+EU12+EV12-EW12+EX12-EY12-EZ12+FA12 -> 703 | FJ12: =+FB12+FC12+FD12-FE12+FF12-FG12-FH12+FI12 -> 703 | FR12: =+FJ12+FK12+FL12-FM12+FN12-FO12-FP12+FQ12 -> 703 | FZ12: =+FR12+FS12+FT12-FU12+FV12-FW12-FX12+FY12 -> 703 | GH12: =+FZ12+GA12+GB12-GC12+GD12-GE12-GF12+GG12 -> 703 | GP12: =+GH12+GI12+GJ12-GK12+GL12-GM12-GN12+GO12 -> 703 | GX12: =+GP12+GQ12+GR12-GS12+GT12-GU12-GV12+GW12 -> 703 | HF12: =+GX12+GY12+GZ12-HA12+HB12-HC12-HD12+HE12 -> 703 | HN12: =+HF12+HG12+HH12-HI12+HJ12-HK12-HL12+HM12 -> 703 | HV12: =+HN12+HO12+HP12-HQ12+HR12-HS12-HT12+HU12 -> 703 | ID12: =+HV12+HW12+HX12-HY12+HZ12-IA12-IB12+IC12 -> 703 | IL12: =+ID12+IE12+IF12-IG12+IH12-II12-IJ12+IK12 -> 703 | IT12: =+IL12+IM12+IN12-IO12+IP12-IQ12-IR12+IS12 -> 703 | JB12: =+IT12+IU12+IV12-IW12+IX12-IY12-IZ12+JA12 -> 703 | JD12: =+O12+W12+AE12+AM12+AU12+BC12+BK12+BS12+CA12+CI12+CQ12+CY12+DG12+DO12+DW12+EE12+EM12+EU12+FC12+FK12+FS12+GA12+GI12+GQ12+GY12+HG12+HO12+HW12+IE12+IM12+IU12 -> 703 | JE12: =+P12+X12+AF12+AN12+AV12+BD12+BL12+BT12+CB12+CJ12+CR12+CZ12+DH12+DP12+DX12+EF12+EN12+EV12+FD12+FL12+FT12+GB12+GJ12+GR12+GZ12+HH12+HP12+HX12+IF12+IN12+IV12 -> 0 | JF12: =+Q12+Y12+AG12+AO12+AW12+BE12+BM12+BU12+CC12+CK12+CS12+DA12+DI12+DQ12+DY12+EG12+EO12+EW12+FE12+FM12+FU12+GC12+GK12+GS12+HA12+HI12+HQ12+HY12+IG12+IO12+IW12 -> 0 | JG12: =+R12+Z12+AH12+AP12+AX12+BF12+BN12+BV12+CD12+CL12+CT12+DB12+DJ12+DR12+DZ12+EH12+EP12+EX12+FF12+FN12+FV12+GD12+GL12+GT12+HB12+HJ12+HR12+HZ12+IH12+IP12+IX12 -> 0 | JH12: =+S12+AA12+AI12+AQ12+AY12+BG12+BO12+BW12+CE12+CM12+CU12+DC12+DK12+DS12+EA12+EI12+EQ12+EY12+FG12+FO12+FW12+GE12+GM12+GU12+HC12+HK12+HS12+IA12+II12+IQ12+IY12 -> 0 | JI12: =+T12+AB12+AJ12+AR12+AZ12+BH12+BP12+BX12+CF12+CN12+CV12+DD12+DL12+DT12+EB12+EJ12+ER12+EZ12+FH12+FP12+FX12+GF12+GN12+GV12+HD12+HL12+HT12+IB12+IJ12+IR12+IZ12 -> 0 | JJ12: =+U12+AC12+AK12+AS12+BA12+BI12+BQ12+BY12+CG12+CO12+CW12+DE12+DM12+DU12+EC12+EK12+ES12+FA12+FI12+FQ12+FY12+GG12+GO12+GW12+HE12+HM12+HU12+IC12+IK12+IS12+JA12 -> 0 | JK12: =+N12+JD12+JE12-JF12+JG12-JH12-JI12+JJ12 -> 703 | JM12: =+JK12-JB12 -> 0 | JO12: =+JD12*((K12+L12)*6) -> 37962
B13: Local | C13: LB45L1W172L1Z44 | D13: PRL1G | F13: L1 | G13: NR | H13: NR | I13: G | J13: 11,8 | K13: 4 | L13: 5 | M13: UN | N13: 132 | V13: =+N13+O13+P13+R13-S13-Q13-T13+U13 -> 132 | AD13: =+V13+W13+X13-Y13+Z13-AA13-AB13+AC13 -> 132 | AL13: =+AD13+AE13+AF13-AG13+AH13-AI13-AJ13+AK13 -> 132 | AT13: =+AL13+AM13+AN13-AO13+AP13-AQ13-AR13+AS13 -> 132 | BB13: =+AT13+AU13+AV13-AW13+AX13-AY13-AZ13+BA13 -> 132 | BJ13: =+BB13+BC13+BD13-BE13+BF13-BG13-BH13+BI13 -> 132 | BR13: =+BJ13+BK13+BL13-BM13+BN13-BO13-BP13+BQ13 -> 132 | BZ13: =+BR13+BS13+BT13-BU13+BV13-BW13-BX13+BY13 -> 132 | CH13: =+BZ13+CA13+CB13-CC13+CD13-CE13-CF13+CG13 -> 132 | CP13: =+CH13+CI13+CJ13-CK13+CL13-CM13-CN13+CO13 -> 132 | CX13: =+CP13+CQ13+CR13-CS13+CT13-CU13-CV13+CW13 -> 132 | DF13: =+CX13+CY13+CZ13-DA13+DB13-DC13-DD13+DE13 -> 132 | DN13: =+DF13+DG13+DH13-DI13+DJ13-DK13-DL13+DM13 -> 132 | DV13: =+DN13+DO13+DP13-DQ13+DR13-DS13-DT13+DU13 -> 132 | ED13: =+DV13+DW13+DX13-DY13+DZ13-EA13-EB13+EC13 -> 132 | EL13: =+ED13+EE13+EF13-EG13+EH13-EI13-EJ13+EK13 -> 132 | ET13: =+EL13+EM13+EN13-EO13+EP13-EQ13-ER13+ES13 -> 132 | FB13: =+ET13+EU13+EV13-EW13+EX13-EY13-EZ13+FA13 -> 132 | FJ13: =+FB13+FC13+FD13-FE13+FF13-FG13-FH13+FI13 -> 132 | FR13: =+FJ13+FK13+FL13-FM13+FN13-FO13-FP13+FQ13 -> 132 | FZ13: =+FR13+FS13+FT13-FU13+FV13-FW13-FX13+FY13 -> 132 | GH13: =+FZ13+GA13+GB13-GC13+GD13-GE13-GF13+GG13 -> 132 | GP13: =+GH13+GI13+GJ13-GK13+GL13-GM13-GN13+GO13 -> 132 | GX13: =+GP13+GQ13+GR13-GS13+GT13-GU13-GV13+GW13 -> 132 | HF13: =+GX13+GY13+GZ13-HA13+HB13-HC13-HD13+HE13 -> 132 | HN13: =+HF13+HG13+HH13-HI13+HJ13-HK13-HL13+HM13 -> 132 | HV13: =+HN13+HO13+HP13-HQ13+HR13-HS13-HT13+HU13 -> 132 | ID13: =+HV13+HW13+HX13-HY13+HZ13-IA13-IB13+IC13 -> 132 | IL13: =+ID13+IE13+IF13-IG13+IH13-II13-IJ13+IK13 -> 132 | IT13: =+IL13+IM13+IN13-IO13+IP13-IQ13-IR13+IS13 -> 132 | JB13: =+IT13+IU13+IV13-IW13+IX13-IY13-IZ13+JA13 -> 132 | JD13: =+O13+W13+AE13+AM13+AU13+BC13+BK13+BS13+CA13+CI13+CQ13+CY13+DG13+DO13+DW13+EE13+EM13+EU13+FC13+FK13+FS13+GA13+GI13+GQ13+GY13+HG13+HO13+HW13+IE13+IM13+IU13 -> 0 | JE13: =+P13+X13+AF13+AN13+AV13+BD13+BL13+BT13+CB13+CJ13+CR13+CZ13+DH13+DP13+DX13+EF13+EN13+EV13+FD13+FL13+FT13+GB13+GJ13+GR13+GZ13+HH13+HP13+HX13+IF13+IN13+IV13 -> 0 | JF13: =+Q13+Y13+AG13+AO13+AW13+BE13+BM13+BU13+CC13+CK13+CS13+DA13+DI13+DQ13+DY13+EG13+EO13+EW13+FE13+FM13+FU13+GC13+GK13+GS13+HA13+HI13+HQ13+HY13+IG13+IO13+IW13 -> 0 | JG13: =+R13+Z13+AH13+AP13+AX13+BF13+BN13+BV13+CD13+CL13+CT13+DB13+DJ13+DR13+DZ13+EH13+EP13+EX13+FF13+FN13+FV13+GD13+GL13+GT13+HB13+HJ13+HR13+HZ13+IH13+IP13+IX13 -> 0 | JH13: =+S13+AA13+AI13+AQ13+AY13+BG13+BO13+BW13+CE13+CM13+CU13+DC13+DK13+DS13+EA13+EI13+EQ13+EY13+FG13+FO13+FW13+GE13+GM13+GU13+HC13+HK13+HS13+IA13+II13+IQ13+IY13 -> 0 | JI13: =+T13+AB13+AJ13+AR13+AZ13+BH13+BP13+BX13+CF13+CN13+CV13+DD13+DL13+DT13+EB13+EJ13+ER13+EZ13+FH13+FP13+FX13+GF13+GN13+GV13+HD13+HL13+HT13+IB13+IJ13+IR13+IZ13 -> 0 | JJ13: =+U13+AC13+AK13+AS13+BA13+BI13+BQ13+BY13+CG13+CO13+CW13+DE13+DM13+DU13+EC13+EK13+ES13+FA13+FI13+FQ13+FY13+GG13+GO13+GW13+HE13+HM13+HU13+IC13+IK13+IS13+JA13 -> 0 | JK13: =+N13+JD13+JE13-JF13+JG13-JH13-JI13+JJ13 -> 132 | JM13: =+JK13-JB13 -> 0 | JO13: =+JD13*((K13+L13)*6) -> 0
B14: Local | C14: LB56B2W172R1Z44 | D14: PRL2B | E14: SMF 56077 | F14: L2B | G14: NR | H14: NR | I14: D | J14: 13,9 | K14: 5 | L14: 6 | M14: UN | N14: 56 | V14: =+N14+O14+P14+R14-S14-Q14-T14+U14 -> 56 | AD14: =+V14+W14+X14-Y14+Z14-AA14-AB14+AC14 -> 56 | AL14: =+AD14+AE14+AF14-AG14+AH14-AI14-AJ14+AK14 -> 56 | AT14: =+AL14+AM14+AN14-AO14+AP14-AQ14-AR14+AS14 -> 56 | BB14: =+AT14+AU14+AV14-AW14+AX14-AY14-AZ14+BA14 -> 56 | BJ14: =+BB14+BC14+BD14-BE14+BF14-BG14-BH14+BI14 -> 56 | BR14: =+BJ14+BK14+BL14-BM14+BN14-BO14-BP14+BQ14 -> 56 | BZ14: =+BR14+BS14+BT14-BU14+BV14-BW14-BX14+BY14 -> 56 | CH14: =+BZ14+CA14+CB14-CC14+CD14-CE14-CF14+CG14 -> 56 | CP14: =+CH14+CI14+CJ14-CK14+CL14-CM14-CN14+CO14 -> 56 | CX14: =+CP14+CQ14+CR14-CS14+CT14-CU14-CV14+CW14 -> 56 | DF14: =+CX14+CY14+CZ14-DA14+DB14-DC14-DD14+DE14 -> 56 | DN14: =+DF14+DG14+DH14-DI14+DJ14-DK14-DL14+DM14 -> 56 | DV14: =+DN14+DO14+DP14-DQ14+DR14-DS14-DT14+DU14 -> 56 | ED14: =+DV14+DW14+DX14-DY14+DZ14-EA14-EB14+EC14 -> 56 | EL14: =+ED14+EE14+EF14-EG14+EH14-EI14-EJ14+EK14 -> 56 | ET14: =+EL14+EM14+EN14-EO14+EP14-EQ14-ER14+ES14 -> 56 | FB14: =+ET14+EU14+EV14-EW14+EX14-EY14-EZ14+FA14 -> 56 | FJ14: =+FB14+FC14+FD14-FE14+FF14-FG14-FH14+FI14 -> 56 | FR14: =+FJ14+FK14+FL14-FM14+FN14-FO14-FP14+FQ14 -> 56 | FZ14: =+FR14+FS14+FT14-FU14+FV14-FW14-FX14+FY14 -> 56 | GH14: =+FZ14+GA14+GB14-GC14+GD14-GE14-GF14+GG14 -> 56 | GP14: =+GH14+GI14+GJ14-GK14+GL14-GM14-GN14+GO14 -> 56 | GX14: =+GP14+GQ14+GR14-GS14+GT14-GU14-GV14+GW14 -> 56 | HF14: =+GX14+GY14+GZ14-HA14+HB14-HC14-HD14+HE14 -> 56 | HN14: =+HF14+HG14+HH14-HI14+HJ14-HK14-HL14+HM14 -> 56 | HV14: =+HN14+HO14+HP14-HQ14+HR14-HS14-HT14+HU14 -> 56 | ID14: =+HV14+HW14+HX14-HY14+HZ14-IA14-IB14+IC14 -> 56 | IL14: =+ID14+IE14+IF14-IG14+IH14-II14-IJ14+IK14 -> 56 | IT14: =+IL14+IM14+IN14-IO14+IP14-IQ14-IR14+IS14 -> 56 | JB14: =+IT14+IU14+IV14-IW14+IX14-IY14-IZ14+JA14 -> 56 | JD14: =+O14+W14+AE14+AM14+AU14+BC14+BK14+BS14+CA14+CI14+CQ14+CY14+DG14+DO14+DW14+EE14+EM14+EU14+FC14+FK14+FS14+GA14+GI14+GQ14+GY14+HG14+HO14+HW14+IE14+IM14+IU14 -> 0 | JE14: =+P14+X14+AF14+AN14+AV14+BD14+BL14+BT14+CB14+CJ14+CR14+CZ14+DH14+DP14+DX14+EF14+EN14+EV14+FD14+FL14+FT14+GB14+GJ14+GR14+GZ14+HH14+HP14+HX14+IF14+IN14+IV14 -> 0 | JF14: =+Q14+Y14+AG14+AO14+AW14+BE14+BM14+BU14+CC14+CK14+CS14+DA14+DI14+DQ14+DY14+EG14+EO14+EW14+FE14+FM14+FU14+GC14+GK14+GS14+HA14+HI14+HQ14+HY14+IG14+IO14+IW14 -> 0 | JG14: =+R14+Z14+AH14+AP14+AX14+BF14+BN14+BV14+CD14+CL14+CT14+DB14+DJ14+DR14+DZ14+EH14+EP14+EX14+FF14+FN14+FV14+GD14+GL14+GT14+HB14+HJ14+HR14+HZ14+IH14+IP14+IX14 -> 0 | JH14: =+S14+AA14+AI14+AQ14+AY14+BG14+BO14+BW14+CE14+CM14+CU14+DC14+DK14+DS14+EA14+EI14+EQ14+EY14+FG14+FO14+FW14+GE14+GM14+GU14+HC14+HK14+HS14+IA14+II14+IQ14+IY14 -> 0 | JI14: =+T14+AB14+AJ14+AR14+AZ14+BH14+BP14+BX14+CF14+CN14+CV14+DD14+DL14+DT14+EB14+EJ14+ER14+EZ14+FH14+FP14+FX14+GF14+GN14+GV14+HD14+HL14+HT14+IB14+IJ14+IR14+IZ14 -> 0 | JJ14: =+U14+AC14+AK14+AS14+BA14+BI14+BQ14+BY14+CG14+CO14+CW14+DE14+DM14+DU14+EC14+EK14+ES14+FA14+FI14+FQ14+FY14+GG14+GO14+GW14+HE14+HM14+HU14+IC14+IK14+IS14+JA14 -> 0 | JK14: =+N14+JD14+JE14-JF14+JG14-JH14-JI14+JJ14 -> 56 | JM14: =+JK14-JB14 -> 0 | JO14: =+JD14*((K14+L14)*6) -> 0
B15: Local | C15: LB56L2W172R1Z44 | D15: PRL2 | E15: SMF 56078 | F15: L2 | G15: NR | H15: NR | I15: D | J15: 14,1 | K15: 5 | L15: 6 | M15: UN | N15: 3 | V15: =+N15+O15+P15+R15-S15-Q15-T15+U15 -> 3 | AD15: =+V15+W15+X15-Y15+Z15-AA15-AB15+AC15 -> 3 | AL15: =+AD15+AE15+AF15-AG15+AH15-AI15-AJ15+AK15 -> 3 | AT15: =+AL15+AM15+AN15-AO15+AP15-AQ15-AR15+AS15 -> 3 | BB15: =+AT15+AU15+AV15-AW15+AX15-AY15-AZ15+BA15 -> 3 | BC15: =800-126 -> 674 | BH15: =648-126 -> 522 | BJ15: =+BB15+BC15+BD15-BE15+BF15-BG15-BH15+BI15 -> 155 | BK15: 935 | BR15: =+BJ15+BK15+BL15-BM15+BN15-BO15-BP15+BQ15 -> 1090 | BZ15: =+BR15+BS15+BT15-BU15+BV15-BW15-BX15+BY15 -> 1090 | CH15: =+BZ15+CA15+CB15-CC15+CD15-CE15-CF15+CG15 -> 1090 | CI15: 20 | CP15: =+CH15+CI15+CJ15-CK15+CL15-CM15-CN15+CO15 -> 1110 | CX15: =+CP15+CQ15+CR15-CS15+CT15-CU15-CV15+CW15 -> 1110 | DF15: =+CX15+CY15+CZ15-DA15+DB15-DC15-DD15+DE15 -> 1110 | DN15: =+DF15+DG15+DH15-DI15+DJ15-DK15-DL15+DM15 -> 1110 | DV15: =+DN15+DO15+DP15-DQ15+DR15-DS15-DT15+DU15 -> 1110 | ED15: =+DV15+DW15+DX15-DY15+DZ15-EA15-EB15+EC15 -> 1110 | EL15: =+ED15+EE15+EF15-EG15+EH15-EI15-EJ15+EK15 -> 1110 | ET15: =+EL15+EM15+EN15-EO15+EP15-EQ15-ER15+ES15 -> 1110 | FB15: =+ET15+EU15+EV15-EW15+EX15-EY15-EZ15+FA15 -> 1110 | FJ15: =+FB15+FC15+FD15-FE15+FF15-FG15-FH15+FI15 -> 1110 | FR15: =+FJ15+FK15+FL15-FM15+FN15-FO15-FP15+FQ15 -> 1110 | FZ15: =+FR15+FS15+FT15-FU15+FV15-FW15-FX15+FY15 -> 1110 | GH15: =+FZ15+GA15+GB15-GC15+GD15-GE15-GF15+GG15 -> 1110 | GP15: =+GH15+GI15+GJ15-GK15+GL15-GM15-GN15+GO15 -> 1110 | GX15: =+GP15+GQ15+GR15-GS15+GT15-GU15-GV15+GW15 -> 1110 | HF15: =+GX15+GY15+GZ15-HA15+HB15-HC15-HD15+HE15 -> 1110 | HN15: =+HF15+HG15+HH15-HI15+HJ15-HK15-HL15+HM15 -> 1110 | HV15: =+HN15+HO15+HP15-HQ15+HR15-HS15-HT15+HU15 -> 1110 | ID15: =+HV15+HW15+HX15-HY15+HZ15-IA15-IB15+IC15 -> 1110 | IL15: =+ID15+IE15+IF15-IG15+IH15-II15-IJ15+IK15 -> 1110 | IT15: =+IL15+IM15+IN15-IO15+IP15-IQ15-IR15+IS15 -> 1110 | JB15: =+IT15+IU15+IV15-IW15+IX15-IY15-IZ15+JA15 -> 1110 | JD15: =+O15+W15+AE15+AM15+AU15+BC15+BK15+BS15+CA15+CI15+CQ15+CY15+DG15+DO15+DW15+EE15+EM15+EU15+FC15+FK15+FS15+GA15+GI15+GQ15+GY15+HG15+HO15+HW15+IE15+IM15+IU15 -> 1629 | JE15: =+P15+X15+AF15+AN15+AV15+BD15+BL15+BT15+CB15+CJ15+CR15+CZ15+DH15+DP15+DX15+EF15+EN15+EV15+FD15+FL15+FT15+GB15+GJ15+GR15+GZ15+HH15+HP15+HX15+IF15+IN15+IV15 -> 0 | JF15: =+Q15+Y15+AG15+AO15+AW15+BE15+BM15+BU15+CC15+CK15+CS15+DA15+DI15+DQ15+DY15+EG15+EO15+EW15+FE15+FM15+FU15+GC15+GK15+GS15+HA15+HI15+HQ15+HY15+IG15+IO15+IW15 -> 0 | JG15: =+R15+Z15+AH15+AP15+AX15+BF15+BN15+BV15+CD15+CL15+CT15+DB15+DJ15+DR15+DZ15+EH15+EP15+EX15+FF15+FN15+FV15+GD15+GL15+GT15+HB15+HJ15+HR15+HZ15+IH15+IP15+IX15 -> 0 | JH15: =+S15+AA15+AI15+AQ15+AY15+BG15+BO15+BW15+CE15+CM15+CU15+DC15+DK15+DS15+EA15+EI15+EQ15+EY15+FG15+FO15+FW15+GE15+GM15+GU15+HC15+HK15+HS15+IA15+II15+IQ15+IY15 -> 0 | JI15: =+T15+AB15+AJ15+AR15+AZ15+BH15+BP15+BX15+CF15+CN15+CV15+DD15+DL15+DT15+EB15+EJ15+ER15+EZ15+FH15+FP15+FX15+GF15+GN15+GV15+HD15+HL15+HT15+IB15+IJ15+IR15+IZ15 -> 522 | JJ15: =+U15+AC15+AK15+AS15+BA15+BI15+BQ15+BY15+CG15+CO15+CW15+DE15+DM15+DU15+EC15+EK15+ES15+FA15+FI15+FQ15+FY15+GG15+GO15+GW15+HE15+HM15+HU15+IC15+IK15+IS15+JA15 -> 0 | JK15: =+N15+JD15+JE15-JF15+JG15-JH15-JI15+JJ15 -> 1110 | JM15: =+JK15-JB15 -> 0 | JO15: =+JD15*((K15+L15)*6) -> 107514
B16: Local | C16: LB67B3W172R1Z44 | D16: PRL3B | E16: SMF 57014 | F16: L3B | G16: NR | H16: NR | I16: D | J16: 16,6 | K16: 6 | L16: 7 | M16: UN | N16: 0 | V16: =+N16+O16+P16+R16-S16-Q16-T16+U16 -> 0 | AD16: =+V16+W16+X16-Y16+Z16-AA16-AB16+AC16 -> 0 | AL16: =+AD16+AE16+AF16-AG16+AH16-AI16-AJ16+AK16 -> 0 | AT16: =+AL16+AM16+AN16-AO16+AP16-AQ16-AR16+AS16 -> 0 | BB16: =+AT16+AU16+AV16-AW16+AX16-AY16-AZ16+BA16 -> 0 | BJ16: =+BB16+BC16+BD16-BE16+BF16-BG16-BH16+BI16 -> 0 | BR16: =+BJ16+BK16+BL16-BM16+BN16-BO16-BP16+BQ16 -> 0 | BZ16: =+BR16+BS16+BT16-BU16+BV16-BW16-BX16+BY16 -> 0 | CH16: =+BZ16+CA16+CB16-CC16+CD16-CE16-CF16+CG16 -> 0 | CP16: =+CH16+CI16+CJ16-CK16+CL16-CM16-CN16+CO16 -> 0 | CX16: =+CP16+CQ16+CR16-CS16+CT16-CU16-CV16+CW16 -> 0 | DF16: =+CX16+CY16+CZ16-DA16+DB16-DC16-DD16+DE16 -> 0 | DN16: =+DF16+DG16+DH16-DI16+DJ16-DK16-DL16+DM16 -> 0 | DV16: =+DN16+DO16+DP16-DQ16+DR16-DS16-DT16+DU16 -> 0 | ED16: =+DV16+DW16+DX16-DY16+DZ16-EA16-EB16+EC16 -> 0 | EL16: =+ED16+EE16+EF16-EG16+EH16-EI16-EJ16+EK16 -> 0 | ET16: =+EL16+EM16+EN16-EO16+EP16-EQ16-ER16+ES16 -> 0 | FB16: =+ET16+EU16+EV16-EW16+EX16-EY16-EZ16+FA16 -> 0 | FJ16: =+FB16+FC16+FD16-FE16+FF16-FG16-FH16+FI16 -> 0 | FR16: =+FJ16+FK16+FL16-FM16+FN16-FO16-FP16+FQ16 -> 0 | FZ16: =+FR16+FS16+FT16-FU16+FV16-FW16-FX16+FY16 -> 0 | GH16: =+FZ16+GA16+GB16-GC16+GD16-GE16-GF16+GG16 -> 0 | GP16: =+GH16+GI16+GJ16-GK16+GL16-GM16-GN16+GO16 -> 0 | GX16: =+GP16+GQ16+GR16-GS16+GT16-GU16-GV16+GW16 -> 0 | HF16: =+GX16+GY16+GZ16-HA16+HB16-HC16-HD16+HE16 -> 0 | HN16: =+HF16+HG16+HH16-HI16+HJ16-HK16-HL16+HM16 -> 0 | HV16: =+HN16+HO16+HP16-HQ16+HR16-HS16-HT16+HU16 -> 0 | ID16: =+HV16+HW16+HX16-HY16+HZ16-IA16-IB16+IC16 -> 0 | IL16: =+ID16+IE16+IF16-IG16+IH16-II16-IJ16+IK16 -> 0 | IT16: =+IL16+IM16+IN16-IO16+IP16-IQ16-IR16+IS16 -> 0 | JB16: =+IT16+IU16+IV16-IW16+IX16-IY16-IZ16+JA16 -> 0 | JD16: =+O16+W16+AE16+AM16+AU16+BC16+BK16+BS16+CA16+CI16+CQ16+CY16+DG16+DO16+DW16+EE16+EM16+EU16+FC16+FK16+FS16+GA16+GI16+GQ16+GY16+HG16+HO16+HW16+IE16+IM16+IU16 -> 0 | JE16: =+P16+X16+AF16+AN16+AV16+BD16+BL16+BT16+CB16+CJ16+CR16+CZ16+DH16+DP16+DX16+EF16+EN16+EV16+FD16+FL16+FT16+GB16+GJ16+GR16+GZ16+HH16+HP16+HX16+IF16+IN16+IV16 -> 0 | JF16: =+Q16+Y16+AG16+AO16+AW16+BE16+BM16+BU16+CC16+CK16+CS16+DA16+DI16+DQ16+DY16+EG16+EO16+EW16+FE16+FM16+FU16+GC16+GK16+GS16+HA16+HI16+HQ16+HY16+IG16+IO16+IW16 -> 0 | JG16: =+R16+Z16+AH16+AP16+AX16+BF16+BN16+BV16+CD16+CL16+CT16+DB16+DJ16+DR16+DZ16+EH16+EP16+EX16+FF16+FN16+FV16+GD16+GL16+GT16+HB16+HJ16+HR16+HZ16+IH16+IP16+IX16 -> 0 | JH16: =+S16+AA16+AI16+AQ16+AY16+BG16+BO16+BW16+CE16+CM16+CU16+DC16+DK16+DS16+EA16+EI16+EQ16+EY16+FG16+FO16+FW16+GE16+GM16+GU16+HC16+HK16+HS16+IA16+II16+IQ16+IY16 -> 0 | JI16: =+T16+AB16+AJ16+AR16+AZ16+BH16+BP16+BX16+CF16+CN16+CV16+DD16+DL16+DT16+EB16+EJ16+ER16+EZ16+FH16+FP16+FX16+GF16+GN16+GV16+HD16+HL16+HT16+IB16+IJ16+IR16+IZ16 -> 0 | JJ16: =+U16+AC16+AK16+AS16+BA16+BI16+BQ16+BY16+CG16+CO16+CW16+DE16+DM16+DU16+EC16+EK16+ES16+FA16+FI16+FQ16+FY16+GG16+GO16+GW16+HE16+HM16+HU16+IC16+IK16+IS16+JA16 -> 0 | JK16: =+N16+JD16+JE16-JF16+JG16-JH16-JI16+JJ16 -> 0 | JM16: =+JK16-JB16 -> 0 | JO16: =+JD16*((K16+L16)*6) -> 0
B17: Local | C17: LB67L3W172R1Z44 | D17: PRL3 | E17: SMF 57220 | F17: L3 | G17: NR | H17: NR | I17: D | J17: 16,8 | K17: 6 | L17: 7 | M17: UN | N17: 0 | V17: =+N17+O17+P17+R17-S17-Q17-T17+U17 -> 0 | AD17: =+V17+W17+X17-Y17+Z17-AA17-AB17+AC17 -> 0 | AL17: =+AD17+AE17+AF17-AG17+AH17-AI17-AJ17+AK17 -> 0 | AT17: =+AL17+AM17+AN17-AO17+AP17-AQ17-AR17+AS17 -> 0 | BB17: =+AT17+AU17+AV17-AW17+AX17-AY17-AZ17+BA17 -> 0 | BJ17: =+BB17+BC17+BD17-BE17+BF17-BG17-BH17+BI17 -> 0 | BR17: =+BJ17+BK17+BL17-BM17+BN17-BO17-BP17+BQ17 -> 0 | BZ17: =+BR17+BS17+BT17-BU17+BV17-BW17-BX17+BY17 -> 0 | CH17: =+BZ17+CA17+CB17-CC17+CD17-CE17-CF17+CG17 -> 0 | CP17: =+CH17+CI17+CJ17-CK17+CL17-CM17-CN17+CO17 -> 0 | CX17: =+CP17+CQ17+CR17-CS17+CT17-CU17-CV17+CW17 -> 0 | DF17: =+CX17+CY17+CZ17-DA17+DB17-DC17-DD17+DE17 -> 0 | DN17: =+DF17+DG17+DH17-DI17+DJ17-DK17-DL17+DM17 -> 0 | DV17: =+DN17+DO17+DP17-DQ17+DR17-DS17-DT17+DU17 -> 0 | ED17: =+DV17+DW17+DX17-DY17+DZ17-EA17-EB17+EC17 -> 0 | EL17: =+ED17+EE17+EF17-EG17+EH17-EI17-EJ17+EK17 -> 0 | ET17: =+EL17+EM17+EN17-EO17+EP17-EQ17-ER17+ES17 -> 0 | FB17: =+ET17+EU17+EV17-EW17+EX17-EY17-EZ17+FA17 -> 0 | FJ17: =+FB17+FC17+FD17-FE17+FF17-FG17-FH17+FI17 -> 0 | FR17: =+FJ17+FK17+FL17-FM17+FN17-FO17-FP17+FQ17 -> 0 | FZ17: =+FR17+FS17+FT17-FU17+FV17-FW17-FX17+FY17 -> 0 | GH17: =+FZ17+GA17+GB17-GC17+GD17-GE17-GF17+GG17 -> 0 | GP17: =+GH17+GI17+GJ17-GK17+GL17-GM17-GN17+GO17 -> 0 | GX17: =+GP17+GQ17+GR17-GS17+GT17-GU17-GV17+GW17 -> 0 | HF17: =+GX17+GY17+GZ17-HA17+HB17-HC17-HD17+HE17 -> 0 | HN17: =+HF17+HG17+HH17-HI17+HJ17-HK17-HL17+HM17 -> 0 | HV17: =+HN17+HO17+HP17-HQ17+HR17-HS17-HT17+HU17 -> 0 | ID17: =+HV17+HW17+HX17-HY17+HZ17-IA17-IB17+IC17 -> 0 | IL17: =+ID17+IE17+IF17-IG17+IH17-II17-IJ17+IK17 -> 0 | IT17: =+IL17+IM17+IN17-IO17+IP17-IQ17-IR17+IS17 -> 0 | JB17: =+IT17+IU17+IV17-IW17+IX17-IY17-IZ17+JA17 -> 0 | JD17: =+O17+W17+AE17+AM17+AU17+BC17+BK17+BS17+CA17+CI17+CQ17+CY17+DG17+DO17+DW17+EE17+EM17+EU17+FC17+FK17+FS17+GA17+GI17+GQ17+GY17+HG17+HO17+HW17+IE17+IM17+IU17 -> 0 | JE17: =+P17+X17+AF17+AN17+AV17+BD17+BL17+BT17+CB17+CJ17+CR17+CZ17+DH17+DP17+DX17+EF17+EN17+EV17+FD17+FL17+FT17+GB17+GJ17+GR17+GZ17+HH17+HP17+HX17+IF17+IN17+IV17 -> 0 | JF17: =+Q17+Y17+AG17+AO17+AW17+BE17+BM17+BU17+CC17+CK17+CS17+DA17+DI17+DQ17+DY17+EG17+EO17+EW17+FE17+FM17+FU17+GC17+GK17+GS17+HA17+HI17+HQ17+HY17+IG17+IO17+IW17 -> 0 | JG17: =+R17+Z17+AH17+AP17+AX17+BF17+BN17+BV17+CD17+CL17+CT17+DB17+DJ17+DR17+DZ17+EH17+EP17+EX17+FF17+FN17+FV17+GD17+GL17+GT17+HB17+HJ17+HR17+HZ17+IH17+IP17+IX17 -> 0 | JH17: =+S17+AA17+AI17+AQ17+AY17+BG17+BO17+BW17+CE17+CM17+CU17+DC17+DK17+DS17+EA17+EI17+EQ17+EY17+FG17+FO17+FW17+GE17+GM17+GU17+HC17+HK17+HS17+IA17+II17+IQ17+IY17 -> 0 | JI17: =+T17+AB17+AJ17+AR17+AZ17+BH17+BP17+BX17+CF17+CN17+CV17+DD17+DL17+DT17+EB17+EJ17+ER17+EZ17+FH17+FP17+FX17+GF17+GN17+GV17+HD17+HL17+HT17+IB17+IJ17+IR17+IZ17 -> 0 | JJ17: =+U17+AC17+AK17+AS17+BA17+BI17+BQ17+BY17+CG17+CO17+CW17+DE17+DM17+DU17+EC17+EK17+ES17+FA17+FI17+FQ17+FY17+GG17+GO17+GW17+HE17+HM17+HU17+IC17+IK17+IS17+JA17 -> 0 | JK17: =+N17+JD17+JE17-JF17+JG17-JH17-JI17+JJ17 -> 0 | JM17: =+JK17-JB17 -> 0 | JO17: =+JD17*((K17+L17)*6) -> 0
B18: Local | C18: LB89L5W172R1Z44 | D18: PRL5 | E18: SMF 59538 | F18: L5 | G18: NR | H18: NR | I18: D | J18: 21,2 | K18: 8 | L18: 9 | M18: UN | N18: 0 | V18: =+N18+O18+P18+R18-S18-Q18-T18+U18 -> 0 | AD18: =+V18+W18+X18-Y18+Z18-AA18-AB18+AC18 -> 0 | AL18: =+AD18+AE18+AF18-AG18+AH18-AI18-AJ18+AK18 -> 0 | AT18: =+AL18+AM18+AN18-AO18+AP18-AQ18-AR18+AS18 -> 0 | BB18: =+AT18+AU18+AV18-AW18+AX18-AY18-AZ18+BA18 -> 0 | BJ18: =+BB18+BC18+BD18-BE18+BF18-BG18-BH18+BI18 -> 0 | BR18: =+BJ18+BK18+BL18-BM18+BN18-BO18-BP18+BQ18 -> 0 | BZ18: =+BR18+BS18+BT18-BU18+BV18-BW18-BX18+BY18 -> 0 | CH18: =+BZ18+CA18+CB18-CC18+CD18-CE18-CF18+CG18 -> 0 | CP18: =+CH18+CI18+CJ18-CK18+CL18-CM18-CN18+CO18 -> 0 | CX18: =+CP18+CQ18+CR18-CS18+CT18-CU18-CV18+CW18 -> 0 | DF18: =+CX18+CY18+CZ18-DA18+DB18-DC18-DD18+DE18 -> 0 | DN18: =+DF18+DG18+DH18-DI18+DJ18-DK18-DL18+DM18 -> 0 | DV18: =+DN18+DO18+DP18-DQ18+DR18-DS18-DT18+DU18 -> 0 | ED18: =+DV18+DW18+DX18-DY18+DZ18-EA18-EB18+EC18 -> 0 | EL18: =+ED18+EE18+EF18-EG18+EH18-EI18-EJ18+EK18 -> 0 | ET18: =+EL18+EM18+EN18-EO18+EP18-EQ18-ER18+ES18 -> 0 | FB18: =+ET18+EU18+EV18-EW18+EX18-EY18-EZ18+FA18 -> 0 | FJ18: =+FB18+FC18+FD18-FE18+FF18-FG18-FH18+FI18 -> 0 | FR18: =+FJ18+FK18+FL18-FM18+FN18-FO18-FP18+FQ18 -> 0 | FZ18: =+FR18+FS18+FT18-FU18+FV18-FW18-FX18+FY18 -> 0 | GH18: =+FZ18+GA18+GB18-GC18+GD18-GE18-GF18+GG18 -> 0 | GP18: =+GH18+GI18+GJ18-GK18+GL18-GM18-GN18+GO18 -> 0 | GX18: =+GP18+GQ18+GR18-GS18+GT18-GU18-GV18+GW18 -> 0 | HF18: =+GX18+GY18+GZ18-HA18+HB18-HC18-HD18+HE18 -> 0 | HN18: =+HF18+HG18+HH18-HI18+HJ18-HK18-HL18+HM18 -> 0 | HV18: =+HN18+HO18+HP18-HQ18+HR18-HS18-HT18+HU18 -> 0 | ID18: =+HV18+HW18+HX18-HY18+HZ18-IA18-IB18+IC18 -> 0 | IL18: =+ID18+IE18+IF18-IG18+IH18-II18-IJ18+IK18 -> 0 | IT18: =+IL18+IM18+IN18-IO18+IP18-IQ18-IR18+IS18 -> 0 | JB18: =+IT18+IU18+IV18-IW18+IX18-IY18-IZ18+JA18 -> 0 | JD18: =+O18+W18+AE18+AM18+AU18+BC18+BK18+BS18+CA18+CI18+CQ18+CY18+DG18+DO18+DW18+EE18+EM18+EU18+FC18+FK18+FS18+GA18+GI18+GQ18+GY18+HG18+HO18+HW18+IE18+IM18+IU18 -> 0 | JE18: =+P18+X18+AF18+AN18+AV18+BD18+BL18+BT18+CB18+CJ18+CR18+CZ18+DH18+DP18+DX18+EF18+EN18+EV18+FD18+FL18+FT18+GB18+GJ18+GR18+GZ18+HH18+HP18+HX18+IF18+IN18+IV18 -> 0 | JF18: =+Q18+Y18+AG18+AO18+AW18+BE18+BM18+BU18+CC18+CK18+CS18+DA18+DI18+DQ18+DY18+EG18+EO18+EW18+FE18+FM18+FU18+GC18+GK18+GS18+HA18+HI18+HQ18+HY18+IG18+IO18+IW18 -> 0 | JG18: =+R18+Z18+AH18+AP18+AX18+BF18+BN18+BV18+CD18+CL18+CT18+DB18+DJ18+DR18+DZ18+EH18+EP18+EX18+FF18+FN18+FV18+GD18+GL18+GT18+HB18+HJ18+HR18+HZ18+IH18+IP18+IX18 -> 0 | JH18: =+S18+AA18+AI18+AQ18+AY18+BG18+BO18+BW18+CE18+CM18+CU18+DC18+DK18+DS18+EA18+EI18+EQ18+EY18+FG18+FO18+FW18+GE18+GM18+GU18+HC18+HK18+HS18+IA18+II18+IQ18+IY18 -> 0 | JI18: =+T18+AB18+AJ18+AR18+AZ18+BH18+BP18+BX18+CF18+CN18+CV18+DD18+DL18+DT18+EB18+EJ18+ER18+EZ18+FH18+FP18+FX18+GF18+GN18+GV18+HD18+HL18+HT18+IB18+IJ18+IR18+IZ18 -> 0 | JJ18: =+U18+AC18+AK18+AS18+BA18+BI18+BQ18+BY18+CG18+CO18+CW18+DE18+DM18+DU18+EC18+EK18+ES18+FA18+FI18+FQ18+FY18+GG18+GO18+GW18+HE18+HM18+HU18+IC18+IK18+IS18+JA18 -> 0 | JK18: =+N18+JD18+JE18-JF18+JG18-JH18-JI18+JJ18 -> 0 | JM18: =+JK18-JB18 -> 0 | JO18: =+JD18*((K18+L18)*6) -> 0
