Workbook
Name DebResh: [2]Data!$B$5:$C$36
Name Separator: [2]Data!$E$20:$F$26
Name SeparM2: #REF!
Name SeparM2: #REF!
Name SeparM2: #REF!
Name ново: #REF!
Name ново: #REF!
Name ново: #REF!

Sheet Forcast 2023
C2: PREVISION APPRO. SND 2023
A3: NOUVEAU Code long / BOM/ | B3: Local market code | C3: Janvier | D3: Février | E3: Mars | F3: Avril | G3: Mai | H3: Juin | I3: Juillet | J3: Août | K3: Septembre | L3: Octobre | M3: Novembre | N3: Décembre | O3: Total 2023 | Q3: Stock de sécurité Mensuel (Pour Les ddes imprévues)
C4: quantity | D4: quantity | E4: quantity | F4: quantity | G4: quantity | H4: quantity | I4: quantity | J4: quantity | K4: quantity | L4: quantity | M4: quantity | N4: quantity | O4: quantity
A5: ML34CF303L1X12 | B5: 10MAR16 | C5: 90 | D5: 90 | E5: 80 | F5: 100 | G5: 120 | H5: 150 | I5: 150 | J5: 130 | K5: 140 | L5: 120 | M5: 120 | N5: 90 | O5: =C5+D5+E5+F5+G5+H5+I5+J5+K5+L5+M5+N5 -> 1380 | P5: =MAX(C5:N5) -> 150 | Q5: 50
A6: TOTAL MARINE | C6: =SUM(C5) -> 90 | D6: =SUM(D5) -> 90 | E6: =SUM(E5) -> 80 | F6: =SUM(F5) -> 100 | G6: =SUM(G5) -> 120 | H6: =SUM(H5) -> 150 | I6: =SUM(I5) -> 150 | J6: =SUM(J5) -> 130 | ... O6: =SUM(O5) -> 1380 | P6: =MAX(C6:N6) -> 150 | Q6: =SUM(Q5) -> 50
A7: % / total sales | C7: =C6/C$60 -> 0.0054380665 | D7: =D6/D$60 -> 0.0058290155 | E7: =E6/E$60 -> 0.0058565154 | F7: =F6/F$60 -> 0.0087070091 | G7: =G6/G$60 -> 0.0076824584 | H7: =H6/H$60 -> 0.0066830029 | I7: =I6/I$60 -> 0.0053715309 | J7: =J6/J$60 -> 0.0047882136 | ... O7: =O6/O$60 -> 0.0058974359 | P7: =MAX(C7:N7) -> 0.0087070091
A8: MRT44J3X102R1Z44 | B8: 10NS40 | C8: 250 | D8: 220 | E8: 200 | F8: 200 | G8: 220 | H8: 350 | I8: 350 | J8: 350 | K8: 350 | L8: 320 | M8: 300 | N8: 300 | O8: =C8+D8+E8+F8+G8+H8+I8+J8+K8+L8+M8+N8 -> 3410 | P8: =MAX(C8:N8) -> 350 | Q8: 150
A9: MRT44J3X102L1Z44 | B9: 10NS40G | C9: 10 | E9: 10 | G9: 10 | H9: 10 | I9: 5 | J9: 10 | K9: 10 | L9: 5 | M9: 10 | O9: =C9+D9+E9+F9+G9+H9+I9+J9+K9+L9+M9+N9 -> 80 | P9: =MAX(C9:N9) -> 10
A10: MRT45J4X102R1Z44 | B10: 10NS60 | C10: 50 | D10: 50 | E10: 50 | F10: 40 | G10: 40 | H10: 50 | I10: 60 | J10: 60 | K10: 60 | L10: 50 | M10: 60 | N10: 50 | O10: =C10+D10+E10+F10+G10+H10+I10+J10+K10+L10+M10+N10 -> 620 | P10: =MAX(C10:N10) -> 60
A11: M55J6X172R1Z44 | B11: 10D23 | C11: 10 | D11: 10 | E11: 5 | F11: 5 | G11: 10 | H11: 5 | I11: 5 | J11: 10 | K11: 10 | L11: 10 | M11: 10 | N11: 15 | O11: =C11+D11+E11+F11+G11+H11+I11+J11+K11+L11+M11+N11 -> 105 | P11: =MAX(C11:N11) -> 15
A12: M56J7X102L1Z44 | B12: 10D26 | C12: 350 | D12: 320 | E12: 250 | F12: 200 | G12: 300 | H12: 500 | I12: 600 | J12: 580 | K12: 550 | L12: 480 | M12: 500 | N12: 350 | O12: =C12+D12+E12+F12+G12+H12+I12+J12+K12+L12+M12+N12 -> 4980 | P12: =MAX(C12:N12) -> 600 | Q12: 200
A13: M56J7X102R1Z44 | B13: 10D26D | C13: 50 | D13: 45 | E13: 35 | F13: 40 | G13: 60 | H13: 70 | I13: 120 | J13: 80 | K13: 100 | L13: 80 | M13: 90 | N13: 60 | O13: =C13+D13+E13+F13+G13+H13+I13+J13+K13+L13+M13+N13 -> 830 | P13: =MAX(C13:N13) -> 120
A14: M78J0X182L1Z44 | B14: 10D31 | C14: 220 | D14: 180 | E14: 150 | F14: 140 | G14: 180 | H14: 230 | I14: 300 | J14: 300 | K14: 220 | L14: 200 | M14: 180 | N14: 140 | O14: =C14+D14+E14+F14+G14+H14+I14+J14+K14+L14+M14+N14 -> 2440 | P14: =MAX(C14:N14) -> 300 | Q14: 100
A15: M78J0X182R1Z44 | B15: 10D31D | C15: 100 | D15: 70 | E15: 50 | F15: 50 | G15: 80 | H15: 100 | I15: 180 | J15: 150 | K15: 110 | L15: 100 | M15: 100 | N15: 80 | O15: =C15+D15+E15+F15+G15+H15+I15+J15+K15+L15+M15+N15 -> 1170 | P15: =MAX(C15:N15) -> 180
A16: LB45L1W172R1Z44 | B16: 10PRL1 | C16: 500 | D16: 400 | E16: 300 | F16: 220 | G16: 280 | H16: 500 | I16: 500 | J16: 420 | K16: 430 | L16: 300 | M16: 300 | N16: 300 | O16: =C16+D16+E16+F16+G16+H16+I16+J16+K16+L16+M16+N16 -> 4450 | P16: =MAX(C16:N16) -> 500 | Q16: 500
A17: LB45B1W172R1Z44 | B17: 10PRL1B | C17: 150 | D17: 130 | E17: 80 | F17: 100 | G17: 160 | H17: 140 | I17: 180 | J17: 180 | K17: 150 | L17: 130 | M17: 100 | N17: 90 | O17: =C17+D17+E17+F17+G17+H17+I17+J17+K17+L17+M17+N17 -> 1590 | P17: =MAX(C17:N17) -> 180
A18: LB45L1W172L1Z44 | B18: 10PRL1G | C18: 75 | D18: 20 | E18: 70 | F18: 0 | G18: 40 | H18: 70 | I18: 100 | J18: 90 | K18: 50 | L18: 90 | M18: 40 | N18: 75 | O18: =C18+D18+E18+F18+G18+H18+I18+J18+K18+L18+M18+N18 -> 720 | P18: =MAX(C18:N18) -> 100
A19: LB56L2W172R1Z44 | B19: 10PRL2 | C19: 550 | D19: 450 | E19: 350 | F19: 300 | G19: 370 | H19: 600 | I19: 800 | J19: 800 | K19: 700 | L19: 550 | M19: 450 | N19: 330 | O19: =C19+D19+E19+F19+G19+H19+I19+J19+K19+L19+M19+N19 -> 6250 | P19: =MAX(C19:N19) -> 800 | Q19: 500
A20: LB56B2W172R1Z44 | B20: 10PRL2B | C20: 35 | D20: 30 | E20: 20 | F20: 5 | G20: 30 | H20: 50 | I20: 80 | J20: 70 | K20: 70 | L20: 30 | M20: 50 | N20: 30 | O20: =C20+D20+E20+F20+G20+H20+I20+J20+K20+L20+M20+N20 -> 500 | P20: =MAX(C20:N20) -> 80
A21: LB67L3W172R1Z44 | B21: 10PRL3 | C21: 550 | D21: 450 | E21: 300 | F21: 260 | G21: 420 | H21: 580 | I21: 680 | J21: 620 | K21: 600 | L21: 600 | M21: 500 | N21: 440 | O21: =C21+D21+E21+F21+G21+H21+I21+J21+K21+L21+M21+N21 -> 6000 | P21: =MAX(C21:N21) -> 680 | Q21: 500
A22: LB67B3W172R1Z44 | B22: 10PRL3B | C22: 40 | D22: 40 | E22: 40 | F22: 30 | G22: 40 | H22: 50 | I22: 80 | J22: 80 | K22: 80 | L22: 50 | M22: 50 | N22: 40 | O22: =C22+D22+E22+F22+G22+H22+I22+J22+K22+L22+M22+N22 -> 620 | P22: =MAX(C22:N22) -> 80
A23: TOTAL PREMIUM | C23: =SUM(C8:C22) -> 2940 | D23: =SUM(D8:D22) -> 2415 | E23: =SUM(E8:E22) -> 1910 | F23: =SUM(F8:F22) -> 1590 | G23: =SUM(G8:G22) -> 2240 | H23: =SUM(H8:H22) -> 3305 | I23: =SUM(I8:I22) -> 4040 | J23: =SUM(J8:J22) -> 3800 | ... O23: =SUM(O8:O22) -> 33765 | P23: =MAX(C23:N23) -> 4040 | Q23: =SUM(Q8:Q22) -> 1950
A24: % / total Sales | C24: =C23/C$60 -> 0.1776435 | D24: =D23/D$60 -> 0.15641192 | E24: =E23/E$60 -> 0.1398243 | F24: =F23/F$60 -> 0.13844145 | G24: =G23/G$60 -> 0.14340589 | H24: =H23/H$60 -> 0.14724883 | I24: =I23/I$60 -> 0.14467323 | J24: =J23/J$60 -> 0.13996317 | ... O24: =O23/O$60 -> 0.14429487 | P24: =MAX(C24:N24) -> 0.1776435
A25: LB55L1W172R1Z55 | B25: 10S1 | C25: 1100 | D25: 1000 | E25: 1000 | F25: 750 | G25: 1100 | H25: 1900 | I25: 2300 | J25: 2200 | K25: 1700 | L25: 1400 | M25: 1300 | N25: 1200 | O25: =C25+D25+E25+F25+G25+H25+I25+J25+K25+L25+M25+N25 -> 16950 | P25: =MAX(C25:N25) -> 2300 | Q25: 800
A26: LB66L2W172R1Z55 | B26: 10S2 | C26: 1400 | D26: 1100 | E26: 900 | F26: 900 | G26: 1300 | H26: 2100 | I26: 3000 | J26: 2950 | K26: 2400 | L26: 2200 | M26: 1900 | N26: 1850 | O26: =C26+D26+E26+F26+G26+H26+I26+J26+K26+L26+M26+N26 -> 22000 | P26: =MAX(C26:N26) -> 3000 | Q26: 1000
A27: LB77L3W172R1Z55 | B27: 10S3 | C27: 1500 | D27: 1400 | E27: 1300 | F27: 950 | G27: 1300 | H27: 2100 | I27: 3100 | J27: 3100 | K27: 2500 | L27: 2100 | M27: 2100 | N27: 1900 | O27: =C27+D27+E27+F27+G27+H27+I27+J27+K27+L27+M27+N27 -> 23350 | P27: =MAX(C27:N27) -> 3100 | Q27: 1000
A28: LB90L5W172R1Z55 | B28: 10S5 | C28: 300 | D28: 340 | E28: 300 | F28: 250 | G28: 350 | H28: 370 | I28: 400 | J28: 400 | K28: 400 | L28: 380 | M28: 360 | N28: 350 | O28: =C28+D28+E28+F28+G28+H28+I28+J28+K28+L28+M28+N28 -> 4200 | P28: =MAX(C28:N28) -> 400 | Q28: 150
A29: TOTAL SMART | C29: =SUM(C25:C28) -> 4300 | D29: =SUM(D25:D28) -> 3840 | E29: =SUM(E25:E28) -> 3500 | F29: =SUM(F25:F28) -> 2850 | G29: =SUM(G25:G28) -> 4050 | H29: =SUM(H25:H28) -> 6470 | I29: =SUM(I25:I28) -> 8800 | J29: =SUM(J25:J28) -> 8650 | ... O29: =SUM(O25:O28) -> 66500 | P29: =MAX(C29:N29) -> 8800 | Q29: =SUM(Q25:Q28) -> 2950
A30: % / total Sales | C30: =C29/C$60 -> 0.25981873 | D30: =D29/D$60 -> 0.24870466 | E30: =E29/E$60 -> 0.25622255 | F30: =F29/F$60 -> 0.24814976 | G30: =G29/G$60 -> 0.25928297 | H30: =H29/H$60 -> 0.28826019 | I30: =I29/I$60 -> 0.31512981 | J30: =J29/J$60 -> 0.31860037 | ... O30: =O29/O$60 -> 0.28418803 | P30: =MAX(C30:N30) -> 0.31860037
A31: LB44L1K072R1S12 | B31: 10PL1 | C31: 1000 | D31: 950 | E31: 900 | F31: 850 | G31: 1050 | H31: 1700 | I31: 2000 | J31: 1900 | K31: 1300 | L31: 1250 | M31: 1300 | N31: 1000 | O31: =C31+D31+E31+F31+G31+H31+I31+J31+K31+L31+M31+N31 -> 15200 | P31: =MAX(C31:N31) -> 2000 | Q31: 800
A32: LB44B1K072R1S12 | B32: 10PL1B | O32: =C32+D32+E32+F32+G32+H32+I32+J32+K32+L32+M32+N32 -> 0 | P32: =MAX(C32:N32) -> 0
A33: LB55L2K072R1S12 | B33: 10PL2 | C33: 800 | D33: 850 | E33: 700 | F33: 650 | G33: 850 | H33: 1200 | I33: 1600 | J33: 1400 | K33: 1200 | L33: 1000 | M33: 1000 | N33: 950 | O33: =C33+D33+E33+F33+G33+H33+I33+J33+K33+L33+M33+N33 -> 12200 | P33: =MAX(C33:N33) -> 1600 | Q33: 600
A34: LB55B2K072R1S12 | B34: 10PL2B | O34: =C34+D34+E34+F34+G34+H34+I34+J34+K34+L34+M34+N34 -> 0 | P34: =MAX(C34:N34) -> 0
A35: LB66L3K072R1S12 | B35: 10PL3 | C35: 1100 | D35: 1100 | E35: 1050 | F35: 850 | G35: 1150 | H35: 1800 | I35: 2200 | J35: 2200 | K35: 1700 | L35: 1700 | M35: 1600 | N35: 1500 | O35: =C35+D35+E35+F35+G35+H35+I35+J35+K35+L35+M35+N35 -> 17950 | P35: =MAX(C35:N35) -> 2200 | Q35: 800
A36: LB66B3K072R1S12 | B36: 10PL3B | O36: =C36+D36+E36+F36+G36+H36+I36+J36+K36+L36+M36+N36 -> 0 | P36: =MAX(C36:N36) -> 0
A37: LB88L5K072R1S12 | B37: 10PL5 | C37: 220 | D37: 220 | E37: 200 | F37: 190 | G37: 320 | H37: 350 | I37: 320 | J37: 280 | K37: 300 | L37: 280 | M37: 280 | N37: 230 | O37: =C37+D37+E37+F37+G37+H37+I37+J37+K37+L37+M37+N37 -> 3190 | P37: =MAX(C37:N37) -> 350 | Q37: 100
A38: LB00L6K5072R1S12 | B38: 10PL6MF | C38: 50 | D38: 40 | E38: 50 | F38: 40 | G38: 50 | H38: 50 | I38: 50 | J38: 60 | K38: 60 | L38: 80 | M38: 80 | N38: 70 | O38: =C38+D38+E38+F38+G38+H38+I38+J38+K38+L38+M38+N38 -> 680 | P38: =MAX(C38:N38) -> 80
A39: M55M10F043L1S13 | B39: 10PM10 | C39: 1500 | D39: 1400 | E39: 1200 | F39: 950 | G39: 1400 | H39: 2100 | I39: 2600 | J39: 2500 | K39: 2400 | L39: 2300 | M39: 2150 | N39: 2100 | O39: =C39+D39+E39+F39+G39+H39+I39+J39+K39+L39+M39+N39 -> 22600 | P39: =MAX(C39:N39) -> 2600 | Q39: 1000
A40: MSP55M10F042L1S13 | B40: 10PM10S | C40: 1000 | D40: 1100 | E40: 1000 | F40: 680 | G40: 700 | H40: 1200 | I40: 1300 | J40: 1300 | K40: 1350 | L40: 1320 | M40: 1250 | N40: 900 | O40: =C40+D40+E40+F40+G40+H40+I40+J40+K40+L40+M40+N40 -> 13100 | P40: =MAX(C40:N40) -> 1350 | Q40: 400
A41: M77M11F043L1S13 | B41: 10PM11 | C41: 1000 | D41: 1000 | E41: 900 | F41: 850 | G41: 1050 | H41: 1300 | I41: 1500 | J41: 1400 | K41: 1500 | L41: 1400 | M41: 1400 | N41: 1500 | O41: =C41+D41+E41+F41+G41+H41+I41+J41+K41+L41+M41+N41 -> 14800 | P41: =MAX(C41:N41) -> 1500 | Q41: 700
A42: M78M11F042L1S13 | B42: 10PM11S | C42: 180 | D42: 200 | E42: 160 | F42: 130 | G42: 190 | H42: 260 | I42: 400 | J42: 400 | K42: 280 | L42: 230 | M42: 220 | N42: 200 | O42: =C42+D42+E42+F42+G42+H42+I42+J42+K42+L42+M42+N42 -> 2850 | P42: =MAX(C42:N42) -> 400
A43: M78M11F042R1S13 | B43: 10PM11SD | C43: 100 | D43: 90 | E43: 80 | F43: 90 | G43: 100 | H43: 160 | I43: 200 | J43: 200 | K43: 160 | L43: 160 | M43: 120 | N43: 110 | O43: =C43+D43+E43+F43+G43+H43+I43+J43+K43+L43+M43+N43 -> 1570 | P43: =MAX(C43:N43) -> 200
A44: M77M12F043L1S13 | B44: 10PM12 | C44: 450 | D44: 420 | E44: 420 | F44: 320 | G44: 550 | H44: 530 | I44: 600 | J44: 550 | K44: 500 | L44: 500 | M44: 550 | N44: 360 | O44: =C44+D44+E44+F44+G44+H44+I44+J44+K44+L44+M44+N44 -> 5750 | P44: =MAX(C44:N44) -> 600 | Q44: 200
A45: M88M12F042L1S13 | B45: 10PM12S | C45: 120 | D45: 100 | E45: 100 | F45: 100 | G45: 220 | H45: 130 | I45: 180 | J45: 150 | K45: 150 | L45: 120 | M45: 110 | N45: 80 | O45: =C45+D45+E45+F45+G45+H45+I45+J45+K45+L45+M45+N45 -> 1560 | P45: =MAX(C45:N45) -> 220
A46: M89C98P5042R1S13 | B46: 10PM110 | C46: 120 | D46: 100 | E46: 90 | F46: 80 | G46: 100 | H46: 120 | I46: 130 | J46: 300 | K46: 130 | L46: 100 | M46: 100 | N46: 60 | O46: =C46+D46+E46+F46+G46+H46+I46+J46+K46+L46+M46+N46 -> 1430 | P46: =MAX(C46:N46) -> 300
A47: Total Power | C47: =SUM(C31:C46) -> 7640 | D47: =SUM(D31:D46) -> 7570 | E47: =SUM(E31:E46) -> 6850 | F47: =SUM(F31:F46) -> 5780 | G47: =SUM(G31:G46) -> 7730 | H47: =SUM(H31:H46) -> 10900 | I47: =SUM(I31:I46) -> 13080 | J47: =SUM(J31:J46) -> 12640 | ... O47: =SUM(O31:O46) -> 112880 | P47: =MAX(C47:N47) -> 13080 | Q47: =SUM(Q31:Q46) -> 4600
A48: % / total sales | C48: =C47/C$60 -> 0.46163142 | D48: =D47/D$60 -> 0.49028497 | E48: =E47/E$60 -> 0.50146413 | F48: =F47/F$60 -> 0.50326513 | G48: =G47/G$60 -> 0.49487836 | H48: =H47/H$60 -> 0.48563154 | I48: =I47/I$60 -> 0.46839749 | J48: =J47/J$60 -> 0.46556169 | ... O48: =O47/O$60 -> 0.48239316 | P48: =MAX(C48:N48) -> 0.50326513
A49: MSP89AF003L1S13 | B49: 10M14 | C49: 450 | D49: 480 | E49: 400 | F49: 380 | G49: 480 | H49: 550 | I49: 580 | J49: 580 | K49: 550 | L49: 550 | M49: 500 | N49: 500 | O49: =C49+D49+E49+F49+G49+H49+I49+J49+K49+L49+M49+N49 -> 6000 | P49: =MAX(C49:N49) -> 580 | Q49: 250
A50: EC89AX3_1 | B50: 10M14SMF | C50: 60 | D50: 60 | E50: 40 | F50: 50 | G50: 40 | H50: 50 | I50: 50 | J50: 50 | K50: 50 | L50: 60 | M50: 50 | N50: 60 | O50: =C50+D50+E50+F50+G50+H50+I50+J50+K50+L50+M50+N50 -> 620 | P50: =MAX(C50:N50) -> 60
A51: MSP90BF003L1S13 | B51: 10M15 | C51: 600 | D51: 580 | E51: 530 | F51: 450 | G51: 550 | H51: 600 | I51: 700 | J51: 780 | K51: 880 | L51: 700 | M51: 600 | N51: 600 | O51: =C51+D51+E51+F51+G51+H51+I51+J51+K51+L51+M51+N51 -> 7570 | P51: =MAX(C51:N51) -> 880 | Q51: 300
A52: EC01BX3_1 | B52: 10M15SMF | C52: 120 | D52: 100 | E52: 60 | F52: 60 | G52: 90 | H52: 100 | I52: 100 | J52: 100 | K52: 60 | L52: 100 | M52: 60 | N52: 50 | O52: =C52+D52+E52+F52+G52+H52+I52+J52+K52+L52+M52+N52 -> 1000 | P52: =MAX(C52:N52) -> 120
A53: MSP12BF009L1S13 | B53: 10M15S | C53: 200 | D53: 180 | E53: 150 | F53: 130 | G53: 190 | H53: 220 | I53: 280 | J53: 280 | K53: 300 | L53: 300 | M53: 270 | N53: 220 | O53: =C53+D53+E53+F53+G53+H53+I53+J53+K53+L53+M53+N53 -> 2720 | P53: =MAX(C53:N53) -> 300 | Q53: 100
A54: ML23CF003L1S13 | B54: 10M16 | C54: 100 | D54: 100 | E54: 100 | F54: 80 | G54: 80 | H54: 80 | I54: 100 | J54: 110 | K54: 150 | L54: 100 | M54: 100 | N54: 50 | O54: =C54+D54+E54+F54+G54+H54+I54+J54+K54+L54+M54+N54 -> 1150 | P54: =MAX(C54:N54) -> 150 | Q54: 60
A55: EC34CX3_1 | B55: 10M16SMF | C55: 20 | E55: 20 | G55: 20 | I55: 20 | K55: 20 | M55: 20 | O55: =C55+D55+E55+F55+G55+H55+I55+J55+K55+L55+M55+N55 -> 120 | P55: =MAX(C55:N55) -> 20
A56: ML34CF003L1X13 | B56: 10M16DB | C56: 30 | D56: 25 | E56: 20 | F56: 15 | G56: 30 | H56: 20 | I56: 25 | J56: 30 | K56: 30 | L56: 30 | M56: 30 | N56: 10 | O56: =C56+D56+E56+F56+G56+H56+I56+J56+K56+L56+M56+N56 -> 295 | P56: =MAX(C56:N56) -> 30
A57: TOTAL Jumbo | C57: =SUM(C49:C56) -> 1580 | D57: =SUM(D49:D56) -> 1525 | E57: =SUM(E49:E56) -> 1320 | F57: =SUM(F49:F56) -> 1165 | G57: =SUM(G49:G56) -> 1480 | H57: =SUM(H49:H56) -> 1620 | I57: =SUM(I49:I56) -> 1855 | J57: =SUM(J49:J56) -> 1930 | ... O57: =SUM(O49:O56) -> 19475 | P57: =MAX(C57:N57) -> 2040 | Q57: =SUM(Q49:Q56) -> 710
A58: % / total sales | C58: =C57/C$60 -> 0.095468278 | D58: =D57/D$60 -> 0.09876943 | E58: =E57/E$60 -> 0.096632504 | F58: =F57/F$60 -> 0.10143666 | G58: =G57/G$60 -> 0.09475032 | H58: =H57/H$60 -> 0.072176431 | I58: =I57/I$60 -> 0.066427932 | J58: =J57/J$60 -> 0.071086556 | ... O58: =O57/O$60 -> 0.083226496 | P58: =MAX(C58:N58) -> 0.10143666
P59: =MAX(C59:N59) -> 0
A60: Total | C60: =C57+C47+C29+C23+C6 -> 16550 | D60: =D57+D47+D29+D23+D6 -> 15440 | E60: =E57+E47+E29+E23+E6 -> 13660 | F60: =F57+F47+F29+F23+F6 -> 11485 | G60: =G57+G47+G29+G23+G6 -> 15620 | H60: =H57+H47+H29+H23+H6 -> 22445 | I60: =I57+I47+I29+I23+I6 -> 27925 | J60: =J57+J47+J29+J23+J6 -> 27150 | ... P60: =P57+P47+P29+P23+P6 -> 28110 | Q60: =+Q57+Q47+Q29+Q23+Q6 -> 10260
A61: EXPORT LYBIE | C61: 7500 | D61: 7500 | E61: 7500 | F61: 7500 | G61: 7500 | H61: 7500 | I61: 7500 | J61: 7500 | K61: 7500 | L61: 7500 | M61: 7500 | N61: 7500 | O61: =SUM(C61:N61) -> 90000
A62: EUROPE | O62: =SUM(C62:N62) -> 0
A63: GCC | O63: =SUM(C63:N63) -> 0
A64: TOTAL | C64: =+C63+C62+C61+C60 -> 24050 | D64: =+D63+D62+D61+D60 -> 22940 | E64: =+E63+E62+E61+E60 -> 21160 | F64: =+F63+F62+F61+F60 -> 18985 | G64: =+G63+G62+G61+G60 -> 23120 | H64: =+H63+H62+H61+H60 -> 29945 | I64: =+I63+I62+I61+I60 -> 35425 | J64: =+J63+J62+J61+J60 -> 34650 | ... N64: =+N63+N62+N61+N60 -> 25740 | O64: =SUM(C64:N64) -> 324000
A65: Objectif | C65: 30000 | D65: 30000 | E65: 30000 | F65: 40000 | G65: 40000 | H65: 40000 | I65: 40000 | J65: 40000 | K65: 40000 | L65: 40000 | M65: 40000 | N65: 40000 | O65: =SUM(C65:N65) -> 450000
A66: Ecart | C66: =+C65-C64 -> 5950 | D66: =+D65-D64 -> 7060 | E66: =+E65-E64 -> 8840 | F66: =+F65-F64 -> 21015 | G66: =+G65-G64 -> 16880 | H66: =+H65-H64 -> 10055 | I66: =+I65-I64 -> 4575 | J66: =+J65-J64 -> 5350 | ... N66: =+N65-N64 -> 14260 | O66: =SUM(C66:N66) -> 126000

Sheet Cache borne
A1: Image | C1: Code | D1: Description | E1: Image du couvercle avec bouchons
C2: S | D2: Cache borne pour les couvercles K,Destinées pour les bornes DIN
C3: J | D3: Cache borne pour uniquement pour les caches J3 et J4 sans adaptateur.
C4: Z | D4: Cache borne pour les couvercles SMF
A5: Забележка Lors de la commande d'une rondelle + 2 écrous sur chaque borne appariée, le capuchon de borne D ou T n'est pas installé. Pod S uniquement.
A7: Code | B7: Couleur | D7: Code RAL | E7: Code Terre
A8: 1 | B8: Rouge rouge | D8: RAL 3020 | E8: St. Rouge
A9: 2 | B9: Le noir | D9: Ral 9005 | E9: Le noir
A10: 3 | B10: Bleu ciel / Bleu clair | D10: RAL 5015 | E10: Cv.Cin
A11: 4 | B11: Vert / Zelena | D11: Ral 6016 | E11: T. Zelen
A12: 5 | B12: Jaune / Jaune | D12: Ral 1033 | E12: Jaune
A13: 6 | B13: Marine / Bleu Foncé | D13: RAL 5010 | E13: T. Fils
A14: 7 | B14: Orange / Orange | D14: Ral 2011 | E14: Orange
A15: 8 | B15: Argent | D15: RAL 7040 | E15: Gris
A16: 9 | B16: Bleu | D16: RAL 5017 | E16: Bleu
A17: 0 | B17: Vert clair | D17: Ral 6018 | E17: Saint-vert
C18: X | D18: Borne double

Sheet logique de sku code
D1: Le codage de chaque SKU pour le produit fini de batterie est définie sur la base de la logique suivante. Cette logique est applicable aux batteries de démarrage.
D4: Batterie codée
B5: Indication du type de charge | D5: Type de plaque positive | E5: Nombre de plaques positives | F5: Nombre de plaques négatives | G5: Type de boîte | H5: Type de couvercle | I5: Magic Eye / Séparateur GM / Résine | K5: Type bord | L5: Combinaison de couleurs | M5: Polarité | N5: Mise en charge | O5: Bouchons de bornes | P5: Couleur + | Q5: Couleur -
B6: La désignation non formatée est utilisée dans les programmes de comptabilité pour déterminer le prix et dans les cas où une batterie non formée est vendue. | D6: Maximum 3 symboles | E6: 1 caractère, et si les plaques sont plus de 10, seul le deuxième caractère du nombre décimal est affiché (Par exemple 12 plaques, et 2 est affiché) | F6: 1 caractère, et si les plaques sont plus de 10, seul le deuxième caractère du nombre décimal est affiché (Par exemple 12 plaques, et 2 est affiché) | G6: Maximum 3 symboles | H6: Maximum 2 symboles | I6: Combinaisons | K6: Maximum 4 symboles | L6: 1 symbole | M6: 1 symbole | N6: 1 symbole | O6: Non inclus dans le code SKU, utilisé dans les applications commerciales. Il n'est pas nécessaire d'être inclus dans le code SMC, car Monbat produit sur la base d'une commande pour un client spécifique
B8: 10PL1 | C8: LB44L1K073R1G22
B10: Type de frais | D10: TYPE DE PLAQUE | F10: Nombre de plaques + | G10: Nombre de plaques - | H10: BOÎTE | J10: COUVERCLE | L10: Magic Eye / Séparateur GM / Résine | N10: Bord | P10: Combinaisons de couleurs | S10: Polarité | U10: Mise en charge | W10: Capuchons de bornes - type | Y10: Cache-bornes - couleur + | AA10: Cache-bornes - couleur - | AC10: Caps color (for lybia)
B11: Х | D11: Х | F11: Х | G11: Х | H11: ХХ | J11: Х | L11: Х | N11: Х | P11: Х | S11: Х | U11: Х | W11: X | Y11: X | AA11: X | AC11: X
B12: UF | C12: Indique que la batterie n'est pas formée | D12: Symbole | E12: Type de batterie | F12: X | G12: X | H12: Symbole | I12: Type de boîte | J12: Symbole | K12: Type de couvercle | L12: Symbole | M12: Combinaisons | N12: Symbole | O12: Taper | P12: Symbole | Q12: Boîte | R12: Couvercle | S12: L | T12: La gauche | U12: 0 | V12: Chargé à sec | W12: S | Y12: 1 | Z12: rouge | AA12: 1 | AB12: rouge | AC12: 1 | AD12: Red
D13: KG | E13: Intelligent L1-L6 ; Premium L1-L3 ; Puissance L1-L5 ; Libye | H13: L0 | I13: L0 | J13: K | K13: KAMINA avec conduit d'évacuation central | L13: 0 | M13: Non non Non | N13: 0 | O13: B0 | P13: 0 | Q13: blanche | R13: blanche | S13: R | T13: Droit | U13: 1 | V13: Charge humide | W13: J | Y13: 2 | Z13: le noir | AA13: 2/3 | AB13: le noir | AC13: 2 | AD13: yellow
D14: LBT | E14: HD L2-L3 | H14: L1 | I14: L1 | J14: F | K14: Plat, avec échappement par soupapes | L14: 1 | M14: Oui/Non/Non | N14: 1 | O14: B1 | P14: 1 | Q14: blanche | R14: le noir | U14: 2 | V14: Informe | W14: Z | Y14: 3 | Z14: Blanc | AA14: 0 | AB14: Blanc
D15: MSP | E15: Jumbo M14-M15 ; Haut de gamme M10 | H15: L2 | I15: L2 | J15: P | K15: Couvercle SMF d'Akumsan (visuellement KAMINA) | L15: 2 | M15: Oui/Oui/Non | N15: 3 | O15: В13 | P15: 2 | Q15: le noir | R15: le noir | W15: X | Y15: 4 | Z15: Bleu | AA15: 4 | AB15: Bleu
D16: ML | E16: Jumbo M16 MSL+ / ML- ; 200 mars | H16: L3 | I16: L3 | J16: tu | K16: Non Kamino avec valve intégrée | L16: 3 | M16: Non/Oui/Non | N16: 4 | O16: B13/B14 avec adaptateur | P16: 3 | Q16: grise | R16: grise | Y16: 5 | Z16: Vert | AA16: 5 | AB16: Vert
D17: MT | E17: HD M10-M11 | H17: L4 | I17: L4 | J17: w | K17: Couverture SMF d'Accumalux | L17: 4 | M17: Oui/Non/Oui | N17: 5 | O17: B19 | P17: 4 | Q17: le noir | R17: jaune
D18: M | E18: Puissance M10-M12 ; Premium M11-M12 ; Norme JIS D23-D26-D31 | H18: L5 | I18: L5 | J18: X | K18: Couverture SMF PREMIUM d'Akumsan | L18: 5 | M18: Non/Non/Oui | N18: 6 | O18: N | P18: 5 | Q18: le noir | R18: grise
D19: E | E19: NS40-NS60 | H19: L6 | I19: L6 | J19: B | K19: Couvercle de bloc | L19: 6 | M19: Non/Oui/Oui | N19: 7 | O19: B13 | P19: 6 | Q19: le noir | R19: bleu
D20: TRM | E20: NS40-NS60 | H20: B1 | I20: LB1 | J20: N / A | K20: OTAN | L20: 7 | M20: Oui oui oui | N20: 8 | O20: B3 | P20: 7 | Q20: le noir | R20: rouge
D21: LB1 | E21: Haute température DIN , papier polyester | H21: B2 | I21: LB2 | J21: К5 | K21: KAMINA avec conduit d'évacuation central pare-flammes intégré | P21: 8 | Q21: bleu | R21: le noir
D22: M1 | E22: Haute température JIS, papier polyester | H22: B3 | I22: LB3 | J22: DL | K22: COUVERCLE DOUBLE MF pour batteries de camions | P22: 9 | Q22: grise | R22: le noir
H23: B4 | I23: LB4
H24: B5 | I24: LB5
H25: J0 | I25: D31
H26: J3 | I26: NS40
H27: J4 | I27: NS60
H28: J6 | I28: D23
H29: J7 | I29: D26
H30: À | I30: M14
H31: B | I31: M15
H32: C | I32: M16
H33: M10 | I33: Gr24
H34: M11 | I34: Gr28
... H36: MF110 | I36: C90

Sheet Stk BSF
L1: 45017
D3: SUIVI STOCK BSF / LOCAL & EXPORT
G5: Couleur | I5: Polatité | K5: Conception | N5: 45016 | O5: 45017 | W5: =+O5+1 -> 45018 | AE5: =+W5+1 -> 45019 | AM5: =+AE5+1 -> 45020 | AU5: =+AM5+1 -> 45021 | BC5: =+AU5+1 -> 45022 | BK5: =+BC5+1 -> 45023 | BS5: =+BK5+1 -> 45024 | CA5: =+BS5+1 -> 45025 | CI5: =+CA5+1 -> 45026 | CQ5: =+CI5+1 -> 45027 | CY5: =+CQ5+1 -> 45028 | DG5: =+CY5+1 -> 45029 | DO5: =+DG5+1 -> 45030 | DW5: =+DO5+1 -> 45031 | EE5: =+DW5+1 -> 45032 | EM5: =+EE5+1 -> 45033 | EU5: =+EM5+1 -> 45034 | FC5: =+EU5+1 -> 45035 | FK5: =+FC5+1 -> 45036 | FS5: =+FK5+1 -> 45037 | GA5: =+FS5+1 -> 45038 | GI5: =+GA5+1 -> 45039 | GQ5: =+GI5+1 -> 45040 | GY5: =+GQ5+1 -> 45041 | HG5: =+GY5+1 -> 45042 | HO5: =+HG5+1 -> 45043 | HW5: =+HO5+1 -> 45044 | IE5: =+HW5+1 -> 45045 | IM5: =+IE5+1 -> 45046 | IU5: =+IM5+1 -> 45047 | JD5: TOTAL : | JO5: Equivalent PLQ Montées
B6: Client | C6: NOUVEAU Code long / BOM/ | D6: Code commercial | E6: Code international | F6: Bac | G6: Bac | H6: Couv. | I6: D | J6: Poids, Moyenne ±5 % | K6: (+) | L6: (-) | M6: UN | N6: SI | O6: Prod° SF | P6: Récep Achat | Q6: Tr. Megrine | R6: Rép LABO | S6: Tr. LABO | T6: Tr. Charge | U6: Ret. Charge | V6: SF | W6: Prod° SF | X6: Récep STA | Y6: Tr. STA | Z6: Rép LABO | AA6: Tr. LABO | AB6: Tr. Charge | AC6: Ret. Charge | AD6: SF | AE6: Prod° SF | AF6: Récep STA | AG6: Tr. STA | AH6: Rép LABO | AI6: Tr. LABO | AJ6: Tr. Charge | AK6: Ret. Charge | AL6: SF | AM6: Prod° SF | AN6: Récep STA | AO6: Tr. STA | AP6: Rép LABO | AQ6: Tr. LABO | AR6: Tr. Charge | AS6: Ret. Charge | AT6: SF | AU6: Prod° SF | AV6: Récep STA | AW6: Tr. STA | AX6: Rép LABO | AY6: Tr. LABO | AZ6: Tr. Charge | BA6: Ret. Charge | BB6: SF | BC6: Prod° SF | BD6: Récep STA | BE6: Tr. STA | BF6: Rép LABO | BG6: Tr. LABO | BH6: Tr. Charge | BI6: Ret. Charge | BJ6: SF | BK6: Prod° SF | BL6: Récep STA | BM6: Tr. STA | BN6: Rép LABO | BO6: Tr. LABO | BP6: Tr. Charge | BQ6: Ret. Charge | BR6: SF | BS6: Prod° SF | BT6: Récep STA | BU6: Tr. STA | BV6: Rép LABO | BW6: Tr. LABO | BX6: Tr. Charge | BY6: Ret. Charge | BZ6: SF | CA6: Prod° SF | CB6: Récep STA | CC6: Tr. STA | CD6: Rép LABO | CE6: Tr. LABO | CF6: Tr. Charge | CG6: Ret. Charge | CH6: SF | CI6: Prod° SF | CJ6: Récep STA | CK6: Tr. STA | CL6: Rép LABO | CM6: Tr. LABO | CN6: Tr. Charge | CO6: Ret. Charge | CP6: SF | CQ6: Prod° SF | CR6: Récep STA | CS6: Tr. STA | CT6: Rép LABO | CU6: Tr. LABO | CV6: Tr. Charge | CW6: Ret. Charge | CX6: SF | CY6: Prod° SF | CZ6: Récep STA | DA6: Tr. STA | DB6: Rép LABO | DC6: Tr. LABO | DD6: Tr. Charge | DE6: Ret. Charge | DF6: SF | DG6: Prod° SF | DH6: Récep STA | DI6: Tr. STA | DJ6: Rép LABO | DK6: Tr. LABO | DL6: Tr. Charge | DM6: Ret. Charge | DN6: SF | DO6: Prod° SF | DP6: Récep STA | DQ6: Tr. STA | DR6: Rép LABO | DS6: Tr. LABO | DT6: Tr. Charge | DU6: Ret. Charge | DV6: SF | DW6: Prod° SF | DX6: Récep STA | DY6: Tr. STA | DZ6: Rép LABO | EA6: Tr. LABO | EB6: Tr. Charge | EC6: Ret. Charge | ED6: SF | EE6: Prod° SF | EF6: Récep STA | EG6: Tr. STA | EH6: Rép LABO | EI6: Tr. LABO | EJ6: Tr. Charge | EK6: Ret. Charge | EL6: SF | EM6: Prod° SF | EN6: Récep STA | EO6: Tr. STA | EP6: Rép LABO | EQ6: Tr. LABO | ER6: Tr. Charge | ES6: Ret. Charge | ET6: SF | EU6: Prod° SF | EV6: Récep STA | EW6: Tr. STA | EX6: Rép LABO | EY6: Tr. LABO | EZ6: Tr. Charge | FA6: Ret. Charge | FB6: SF | FC6: Prod° SF | FD6: Récep STA | FE6: Tr. STA | FF6: Rép LABO | FG6: Tr. LABO | FH6: Tr. Charge | FI6: Ret. Charge | FJ6: SF | FK6: Prod° SF | FL6: Récep STA | FM6: Tr. STA | FN6: Rép LABO | FO6: Tr. LABO | FP6: Tr. Charge | FQ6: Ret. Charge | FR6: SF | FS6: Prod° SF | FT6: Récep STA | FU6: Tr. STA | FV6: Rép LABO | FW6: Tr. LABO | FX6: Tr. Charge | FY6: Ret. Charge | FZ6: SF | GA6: Prod° SF | GB6: Récep STA | GC6: Tr. STA | GD6: Rép LABO | GE6: Tr. LABO | GF6: Tr. Charge | GG6: Ret. Charge | GH6: SF | GI6: Prod° SF | GJ6: Récep STA | GK6: Tr. STA | GL6: Rép LABO | GM6: Tr. LABO | GN6: Tr. Charge | GO6: Ret. Charge | GP6: SF | GQ6: Prod° SF | GR6: Récep STA | GS6: Tr. STA | GT6: Rép LABO | GU6: Tr. LABO | GV6: Tr. Charge | GW6: Ret. Charge | GX6: SF | GY6: Prod° SF | GZ6: Récep STA | HA6: Tr. STA | HB6: Rép LABO | HC6: Tr. LABO | HD6: Tr. Charge | HE6: Ret. Charge | HF6: SF | HG6: Prod° SF | HH6: Récep STA | HI6: Tr. STA | HJ6: Rép LABO | HK6: Tr. LABO | HL6: Tr. Charge | HM6: Ret. Charge | HN6: SF | HO6: Prod° SF | HP6: Récep STA | HQ6: Tr. STA | HR6: Rép LABO | HS6: Tr. LABO | HT6: Tr. Charge | HU6: Ret. Charge | HV6: SF | HW6: Prod° SF | HX6: Récep STA | HY6: Tr. STA | HZ6: Rép LABO | IA6: Tr. LABO | IB6: Tr. Charge | IC6: Ret. Charge | ID6: SF | IE6: Prod° SF | IF6: Récep STA | IG6: Tr. STA | IH6: Rép LABO | II6: Tr. LABO | IJ6: Tr. Charge | IK6: Ret. Charge | IL6: SF | IM6: Prod° SF | IN6: Récep STA | IO6: Tr. STA | IP6: Rép LABO | IQ6: Tr. LABO | IR6: Tr. Charge | IS6: Ret. Charge | IT6: SF | IU6: Prod° SF | IV6: Récep STA | IW6: Tr. STA | IX6: Rép LABO | IY6: Tr. LABO | IZ6: Tr. Charge | JA6: Ret. Charge | JB6: SF | JD6: Prod° SF | JE6: Récep STA | JF6: Tr. STA | JG6: Rép LABO | JH6: Tr. LABO | JI6: Tr. Charge | JJ6: Ret. Charge | JK6: SF
B7: Local | C7: LB55L1W172R1Z55 | D7: S1 | E7: SMF 55027 | F7: L1 | G7: NR | H7: NR | I7: D | J7: 12,6 | K7: 5 | L7: 5 | M7: UN | N7: 0 | V7: =+N7+O7+P7+R7-S7-Q7-T7+U7 -> 0 | AD7: =+V7+W7+X7-Y7+Z7-AA7-AB7+AC7 -> 0 | AL7: =+AD7+AE7+AF7-AG7+AH7-AI7-AJ7+AK7 -> 0 | AT7: =+AL7+AM7+AN7-AO7+AP7-AQ7-AR7+AS7 -> 0 | BB7: =+AT7+AU7+AV7-AW7+AX7-AY7-AZ7+BA7 -> 0 | BJ7: =+BB7+BC7+BD7-BE7+BF7-BG7-BH7+BI7 -> 0 | BR7: =+BJ7+BK7+BL7-BM7+BN7-BO7-BP7+BQ7 -> 0 | BZ7: =+BR7+BS7+BT7-BU7+BV7-BW7-BX7+BY7 -> 0 | CH7: =+BZ7+CA7+CB7-CC7+CD7-CE7-CF7+CG7 -> 0 | CI7: 240 | CN7: 240 | CP7: =+CH7+CI7+CJ7-CK7+CL7-CM7-CN7+CO7 -> 0 | CQ7: 794 | CV7: 48 | CX7: =+CP7+CQ7+CR7-CS7+CT7-CU7-CV7+CW7 -> 746 | DF7: =+CX7+CY7+CZ7-DA7+DB7-DC7-DD7+DE7 -> 746 | DN7: =+DF7+DG7+DH7-DI7+DJ7-DK7-DL7+DM7 -> 746 | DV7: =+DN7+DO7+DP7-DQ7+DR7-DS7-DT7+DU7 -> 746 | ED7: =+DV7+DW7+DX7-DY7+DZ7-EA7-EB7+EC7 -> 746 | EL7: =+ED7+EE7+EF7-EG7+EH7-EI7-EJ7+EK7 -> 746 | ET7: =+EL7+EM7+EN7-EO7+EP7-EQ7-ER7+ES7 -> 746 | FB7: =+ET7+EU7+EV7-EW7+EX7-EY7-EZ7+FA7 -> 746 | FJ7: =+FB7+FC7+FD7-FE7+FF7-FG7-FH7+FI7 -> 746 | FR7: =+FJ7+FK7+FL7-FM7+FN7-FO7-FP7+FQ7 -> 746 | FZ7: =+FR7+FS7+FT7-FU7+FV7-FW7-FX7+FY7 -> 746 | GH7: =+FZ7+GA7+GB7-GC7+GD7-GE7-GF7+GG7 -> 746 | GP7: =+GH7+GI7+GJ7-GK7+GL7-GM7-GN7+GO7 -> 746 | GX7: =+GP7+GQ7+GR7-GS7+GT7-GU7-GV7+GW7 -> 746 | HF7: =+GX7+GY7+GZ7-HA7+HB7-HC7-HD7+HE7 -> 746 | HN7: =+HF7+HG7+HH7-HI7+HJ7-HK7-HL7+HM7 -> 746 | HV7: =+HN7+HO7+HP7-HQ7+HR7-HS7-HT7+HU7 -> 746 | ID7: =+HV7+HW7+HX7-HY7+HZ7-IA7-IB7+IC7 -> 746 | IL7: =+ID7+IE7+IF7-IG7+IH7-II7-IJ7+IK7 -> 746 | IT7: =+IL7+IM7+IN7-IO7+IP7-IQ7-IR7+IS7 -> 746 | JB7: =+IT7+IU7+IV7-IW7+IX7-IY7-IZ7+JA7 -> 746 | JD7: =+O7+W7+AE7+AM7+AU7+BC7+BK7+BS7+CA7+CI7+CQ7+CY7+DG7+DO7+DW7+EE7+EM7+EU7+FC7+FK7+FS7+GA7+GI7+GQ7+GY7+HG7+HO7+HW7+IE7+IM7+IU7 -> 1034 | JE7: =+P7+X7+AF7+AN7+AV7+BD7+BL7+BT7+CB7+CJ7+CR7+CZ7+DH7+DP7+DX7+EF7+EN7+EV7+FD7+FL7+FT7+GB7+GJ7+GR7+GZ7+HH7+HP7+HX7+IF7+IN7+IV7 -> 0 | JF7: =+Q7+Y7+AG7+AO7+AW7+BE7+BM7+BU7+CC7+CK7+CS7+DA7+DI7+DQ7+DY7+EG7+EO7+EW7+FE7+FM7+FU7+GC7+GK7+GS7+HA7+HI7+HQ7+HY7+IG7+IO7+IW7 -> 0 | JG7: =+R7+Z7+AH7+AP7+AX7+BF7+BN7+BV7+CD7+CL7+CT7+DB7+DJ7+DR7+DZ7+EH7+EP7+EX7+FF7+FN7+FV7+GD7+GL7+GT7+HB7+HJ7+HR7+HZ7+IH7+IP7+IX7 -> 0 | JH7: =+S7+AA7+AI7+AQ7+AY7+BG7+BO7+BW7+CE7+CM7+CU7+DC7+DK7+DS7+EA7+EI7+EQ7+EY7+FG7+FO7+FW7+GE7+GM7+GU7+HC7+HK7+HS7+IA7+II7+IQ7+IY7 -> 0 | JI7: =+T7+AB7+AJ7+AR7+AZ7+BH7+BP7+BX7+CF7+CN7+CV7+DD7+DL7+DT7+EB7+EJ7+ER7+EZ7+FH7+FP7+FX7+GF7+GN7+GV7+HD7+HL7+HT7+IB7+IJ7+IR7+IZ7 -> 288 | JJ7: =+U7+AC7+AK7+AS7+BA7+BI7+BQ7+BY7+CG7+CO7+CW7+DE7+DM7+DU7+EC7+EK7+ES7+FA7+FI7+FQ7+FY7+GG7+GO7+GW7+HE7+HM7+HU7+IC7+IK7+IS7+JA7 -> 0 | JK7: =+N7+JD7+JE7-JF7+JG7-JH7-JI7+JJ7 -> 746 | JM7: =+JK7-JB7 -> 0 | JO7: =+JD7*((K7+L7)*6) -> 62040
B8: Local | C8: LB66L2W172R1Z55 | D8: S2 | E8: SMF 56219 | F8: L2 | G8: NR | H8: NR | I8: D | J8: 14,6 | K8: 6 | L8: 6 | M8: UN | N8: 0 | V8: =+N8+O8+P8+R8-S8-Q8-T8+U8 -> 0 | AD8: =+V8+W8+X8-Y8+Z8-AA8-AB8+AC8 -> 0 | AF8: 80 | AJ8: 80 | AL8: =+AD8+AE8+AF8-AG8+AH8-AI8-AJ8+AK8 -> 0 | AM8: 570 | AR8: 570 | AT8: =+AL8+AM8+AN8-AO8+AP8-AQ8-AR8+AS8 -> 0 | AU8: 977 | AZ8: 977 | BB8: =+AT8+AU8+AV8-AW8+AX8-AY8-AZ8+BA8 -> 0 | BC8: 242 | BH8: 171 | BJ8: =+BB8+BC8+BD8-BE8+BF8-BG8-BH8+BI8 -> 71 | BQ8: 17 | BR8: =+BJ8+BK8+BL8-BM8+BN8-BO8-BP8+BQ8 -> 88 | BZ8: =+BR8+BS8+BT8-BU8+BV8-BW8-BX8+BY8 -> 88 | CH8: =+BZ8+CA8+CB8-CC8+CD8-CE8-CF8+CG8 -> 88 | CP8: =+CH8+CI8+CJ8-CK8+CL8-CM8-CN8+CO8 -> 88 | CX8: =+CP8+CQ8+CR8-CS8+CT8-CU8-CV8+CW8 -> 88 | DF8: =+CX8+CY8+CZ8-DA8+DB8-DC8-DD8+DE8 -> 88 | DN8: =+DF8+DG8+DH8-DI8+DJ8-DK8-DL8+DM8 -> 88 | DV8: =+DN8+DO8+DP8-DQ8+DR8-DS8-DT8+DU8 -> 88 | ED8: =+DV8+DW8+DX8-DY8+DZ8-EA8-EB8+EC8 -> 88 | EL8: =+ED8+EE8+EF8-EG8+EH8-EI8-EJ8+EK8 -> 88 | ET8: =+EL8+EM8+EN8-EO8+EP8-EQ8-ER8+ES8 -> 88 | FB8: =+ET8+EU8+EV8-EW8+EX8-EY8-EZ8+FA8 -> 88 | FJ8: =+FB8+FC8+FD8-FE8+FF8-FG8-FH8+FI8 -> 88 | FR8: =+FJ8+FK8+FL8-FM8+FN8-FO8-FP8+FQ8 -> 88 | FZ8: =+FR8+FS8+FT8-FU8+FV8-FW8-FX8+FY8 -> 88 | GH8: =+FZ8+GA8+GB8-GC8+GD8-GE8-GF8+GG8 -> 88 | GP8: =+GH8+GI8+GJ8-GK8+GL8-GM8-GN8+GO8 -> 88 | GX8: =+GP8+GQ8+GR8-GS8+GT8-GU8-GV8+GW8 -> 88 | HF8: =+GX8+GY8+GZ8-HA8+HB8-HC8-HD8+HE8 -> 88 | HN8: =+HF8+HG8+HH8-HI8+HJ8-HK8-HL8+HM8 -> 88 | HV8: =+HN8+HO8+HP8-HQ8+HR8-HS8-HT8+HU8 -> 88 | ID8: =+HV8+HW8+HX8-HY8+HZ8-IA8-IB8+IC8 -> 88 | IL8: =+ID8+IE8+IF8-IG8+IH8-II8-IJ8+IK8 -> 88 | IT8: =+IL8+IM8+IN8-IO8+IP8-IQ8-IR8+IS8 -> 88 | JB8: =+IT8+IU8+IV8-IW8+IX8-IY8-IZ8+JA8 -> 88 | JD8: =+O8+W8+AE8+AM8+AU8+BC8+BK8+BS8+CA8+CI8+CQ8+CY8+DG8+DO8+DW8+EE8+EM8+EU8+FC8+FK8+FS8+GA8+GI8+GQ8+GY8+HG8+HO8+HW8+IE8+IM8+IU8 -> 1789 | JE8: =+P8+X8+AF8+AN8+AV8+BD8+BL8+BT8+CB8+CJ8+CR8+CZ8+DH8+DP8+DX8+EF8+EN8+EV8+FD8+FL8+FT8+GB8+GJ8+GR8+GZ8+HH8+HP8+HX8+IF8+IN8+IV8 -> 80 | JF8: =+Q8+Y8+AG8+AO8+AW8+BE8+BM8+BU8+CC8+CK8+CS8+DA8+DI8+DQ8+DY8+EG8+EO8+EW8+FE8+FM8+FU8+GC8+GK8+GS8+HA8+HI8+HQ8+HY8+IG8+IO8+IW8 -> 0 | JG8: =+R8+Z8+AH8+AP8+AX8+BF8+BN8+BV8+CD8+CL8+CT8+DB8+DJ8+DR8+DZ8+EH8+EP8+EX8+FF8+FN8+FV8+GD8+GL8+GT8+HB8+HJ8+HR8+HZ8+IH8+IP8+IX8 -> 0 | JH8: =+S8+AA8+AI8+AQ8+AY8+BG8+BO8+BW8+CE8+CM8+CU8+DC8+DK8+DS8+EA8+EI8+EQ8+EY8+FG8+FO8+FW8+GE8+GM8+GU8+HC8+HK8+HS8+IA8+II8+IQ8+IY8 -> 0 | JI8: =+T8+AB8+AJ8+AR8+AZ8+BH8+BP8+BX8+CF8+CN8+CV8+DD8+DL8+DT8+EB8+EJ8+ER8+EZ8+FH8+FP8+FX8+GF8+GN8+GV8+HD8+HL8+HT8+IB8+IJ8+IR8+IZ8 -> 1798 | JJ8: =+U8+AC8+AK8+AS8+BA8+BI8+BQ8+BY8+CG8+CO8+CW8+DE8+DM8+DU8+EC8+EK8+ES8+FA8+FI8+FQ8+FY8+GG8+GO8+GW8+HE8+HM8+HU8+IC8+IK8+IS8+JA8 -> 17 | JK8: =+N8+JD8+JE8-JF8+JG8-JH8-JI8+JJ8 -> 88 | JM8: =+JK8-JB8 -> 0 | JO8: =+JD8*((K8+L8)*6) -> 128808
A9: 160 | B9: Local | C9: LB77L3W172R1Z55 | D9: S3 | E9: SMF 57412 | F9: L3 | G9: NR | H9: NR | I9: D | J9: 17,9 | K9: 7 | L9: 7 | M9: UN | N9: 0 | V9: =+N9+O9+P9+R9-S9-Q9-T9+U9 -> 0 | AD9: =+V9+W9+X9-Y9+Z9-AA9-AB9+AC9 -> 0 | AF9: 67 | AJ9: 67 | AL9: =+AD9+AE9+AF9-AG9+AH9-AI9-AJ9+AK9 -> 0 | AT9: =+AL9+AM9+AN9-AO9+AP9-AQ9-AR9+AS9 -> 0 | BB9: =+AT9+AU9+AV9-AW9+AX9-AY9-AZ9+BA9 -> 0 | BJ9: =+BB9+BC9+BD9-BE9+BF9-BG9-BH9+BI9 -> 0 | BR9: =+BJ9+BK9+BL9-BM9+BN9-BO9-BP9+BQ9 -> 0 | BZ9: =+BR9+BS9+BT9-BU9+BV9-BW9-BX9+BY9 -> 0 | CH9: =+BZ9+CA9+CB9-CC9+CD9-CE9-CF9+CG9 -> 0 | CP9: =+CH9+CI9+CJ9-CK9+CL9-CM9-CN9+CO9 -> 0 | CQ9: 160 | CV9: 160 | CX9: =+CP9+CQ9+CR9-CS9+CT9-CU9-CV9+CW9 -> 0 | DF9: =+CX9+CY9+CZ9-DA9+DB9-DC9-DD9+DE9 -> 0 | DN9: =+DF9+DG9+DH9-DI9+DJ9-DK9-DL9+DM9 -> 0 | DV9: =+DN9+DO9+DP9-DQ9+DR9-DS9-DT9+DU9 -> 0 | ED9: =+DV9+DW9+DX9-DY9+DZ9-EA9-EB9+EC9 -> 0 | EL9: =+ED9+EE9+EF9-EG9+EH9-EI9-EJ9+EK9 -> 0 | ET9: =+EL9+EM9+EN9-EO9+EP9-EQ9-ER9+ES9 -> 0 | FB9: =+ET9+EU9+EV9-EW9+EX9-EY9-EZ9+FA9 -> 0 | FJ9: =+FB9+FC9+FD9-FE9+FF9-FG9-FH9+FI9 -> 0 | FR9: =+FJ9+FK9+FL9-FM9+FN9-FO9-FP9+FQ9 -> 0 | FZ9: =+FR9+FS9+FT9-FU9+FV9-FW9-FX9+FY9 -> 0 | GH9: =+FZ9+GA9+GB9-GC9+GD9-GE9-GF9+GG9 -> 0 | GP9: =+GH9+GI9+GJ9-GK9+GL9-GM9-GN9+GO9 -> 0 | GX9: =+GP9+GQ9+GR9-GS9+GT9-GU9-GV9+GW9 -> 0 | HF9: =+GX9+GY9+GZ9-HA9+HB9-HC9-HD9+HE9 -> 0 | HN9: =+HF9+HG9+HH9-HI9+HJ9-HK9-HL9+HM9 -> 0 | HV9: =+HN9+HO9+HP9-HQ9+HR9-HS9-HT9+HU9 -> 0 | ID9: =+HV9+HW9+HX9-HY9+HZ9-IA9-IB9+IC9 -> 0 | IL9: =+ID9+IE9+IF9-IG9+IH9-II9-IJ9+IK9 -> 0 | IT9: =+IL9+IM9+IN9-IO9+IP9-IQ9-IR9+IS9 -> 0 | JB9: =+IT9+IU9+IV9-IW9+IX9-IY9-IZ9+JA9 -> 0 | JD9: =+O9+W9+AE9+AM9+AU9+BC9+BK9+BS9+CA9+CI9+CQ9+CY9+DG9+DO9+DW9+EE9+EM9+EU9+FC9+FK9+FS9+GA9+GI9+GQ9+GY9+HG9+HO9+HW9+IE9+IM9+IU9 -> 160 | JE9: =+P9+X9+AF9+AN9+AV9+BD9+BL9+BT9+CB9+CJ9+CR9+CZ9+DH9+DP9+DX9+EF9+EN9+EV9+FD9+FL9+FT9+GB9+GJ9+GR9+GZ9+HH9+HP9+HX9+IF9+IN9+IV9 -> 67 | JF9: =+Q9+Y9+AG9+AO9+AW9+BE9+BM9+BU9+CC9+CK9+CS9+DA9+DI9+DQ9+DY9+EG9+EO9+EW9+FE9+FM9+FU9+GC9+GK9+GS9+HA9+HI9+HQ9+HY9+IG9+IO9+IW9 -> 0 | JG9: =+R9+Z9+AH9+AP9+AX9+BF9+BN9+BV9+CD9+CL9+CT9+DB9+DJ9+DR9+DZ9+EH9+EP9+EX9+FF9+FN9+FV9+GD9+GL9+GT9+HB9+HJ9+HR9+HZ9+IH9+IP9+IX9 -> 0 | JH9: =+S9+AA9+AI9+AQ9+AY9+BG9+BO9+BW9+CE9+CM9+CU9+DC9+DK9+DS9+EA9+EI9+EQ9+EY9+FG9+FO9+FW9+GE9+GM9+GU9+HC9+HK9+HS9+IA9+II9+IQ9+IY9 -> 0 | JI9: =+T9+AB9+AJ9+AR9+AZ9+BH9+BP9+BX9+CF9+CN9+CV9+DD9+DL9+DT9+EB9+EJ9+ER9+EZ9+FH9+FP9+FX9+GF9+GN9+GV9+HD9+HL9+HT9+IB9+IJ9+IR9+IZ9 -> 227 | JJ9: =+U9+AC9+AK9+AS9+BA9+BI9+BQ9+BY9+CG9+CO9+CW9+DE9+DM9+DU9+EC9+EK9+ES9+FA9+FI9+FQ9+FY9+GG9+GO9+GW9+HE9+HM9+HU9+IC9+IK9+IS9+JA9 -> 0 | JK9: =+N9+JD9+JE9-JF9+JG9-JH9-JI9+JJ9 -> 0 | JM9: =+JK9-JB9 -> 0 | JO9: =+JD9*((K9+L9)*6) -> 13440
B10: Local | C10: LB90L5W172R1Z55 | D10: S5 | E10: SMF 60044 | F10: L5 | G10: NR | H10: NR | I10: D | J10: 22,8 | K10: 9 | L10: 10 | M10: UN | N10: =293+38-72 -> 259 | T10: =294-72 -> 222 | V10: =+N10+O10+P10+R10-S10-Q10-T10+U10 -> 37 | AD10: =+V10+W10+X10-Y10+Z10-AA10-AB10+AC10 -> 37 | AL10: =+AD10+AE10+AF10-AG10+AH10-AI10-AJ10+AK10 -> 37 | AT10: =+AL10+AM10+AN10-AO10+AP10-AQ10-AR10+AS10 -> 37 | BB10: =+AT10+AU10+AV10-AW10+AX10-AY10-AZ10+BA10 -> 37 | BC10: 144 | BH10: 144 | BJ10: =+BB10+BC10+BD10-BE10+BF10-BG10-BH10+BI10 -> 37 | BK10: =376 -> 376 | BP10: 376 | BR10: =+BJ10+BK10+BL10-BM10+BN10-BO10-BP10+BQ10 -> 37 | BZ10: =+BR10+BS10+BT10-BU10+BV10-BW10-BX10+BY10 -> 37 | CH10: =+BZ10+CA10+CB10-CC10+CD10-CE10-CF10+CG10 -> 37 | CP10: =+CH10+CI10+CJ10-CK10+CL10-CM10-CN10+CO10 -> 37 | CX10: =+CP10+CQ10+CR10-CS10+CT10-CU10-CV10+CW10 -> 37 | DF10: =+CX10+CY10+CZ10-DA10+DB10-DC10-DD10+DE10 -> 37 | DN10: =+DF10+DG10+DH10-DI10+DJ10-DK10-DL10+DM10 -> 37 | DV10: =+DN10+DO10+DP10-DQ10+DR10-DS10-DT10+DU10 -> 37 | ED10: =+DV10+DW10+DX10-DY10+DZ10-EA10-EB10+EC10 -> 37 | EL10: =+ED10+EE10+EF10-EG10+EH10-EI10-EJ10+EK10 -> 37 | ET10: =+EL10+EM10+EN10-EO10+EP10-EQ10-ER10+ES10 -> 37 | FB10: =+ET10+EU10+EV10-EW10+EX10-EY10-EZ10+FA10 -> 37 | FJ10: =+FB10+FC10+FD10-FE10+FF10-FG10-FH10+FI10 -> 37 | FR10: =+FJ10+FK10+FL10-FM10+FN10-FO10-FP10+FQ10 -> 37 | FZ10: =+FR10+FS10+FT10-FU10+FV10-FW10-FX10+FY10 -> 37 | GH10: =+FZ10+GA10+GB10-GC10+GD10-GE10-GF10+GG10 -> 37 | GP10: =+GH10+GI10+GJ10-GK10+GL10-GM10-GN10+GO10 -> 37 | GX10: =+GP10+GQ10+GR10-GS10+GT10-GU10-GV10+GW10 -> 37 | HF10: =+GX10+GY10+GZ10-HA10+HB10-HC10-HD10+HE10 -> 37 | HN10: =+HF10+HG10+HH10-HI10+HJ10-HK10-HL10+HM10 -> 37 | HV10: =+HN10+HO10+HP10-HQ10+HR10-HS10-HT10+HU10 -> 37 | ID10: =+HV10+HW10+HX10-HY10+HZ10-IA10-IB10+IC10 -> 37 | IL10: =+ID10+IE10+IF10-IG10+IH10-II10-IJ10+IK10 -> 37 | IT10: =+IL10+IM10+IN10-IO10+IP10-IQ10-IR10+IS10 -> 37 | JB10: =+IT10+IU10+IV10-IW10+IX10-IY10-IZ10+JA10 -> 37 | JD10: =+O10+W10+AE10+AM10+AU10+BC10+BK10+BS10+CA10+CI10+CQ10+CY10+DG10+DO10+DW10+EE10+EM10+EU10+FC10+FK10+FS10+GA10+GI10+GQ10+GY10+HG10+HO10+HW10+IE10+IM10+IU10 -> 520 | JE10: =+P10+X10+AF10+AN10+AV10+BD10+BL10+BT10+CB10+CJ10+CR10+CZ10+DH10+DP10+DX10+EF10+EN10+EV10+FD10+FL10+FT10+GB10+GJ10+GR10+GZ10+HH10+HP10+HX10+IF10+IN10+IV10 -> 0 | JF10: =+Q10+Y10+AG10+AO10+AW10+BE10+BM10+BU10+CC10+CK10+CS10+DA10+DI10+DQ10+DY10+EG10+EO10+EW10+FE10+FM10+FU10+GC10+GK10+GS10+HA10+HI10+HQ10+HY10+IG10+IO10+IW10 -> 0 | JG10: =+R10+Z10+AH10+AP10+AX10+BF10+BN10+BV10+CD10+CL10+CT10+DB10+DJ10+DR10+DZ10+EH10+EP10+EX10+FF10+FN10+FV10+GD10+GL10+GT10+HB10+HJ10+HR10+HZ10+IH10+IP10+IX10 -> 0 | JH10: =+S10+AA10+AI10+AQ10+AY10+BG10+BO10+BW10+CE10+CM10+CU10+DC10+DK10+DS10+EA10+EI10+EQ10+EY10+FG10+FO10+FW10+GE10+GM10+GU10+HC10+HK10+HS10+IA10+II10+IQ10+IY10 -> 0 | JI10: =+T10+AB10+AJ10+AR10+AZ10+BH10+BP10+BX10+CF10+CN10+CV10+DD10+DL10+DT10+EB10+EJ10+ER10+EZ10+FH10+FP10+FX10+GF10+GN10+GV10+HD10+HL10+HT10+IB10+IJ10+IR10+IZ10 -> 742 | JJ10: =+U10+AC10+AK10+AS10+BA10+BI10+BQ10+BY10+CG10+CO10+CW10+DE10+DM10+DU10+EC10+EK10+ES10+FA10+FI10+FQ10+FY10+GG10+GO10+GW10+HE10+HM10+HU10+IC10+IK10+IS10+JA10 -> 0 | JK10: =+N10+JD10+JE10-JF10+JG10-JH10-JI10+JJ10 -> 37 | JM10: =+JK10-JB10 -> 0 | JO10: =+JD10*((K10+L10)*6) -> 59280
B11: Local | C11: LB45B1W172R1Z44 | D11: PRL1B | E11: SMF 54512 | F11: L1B | G11: NR | H11: NR | I11: D | J11: 11,6 | K11: 4 | L11: 5 | M11: UN | N11: 84 | T11: 39 | V11: =+N11+O11+P11+R11-S11-Q11-T11+U11 -> 45 | AD11: =+V11+W11+X11-Y11+Z11-AA11-AB11+AC11 -> 45 | AL11: =+AD11+AE11+AF11-AG11+AH11-AI11-AJ11+AK11 -> 45 | AT11: =+AL11+AM11+AN11-AO11+AP11-AQ11-AR11+AS11 -> 45 | BB11: =+AT11+AU11+AV11-AW11+AX11-AY11-AZ11+BA11 -> 45 | BJ11: =+BB11+BC11+BD11-BE11+BF11-BG11-BH11+BI11 -> 45 | BR11: =+BJ11+BK11+BL11-BM11+BN11-BO11-BP11+BQ11 -> 45 | BZ11: =+BR11+BS11+BT11-BU11+BV11-BW11-BX11+BY11 -> 45 | CH11: =+BZ11+CA11+CB11-CC11+CD11-CE11-CF11+CG11 -> 45 | CP11: =+CH11+CI11+CJ11-CK11+CL11-CM11-CN11+CO11 -> 45 | CX11: =+CP11+CQ11+CR11-CS11+CT11-CU11-CV11+CW11 -> 45 | DF11: =+CX11+CY11+CZ11-DA11+DB11-DC11-DD11+DE11 -> 45 | DN11: =+DF11+DG11+DH11-DI11+DJ11-DK11-DL11+DM11 -> 45 | DV11: =+DN11+DO11+DP11-DQ11+DR11-DS11-DT11+DU11 -> 45 | ED11: =+DV11+DW11+DX11-DY11+DZ11-EA11-EB11+EC11 -> 45 | EL11: =+ED11+EE11+EF11-EG11+EH11-EI11-EJ11+EK11 -> 45 | ET11: =+EL11+EM11+EN11-EO11+EP11-EQ11-ER11+ES11 -> 45 | FB11: =+ET11+EU11+EV11-EW11+EX11-EY11-EZ11+FA11 -> 45 | FJ11: =+FB11+FC11+FD11-FE11+FF11-FG11-FH11+FI11 -> 45 | FR11: =+FJ11+FK11+FL11-FM11+FN11-FO11-FP11+FQ11 -> 45 | FZ11: =+FR11+FS11+FT11-FU11+FV11-FW11-FX11+FY11 -> 45 | GH11: =+FZ11+GA11+GB11-GC11+GD11-GE11-GF11+GG11 -> 45 | GP11: =+GH11+GI11+GJ11-GK11+GL11-GM11-GN11+GO11 -> 45 | GX11: =+GP11+GQ11+GR11-GS11+GT11-GU11-GV11+GW11 -> 45 | HF11: =+GX11+GY11+GZ11-HA11+HB11-HC11-HD11+HE11 -> 45 | HN11: =+HF11+HG11+HH11-HI11+HJ11-HK11-HL11+HM11 -> 45 | HV11: =+HN11+HO11+HP11-HQ11+HR11-HS11-HT11+HU11 -> 45 | ID11: =+HV11+HW11+HX11-HY11+HZ11-IA11-IB11+IC11 -> 45 | IL11: =+ID11+IE11+IF11-IG11+IH11-II11-IJ11+IK11 -> 45 | IT11: =+IL11+IM11+IN11-IO11+IP11-IQ11-IR11+IS11 -> 45 | JB11: =+IT11+IU11+IV11-IW11+IX11-IY11-IZ11+JA11 -> 45 | JD11: =+O11+W11+AE11+AM11+AU11+BC11+BK11+BS11+CA11+CI11+CQ11+CY11+DG11+DO11+DW11+EE11+EM11+EU11+FC11+FK11+FS11+GA11+GI11+GQ11+GY11+HG11+HO11+HW11+IE11+IM11+IU11 -> 0 | JE11: =+P11+X11+AF11+AN11+AV11+BD11+BL11+BT11+CB11+CJ11+CR11+CZ11+DH11+DP11+DX11+EF11+EN11+EV11+FD11+FL11+FT11+GB11+GJ11+GR11+GZ11+HH11+HP11+HX11+IF11+IN11+IV11 -> 0 | JF11: =+Q11+Y11+AG11+AO11+AW11+BE11+BM11+BU11+CC11+CK11+CS11+DA11+DI11+DQ11+DY11+EG11+EO11+EW11+FE11+FM11+FU11+GC11+GK11+GS11+HA11+HI11+HQ11+HY11+IG11+IO11+IW11 -> 0 | JG11: =+R11+Z11+AH11+AP11+AX11+BF11+BN11+BV11+CD11+CL11+CT11+DB11+DJ11+DR11+DZ11+EH11+EP11+EX11+FF11+FN11+FV11+GD11+GL11+GT11+HB11+HJ11+HR11+HZ11+IH11+IP11+IX11 -> 0 | JH11: =+S11+AA11+AI11+AQ11+AY11+BG11+BO11+BW11+CE11+CM11+CU11+DC11+DK11+DS11+EA11+EI11+EQ11+EY11+FG11+FO11+FW11+GE11+GM11+GU11+HC11+HK11+HS11+IA11+II11+IQ11+IY11 -> 0 | JI11: =+T11+AB11+AJ11+AR11+AZ11+BH11+BP11+BX11+CF11+CN11+CV11+DD11+DL11+DT11+EB11+EJ11+ER11+EZ11+FH11+FP11+FX11+GF11+GN11+GV11+HD11+HL11+HT11+IB11+IJ11+IR11+IZ11 -> 39 | JJ11: =+U11+AC11+AK11+AS11+BA11+BI11+BQ11+BY11+CG11+CO11+CW11+DE11+DM11+DU11+EC11+EK11+ES11+FA11+FI11+FQ11+FY11+GG11+GO11+GW11+HE11+HM11+HU11+IC11+IK11+IS11+JA11 -> 0 | JK11: =+N11+JD11+JE11-JF11+JG11-JH11-JI11+JJ11 -> 45 | JM11: =+JK11-JB11 -> 0 | JO11: =+JD11*((K11+L11)*6) -> 0
B12: Local | C12: LB45L1W172R1Z44 | D12: PRL1D | E12: SMF 54459 | F12: L1 | G12: NR | H12: NR | I12: D | J12: 11,8 | K12: 4 | L12: 5 | M12: UN | N12: 0 | V12: =+N12+O12+P12+R12-S12-Q12-T12+U12 -> 0 | AD12: =+V12+W12+X12-Y12+Z12-AA12-AB12+AC12 -> 0 | AL12: =+AD12+AE12+AF12-AG12+AH12-AI12-AJ12+AK12 -> 0 | AT12: =+AL12+AM12+AN12-AO12+AP12-AQ12-AR12+AS12 -> 0 | BB12: =+AT12+AU12+AV12-AW12+AX12-AY12-AZ12+BA12 -> 0 | BJ12: =+BB12+BC12+BD12-BE12+BF12-BG12-BH12+BI12 -> 0 | BR12: =+BJ12+BK12+BL12-BM12+BN12-BO12-BP12+BQ12 -> 0 | BZ12: =+BR12+BS12+BT12-BU12+BV12-BW12-BX12+BY12 -> 0 | CH12: =+BZ12+CA12+CB12-CC12+CD12-CE12-CF12+CG12 -> 0 | CP12: =+CH12+CI12+CJ12-CK12+CL12-CM12-CN12+CO12 -> 0 | CQ12: 340 | CX12: =+CP12+CQ12+CR12-CS12+CT12-CU12-CV12+CW12 -> 340 | CY12: 363 | DF12: =+CX12+CY12+CZ12-DA12+DB12-DC12-DD12+DE12 -> 703 | DN12: =+DF12+DG12+DH12-DI12+DJ12-DK12-DL12+DM12 -> 703 | DV12: =+DN12+DO12+DP12-DQ12+DR12-DS12-DT12+DU12 -> 703 | ED12: =+DV12+DW12+DX12-DY12+DZ12-EA12-EB12+EC12 -> 703 | EL12: =+ED12+EE12+EF12-EG12+EH12-EI12-EJ12+EK12 -> 703 | ET12: =+EL12+EM12+EN12-EO12+EP12-EQ12-ER12+ES12 -> 703 | FB12: =+ET12+EU12+EV12-EW12+EX12-EY12-EZ12+FA12 -> 703 | FJ12: =+FB12+FC12+FD12-FE12+FF12-FG12-FH12+FI12 -> 703 | FR12: =+FJ12+FK12+FL12-FM12+FN12-FO12-FP12+FQ12 -> 703 | FZ12: =+FR12+FS12+FT12-FU12+FV12-FW12-FX12+FY12 -> 703 | GH12: =+FZ12+GA12+GB12-GC12+GD12-GE12-GF12+GG12 -> 703 | GP12: =+GH12+GI12+GJ12-GK12+GL12-GM12-GN12+GO12 -> 703 | GX12: =+GP12+GQ12+GR12-GS12+GT12-GU12-GV12+GW12 -> 703 | HF12: =+GX12+GY12+GZ12-HA12+HB12-HC12-HD12+HE12 -> 703 | HN12: =+HF12+HG12+HH12-HI12+HJ12-HK12-HL12+HM12 -> 703 | HV12: =+HN12+HO12+HP12-HQ12+HR12-HS12-HT12+HU12 -> 703 | ID12: =+HV12+HW12+HX12-HY12+HZ12-IA12-IB12+IC12 -> 703 | IL12: =+ID12+IE12+IF12-IG12+IH12-II12-IJ12+IK12 -> 703 | IT12: =+IL12+IM12+IN12-IO12+IP12-IQ12-IR12+IS12 -> 703 | JB12: =+IT12+IU12+IV12-IW12+IX12-IY12-IZ12+JA12 -> 703 | JD12: =+O12+W12+AE12+AM12+AU12+BC12+BK12+BS12+CA12+CI12+CQ12+CY12+DG12+DO12+DW12+EE12+EM12+EU12+FC12+FK12+FS12+GA12+GI12+GQ12+GY12+HG12+HO12+HW12+IE12+IM12+IU12 -> 703 | JE12: =+P12+X12+AF12+AN12+AV12+BD12+BL12+BT12+CB12+CJ12+CR12+CZ12+DH12+DP12+DX12+EF12+EN12+EV12+FD12+FL12+FT12+GB12+GJ12+GR12+GZ12+HH12+HP12+HX12+IF12+IN12+IV12 -> 0 | JF12: =+Q12+Y12+AG12+AO12+AW12+BE12+BM12+BU12+CC12+CK12+CS12+DA12+DI12+DQ12+DY12+EG12+EO12+EW12+FE12+FM12+FU12+GC12+GK12+GS12+HA12+HI12+HQ12+HY12+IG12+IO12+IW12 -> 0 | JG12: =+R12+Z12+AH12+AP12+AX12+BF12+BN12+BV12+CD12+CL12+CT12+DB12+DJ12+DR12+DZ12+EH12+EP12+EX12+FF12+FN12+FV12+GD12+GL12+GT12+HB12+HJ12+HR12+HZ12+IH12+IP12+IX12 -> 0 | JH12: =+S12+AA12+AI12+AQ12+AY12+BG12+BO12+BW12+CE12+CM12+CU12+DC12+DK12+DS12+EA12+EI12+EQ12+EY12+FG12+FO12+FW12+GE12+GM12+GU12+HC12+HK12+HS12+IA12+II12+IQ12+IY12 -> 0 | JI12: =+T12+AB12+AJ12+AR12+AZ12+BH12+BP12+BX12+CF12+CN12+CV12+DD12+DL12+DT12+EB12+EJ12+ER12+EZ12+FH12+FP12+FX12+GF12+GN12+GV12+HD12+HL12+HT12+IB12+IJ12+IR12+IZ12 -> 0 | JJ12: =+U12+AC12+AK12+AS12+BA12+BI12+BQ12+BY12+CG12+CO12+CW12+DE12+DM12+DU12+EC12+EK12+ES12+FA12+FI12+FQ12+FY12+GG12+GO12+GW12+HE12+HM12+HU12+IC12+IK12+IS12+JA12 -> 0 | JK12: =+N12+JD12+JE12-JF12+JG12-JH12-JI12+JJ12 -> 703 | JM12: =+JK12-JB12 -> 0 | JO12: =+JD12*((K12+L12)*6) -> 37962
B13: Local | C13: LB45L1W172L1Z44 | D13: PRL1G | F13: L1 | G13: NR | H13: NR | I13: G | J13: 11,8 | K13: 4 | L13: 5 | M13: UN | N13: 132 | V13: =+N13+O13+P13+R13-S13-Q13-T13+U13 -> 132 | AD13: =+V13+W13+X13-Y13+Z13-AA13-AB13+AC13 -> 132 | AL13: =+AD13+AE13+AF13-AG13+AH13-AI13-AJ13+AK13 -> 132 | AT13: =+AL13+AM13+AN13-AO13+AP13-AQ13-AR13+AS13 -> 132 | BB13: =+AT13+AU13+AV13-AW13+AX13-AY13-AZ13+BA13 -> 132 | BJ13: =+BB13+BC13+BD13-BE13+BF13-BG13-BH13+BI13 -> 132 | BR13: =+BJ13+BK13+BL13-BM13+BN13-BO13-BP13+BQ13 -> 132 | BZ13: =+BR13+BS13+BT13-BU13+BV13-BW13-BX13+BY13 -> 132 | CH13: =+BZ13+CA13+CB13-CC13+CD13-CE13-CF13+CG13 -> 132 | CP13: =+CH13+CI13+CJ13-CK13+CL13-CM13-CN13+CO13 -> 132 | CX13: =+CP13+CQ13+CR13-CS13+CT13-CU13-CV13+CW13 -> 132 | DF13: =+CX13+CY13+CZ13-DA13+DB13-DC13-DD13+DE13 -> 132 | DN13: =+DF13+DG13+DH13-DI13+DJ13-DK13-DL13+DM13 -> 132 | DV13: =+DN13+DO13+DP13-DQ13+DR13-DS13-DT13+DU13 -> 132 | ED13: =+DV13+DW13+DX13-DY13+DZ13-EA13-EB13+EC13 -> 132 | EL13: =+ED13+EE13+EF13-EG13+EH13-EI13-EJ13+EK13 -> 132 | ET13: =+EL13+EM13+EN13-EO13+EP13-EQ13-ER13+ES13 -> 132 | FB13: =+ET13+EU13+EV13-EW13+EX13-EY13-EZ13+FA13 -> 132 | FJ13: =+FB13+FC13+FD13-FE13+FF13-FG13-FH13+FI13 -> 132 | FR13: =+FJ13+FK13+FL13-FM13+FN13-FO13-FP13+FQ13 -> 132 | FZ13: =+FR13+FS13+FT13-FU13+FV13-FW13-FX13+FY13 -> 132 | GH13: =+FZ13+GA13+GB13-GC13+GD13-GE13-GF13+GG13 -> 132 | GP13: =+GH13+GI13+GJ13-GK13+GL13-GM13-GN13+GO13 -> 132 | GX13: =+GP13+GQ13+GR13-GS13+GT13-GU13-GV13+GW13 -> 132 | HF13: =+GX13+GY13+GZ13-HA13+HB13-HC13-HD13+HE13 -> 132 | HN13: =+HF13+HG13+HH13-HI13+HJ13-HK13-HL13+HM13 -> 132 | HV13: =+HN13+HO13+HP13-HQ13+HR13-HS13-HT13+HU13 -> 132 | ID13: =+HV13+HW13+HX13-HY13+HZ13-IA13-IB13+IC13 -> 132 | IL13: =+ID13+IE13+IF13-IG13+IH13-II13-IJ13+IK13 -> 132 | IT13: =+IL13+IM13+IN13-IO13+IP13-IQ13-IR13+IS13 -> 132 | JB13: =+IT13+IU13+IV13-IW13+IX13-IY13-IZ13+JA13 -> 132 | JD13: =+O13+W13+AE13+AM13+AU13+BC13+BK13+BS13+CA13+CI13+CQ13+CY13+DG13+DO13+DW13+EE13+EM13+EU13+FC13+FK13+FS13+GA13+GI13+GQ13+GY13+HG13+HO13+HW13+IE13+IM13+IU13 -> 0 | JE13: =+P13+X13+AF13+AN13+AV13+BD13+BL13+BT13+CB13+CJ13+CR13+CZ13+DH13+DP13+DX13+EF13+EN13+EV13+FD13+FL13+FT13+GB13+GJ13+GR13+GZ13+HH13+HP13+HX13+IF13+IN13+IV13 -> 0 | JF13: =+Q13+Y13+AG13+AO13+AW13+BE13+BM13+BU13+CC13+CK13+CS13+DA13+DI13+DQ13+DY13+EG13+EO13+EW13+FE13+FM13+FU13+GC13+GK13+GS13+HA13+HI13+HQ13+HY13+IG13+IO13+IW13 -> 0 | JG13: =+R13+Z13+AH13+AP13+AX13+BF13+BN13+BV13+CD13+CL13+CT13+DB13+DJ13+DR13+DZ13+EH13+EP13+EX13+FF13+FN13+FV13+GD13+GL13+GT13+HB13+HJ13+HR13+HZ13+IH13+IP13+IX13 -> 0 | JH13: =+S13+AA13+AI13+AQ13+AY13+BG13+BO13+BW13+CE13+CM13+CU13+DC13+DK13+DS13+EA13+EI13+EQ13+EY13+FG13+FO13+FW13+GE13+GM13+GU13+HC13+HK13+HS13+IA13+II13+IQ13+IY13 -> 0 | JI13: =+T13+AB13+AJ13+AR13+AZ13+BH13+BP13+BX13+CF13+CN13+CV13+DD13+DL13+DT13+EB13+EJ13+ER13+EZ13+FH13+FP13+FX13+GF13+GN13+GV13+HD13+HL13+HT13+IB13+IJ13+IR13+IZ13 -> 0 | JJ13: =+U13+AC13+AK13+AS13+BA13+BI13+BQ13+BY13+CG13+CO13+CW13+DE13+DM13+DU13+EC13+EK13+ES13+FA13+FI13+FQ13+FY13+GG13+GO13+GW13+HE13+HM13+HU13+IC13+IK13+IS13+JA13 -> 0 | JK13: =+N13+JD13+JE13-JF13+JG13-JH13-JI13+JJ13 -> 132 | JM13: =+JK13-JB13 -> 0 | JO13: =+JD13*((K13+L13)*6) -> 0
B14: Local | C14: LB56B2W172R1Z44 | D14: PRL2B | E14: SMF 56077 | F14: L2B | G14: NR | H14: NR | I14: D | J14: 13,9 | K14: 5 | L14: 6 | M14: UN | N14: 56 | V14: =+N14+O14+P14+R14-S14-Q14-T14+U14 -> 56 | AD14: =+V14+W14+X14-Y14+Z14-AA14-AB14+AC14 -> 56 | AL14: =+AD14+AE14+AF14-AG14+AH14-AI14-AJ14+AK14 -> 56 | AT14: =+AL14+AM14+AN14-AO14+AP14-AQ14-AR14+AS14 -> 56 | BB14: =+AT14+AU14+AV14-AW14+AX14-AY14-AZ14+BA14 -> 56 | BJ14: =+BB14+BC14+BD14-BE14+BF14-BG14-BH14+BI14 -> 56 | BR14: =+BJ14+BK14+BL14-BM14+BN14-BO14-BP14+BQ14 -> 56 | BZ14: =+BR14+BS14+BT14-BU14+BV14-BW14-BX14+BY14 -> 56 | CH14: =+BZ14+CA14+CB14-CC14+CD14-CE14-CF14+CG14 -> 56 | CP14: =+CH14+CI14+CJ14-CK14+CL14-CM14-CN14+CO14 -> 56 | CX14: =+CP14+CQ14+CR14-CS14+CT14-CU14-CV14+CW14 -> 56 | DF14: =+CX14+CY14+CZ14-DA14+DB14-DC14-DD14+DE14 -> 56 | DN14: =+DF14+DG14+DH14-DI14+DJ14-DK14-DL14+DM14 -> 56 | DV14: =+DN14+DO14+DP14-DQ14+DR14-DS14-DT14+DU14 -> 56 | ED14: =+DV14+DW14+DX14-DY14+DZ14-EA14-EB14+EC14 -> 56 | EL14: =+ED14+EE14+EF14-EG14+EH14-EI14-EJ14+EK14 -> 56 | ET14: =+EL14+EM14+EN14-EO14+EP14-EQ14-ER14+ES14 -> 56 | FB14: =+ET14+EU14+EV14-EW14+EX14-EY14-EZ14+FA14 -> 56 | FJ14: =+FB14+FC14+FD14-FE14+FF14-FG14-FH14+FI14 -> 56 | FR14: =+FJ14+FK14+FL14-FM14+FN14-FO14-FP14+FQ14 -> 56 | FZ14: =+FR14+FS14+FT14-FU14+FV14-FW14-FX14+FY14 -> 56 | GH14: =+FZ14+GA14+GB14-GC14+GD14-GE14-GF14+GG14 -> 56 | GP14: =+GH14+GI14+GJ14-GK14+GL14-GM14-GN14+GO14 -> 56 | GX14: =+GP14+GQ14+GR14-GS14+GT14-GU14-GV14+GW14 -> 56 | HF14: =+GX14+GY14+GZ14-HA14+HB14-HC14-HD14+HE14 -> 56 | HN14: =+HF14+HG14+HH14-HI14+HJ14-HK14-HL14+HM14 -> 56 | HV14: =+HN14+HO14+HP14-HQ14+HR14-HS14-HT14+HU14 -> 56 | ID14: =+HV14+HW14+HX14-HY14+HZ14-IA14-IB14+IC14 -> 56 | IL14: =+ID14+IE14+IF14-IG14+IH14-II14-IJ14+IK14 -> 56 | IT14: =+IL14+IM14+IN14-IO14+IP14-IQ14-IR14+IS14 -> 56 | JB14: =+IT14+IU14+IV14-IW14+IX14-IY14-IZ14+JA14 -> 56 | JD14: =+O14+W14+AE14+AM14+AU14+BC14+BK14+BS14+CA14+CI14+CQ14+CY14+DG14+DO14+DW14+EE14+EM14+EU14+FC14+FK14+FS14+GA14+GI14+GQ14+GY14+HG14+HO14+HW14+IE14+IM14+IU14 -> 0 | JE14: =+P14+X14+AF14+AN14+AV14+BD14+BL14+BT14+CB14+CJ14+CR14+CZ14+DH14+DP14+DX14+EF14+EN14+EV14+FD14+FL14+FT14+GB14+GJ14+GR14+GZ14+HH14+HP14+HX14+IF14+IN14+IV14 -> 0 | JF14: =+Q14+Y14+AG14+AO14+AW14+BE14+BM14+BU14+CC14+CK14+CS14+DA14+DI14+DQ14+DY14+EG14+EO14+EW14+FE14+FM14+FU14+GC14+GK14+GS14+HA14+HI14+HQ14+HY14+IG14+IO14+IW14 -> 0 | JG14: =+R14+Z14+AH14+AP14+AX14+BF14+BN14+BV14+CD14+CL14+CT14+DB14+DJ14+DR14+DZ14+EH14+EP14+EX14+FF14+FN14+FV14+GD14+GL14+GT14+HB14+HJ14+HR14+HZ14+IH14+IP14+IX14 -> 0 | JH14: =+S14+AA14+AI14+AQ14+AY14+BG14+BO14+BW14+CE14+CM14+CU14+DC14+DK14+DS14+EA14+EI14+EQ14+EY14+FG14+FO14+FW14+GE14+GM14+GU14+HC14+HK14+HS14+IA14+II14+IQ14+IY14 -> 0 | JI14: =+T14+AB14+AJ14+AR14+AZ14+BH14+BP14+BX14+CF14+CN14+CV14+DD14+DL14+DT14+EB14+EJ14+ER14+EZ14+FH14+FP14+FX14+GF14+GN14+GV14+HD14+HL14+HT14+IB14+IJ14+IR14+IZ14 -> 0 | JJ14: =+U14+AC14+AK14+AS14+BA14+BI14+BQ14+BY14+CG14+CO14+CW14+DE14+DM14+DU14+EC14+EK14+ES14+FA14+FI14+FQ14+FY14+GG14+GO14+GW14+HE14+HM14+HU14+IC14+IK14+IS14+JA14 -> 0 | JK14: =+N14+JD14+JE14-JF14+JG14-JH14-JI14+JJ14 -> 56 | JM14: =+JK14-JB14 -> 0 | JO14: =+JD14*((K14+L14)*6) -> 0
B15: Local | C15: LB56L2W172R1Z44 | D15: PRL2 | E15: SMF 56078 | F15: L2 | G15: NR | H15: NR | I15: D | J15: 14,1 | K15: 5 | L15: 6 | M15: UN | N15: 3 | V15: =+N15+O15+P15+R15-S15-Q15-T15+U15 -> 3 | AD15: =+V15+W15+X15-Y15+Z15-AA15-AB15+AC15 -> 3 | AL15: =+AD15+AE15+AF15-AG15+AH15-AI15-AJ15+AK15 -> 3 | AT15: =+AL15+AM15+AN15-AO15+AP15-AQ15-AR15+AS15 -> 3 | BB15: =+AT15+AU15+AV15-AW15+AX15-AY15-AZ15+BA15 -> 3 | BC15: =800-126 -> 674 | BH15: =648-126 -> 522 | BJ15: =+BB15+BC15+BD15-BE15+BF15-BG15-BH15+BI15 -> 155 | BK15: 935 | BR15: =+BJ15+BK15+BL15-BM15+BN15-BO15-BP15+BQ15 -> 1090 | BZ15: =+BR15+BS15+BT15-BU15+BV15-BW15-BX15+BY15 -> 1090 | CH15: =+BZ15+CA15+CB15-CC15+CD15-CE15-CF15+CG15 -> 1090 | CI15: 20 | CP15: =+CH15+CI15+CJ15-CK15+CL15-CM15-CN15+CO15 -> 1110 | CX15: =+CP15+CQ15+CR15-CS15+CT15-CU15-CV15+CW15 -> 1110 | DF15: =+CX15+CY15+CZ15-DA15+DB15-DC15-DD15+DE15 -> 1110 | DN15: =+DF15+DG15+DH15-DI15+DJ15-DK15-DL15+DM15 -> 1110 | DV15: =+DN15+DO15+DP15-DQ15+DR15-DS15-DT15+DU15 -> 1110 | ED15: =+DV15+DW15+DX15-DY15+DZ15-EA15-EB15+EC15 -> 1110 | EL15: =+ED15+EE15+EF15-EG15+EH15-EI15-EJ15+EK15 -> 1110 | ET15: =+EL15+EM15+EN15-EO15+EP15-EQ15-ER15+ES15 -> 1110 | FB15: =+ET15+EU15+EV15-EW15+EX15-EY15-EZ15+FA15 -> 1110 | FJ15: =+FB15+FC15+FD15-FE15+FF15-FG15-FH15+FI15 -> 1110 | FR15: =+FJ15+FK15+FL15-FM15+FN15-FO15-FP15+FQ15 -> 1110 | FZ15: =+FR15+FS15+FT15-FU15+FV15-FW15-FX15+FY15 -> 1110 | GH15: =+FZ15+GA15+GB15-GC15+GD15-GE15-GF15+GG15 -> 1110 | GP15: =+GH15+GI15+GJ15-GK15+GL15-GM15-GN15+GO15 -> 1110 | GX15: =+GP15+GQ15+GR15-GS15+GT15-GU15-GV15+GW15 -> 1110 | HF15: =+GX15+GY15+GZ15-HA15+HB15-HC15-HD15+HE15 -> 1110 | HN15: =+HF15+HG15+HH15-HI15+HJ15-HK15-HL15+HM15 -> 1110 | HV15: =+HN15+HO15+HP15-HQ15+HR15-HS15-HT15+HU15 -> 1110 | ID15: =+HV15+HW15+HX15-HY15+HZ15-IA15-IB15+IC15 -> 1110 | IL15: =+ID15+IE15+IF15-IG15+IH15-II15-IJ15+IK15 -> 1110 | IT15: =+IL15+IM15+IN15-IO15+IP15-IQ15-IR15+IS15 -> 1110 | JB15: =+IT15+IU15+IV15-IW15+IX15-IY15-IZ15+JA15 -> 1110 | JD15: =+O15+W15+AE15+AM15+AU15+BC15+BK15+BS15+CA15+CI15+CQ15+CY15+DG15+DO15+DW15+EE15+EM15+EU15+FC15+FK15+FS15+GA15+GI15+GQ15+GY15+HG15+HO15+HW15+IE15+IM15+IU15 -> 1629 | JE15: =+P15+X15+AF15+AN15+AV15+BD15+BL15+BT15+CB15+CJ15+CR15+CZ15+DH15+DP15+DX15+EF15+EN15+EV15+FD15+FL15+FT15+GB15+GJ15+GR15+GZ15+HH15+HP15+HX15+IF15+IN15+IV15 -> 0 | JF15: =+Q15+Y15+AG15+AO15+AW15+BE15+BM15+BU15+CC15+CK15+CS15+DA15+DI15+DQ15+DY15+EG15+EO15+EW15+FE15+FM15+FU15+GC15+GK15+GS15+HA15+HI15+HQ15+HY15+IG15+IO15+IW15 -> 0 | JG15: =+R15+Z15+AH15+AP15+AX15+BF15+BN15+BV15+CD15+CL15+CT15+DB15+DJ15+DR15+DZ15+EH15+EP15+EX15+FF15+FN15+FV15+GD15+GL15+GT15+HB15+HJ15+HR15+HZ15+IH15+IP15+IX15 -> 0 | JH15: =+S15+AA15+AI15+AQ15+AY15+BG15+BO15+BW15+CE15+CM15+CU15+DC15+DK15+DS15+EA15+EI15+EQ15+EY15+FG15+FO15+FW15+GE15+GM15+GU15+HC15+HK15+HS15+IA15+II15+IQ15+IY15 -> 0 | JI15: =+T15+AB15+AJ15+AR15+AZ15+BH15+BP15+BX15+CF15+CN15+CV15+DD15+DL15+DT15+EB15+EJ15+ER15+EZ15+FH15+FP15+FX15+GF15+GN15+GV15+HD15+HL15+HT15+IB15+IJ15+IR15+IZ15 -> 522 | JJ15: =+U15+AC15+AK15+AS15+BA15+BI15+BQ15+BY15+CG15+CO15+CW15+DE15+DM15+DU15+EC15+EK15+ES15+FA15+FI15+FQ15+FY15+GG15+GO15+GW15+HE15+HM15+HU15+IC15+IK15+IS15+JA15 -> 0 | JK15: =+N15+JD15+JE15-JF15+JG15-JH15-JI15+JJ15 -> 1110 | JM15: =+JK15-JB15 -> 0 | JO15: =+JD15*((K15+L15)*6) -> 107514
B16: Local | C16: LB67B3W172R1Z44 | D16: PRL3B | E16: SMF 57014 | F16: L3B | G16: NR | H16: NR | I16: D | J16: 16,6 | K16: 6 | L16: 7 | M16: UN | N16: 0 | V16: =+N16+O16+P16+R16-S16-Q16-T16+U16 -> 0 | AD16: =+V16+W16+X16-Y16+Z16-AA16-AB16+AC16 -> 0 | AL16: =+AD16+AE16+AF16-AG16+AH16-AI16-AJ16+AK16 -> 0 | AT16: =+AL16+AM16+AN16-AO16+AP16-AQ16-AR16+AS16 -> 0 | BB16: =+AT16+AU16+AV16-AW16+AX16-AY16-AZ16+BA16 -> 0 | BJ16: =+BB16+BC16+BD16-BE16+BF16-BG16-BH16+BI16 -> 0 | BR16: =+BJ16+BK16+BL16-BM16+BN16-BO16-BP16+BQ16 -> 0 | BZ16: =+BR16+BS16+BT16-BU16+BV16-BW16-BX16+BY16 -> 0 | CH16: =+BZ16+CA16+CB16-CC16+CD16-CE16-CF16+CG16 -> 0 | CP16: =+CH16+CI16+CJ16-CK16+CL16-CM16-CN16+CO16 -> 0 | CX16: =+CP16+CQ16+CR16-CS16+CT16-CU16-CV16+CW16 -> 0 | DF16: =+CX16+CY16+CZ16-DA16+DB16-DC16-DD16+DE16 -> 0 | DN16: =+DF16+DG16+DH16-DI16+DJ16-DK16-DL16+DM16 -> 0 | DV16: =+DN16+DO16+DP16-DQ16+DR16-DS16-DT16+DU16 -> 0 | ED16: =+DV16+DW16+DX16-DY16+DZ16-EA16-EB16+EC16 -> 0 | EL16: =+ED16+EE16+EF16-EG16+EH16-EI16-EJ16+EK16 -> 0 | ET16: =+EL16+EM16+EN16-EO16+EP16-EQ16-ER16+ES16 -> 0 | FB16: =+ET16+EU16+EV16-EW16+EX16-EY16-EZ16+FA16 -> 0 | FJ16: =+FB16+FC16+FD16-FE16+FF16-FG16-FH16+FI16 -> 0 | FR16: =+FJ16+FK16+FL16-FM16+FN16-FO16-FP16+FQ16 -> 0 | FZ16: =+FR16+FS16+FT16-FU16+FV16-FW16-FX16+FY16 -> 0 | GH16: =+FZ16+GA16+GB16-GC16+GD16-GE16-GF16+GG16 -> 0 | GP16: =+GH16+GI16+GJ16-GK16+GL16-GM16-GN16+GO16 -> 0 | GX16: =+GP16+GQ16+GR16-GS16+GT16-GU16-GV16+GW16 -> 0 | HF16: =+GX16+GY16+GZ16-HA16+HB16-HC16-HD16+HE16 -> 0 | HN16: =+HF16+HG16+HH16-HI16+HJ16-HK16-HL16+HM16 -> 0 | HV16: =+HN16+HO16+HP16-HQ16+HR16-HS16-HT16+HU16 -> 0 | ID16: =+HV16+HW16+HX16-HY16+HZ16-IA16-IB16+IC16 -> 0 | IL16: =+ID16+IE16+IF16-IG16+IH16-II16-IJ16+IK16 -> 0 | IT16: =+IL16+IM16+IN16-IO16+IP16-IQ16-IR16+IS16 -> 0 | JB16: =+IT16+IU16+IV16-IW16+IX16-IY16-IZ16+JA16 -> 0 | JD16: =+O16+W16+AE16+AM16+AU16+BC16+BK16+BS16+CA16+CI16+CQ16+CY16+DG16+DO16+DW16+EE16+EM16+EU16+FC16+FK16+FS16+GA16+GI16+GQ16+GY16+HG16+HO16+HW16+IE16+IM16+IU16 -> 0 | JE16: =+P16+X16+AF16+AN16+AV16+BD16+BL16+BT16+CB16+CJ16+CR16+CZ16+DH16+DP16+DX16+EF16+EN16+EV16+FD16+FL16+FT16+GB16+GJ16+GR16+GZ16+HH16+HP16+HX16+IF16+IN16+IV16 -> 0 | JF16: =+Q16+Y16+AG16+AO16+AW16+BE16+BM16+BU16+CC16+CK16+CS16+DA16+DI16+DQ16+DY16+EG16+EO16+EW16+FE16+FM16+FU16+GC16+GK16+GS16+HA16+HI16+HQ16+HY16+IG16+IO16+IW16 -> 0 | JG16: =+R16+Z16+AH16+AP16+AX16+BF16+BN16+BV16+CD16+CL16+CT16+DB16+DJ16+DR16+DZ16+EH16+EP16+EX16+FF16+FN16+FV16+GD16+GL16+GT16+HB16+HJ16+HR16+HZ16+IH16+IP16+IX16 -> 0 | JH16: =+S16+AA16+AI16+AQ16+AY16+BG16+BO16+BW16+CE16+CM16+CU16+DC16+DK16+DS16+EA16+EI16+EQ16+EY16+FG16+FO16+FW16+GE16+GM16+GU16+HC16+HK16+HS16+IA16+II16+IQ16+IY16 -> 0 | JI16: =+T16+AB16+AJ16+AR16+AZ16+BH16+BP16+BX16+CF16+CN16+CV16+DD16+DL16+DT16+EB16+EJ16+ER16+EZ16+FH16+FP16+FX16+GF16+GN16+GV16+HD16+HL16+HT16+IB16+IJ16+IR16+IZ16 -> 0 | JJ16: =+U16+AC16+AK16+AS16+BA16+BI16+BQ16+BY16+CG16+CO16+CW16+DE16+DM16+DU16+EC16+EK16+ES16+FA16+FI16+FQ16+FY16+GG16+GO16+GW16+HE16+HM16+HU16+IC16+IK16+IS16+JA16 -> 0 | JK16: =+N16+JD16+JE16-JF16+JG16-JH16-JI16+JJ16 -> 0 | JM16: =+JK16-JB16 -> 0 | JO16: =+JD16*((K16+L16)*6) -> 0
B17: Local | C17: LB67L3W172R1Z44 | D17: PRL3 | E17: SMF 57220 | F17: L3 | G17: NR | H17: NR | I17: D | J17: 16,8 | K17: 6 | L17: 7 | M17: UN | N17: 0 | V17: =+N17+O17+P17+R17-S17-Q17-T17+U17 -> 0 | AD17: =+V17+W17+X17-Y17+Z17-AA17-AB17+AC17 -> 0 | AL17: =+AD17+AE17+AF17-AG17+AH17-AI17-AJ17+AK17 -> 0 | AT17: =+AL17+AM17+AN17-AO17+AP17-AQ17-AR17+AS17 -> 0 | BB17: =+AT17+AU17+AV17-AW17+AX17-AY17-AZ17+BA17 -> 0 | BJ17: =+BB17+BC17+BD17-BE17+BF17-BG17-BH17+BI17 -> 0 | BR17: =+BJ17+BK17+BL17-BM17+BN17-BO17-BP17+BQ17 -> 0 | BZ17: =+BR17+BS17+BT17-BU17+BV17-BW17-BX17+BY17 -> 0 | CH17: =+BZ17+CA17+CB17-CC17+CD17-CE17-CF17+CG17 -> 0 | CP17: =+CH17+CI17+CJ17-CK17+CL17-CM17-CN17+CO17 -> 0 | CX17: =+CP17+CQ17+CR17-CS17+CT17-CU17-CV17+CW17 -> 0 | DF17: =+CX17+CY17+CZ17-DA17+DB17-DC17-DD17+DE17 -> 0 | DN17: =+DF17+DG17+DH17-DI17+DJ17-DK17-DL17+DM17 -> 0 | DV17: =+DN17+DO17+DP17-DQ17+DR17-DS17-DT17+DU17 -> 0 | ED17: =+DV17+DW17+DX17-DY17+DZ17-EA17-EB17+EC17 -> 0 | EL17: =+ED17+EE17+EF17-EG17+EH17-EI17-EJ17+EK17 -> 0 | ET17: =+EL17+EM17+EN17-EO17+EP17-EQ17-ER17+ES17 -> 0 | FB17: =+ET17+EU17+EV17-EW17+EX17-EY17-EZ17+FA17 -> 0 | FJ17: =+FB17+FC17+FD17-FE17+FF17-FG17-FH17+FI17 -> 0 | FR17: =+FJ17+FK17+FL17-FM17+FN17-FO17-FP17+FQ17 -> 0 | FZ17: =+FR17+FS17+FT17-FU17+FV17-FW17-FX17+FY17 -> 0 | GH17: =+FZ17+GA17+GB17-GC17+GD17-GE17-GF17+GG17 -> 0 | GP17: =+GH17+GI17+GJ17-GK17+GL17-GM17-GN17+GO17 -> 0 | GX17: =+GP17+GQ17+GR17-GS17+GT17-GU17-GV17+GW17 -> 0 | HF17: =+GX17+GY17+GZ17-HA17+HB17-HC17-HD17+HE17 -> 0 | HN17: =+HF17+HG17+HH17-HI17+HJ17-HK17-HL17+HM17 -> 0 | HV17: =+HN17+HO17+HP17-HQ17+HR17-HS17-HT17+HU17 -> 0 | ID17: =+HV17+HW17+HX17-HY17+HZ17-IA17-IB17+IC17 -> 0 | IL17: =+ID17+IE17+IF17-IG17+IH17-II17-IJ17+IK17 -> 0 | IT17: =+IL17+IM17+IN17-IO17+IP17-IQ17-IR17+IS17 -> 0 | JB17: =+IT17+IU17+IV17-IW17+IX17-IY17-IZ17+JA17 -> 0 | JD17: =+O17+W17+AE17+AM17+AU17+BC17+BK17+BS17+CA17+CI17+CQ17+CY17+DG17+DO17+DW17+EE17+EM17+EU17+FC17+FK17+FS17+GA17+GI17+GQ17+GY17+HG17+HO17+HW17+IE17+IM17+IU17 -> 0 | JE17: =+P17+X17+AF17+AN17+AV17+BD17+BL17+BT17+CB17+CJ17+CR17+CZ17+DH17+DP17+DX17+EF17+EN17+EV17+FD17+FL17+FT17+GB17+GJ17+GR17+GZ17+HH17+HP17+HX17+IF17+IN17+IV17 -> 0 | JF17: =+Q17+Y17+AG17+AO17+AW17+BE17+BM17+BU17+CC17+CK17+CS17+DA17+DI17+DQ17+DY17+EG17+EO17+EW17+FE17+FM17+FU17+GC17+GK17+GS17+HA17+HI17+HQ17+HY17+IG17+IO17+IW17 -> 0 | JG17: =+R17+Z17+AH17+AP17+AX17+BF17+BN17+BV17+CD17+CL17+CT17+DB17+DJ17+DR17+DZ17+EH17+EP17+EX17+FF17+FN17+FV17+GD17+GL17+GT17+HB17+HJ17+HR17+HZ17+IH17+IP17+IX17 -> 0 | JH17: =+S17+AA17+AI17+AQ17+AY17+BG17+BO17+BW17+CE17+CM17+CU17+DC17+DK17+DS17+EA17+EI17+EQ17+EY17+FG17+FO17+FW17+GE17+GM17+GU17+HC17+HK17+HS17+IA17+II17+IQ17+IY17 -> 0 | JI17: =+T17+AB17+AJ17+AR17+AZ17+BH17+BP17+BX17+CF17+CN17+CV17+DD17+DL17+DT17+EB17+EJ17+ER17+EZ17+FH17+FP17+FX17+GF17+GN17+GV17+HD17+HL17+HT17+IB17+IJ17+IR17+IZ17 -> 0 | JJ17: =+U17+AC17+AK17+AS17+BA17+BI17+BQ17+BY17+CG17+CO17+CW17+DE17+DM17+DU17+EC17+EK17+ES17+FA17+FI17+FQ17+FY17+GG17+GO17+GW17+HE17+HM17+HU17+IC17+IK17+IS17+JA17 -> 0 | JK17: =+N17+JD17+JE17-JF17+JG17-JH17-JI17+JJ17 -> 0 | JM17: =+JK17-JB17 -> 0 | JO17: =+JD17*((K17+L17)*6) -> 0
B18: Local | C18: LB89L5W172R1Z44 | D18: PRL5 | E18: SMF 59538 | F18: L5 | G18: NR | H18: NR | I18: D | J18: 21,2 | K18: 8 | L18: 9 | M18: UN | N18: 0 | V18: =+N18+O18+P18+R18-S18-Q18-T18+U18 -> 0 | AD18: =+V18+W18+X18-Y18+Z18-AA18-AB18+AC18 -> 0 | AL18: =+AD18+AE18+AF18-AG18+AH18-AI18-AJ18+AK18 -> 0 | AT18: =+AL18+AM18+AN18-AO18+AP18-AQ18-AR18+AS18 -> 0 | BB18: =+AT18+AU18+AV18-AW18+AX18-AY18-AZ18+BA18 -> 0 | BJ18: =+BB18+BC18+BD18-BE18+BF18-BG18-BH18+BI18 -> 0 | BR18: =+BJ18+BK18+BL18-BM18+BN18-BO18-BP18+BQ18 -> 0 | BZ18: =+BR18+BS18+BT18-BU18+BV18-BW18-BX18+BY18 -> 0 | CH18: =+BZ18+CA18+CB18-CC18+CD18-CE18-CF18+CG18 -> 0 | CP18: =+CH18+CI18+CJ18-CK18+CL18-CM18-CN18+CO18 -> 0 | CX18: =+CP18+CQ18+CR18-CS18+CT18-CU18-CV18+CW18 -> 0 | DF18: =+CX18+CY18+CZ18-DA18+DB18-DC18-DD18+DE18 -> 0 | DN18: =+DF18+DG18+DH18-DI18+DJ18-DK18-DL18+DM18 -> 0 | DV18: =+DN18+DO18+DP18-DQ18+DR18-DS18-DT18+DU18 -> 0 | ED18: =+DV18+DW18+DX18-DY18+DZ18-EA18-EB18+EC18 -> 0 | EL18: =+ED18+EE18+EF18-EG18+EH18-EI18-EJ18+EK18 -> 0 | ET18: =+EL18+EM18+EN18-EO18+EP18-EQ18-ER18+ES18 -> 0 | FB18: =+ET18+EU18+EV18-EW18+EX18-EY18-EZ18+FA18 -> 0 | FJ18: =+FB18+FC18+FD18-FE18+FF18-FG18-FH18+FI18 -> 0 | FR18: =+FJ18+FK18+FL18-FM18+FN18-FO18-FP18+FQ18 -> 0 | FZ18: =+FR18+FS18+FT18-FU18+FV18-FW18-FX18+FY18 -> 0 | GH18: =+FZ18+GA18+GB18-GC18+GD18-GE18-GF18+GG18 -> 0 | GP18: =+GH18+GI18+GJ18-GK18+GL18-GM18-GN18+GO18 -> 0 | GX18: =+GP18+GQ18+GR18-GS18+GT18-GU18-GV18+GW18 -> 0 | HF18: =+GX18+GY18+GZ18-HA18+HB18-HC18-HD18+HE18 -> 0 | HN18: =+HF18+HG18+HH18-HI18+HJ18-HK18-HL18+HM18 -> 0 | HV18: =+HN18+HO18+HP18-HQ18+HR18-HS18-HT18+HU18 -> 0 | ID18: =+HV18+HW18+HX18-HY18+HZ18-IA18-IB18+IC18 -> 0 | IL18: =+ID18+IE18+IF18-IG18+IH18-II18-IJ18+IK18 -> 0 | IT18: =+IL18+IM18+IN18-IO18+IP18-IQ18-IR18+IS18 -> 0 | JB18: =+IT18+IU18+IV18-IW18+IX18-IY18-IZ18+JA18 -> 0 | JD18: =+O18+W18+AE18+AM18+AU18+BC18+BK18+BS18+CA18+CI18+CQ18+CY18+DG18+DO18+DW18+EE18+EM18+EU18+FC18+FK18+FS18+GA18+GI18+GQ18+GY18+HG18+HO18+HW18+IE18+IM18+IU18 -> 0 | JE18: =+P18+X18+AF18+AN18+AV18+BD18+BL18+BT18+CB18+CJ18+CR18+CZ18+DH18+DP18+DX18+EF18+EN18+EV18+FD18+FL18+FT18+GB18+GJ18+GR18+GZ18+HH18+HP18+HX18+IF18+IN18+IV18 -> 0 | JF18: =+Q18+Y18+AG18+AO18+AW18+BE18+BM18+BU18+CC18+CK18+CS18+DA18+DI18+DQ18+DY18+EG18+EO18+EW18+FE18+FM18+FU18+GC18+GK18+GS18+HA18+HI18+HQ18+HY18+IG18+IO18+IW18 -> 0 | JG18: =+R18+Z18+AH18+AP18+AX18+BF18+BN18+BV18+CD18+CL18+CT18+DB18+DJ18+DR18+DZ18+EH18+EP18+EX18+FF18+FN18+FV18+GD18+GL18+GT18+HB18+HJ18+HR18+HZ18+IH18+IP18+IX18 -> 0 | JH18: =+S18+AA18+AI18+AQ18+AY18+BG18+BO18+BW18+CE18+CM18+CU18+DC18+DK18+DS18+EA18+EI18+EQ18+EY18+FG18+FO18+FW18+GE18+GM18+GU18+HC18+HK18+HS18+IA18+II18+IQ18+IY18 -> 0 | JI18: =+T18+AB18+AJ18+AR18+AZ18+BH18+BP18+BX18+CF18+CN18+CV18+DD18+DL18+DT18+EB18+EJ18+ER18+EZ18+FH18+FP18+FX18+GF18+GN18+GV18+HD18+HL18+HT18+IB18+IJ18+IR18+IZ18 -> 0 | JJ18: =+U18+AC18+AK18+AS18+BA18+BI18+BQ18+BY18+CG18+CO18+CW18+DE18+DM18+DU18+EC18+EK18+ES18+FA18+FI18+FQ18+FY18+GG18+GO18+GW18+HE18+HM18+HU18+IC18+IK18+IS18+JA18 -> 0 | JK18: =+N18+JD18+JE18-JF18+JG18-JH18-JI18+JJ18 -> 0 | JM18: =+JK18-JB18 -> 0 | JO18: =+JD18*((K18+L18)*6) -> 0
B19: Local | C19: MRT44J3X102R1Z44 | D19: NS40D | E19: SMF 53520 | F19: NS40 | G19: NR | H19: NR | I19: D | J19: 10,0 | K19: 4 | L19: 4 | M19: UN | N19: =68+8 -> 76 | V19: =+N19+O19+P19+R19-S19-Q19-T19+U19 -> 76 | AD19: =+V19+W19+X19-Y19+Z19-AA19-AB19+AC19 -> 76 | AL19: =+AD19+AE19+AF19-AG19+AH19-AI19-AJ19+AK19 -> 76 | AT19: =+AL19+AM19+AN19-AO19+AP19-AQ19-AR19+AS19 -> 76 | BB19: =+AT19+AU19+AV19-AW19+AX19-AY19-AZ19+BA19 -> 76 | BJ19: =+BB19+BC19+BD19-BE19+BF19-BG19-BH19+BI19 -> 76 | BR19: =+BJ19+BK19+BL19-BM19+BN19-BO19-BP19+BQ19 -> 76 | BZ19: =+BR19+BS19+BT19-BU19+BV19-BW19-BX19+BY19 -> 76 | CH19: =+BZ19+CA19+CB19-CC19+CD19-CE19-CF19+CG19 -> 76 | CP19: =+CH19+CI19+CJ19-CK19+CL19-CM19-CN19+CO19 -> 76 | CX19: =+CP19+CQ19+CR19-CS19+CT19-CU19-CV19+CW19 -> 76 | DF19: =+CX19+CY19+CZ19-DA19+DB19-DC19-DD19+DE19 -> 76 | DN19: =+DF19+DG19+DH19-DI19+DJ19-DK19-DL19+DM19 -> 76 | DV19: =+DN19+DO19+DP19-DQ19+DR19-DS19-DT19+DU19 -> 76 | ED19: =+DV19+DW19+DX19-DY19+DZ19-EA19-EB19+EC19 -> 76 | EL19: =+ED19+EE19+EF19-EG19+EH19-EI19-EJ19+EK19 -> 76 | ET19: =+EL19+EM19+EN19-EO19+EP19-EQ19-ER19+ES19 -> 76 | FB19: =+ET19+EU19+EV19-EW19+EX19-EY19-EZ19+FA19 -> 76 | FJ19: =+FB19+FC19+FD19-FE19+FF19-FG19-FH19+FI19 -> 76 | FR19: =+FJ19+FK19+FL19-FM19+FN19-FO19-FP19+FQ19 -> 76 | FZ19: =+FR19+FS19+FT19-FU19+FV19-FW19-FX19+FY19 -> 76 | GH19: =+FZ19+GA19+GB19-GC19+GD19-GE19-GF19+GG19 -> 76 | GP19: =+GH19+GI19+GJ19-GK19+GL19-GM19-GN19+GO19 -> 76 | GX19: =+GP19+GQ19+GR19-GS19+GT19-GU19-GV19+GW19 -> 76 | HF19: =+GX19+GY19+GZ19-HA19+HB19-HC19-HD19+HE19 -> 76 | HN19: =+HF19+HG19+HH19-HI19+HJ19-HK19-HL19+HM19 -> 76 | HV19: =+HN19+HO19+HP19-HQ19+HR19-HS19-HT19+HU19 -> 76 | ID19: =+HV19+HW19+HX19-HY19+HZ19-IA19-IB19+IC19 -> 76 | IL19: =+ID19+IE19+IF19-IG19+IH19-II19-IJ19+IK19 -> 76 | IT19: =+IL19+IM19+IN19-IO19+IP19-IQ19-IR19+IS19 -> 76 | JB19: =+IT19+IU19+IV19-IW19+IX19-IY19-IZ19+JA19 -> 76 | JD19: =+O19+W19+AE19+AM19+AU19+BC19+BK19+BS19+CA19+CI19+CQ19+CY19+DG19+DO19+DW19+EE19+EM19+EU19+FC19+FK19+FS19+GA19+GI19+GQ19+GY19+HG19+HO19+HW19+IE19+IM19+IU19 -> 0 | JE19: =+P19+X19+AF19+AN19+AV19+BD19+BL19+BT19+CB19+CJ19+CR19+CZ19+DH19+DP19+DX19+EF19+EN19+EV19+FD19+FL19+FT19+GB19+GJ19+GR19+GZ19+HH19+HP19+HX19+IF19+IN19+IV19 -> 0 | JF19: =+Q19+Y19+AG19+AO19+AW19+BE19+BM19+BU19+CC19+CK19+CS19+DA19+DI19+DQ19+DY19+EG19+EO19+EW19+FE19+FM19+FU19+GC19+GK19+GS19+HA19+HI19+HQ19+HY19+IG19+IO19+IW19 -> 0 | JG19: =+R19+Z19+AH19+AP19+AX19+BF19+BN19+BV19+CD19+CL19+CT19+DB19+DJ19+DR19+DZ19+EH19+EP19+EX19+FF19+FN19+FV19+GD19+GL19+GT19+HB19+HJ19+HR19+HZ19+IH19+IP19+IX19 -> 0 | JH19: =+S19+AA19+AI19+AQ19+AY19+BG19+BO19+BW19+CE19+CM19+CU19+DC19+DK19+DS19+EA19+EI19+EQ19+EY19+FG19+FO19+FW19+GE19+GM19+GU19+HC19+HK19+HS19+IA19+II19+IQ19+IY19 -> 0 | JI19: =+T19+AB19+AJ19+AR19+AZ19+BH19+BP19+BX19+CF19+CN19+CV19+DD19+DL19+DT19+EB19+EJ19+ER19+EZ19+FH19+FP19+FX19+GF19+GN19+GV19+HD19+HL19+HT19+IB19+IJ19+IR19+IZ19 -> 0 | JJ19: =+U19+AC19+AK19+AS19+BA19+BI19+BQ19+BY19+CG19+CO19+CW19+DE19+DM19+DU19+EC19+EK19+ES19+FA19+FI19+FQ19+FY19+GG19+GO19+GW19+HE19+HM19+HU19+IC19+IK19+IS19+JA19 -> 0 | JK19: =+N19+JD19+JE19-JF19+JG19-JH19-JI19+JJ19 -> 76 | JM19: =+JK19-JB19 -> 0 | JO19: =+JD19*((K19+L19)*6) -> 0
B20: Local | C20: MRT44J3X102L1Z44 | D20: NS40G | E20: SMF 53522 | F20: NS40 | G20: NR | H20: NR | I20: G | J20: 10,0 | K20: 4 | L20: 4 | M20: UN | N20: 88 | V20: =+N20+O20+P20+R20-S20-Q20-T20+U20 -> 88 | AD20: =+V20+W20+X20-Y20+Z20-AA20-AB20+AC20 -> 88 | AL20: =+AD20+AE20+AF20-AG20+AH20-AI20-AJ20+AK20 -> 88 | AT20: =+AL20+AM20+AN20-AO20+AP20-AQ20-AR20+AS20 -> 88 | BB20: =+AT20+AU20+AV20-AW20+AX20-AY20-AZ20+BA20 -> 88 | BJ20: =+BB20+BC20+BD20-BE20+BF20-BG20-BH20+BI20 -> 88 | BR20: =+BJ20+BK20+BL20-BM20+BN20-BO20-BP20+BQ20 -> 88 | BZ20: =+BR20+BS20+BT20-BU20+BV20-BW20-BX20+BY20 -> 88 | CH20: =+BZ20+CA20+CB20-CC20+CD20-CE20-CF20+CG20 -> 88 | CP20: =+CH20+CI20+CJ20-CK20+CL20-CM20-CN20+CO20 -> 88 | CX20: =+CP20+CQ20+CR20-CS20+CT20-CU20-CV20+CW20 -> 88 | DF20: =+CX20+CY20+CZ20-DA20+DB20-DC20-DD20+DE20 -> 88 | DN20: =+DF20+DG20+DH20-DI20+DJ20-DK20-DL20+DM20 -> 88 | DV20: =+DN20+DO20+DP20-DQ20+DR20-DS20-DT20+DU20 -> 88 | ED20: =+DV20+DW20+DX20-DY20+DZ20-EA20-EB20+EC20 -> 88 | EL20: =+ED20+EE20+EF20-EG20+EH20-EI20-EJ20+EK20 -> 88 | ET20: =+EL20+EM20+EN20-EO20+EP20-EQ20-ER20+ES20 -> 88 | FB20: =+ET20+EU20+EV20-EW20+EX20-EY20-EZ20+FA20 -> 88 | FJ20: =+FB20+FC20+FD20-FE20+FF20-FG20-FH20+FI20 -> 88 | FR20: =+FJ20+FK20+FL20-FM20+FN20-FO20-FP20+FQ20 -> 88 | FZ20: =+FR20+FS20+FT20-FU20+FV20-FW20-FX20+FY20 -> 88 | GH20: =+FZ20+GA20+GB20-GC20+GD20-GE20-GF20+GG20 -> 88 | GP20: =+GH20+GI20+GJ20-GK20+GL20-GM20-GN20+GO20 -> 88 | GX20: =+GP20+GQ20+GR20-GS20+GT20-GU20-GV20+GW20 -> 88 | HF20: =+GX20+GY20+GZ20-HA20+HB20-HC20-HD20+HE20 -> 88 | HN20: =+HF20+HG20+HH20-HI20+HJ20-HK20-HL20+HM20 -> 88 | HV20: =+HN20+HO20+HP20-HQ20+HR20-HS20-HT20+HU20 -> 88 | ID20: =+HV20+HW20+HX20-HY20+HZ20-IA20-IB20+IC20 -> 88 | IL20: =+ID20+IE20+IF20-IG20+IH20-II20-IJ20+IK20 -> 88 | IT20: =+IL20+IM20+IN20-IO20+IP20-IQ20-IR20+IS20 -> 88 | JB20: =+IT20+IU20+IV20-IW20+IX20-IY20-IZ20+JA20 -> 88 | JD20: =+O20+W20+AE20+AM20+AU20+BC20+BK20+BS20+CA20+CI20+CQ20+CY20+DG20+DO20+DW20+EE20+EM20+EU20+FC20+FK20+FS20+GA20+GI20+GQ20+GY20+HG20+HO20+HW20+IE20+IM20+IU20 -> 0 | JE20: =+P20+X20+AF20+AN20+AV20+BD20+BL20+BT20+CB20+CJ20+CR20+CZ20+DH20+DP20+DX20+EF20+EN20+EV20+FD20+FL20+FT20+GB20+GJ20+GR20+GZ20+HH20+HP20+HX20+IF20+IN20+IV20 -> 0 | JF20: =+Q20+Y20+AG20+AO20+AW20+BE20+BM20+BU20+CC20+CK20+CS20+DA20+DI20+DQ20+DY20+EG20+EO20+EW20+FE20+FM20+FU20+GC20+GK20+GS20+HA20+HI20+HQ20+HY20+IG20+IO20+IW20 -> 0 | JG20: =+R20+Z20+AH20+AP20+AX20+BF20+BN20+BV20+CD20+CL20+CT20+DB20+DJ20+DR20+DZ20+EH20+EP20+EX20+FF20+FN20+FV20+GD20+GL20+GT20+HB20+HJ20+HR20+HZ20+IH20+IP20+IX20 -> 0 | JH20: =+S20+AA20+AI20+AQ20+AY20+BG20+BO20+BW20+CE20+CM20+CU20+DC20+DK20+DS20+EA20+EI20+EQ20+EY20+FG20+FO20+FW20+GE20+GM20+GU20+HC20+HK20+HS20+IA20+II20+IQ20+IY20 -> 0 | JI20: =+T20+AB20+AJ20+AR20+AZ20+BH20+BP20+BX20+CF20+CN20+CV20+DD20+DL20+DT20+EB20+EJ20+ER20+EZ20+FH20+FP20+FX20+GF20+GN20+GV20+HD20+HL20+HT20+IB20+IJ20+IR20+IZ20 -> 0 | JJ20: =+U20+AC20+AK20+AS20+BA20+BI20+BQ20+BY20+CG20+CO20+CW20+DE20+DM20+DU20+EC20+EK20+ES20+FA20+FI20+FQ20+FY20+GG20+GO20+GW20+HE20+HM20+HU20+IC20+IK20+IS20+JA20 -> 0 | JK20: =+N20+JD20+JE20-JF20+JG20-JH20-JI20+JJ20 -> 88 | JM20: =+JK20-JB20 -> 0 | JO20: =+JD20*((K20+L20)*6) -> 0
B21: Local | C21: MRT45J4X102R1Z44 | D21: NS60 | E21: SMF 54523 | F21: NS60 | G21: NR | H21: NR | I21: D | J21: 12,7 | K21: 4 | L21: 5 | M21: UN | N21: 1 | V21: =+N21+O21+P21+R21-S21-Q21-T21+U21 -> 1 | AD21: =+V21+W21+X21-Y21+Z21-AA21-AB21+AC21 -> 1 | AL21: =+AD21+AE21+AF21-AG21+AH21-AI21-AJ21+AK21 -> 1 | AT21: =+AL21+AM21+AN21-AO21+AP21-AQ21-AR21+AS21 -> 1 | BB21: =+AT21+AU21+AV21-AW21+AX21-AY21-AZ21+BA21 -> 1 | BJ21: =+BB21+BC21+BD21-BE21+BF21-BG21-BH21+BI21 -> 1 | BR21: =+BJ21+BK21+BL21-BM21+BN21-BO21-BP21+BQ21 -> 1 | BZ21: =+BR21+BS21+BT21-BU21+BV21-BW21-BX21+BY21 -> 1 | CH21: =+BZ21+CA21+CB21-CC21+CD21-CE21-CF21+CG21 -> 1 | CP21: =+CH21+CI21+CJ21-CK21+CL21-CM21-CN21+CO21 -> 1 | CX21: =+CP21+CQ21+CR21-CS21+CT21-CU21-CV21+CW21 -> 1 | DF21: =+CX21+CY21+CZ21-DA21+DB21-DC21-DD21+DE21 -> 1 | DN21: =+DF21+DG21+DH21-DI21+DJ21-DK21-DL21+DM21 -> 1 | DV21: =+DN21+DO21+DP21-DQ21+DR21-DS21-DT21+DU21 -> 1 | ED21: =+DV21+DW21+DX21-DY21+DZ21-EA21-EB21+EC21 -> 1 | EL21: =+ED21+EE21+EF21-EG21+EH21-EI21-EJ21+EK21 -> 1 | ET21: =+EL21+EM21+EN21-EO21+EP21-EQ21-ER21+ES21 -> 1 | FB21: =+ET21+EU21+EV21-EW21+EX21-EY21-EZ21+FA21 -> 1 | FJ21: =+FB21+FC21+FD21-FE21+FF21-FG21-FH21+FI21 -> 1 | FR21: =+FJ21+FK21+FL21-FM21+FN21-FO21-FP21+FQ21 -> 1 | FZ21: =+FR21+FS21+FT21-FU21+FV21-FW21-FX21+FY21 -> 1 | GH21: =+FZ21+GA21+GB21-GC21+GD21-GE21-GF21+GG21 -> 1 | GP21: =+GH21+GI21+GJ21-GK21+GL21-GM21-GN21+GO21 -> 1 | GX21: =+GP21+GQ21+GR21-GS21+GT21-GU21-GV21+GW21 -> 1 | HF21: =+GX21+GY21+GZ21-HA21+HB21-HC21-HD21+HE21 -> 1 | HN21: =+HF21+HG21+HH21-HI21+HJ21-HK21-HL21+HM21 -> 1 | HV21: =+HN21+HO21+HP21-HQ21+HR21-HS21-HT21+HU21 -> 1 | ID21: =+HV21+HW21+HX21-HY21+HZ21-IA21-IB21+IC21 -> 1 | IL21: =+ID21+IE21+IF21-IG21+IH21-II21-IJ21+IK21 -> 1 | IT21: =+IL21+IM21+IN21-IO21+IP21-IQ21-IR21+IS21 -> 1 | JB21: =+IT21+IU21+IV21-IW21+IX21-IY21-IZ21+JA21 -> 1 | JD21: =+O21+W21+AE21+AM21+AU21+BC21+BK21+BS21+CA21+CI21+CQ21+CY21+DG21+DO21+DW21+EE21+EM21+EU21+FC21+FK21+FS21+GA21+GI21+GQ21+GY21+HG21+HO21+HW21+IE21+IM21+IU21 -> 0 | JE21: =+P21+X21+AF21+AN21+AV21+BD21+BL21+BT21+CB21+CJ21+CR21+CZ21+DH21+DP21+DX21+EF21+EN21+EV21+FD21+FL21+FT21+GB21+GJ21+GR21+GZ21+HH21+HP21+HX21+IF21+IN21+IV21 -> 0 | JF21: =+Q21+Y21+AG21+AO21+AW21+BE21+BM21+BU21+CC21+CK21+CS21+DA21+DI21+DQ21+DY21+EG21+EO21+EW21+FE21+FM21+FU21+GC21+GK21+GS21+HA21+HI21+HQ21+HY21+IG21+IO21+IW21 -> 0 | JG21: =+R21+Z21+AH21+AP21+AX21+BF21+BN21+BV21+CD21+CL21+CT21+DB21+DJ21+DR21+DZ21+EH21+EP21+EX21+FF21+FN21+FV21+GD21+GL21+GT21+HB21+HJ21+HR21+HZ21+IH21+IP21+IX21 -> 0 | JH21: =+S21+AA21+AI21+AQ21+AY21+BG21+BO21+BW21+CE21+CM21+CU21+DC21+DK21+DS21+EA21+EI21+EQ21+EY21+FG21+FO21+FW21+GE21+GM21+GU21+HC21+HK21+HS21+IA21+II21+IQ21+IY21 -> 0 | JI21: =+T21+AB21+AJ21+AR21+AZ21+BH21+BP21+BX21+CF21+CN21+CV21+DD21+DL21+DT21+EB21+EJ21+ER21+EZ21+FH21+FP21+FX21+GF21+GN21+GV21+HD21+HL21+HT21+IB21+IJ21+IR21+IZ21 -> 0 | JJ21: =+U21+AC21+AK21+AS21+BA21+BI21+BQ21+BY21+CG21+CO21+CW21+DE21+DM21+DU21+EC21+EK21+ES21+FA21+FI21+FQ21+FY21+GG21+GO21+GW21+HE21+HM21+HU21+IC21+IK21+IS21+JA21 -> 0 | JK21: =+N21+JD21+JE21-JF21+JG21-JH21-JI21+JJ21 -> 1 | JM21: =+JK21-JB21 -> 0 | JO21: =+JD21*((K21+L21)*6) -> 0
B22: Local | C22: M55J6X172R1Z44 | D22: D23 | E22: SMF 56068 | F22: D23 | G22: NR | H22: NR | I22: D | J22: 15,7 | K22: 5 | L22: 5 | M22: UN | N22: =111+69 -> 180 | V22: =+N22+O22+P22+R22-S22-Q22-T22+U22 -> 180 | AD22: =+V22+W22+X22-Y22+Z22-AA22-AB22+AC22 -> 180 | AL22: =+AD22+AE22+AF22-AG22+AH22-AI22-AJ22+AK22 -> 180 | AT22: =+AL22+AM22+AN22-AO22+AP22-AQ22-AR22+AS22 -> 180 | BB22: =+AT22+AU22+AV22-AW22+AX22-AY22-AZ22+BA22 -> 180 | BJ22: =+BB22+BC22+BD22-BE22+BF22-BG22-BH22+BI22 -> 180 | BR22: =+BJ22+BK22+BL22-BM22+BN22-BO22-BP22+BQ22 -> 180 | BZ22: =+BR22+BS22+BT22-BU22+BV22-BW22-BX22+BY22 -> 180 | CH22: =+BZ22+CA22+CB22-CC22+CD22-CE22-CF22+CG22 -> 180 | CP22: =+CH22+CI22+CJ22-CK22+CL22-CM22-CN22+CO22 -> 180 | CX22: =+CP22+CQ22+CR22-CS22+CT22-CU22-CV22+CW22 -> 180 | DF22: =+CX22+CY22+CZ22-DA22+DB22-DC22-DD22+DE22 -> 180 | DN22: =+DF22+DG22+DH22-DI22+DJ22-DK22-DL22+DM22 -> 180 | DV22: =+DN22+DO22+DP22-DQ22+DR22-DS22-DT22+DU22 -> 180 | ED22: =+DV22+DW22+DX22-DY22+DZ22-EA22-EB22+EC22 -> 180 | EL22: =+ED22+EE22+EF22-EG22+EH22-EI22-EJ22+EK22 -> 180 | ET22: =+EL22+EM22+EN22-EO22+EP22-EQ22-ER22+ES22 -> 180 | FB22: =+ET22+EU22+EV22-EW22+EX22-EY22-EZ22+FA22 -> 180 | FJ22: =+FB22+FC22+FD22-FE22+FF22-FG22-FH22+FI22 -> 180 | FR22: =+FJ22+FK22+FL22-FM22+FN22-FO22-FP22+FQ22 -> 180 | FZ22: =+FR22+FS22+FT22-FU22+FV22-FW22-FX22+FY22 -> 180 | GH22: =+FZ22+GA22+GB22-GC22+GD22-GE22-GF22+GG22 -> 180 | GP22: =+GH22+GI22+GJ22-GK22+GL22-GM22-GN22+GO22 -> 180 | GX22: =+GP22+GQ22+GR22-GS22+GT22-GU22-GV22+GW22 -> 180 | HF22: =+GX22+GY22+GZ22-HA22+HB22-HC22-HD22+HE22 -> 180 | HN22: =+HF22+HG22+HH22-HI22+HJ22-HK22-HL22+HM22 -> 180 | HV22: =+HN22+HO22+HP22-HQ22+HR22-HS22-HT22+HU22 -> 180 | ID22: =+HV22+HW22+HX22-HY22+HZ22-IA22-IB22+IC22 -> 180 | IL22: =+ID22+IE22+IF22-IG22+IH22-II22-IJ22+IK22 -> 180 | IT22: =+IL22+IM22+IN22-IO22+IP22-IQ22-IR22+IS22 -> 180 | JB22: =+IT22+IU22+IV22-IW22+IX22-IY22-IZ22+JA22 -> 180 | JD22: =+O22+W22+AE22+AM22+AU22+BC22+BK22+BS22+CA22+CI22+CQ22+CY22+DG22+DO22+DW22+EE22+EM22+EU22+FC22+FK22+FS22+GA22+GI22+GQ22+GY22+HG22+HO22+HW22+IE22+IM22+IU22 -> 0 | JE22: =+P22+X22+AF22+AN22+AV22+BD22+BL22+BT22+CB22+CJ22+CR22+CZ22+DH22+DP22+DX22+EF22+EN22+EV22+FD22+FL22+FT22+GB22+GJ22+GR22+GZ22+HH22+HP22+HX22+IF22+IN22+IV22 -> 0 | JF22: =+Q22+Y22+AG22+AO22+AW22+BE22+BM22+BU22+CC22+CK22+CS22+DA22+DI22+DQ22+DY22+EG22+EO22+EW22+FE22+FM22+FU22+GC22+GK22+GS22+HA22+HI22+HQ22+HY22+IG22+IO22+IW22 -> 0 | JG22: =+R22+Z22+AH22+AP22+AX22+BF22+BN22+BV22+CD22+CL22+CT22+DB22+DJ22+DR22+DZ22+EH22+EP22+EX22+FF22+FN22+FV22+GD22+GL22+GT22+HB22+HJ22+HR22+HZ22+IH22+IP22+IX22 -> 0 | JH22: =+S22+AA22+AI22+AQ22+AY22+BG22+BO22+BW22+CE22+CM22+CU22+DC22+DK22+DS22+EA22+EI22+EQ22+EY22+FG22+FO22+FW22+GE22+GM22+GU22+HC22+HK22+HS22+IA22+II22+IQ22+IY22 -> 0 | JI22: =+T22+AB22+AJ22+AR22+AZ22+BH22+BP22+BX22+CF22+CN22+CV22+DD22+DL22+DT22+EB22+EJ22+ER22+EZ22+FH22+FP22+FX22+GF22+GN22+GV22+HD22+HL22+HT22+IB22+IJ22+IR22+IZ22 -> 0 | JJ22: =+U22+AC22+AK22+AS22+BA22+BI22+BQ22+BY22+CG22+CO22+CW22+DE22+DM22+DU22+EC22+EK22+ES22+FA22+FI22+FQ22+FY22+GG22+GO22+GW22+HE22+HM22+HU22+IC22+IK22+IS22+JA22 -> 0 | JK22: =+N22+JD22+JE22-JF22+JG22-JH22-JI22+JJ22 -> 180 | JM22: =+JK22-JB22 -> 0 | JO22: =+JD22*((K22+L22)*6) -> 0
B23: Local | C23: M56J7X102L1Z44 | D23: D26G | E23: SMF 57024 | F23: D26 | G23: NR | H23: NR | I23: G | J23: 18,5 | K23: 5 | L23: 6 | M23: UN | N23: 333 | V23: =+N23+O23+P23+R23-S23-Q23-T23+U23 -> 333 | AD23: =+V23+W23+X23-Y23+Z23-AA23-AB23+AC23 -> 333 | AL23: =+AD23+AE23+AF23-AG23+AH23-AI23-AJ23+AK23 -> 333 | AT23: =+AL23+AM23+AN23-AO23+AP23-AQ23-AR23+AS23 -> 333 | BB23: =+AT23+AU23+AV23-AW23+AX23-AY23-AZ23+BA23 -> 333 | BJ23: =+BB23+BC23+BD23-BE23+BF23-BG23-BH23+BI23 -> 333 | BR23: =+BJ23+BK23+BL23-BM23+BN23-BO23-BP23+BQ23 -> 333 | BZ23: =+BR23+BS23+BT23-BU23+BV23-BW23-BX23+BY23 -> 333 | CH23: =+BZ23+CA23+CB23-CC23+CD23-CE23-CF23+CG23 -> 333 | CP23: =+CH23+CI23+CJ23-CK23+CL23-CM23-CN23+CO23 -> 333 | CX23: =+CP23+CQ23+CR23-CS23+CT23-CU23-CV23+CW23 -> 333 | DF23: =+CX23+CY23+CZ23-DA23+DB23-DC23-DD23+DE23 -> 333 | DN23: =+DF23+DG23+DH23-DI23+DJ23-DK23-DL23+DM23 -> 333 | DV23: =+DN23+DO23+DP23-DQ23+DR23-DS23-DT23+DU23 -> 333 | ED23: =+DV23+DW23+DX23-DY23+DZ23-EA23-EB23+EC23 -> 333 | EL23: =+ED23+EE23+EF23-EG23+EH23-EI23-EJ23+EK23 -> 333 | ET23: =+EL23+EM23+EN23-EO23+EP23-EQ23-ER23+ES23 -> 333 | FB23: =+ET23+EU23+EV23-EW23+EX23-EY23-EZ23+FA23 -> 333 | FJ23: =+FB23+FC23+FD23-FE23+FF23-FG23-FH23+FI23 -> 333 | FR23: =+FJ23+FK23+FL23-FM23+FN23-FO23-FP23+FQ23 -> 333 | FZ23: =+FR23+FS23+FT23-FU23+FV23-FW23-FX23+FY23 -> 333 | GH23: =+FZ23+GA23+GB23-GC23+GD23-GE23-GF23+GG23 -> 333 | GP23: =+GH23+GI23+GJ23-GK23+GL23-GM23-GN23+GO23 -> 333 | GX23: =+GP23+GQ23+GR23-GS23+GT23-GU23-GV23+GW23 -> 333 | HF23: =+GX23+GY23+GZ23-HA23+HB23-HC23-HD23+HE23 -> 333 | HN23: =+HF23+HG23+HH23-HI23+HJ23-HK23-HL23+HM23 -> 333 | HV23: =+HN23+HO23+HP23-HQ23+HR23-HS23-HT23+HU23 -> 333 | ID23: =+HV23+HW23+HX23-HY23+HZ23-IA23-IB23+IC23 -> 333 | IL23: =+ID23+IE23+IF23-IG23+IH23-II23-IJ23+IK23 -> 333 | IT23: =+IL23+IM23+IN23-IO23+IP23-IQ23-IR23+IS23 -> 333 | JB23: =+IT23+IU23+IV23-IW23+IX23-IY23-IZ23+JA23 -> 333 | JD23: =+O23+W23+AE23+AM23+AU23+BC23+BK23+BS23+CA23+CI23+CQ23+CY23+DG23+DO23+DW23+EE23+EM23+EU23+FC23+FK23+FS23+GA23+GI23+GQ23+GY23+HG23+HO23+HW23+IE23+IM23+IU23 -> 0 | JE23: =+P23+X23+AF23+AN23+AV23+BD23+BL23+BT23+CB23+CJ23+CR23+CZ23+DH23+DP23+DX23+EF23+EN23+EV23+FD23+FL23+FT23+GB23+GJ23+GR23+GZ23+HH23+HP23+HX23+IF23+IN23+IV23 -> 0 | JF23: =+Q23+Y23+AG23+AO23+AW23+BE23+BM23+BU23+CC23+CK23+CS23+DA23+DI23+DQ23+DY23+EG23+EO23+EW23+FE23+FM23+FU23+GC23+GK23+GS23+HA23+HI23+HQ23+HY23+IG23+IO23+IW23 -> 0 | JG23: =+R23+Z23+AH23+AP23+AX23+BF23+BN23+BV23+CD23+CL23+CT23+DB23+DJ23+DR23+DZ23+EH23+EP23+EX23+FF23+FN23+FV23+GD23+GL23+GT23+HB23+HJ23+HR23+HZ23+IH23+IP23+IX23 -> 0 | JH23: =+S23+AA23+AI23+AQ23+AY23+BG23+BO23+BW23+CE23+CM23+CU23+DC23+DK23+DS23+EA23+EI23+EQ23+EY23+FG23+FO23+FW23+GE23+GM23+GU23+HC23+HK23+HS23+IA23+II23+IQ23+IY23 -> 0 | JI23: =+T23+AB23+AJ23+AR23+AZ23+BH23+BP23+BX23+CF23+CN23+CV23+DD23+DL23+DT23+EB23+EJ23+ER23+EZ23+FH23+FP23+FX23+GF23+GN23+GV23+HD23+HL23+HT23+IB23+IJ23+IR23+IZ23 -> 0 | JJ23: =+U23+AC23+AK23+AS23+BA23+BI23+BQ23+BY23+CG23+CO23+CW23+DE23+DM23+DU23+EC23+EK23+ES23+FA23+FI23+FQ23+FY23+GG23+GO23+GW23+HE23+HM23+HU23+IC23+IK23+IS23+JA23 -> 0 | JK23: =+N23+JD23+JE23-JF23+JG23-JH23-JI23+JJ23 -> 333 | JM23: =+JK23-JB23 -> 0 | JO23: =+JD23*((K23+L23)*6) -> 0
B24: Local | C24: M56J7X102R1Z44 | D24: D26D | E24: SMF 57029 | F24: D26 | G24: NR | H24: NR | I24: D | J24: 18,5 | K24: 5 | L24: 6 | M24: UN | N24: 193 | V24: =+N24+O24+P24+R24-S24-Q24-T24+U24 -> 193 | AD24: =+V24+W24+X24-Y24+Z24-AA24-AB24+AC24 -> 193 | AL24: =+AD24+AE24+AF24-AG24+AH24-AI24-AJ24+AK24 -> 193 | AT24: =+AL24+AM24+AN24-AO24+AP24-AQ24-AR24+AS24 -> 193 | BB24: =+AT24+AU24+AV24-AW24+AX24-AY24-AZ24+BA24 -> 193 | BJ24: =+BB24+BC24+BD24-BE24+BF24-BG24-BH24+BI24 -> 193 | BR24: =+BJ24+BK24+BL24-BM24+BN24-BO24-BP24+BQ24 -> 193 | BZ24: =+BR24+BS24+BT24-BU24+BV24-BW24-BX24+BY24 -> 193 | CH24: =+BZ24+CA24+CB24-CC24+CD24-CE24-CF24+CG24 -> 193 | CP24: =+CH24+CI24+CJ24-CK24+CL24-CM24-CN24+CO24 -> 193 | CX24: =+CP24+CQ24+CR24-CS24+CT24-CU24-CV24+CW24 -> 193 | DF24: =+CX24+CY24+CZ24-DA24+DB24-DC24-DD24+DE24 -> 193 | DN24: =+DF24+DG24+DH24-DI24+DJ24-DK24-DL24+DM24 -> 193 | DV24: =+DN24+DO24+DP24-DQ24+DR24-DS24-DT24+DU24 -> 193 | ED24: =+DV24+DW24+DX24-DY24+DZ24-EA24-EB24+EC24 -> 193 | EL24: =+ED24+EE24+EF24-EG24+EH24-EI24-EJ24+EK24 -> 193 | ET24: =+EL24+EM24+EN24-EO24+EP24-EQ24-ER24+ES24 -> 193 | FB24: =+ET24+EU24+EV24-EW24+EX24-EY24-EZ24+FA24 -> 193 | FJ24: =+FB24+FC24+FD24-FE24+FF24-FG24-FH24+FI24 -> 193 | FR24: =+FJ24+FK24+FL24-FM24+FN24-FO24-FP24+FQ24 -> 193 | FZ24: =+FR24+FS24+FT24-FU24+FV24-FW24-FX24+FY24 -> 193 | GH24: =+FZ24+GA24+GB24-GC24+GD24-GE24-GF24+GG24 -> 193 | GP24: =+GH24+GI24+GJ24-GK24+GL24-GM24-GN24+GO24 -> 193 | GX24: =+GP24+GQ24+GR24-GS24+GT24-GU24-GV24+GW24 -> 193 | HF24: =+GX24+GY24+GZ24-HA24+HB24-HC24-HD24+HE24 -> 193 | HN24: =+HF24+HG24+HH24-HI24+HJ24-HK24-HL24+HM24 -> 193 | HV24: =+HN24+HO24+HP24-HQ24+HR24-HS24-HT24+HU24 -> 193 | ID24: =+HV24+HW24+HX24-HY24+HZ24-IA24-IB24+IC24 -> 193 | IL24: =+ID24+IE24+IF24-IG24+IH24-II24-IJ24+IK24 -> 193 | IT24: =+IL24+IM24+IN24-IO24+IP24-IQ24-IR24+IS24 -> 193 | JB24: =+IT24+IU24+IV24-IW24+IX24-IY24-IZ24+JA24 -> 193 | JD24: =+O24+W24+AE24+AM24+AU24+BC24+BK24+BS24+CA24+CI24+CQ24+CY24+DG24+DO24+DW24+EE24+EM24+EU24+FC24+FK24+FS24+GA24+GI24+GQ24+GY24+HG24+HO24+HW24+IE24+IM24+IU24 -> 0 | JE24: =+P24+X24+AF24+AN24+AV24+BD24+BL24+BT24+CB24+CJ24+CR24+CZ24+DH24+DP24+DX24+EF24+EN24+EV24+FD24+FL24+FT24+GB24+GJ24+GR24+GZ24+HH24+HP24+HX24+IF24+IN24+IV24 -> 0 | JF24: =+Q24+Y24+AG24+AO24+AW24+BE24+BM24+BU24+CC24+CK24+CS24+DA24+DI24+DQ24+DY24+EG24+EO24+EW24+FE24+FM24+FU24+GC24+GK24+GS24+HA24+HI24+HQ24+HY24+IG24+IO24+IW24 -> 0 | JG24: =+R24+Z24+AH24+AP24+AX24+BF24+BN24+BV24+CD24+CL24+CT24+DB24+DJ24+DR24+DZ24+EH24+EP24+EX24+FF24+FN24+FV24+GD24+GL24+GT24+HB24+HJ24+HR24+HZ24+IH24+IP24+IX24 -> 0 | JH24: =+S24+AA24+AI24+AQ24+AY24+BG24+BO24+BW24+CE24+CM24+CU24+DC24+DK24+DS24+EA24+EI24+EQ24+EY24+FG24+FO24+FW24+GE24+GM24+GU24+HC24+HK24+HS24+IA24+II24+IQ24+IY24 -> 0 | JI24: =+T24+AB24+AJ24+AR24+AZ24+BH24+BP24+BX24+CF24+CN24+CV24+DD24+DL24+DT24+EB24+EJ24+ER24+EZ24+FH24+FP24+FX24+GF24+GN24+GV24+HD24+HL24+HT24+IB24+IJ24+IR24+IZ24 -> 0 | JJ24: =+U24+AC24+AK24+AS24+BA24+BI24+BQ24+BY24+CG24+CO24+CW24+DE24+DM24+DU24+EC24+EK24+ES24+FA24+FI24+FQ24+FY24+GG24+GO24+GW24+HE24+HM24+HU24+IC24+IK24+IS24+JA24 -> 0 | JK24: =+N24+JD24+JE24-JF24+JG24-JH24-JI24+JJ24 -> 193 | JM24: =+JK24-JB24 -> 0 | JO24: =+JD24*((K24+L24)*6) -> 0
B25: Local | C25: M78J0X182L1Z44 | D25: D31G | E25: SMF 60032 | F25: D31 | G25: NR | H25: NR | I25: G | J25: 22,9 | K25: 7 | L25: 8 | M25: UN | N25: 100 | V25: =+N25+O25+P25+R25-S25-Q25-T25+U25 -> 100 | AD25: =+V25+W25+X25-Y25+Z25-AA25-AB25+AC25 -> 100 | AL25: =+AD25+AE25+AF25-AG25+AH25-AI25-AJ25+AK25 -> 100 | AT25: =+AL25+AM25+AN25-AO25+AP25-AQ25-AR25+AS25 -> 100 | BB25: =+AT25+AU25+AV25-AW25+AX25-AY25-AZ25+BA25 -> 100 | BJ25: =+BB25+BC25+BD25-BE25+BF25-BG25-BH25+BI25 -> 100 | BR25: =+BJ25+BK25+BL25-BM25+BN25-BO25-BP25+BQ25 -> 100 | BZ25: =+BR25+BS25+BT25-BU25+BV25-BW25-BX25+BY25 -> 100 | CH25: =+BZ25+CA25+CB25-CC25+CD25-CE25-CF25+CG25 -> 100 | CP25: =+CH25+CI25+CJ25-CK25+CL25-CM25-CN25+CO25 -> 100 | CX25: =+CP25+CQ25+CR25-CS25+CT25-CU25-CV25+CW25 -> 100 | DF25: =+CX25+CY25+CZ25-DA25+DB25-DC25-DD25+DE25 -> 100 | DN25: =+DF25+DG25+DH25-DI25+DJ25-DK25-DL25+DM25 -> 100 | DV25: =+DN25+DO25+DP25-DQ25+DR25-DS25-DT25+DU25 -> 100 | ED25: =+DV25+DW25+DX25-DY25+DZ25-EA25-EB25+EC25 -> 100 | EL25: =+ED25+EE25+EF25-EG25+EH25-EI25-EJ25+EK25 -> 100 | ET25: =+EL25+EM25+EN25-EO25+EP25-EQ25-ER25+ES25 -> 100 | FB25: =+ET25+EU25+EV25-EW25+EX25-EY25-EZ25+FA25 -> 100 | FJ25: =+FB25+FC25+FD25-FE25+FF25-FG25-FH25+FI25 -> 100 | FR25: =+FJ25+FK25+FL25-FM25+FN25-FO25-FP25+FQ25 -> 100 | FZ25: =+FR25+FS25+FT25-FU25+FV25-FW25-FX25+FY25 -> 100 | GH25: =+FZ25+GA25+GB25-GC25+GD25-GE25-GF25+GG25 -> 100 | GP25: =+GH25+GI25+GJ25-GK25+GL25-GM25-GN25+GO25 -> 100 | GX25: =+GP25+GQ25+GR25-GS25+GT25-GU25-GV25+GW25 -> 100 | HF25: =+GX25+GY25+GZ25-HA25+HB25-HC25-HD25+HE25 -> 100 | HN25: =+HF25+HG25+HH25-HI25+HJ25-HK25-HL25+HM25 -> 100 | HV25: =+HN25+HO25+HP25-HQ25+HR25-HS25-HT25+HU25 -> 100 | ID25: =+HV25+HW25+HX25-HY25+HZ25-IA25-IB25+IC25 -> 100 | IL25: =+ID25+IE25+IF25-IG25+IH25-II25-IJ25+IK25 -> 100 | IT25: =+IL25+IM25+IN25-IO25+IP25-IQ25-IR25+IS25 -> 100 | JB25: =+IT25+IU25+IV25-IW25+IX25-IY25-IZ25+JA25 -> 100 | JD25: =+O25+W25+AE25+AM25+AU25+BC25+BK25+BS25+CA25+CI25+CQ25+CY25+DG25+DO25+DW25+EE25+EM25+EU25+FC25+FK25+FS25+GA25+GI25+GQ25+GY25+HG25+HO25+HW25+IE25+IM25+IU25 -> 0 | JE25: =+P25+X25+AF25+AN25+AV25+BD25+BL25+BT25+CB25+CJ25+CR25+CZ25+DH25+DP25+DX25+EF25+EN25+EV25+FD25+FL25+FT25+GB25+GJ25+GR25+GZ25+HH25+HP25+HX25+IF25+IN25+IV25 -> 0 | JF25: =+Q25+Y25+AG25+AO25+AW25+BE25+BM25+BU25+CC25+CK25+CS25+DA25+DI25+DQ25+DY25+EG25+EO25+EW25+FE25+FM25+FU25+GC25+GK25+GS25+HA25+HI25+HQ25+HY25+IG25+IO25+IW25 -> 0 | JG25: =+R25+Z25+AH25+AP25+AX25+BF25+BN25+BV25+CD25+CL25+CT25+DB25+DJ25+DR25+DZ25+EH25+EP25+EX25+FF25+FN25+FV25+GD25+GL25+GT25+HB25+HJ25+HR25+HZ25+IH25+IP25+IX25 -> 0 | JH25: =+S25+AA25+AI25+AQ25+AY25+BG25+BO25+BW25+CE25+CM25+CU25+DC25+DK25+DS25+EA25+EI25+EQ25+EY25+FG25+FO25+FW25+GE25+GM25+GU25+HC25+HK25+HS25+IA25+II25+IQ25+IY25 -> 0 | JI25: =+T25+AB25+AJ25+AR25+AZ25+BH25+BP25+BX25+CF25+CN25+CV25+DD25+DL25+DT25+EB25+EJ25+ER25+EZ25+FH25+FP25+FX25+GF25+GN25+GV25+HD25+HL25+HT25+IB25+IJ25+IR25+IZ25 -> 0 | JJ25: =+U25+AC25+AK25+AS25+BA25+BI25+BQ25+BY25+CG25+CO25+CW25+DE25+DM25+DU25+EC25+EK25+ES25+FA25+FI25+FQ25+FY25+GG25+GO25+GW25+HE25+HM25+HU25+IC25+IK25+IS25+JA25 -> 0 | JK25: =+N25+JD25+JE25-JF25+JG25-JH25-JI25+JJ25 -> 100 | JM25: =+JK25-JB25 -> 0 | JO25: =+JD25*((K25+L25)*6) -> 0
B26: Local | C26: M78J0X182R1Z44 | D26: D31D | E26: SMF 60033 | F26: D31 | G26: NR | H26: NR | I26: D | J26: 22,9 | K26: 7 | L26: 8 | M26: UN | N26: 154 | T26: 80 | V26: =+N26+O26+P26+R26-S26-Q26-T26+U26 -> 74 | AD26: =+V26+W26+X26-Y26+Z26-AA26-AB26+AC26 -> 74 | AL26: =+AD26+AE26+AF26-AG26+AH26-AI26-AJ26+AK26 -> 74 | AT26: =+AL26+AM26+AN26-AO26+AP26-AQ26-AR26+AS26 -> 74 | BB26: =+AT26+AU26+AV26-AW26+AX26-AY26-AZ26+BA26 -> 74 | BJ26: =+BB26+BC26+BD26-BE26+BF26-BG26-BH26+BI26 -> 74 | BR26: =+BJ26+BK26+BL26-BM26+BN26-BO26-BP26+BQ26 -> 74 | BZ26: =+BR26+BS26+BT26-BU26+BV26-BW26-BX26+BY26 -> 74 | CH26: =+BZ26+CA26+CB26-CC26+CD26-CE26-CF26+CG26 -> 74 | CP26: =+CH26+CI26+CJ26-CK26+CL26-CM26-CN26+CO26 -> 74 | CX26: =+CP26+CQ26+CR26-CS26+CT26-CU26-CV26+CW26 -> 74 | DF26: =+CX26+CY26+CZ26-DA26+DB26-DC26-DD26+DE26 -> 74 | DN26: =+DF26+DG26+DH26-DI26+DJ26-DK26-DL26+DM26 -> 74 | DV26: =+DN26+DO26+DP26-DQ26+DR26-DS26-DT26+DU26 -> 74 | ED26: =+DV26+DW26+DX26-DY26+DZ26-EA26-EB26+EC26 -> 74 | EL26: =+ED26+EE26+EF26-EG26+EH26-EI26-EJ26+EK26 -> 74 | ET26: =+EL26+EM26+EN26-EO26+EP26-EQ26-ER26+ES26 -> 74 | FB26: =+ET26+EU26+EV26-EW26+EX26-EY26-EZ26+FA26 -> 74 | FJ26: =+FB26+FC26+FD26-FE26+FF26-FG26-FH26+FI26 -> 74 | FR26: =+FJ26+FK26+FL26-FM26+FN26-FO26-FP26+FQ26 -> 74 | FZ26: =+FR26+FS26+FT26-FU26+FV26-FW26-FX26+FY26 -> 74 | GH26: =+FZ26+GA26+GB26-GC26+GD26-GE26-GF26+GG26 -> 74 | GP26: =+GH26+GI26+GJ26-GK26+GL26-GM26-GN26+GO26 -> 74 | GX26: =+GP26+GQ26+GR26-GS26+GT26-GU26-GV26+GW26 -> 74 | HF26: =+GX26+GY26+GZ26-HA26+HB26-HC26-HD26+HE26 -> 74 | HN26: =+HF26+HG26+HH26-HI26+HJ26-HK26-HL26+HM26 -> 74 | HV26: =+HN26+HO26+HP26-HQ26+HR26-HS26-HT26+HU26 -> 74 | ID26: =+HV26+HW26+HX26-HY26+HZ26-IA26-IB26+IC26 -> 74 | IL26: =+ID26+IE26+IF26-IG26+IH26-II26-IJ26+IK26 -> 74 | IT26: =+IL26+IM26+IN26-IO26+IP26-IQ26-IR26+IS26 -> 74 | JB26: =+IT26+IU26+IV26-IW26+IX26-IY26-IZ26+JA26 -> 74 | JD26: =+O26+W26+AE26+AM26+AU26+BC26+BK26+BS26+CA26+CI26+CQ26+CY26+DG26+DO26+DW26+EE26+EM26+EU26+FC26+FK26+FS26+GA26+GI26+GQ26+GY26+HG26+HO26+HW26+IE26+IM26+IU26 -> 0 | JE26: =+P26+X26+AF26+AN26+AV26+BD26+BL26+BT26+CB26+CJ26+CR26+CZ26+DH26+DP26+DX26+EF26+EN26+EV26+FD26+FL26+FT26+GB26+GJ26+GR26+GZ26+HH26+HP26+HX26+IF26+IN26+IV26 -> 0 | JF26: =+Q26+Y26+AG26+AO26+AW26+BE26+BM26+BU26+CC26+CK26+CS26+DA26+DI26+DQ26+DY26+EG26+EO26+EW26+FE26+FM26+FU26+GC26+GK26+GS26+HA26+HI26+HQ26+HY26+IG26+IO26+IW26 -> 0 | JG26: =+R26+Z26+AH26+AP26+AX26+BF26+BN26+BV26+CD26+CL26+CT26+DB26+DJ26+DR26+DZ26+EH26+EP26+EX26+FF26+FN26+FV26+GD26+GL26+GT26+HB26+HJ26+HR26+HZ26+IH26+IP26+IX26 -> 0 | JH26: =+S26+AA26+AI26+AQ26+AY26+BG26+BO26+BW26+CE26+CM26+CU26+DC26+DK26+DS26+EA26+EI26+EQ26+EY26+FG26+FO26+FW26+GE26+GM26+GU26+HC26+HK26+HS26+IA26+II26+IQ26+IY26 -> 0 | JI26: =+T26+AB26+AJ26+AR26+AZ26+BH26+BP26+BX26+CF26+CN26+CV26+DD26+DL26+DT26+EB26+EJ26+ER26+EZ26+FH26+FP26+FX26+GF26+GN26+GV26+HD26+HL26+HT26+IB26+IJ26+IR26+IZ26 -> 80 | JJ26: =+U26+AC26+AK26+AS26+BA26+BI26+BQ26+BY26+CG26+CO26+CW26+DE26+DM26+DU26+EC26+EK26+ES26+FA26+FI26+FQ26+FY26+GG26+GO26+GW26+HE26+HM26+HU26+IC26+IK26+IS26+JA26 -> 0 | JK26: =+N26+JD26+JE26-JF26+JG26-JH26-JI26+JJ26 -> 74 | JM26: =+JK26-JB26 -> 0 | JO26: =+JD26*((K26+L26)*6) -> 0
B27: Local | C27: LB44L1K072R1S12 | D27: PL1 | E27: MF 54025 | F27: L1 | G27: NR | H27: NR | I27: D | J27: 10,9 | K27: 4 | L27: 4 | M27: UN | N27: 0 | V27: =+N27+O27+P27+R27-S27-Q27-T27+U27 -> 0 | AD27: =+V27+W27+X27-Y27+Z27-AA27-AB27+AC27 -> 0 | AL27: =+AD27+AE27+AF27-AG27+AH27-AI27-AJ27+AK27 -> 0 | AT27: =+AL27+AM27+AN27-AO27+AP27-AQ27-AR27+AS27 -> 0 | BB27: =+AT27+AU27+AV27-AW27+AX27-AY27-AZ27+BA27 -> 0 | BJ27: =+BB27+BC27+BD27-BE27+BF27-BG27-BH27+BI27 -> 0 | BR27: =+BJ27+BK27+BL27-BM27+BN27-BO27-BP27+BQ27 -> 0 | BZ27: =+BR27+BS27+BT27-BU27+BV27-BW27-BX27+BY27 -> 0 | CH27: =+BZ27+CA27+CB27-CC27+CD27-CE27-CF27+CG27 -> 0 | CP27: =+CH27+CI27+CJ27-CK27+CL27-CM27-CN27+CO27 -> 0 | CX27: =+CP27+CQ27+CR27-CS27+CT27-CU27-CV27+CW27 -> 0 | DF27: =+CX27+CY27+CZ27-DA27+DB27-DC27-DD27+DE27 -> 0 | DN27: =+DF27+DG27+DH27-DI27+DJ27-DK27-DL27+DM27 -> 0 | DV27: =+DN27+DO27+DP27-DQ27+DR27-DS27-DT27+DU27 -> 0 | ED27: =+DV27+DW27+DX27-DY27+DZ27-EA27-EB27+EC27 -> 0 | EL27: =+ED27+EE27+EF27-EG27+EH27-EI27-EJ27+EK27 -> 0 | ET27: =+EL27+EM27+EN27-EO27+EP27-EQ27-ER27+ES27 -> 0 | FB27: =+ET27+EU27+EV27-EW27+EX27-EY27-EZ27+FA27 -> 0 | FJ27: =+FB27+FC27+FD27-FE27+FF27-FG27-FH27+FI27 -> 0 | FR27: =+FJ27+FK27+FL27-FM27+FN27-FO27-FP27+FQ27 -> 0 | FZ27: =+FR27+FS27+FT27-FU27+FV27-FW27-FX27+FY27 -> 0 | GH27: =+FZ27+GA27+GB27-GC27+GD27-GE27-GF27+GG27 -> 0 | GP27: =+GH27+GI27+GJ27-GK27+GL27-GM27-GN27+GO27 -> 0 | GX27: =+GP27+GQ27+GR27-GS27+GT27-GU27-GV27+GW27 -> 0 | HF27: =+GX27+GY27+GZ27-HA27+HB27-HC27-HD27+HE27 -> 0 | HN27: =+HF27+HG27+HH27-HI27+HJ27-HK27-HL27+HM27 -> 0 | HV27: =+HN27+HO27+HP27-HQ27+HR27-HS27-HT27+HU27 -> 0 | ID27: =+HV27+HW27+HX27-HY27+HZ27-IA27-IB27+IC27 -> 0 | IL27: =+ID27+IE27+IF27-IG27+IH27-II27-IJ27+IK27 -> 0 | IT27: =+IL27+IM27+IN27-IO27+IP27-IQ27-IR27+IS27 -> 0 | JB27: =+IT27+IU27+IV27-IW27+IX27-IY27-IZ27+JA27 -> 0 | JD27: =+O27+W27+AE27+AM27+AU27+BC27+BK27+BS27+CA27+CI27+CQ27+CY27+DG27+DO27+DW27+EE27+EM27+EU27+FC27+FK27+FS27+GA27+GI27+GQ27+GY27+HG27+HO27+HW27+IE27+IM27+IU27 -> 0 | JE27: =+P27+X27+AF27+AN27+AV27+BD27+BL27+BT27+CB27+CJ27+CR27+CZ27+DH27+DP27+DX27+EF27+EN27+EV27+FD27+FL27+FT27+GB27+GJ27+GR27+GZ27+HH27+HP27+HX27+IF27+IN27+IV27 -> 0 | JF27: =+Q27+Y27+AG27+AO27+AW27+BE27+BM27+BU27+CC27+CK27+CS27+DA27+DI27+DQ27+DY27+EG27+EO27+EW27+FE27+FM27+FU27+GC27+GK27+GS27+HA27+HI27+HQ27+HY27+IG27+IO27+IW27 -> 0 | JG27: =+R27+Z27+AH27+AP27+AX27+BF27+BN27+BV27+CD27+CL27+CT27+DB27+DJ27+DR27+DZ27+EH27+EP27+EX27+FF27+FN27+FV27+GD27+GL27+GT27+HB27+HJ27+HR27+HZ27+IH27+IP27+IX27 -> 0 | JH27: =+S27+AA27+AI27+AQ27+AY27+BG27+BO27+BW27+CE27+CM27+CU27+DC27+DK27+DS27+EA27+EI27+EQ27+EY27+FG27+FO27+FW27+GE27+GM27+GU27+HC27+HK27+HS27+IA27+II27+IQ27+IY27 -> 0 | JI27: =+T27+AB27+AJ27+AR27+AZ27+BH27+BP27+BX27+CF27+CN27+CV27+DD27+DL27+DT27+EB27+EJ27+ER27+EZ27+FH27+FP27+FX27+GF27+GN27+GV27+HD27+HL27+HT27+IB27+IJ27+IR27+IZ27 -> 0 | JJ27: =+U27+AC27+AK27+AS27+BA27+BI27+BQ27+BY27+CG27+CO27+CW27+DE27+DM27+DU27+EC27+EK27+ES27+FA27+FI27+FQ27+FY27+GG27+GO27+GW27+HE27+HM27+HU27+IC27+IK27+IS27+JA27 -> 0 | JK27: =+N27+JD27+JE27-JF27+JG27-JH27-JI27+JJ27 -> 0 | JM27: =+JK27-JB27 -> 0 | JO27: =+JD27*((K27+L27)*6) -> 0
B28: Local | C28: LB44L1K072L1S12 | D28: PL1G | F28: L1 | G28: NR | H28: NR | I28: G | J28: 10,7 | K28: 4 | L28: 4 | M28: UN | N28: 78 | V28: =+N28+O28+P28+R28-S28-Q28-T28+U28 -> 78 | AD28: =+V28+W28+X28-Y28+Z28-AA28-AB28+AC28 -> 78 | AL28: =+AD28+AE28+AF28-AG28+AH28-AI28-AJ28+AK28 -> 78 | AT28: =+AL28+AM28+AN28-AO28+AP28-AQ28-AR28+AS28 -> 78 | BB28: =+AT28+AU28+AV28-AW28+AX28-AY28-AZ28+BA28 -> 78 | BJ28: =+BB28+BC28+BD28-BE28+BF28-BG28-BH28+BI28 -> 78 | BR28: =+BJ28+BK28+BL28-BM28+BN28-BO28-BP28+BQ28 -> 78 | BZ28: =+BR28+BS28+BT28-BU28+BV28-BW28-BX28+BY28 -> 78 | CH28: =+BZ28+CA28+CB28-CC28+CD28-CE28-CF28+CG28 -> 78 | CP28: =+CH28+CI28+CJ28-CK28+CL28-CM28-CN28+CO28 -> 78 | CX28: =+CP28+CQ28+CR28-CS28+CT28-CU28-CV28+CW28 -> 78 | DF28: =+CX28+CY28+CZ28-DA28+DB28-DC28-DD28+DE28 -> 78 | DN28: =+DF28+DG28+DH28-DI28+DJ28-DK28-DL28+DM28 -> 78 | DV28: =+DN28+DO28+DP28-DQ28+DR28-DS28-DT28+DU28 -> 78 | ED28: =+DV28+DW28+DX28-DY28+DZ28-EA28-EB28+EC28 -> 78 | EL28: =+ED28+EE28+EF28-EG28+EH28-EI28-EJ28+EK28 -> 78 | ET28: =+EL28+EM28+EN28-EO28+EP28-EQ28-ER28+ES28 -> 78 | FB28: =+ET28+EU28+EV28-EW28+EX28-EY28-EZ28+FA28 -> 78 | FJ28: =+FB28+FC28+FD28-FE28+FF28-FG28-FH28+FI28 -> 78 | FR28: =+FJ28+FK28+FL28-FM28+FN28-FO28-FP28+FQ28 -> 78 | FZ28: =+FR28+FS28+FT28-FU28+FV28-FW28-FX28+FY28 -> 78 | GH28: =+FZ28+GA28+GB28-GC28+GD28-GE28-GF28+GG28 -> 78 | GP28: =+GH28+GI28+GJ28-GK28+GL28-GM28-GN28+GO28 -> 78 | GX28: =+GP28+GQ28+GR28-GS28+GT28-GU28-GV28+GW28 -> 78 | HF28: =+GX28+GY28+GZ28-HA28+HB28-HC28-HD28+HE28 -> 78 | HN28: =+HF28+HG28+HH28-HI28+HJ28-HK28-HL28+HM28 -> 78 | HV28: =+HN28+HO28+HP28-HQ28+HR28-HS28-HT28+HU28 -> 78 | ID28: =+HV28+HW28+HX28-HY28+HZ28-IA28-IB28+IC28 -> 78 | IL28: =+ID28+IE28+IF28-IG28+IH28-II28-IJ28+IK28 -> 78 | IT28: =+IL28+IM28+IN28-IO28+IP28-IQ28-IR28+IS28 -> 78 | JB28: =+IT28+IU28+IV28-IW28+IX28-IY28-IZ28+JA28 -> 78 | JD28: =+O28+W28+AE28+AM28+AU28+BC28+BK28+BS28+CA28+CI28+CQ28+CY28+DG28+DO28+DW28+EE28+EM28+EU28+FC28+FK28+FS28+GA28+GI28+GQ28+GY28+HG28+HO28+HW28+IE28+IM28+IU28 -> 0 | JE28: =+P28+X28+AF28+AN28+AV28+BD28+BL28+BT28+CB28+CJ28+CR28+CZ28+DH28+DP28+DX28+EF28+EN28+EV28+FD28+FL28+FT28+GB28+GJ28+GR28+GZ28+HH28+HP28+HX28+IF28+IN28+IV28 -> 0 | JF28: =+Q28+Y28+AG28+AO28+AW28+BE28+BM28+BU28+CC28+CK28+CS28+DA28+DI28+DQ28+DY28+EG28+EO28+EW28+FE28+FM28+FU28+GC28+GK28+GS28+HA28+HI28+HQ28+HY28+IG28+IO28+IW28 -> 0 | JG28: =+R28+Z28+AH28+AP28+AX28+BF28+BN28+BV28+CD28+CL28+CT28+DB28+DJ28+DR28+DZ28+EH28+EP28+EX28+FF28+FN28+FV28+GD28+GL28+GT28+HB28+HJ28+HR28+HZ28+IH28+IP28+IX28 -> 0 | JH28: =+S28+AA28+AI28+AQ28+AY28+BG28+BO28+BW28+CE28+CM28+CU28+DC28+DK28+DS28+EA28+EI28+EQ28+EY28+FG28+FO28+FW28+GE28+GM28+GU28+HC28+HK28+HS28+IA28+II28+IQ28+IY28 -> 0 | JI28: =+T28+AB28+AJ28+AR28+AZ28+BH28+BP28+BX28+CF28+CN28+CV28+DD28+DL28+DT28+EB28+EJ28+ER28+EZ28+FH28+FP28+FX28+GF28+GN28+GV28+HD28+HL28+HT28+IB28+IJ28+IR28+IZ28 -> 0 | JJ28: =+U28+AC28+AK28+AS28+BA28+BI28+BQ28+BY28+CG28+CO28+CW28+DE28+DM28+DU28+EC28+EK28+ES28+FA28+FI28+FQ28+FY28+GG28+GO28+GW28+HE28+HM28+HU28+IC28+IK28+IS28+JA28 -> 0 | JK28: =+N28+JD28+JE28-JF28+JG28-JH28-JI28+JJ28 -> 78 | JM28: =+JK28-JB28 -> 0 | JO28: =+JD28*((K28+L28)*6) -> 0
B29: Local | C29: LB55L2K072R1S12 | D29: PL2 | E29: MF 55559 | F29: L2 | G29: NR | H29: NR | I29: D | J29: 12,3 | K29: 5 | L29: 5 | M29: UN | N29: 17 | V29: =+N29+O29+P29+R29-S29-Q29-T29+U29 -> 17 | AD29: =+V29+W29+X29-Y29+Z29-AA29-AB29+AC29 -> 17 | AL29: =+AD29+AE29+AF29-AG29+AH29-AI29-AJ29+AK29 -> 17 | AT29: =+AL29+AM29+AN29-AO29+AP29-AQ29-AR29+AS29 -> 17 | BB29: =+AT29+AU29+AV29-AW29+AX29-AY29-AZ29+BA29 -> 17 | BJ29: =+BB29+BC29+BD29-BE29+BF29-BG29-BH29+BI29 -> 17 | BR29: =+BJ29+BK29+BL29-BM29+BN29-BO29-BP29+BQ29 -> 17 | BZ29: =+BR29+BS29+BT29-BU29+BV29-BW29-BX29+BY29 -> 17 | CH29: =+BZ29+CA29+CB29-CC29+CD29-CE29-CF29+CG29 -> 17 | CI29: 514 | CP29: =+CH29+CI29+CJ29-CK29+CL29-CM29-CN29+CO29 -> 531 | CQ29: 946 | CX29: =+CP29+CQ29+CR29-CS29+CT29-CU29-CV29+CW29 -> 1477 | DF29: =+CX29+CY29+CZ29-DA29+DB29-DC29-DD29+DE29 -> 1477 | DN29: =+DF29+DG29+DH29-DI29+DJ29-DK29-DL29+DM29 -> 1477 | DV29: =+DN29+DO29+DP29-DQ29+DR29-DS29-DT29+DU29 -> 1477 | ED29: =+DV29+DW29+DX29-DY29+DZ29-EA29-EB29+EC29 -> 1477 | EL29: =+ED29+EE29+EF29-EG29+EH29-EI29-EJ29+EK29 -> 1477 | ET29: =+EL29+EM29+EN29-EO29+EP29-EQ29-ER29+ES29 -> 1477 | FB29: =+ET29+EU29+EV29-EW29+EX29-EY29-EZ29+FA29 -> 1477 | FJ29: =+FB29+FC29+FD29-FE29+FF29-FG29-FH29+FI29 -> 1477 | FR29: =+FJ29+FK29+FL29-FM29+FN29-FO29-FP29+FQ29 -> 1477 | FZ29: =+FR29+FS29+FT29-FU29+FV29-FW29-FX29+FY29 -> 1477 | GH29: =+FZ29+GA29+GB29-GC29+GD29-GE29-GF29+GG29 -> 1477 | GP29: =+GH29+GI29+GJ29-GK29+GL29-GM29-GN29+GO29 -> 1477 | GX29: =+GP29+GQ29+GR29-GS29+GT29-GU29-GV29+GW29 -> 1477 | HF29: =+GX29+GY29+GZ29-HA29+HB29-HC29-HD29+HE29 -> 1477 | HN29: =+HF29+HG29+HH29-HI29+HJ29-HK29-HL29+HM29 -> 1477 | HV29: =+HN29+HO29+HP29-HQ29+HR29-HS29-HT29+HU29 -> 1477 | ID29: =+HV29+HW29+HX29-HY29+HZ29-IA29-IB29+IC29 -> 1477 | IL29: =+ID29+IE29+IF29-IG29+IH29-II29-IJ29+IK29 -> 1477 | IT29: =+IL29+IM29+IN29-IO29+IP29-IQ29-IR29+IS29 -> 1477 | JB29: =+IT29+IU29+IV29-IW29+IX29-IY29-IZ29+JA29 -> 1477 | JD29: =+O29+W29+AE29+AM29+AU29+BC29+BK29+BS29+CA29+CI29+CQ29+CY29+DG29+DO29+DW29+EE29+EM29+EU29+FC29+FK29+FS29+GA29+GI29+GQ29+GY29+HG29+HO29+HW29+IE29+IM29+IU29 -> 1460 | JE29: =+P29+X29+AF29+AN29+AV29+BD29+BL29+BT29+CB29+CJ29+CR29+CZ29+DH29+DP29+DX29+EF29+EN29+EV29+FD29+FL29+FT29+GB29+GJ29+GR29+GZ29+HH29+HP29+HX29+IF29+IN29+IV29 -> 0 | JF29: =+Q29+Y29+AG29+AO29+AW29+BE29+BM29+BU29+CC29+CK29+CS29+DA29+DI29+DQ29+DY29+EG29+EO29+EW29+FE29+FM29+FU29+GC29+GK29+GS29+HA29+HI29+HQ29+HY29+IG29+IO29+IW29 -> 0 | JG29: =+R29+Z29+AH29+AP29+AX29+BF29+BN29+BV29+CD29+CL29+CT29+DB29+DJ29+DR29+DZ29+EH29+EP29+EX29+FF29+FN29+FV29+GD29+GL29+GT29+HB29+HJ29+HR29+HZ29+IH29+IP29+IX29 -> 0 | JH29: =+S29+AA29+AI29+AQ29+AY29+BG29+BO29+BW29+CE29+CM29+CU29+DC29+DK29+DS29+EA29+EI29+EQ29+EY29+FG29+FO29+FW29+GE29+GM29+GU29+HC29+HK29+HS29+IA29+II29+IQ29+IY29 -> 0 | JI29: =+T29+AB29+AJ29+AR29+AZ29+BH29+BP29+BX29+CF29+CN29+CV29+DD29+DL29+DT29+EB29+EJ29+ER29+EZ29+FH29+FP29+FX29+GF29+GN29+GV29+HD29+HL29+HT29+IB29+IJ29+IR29+IZ29 -> 0 | JJ29: =+U29+AC29+AK29+AS29+BA29+BI29+BQ29+BY29+CG29+CO29+CW29+DE29+DM29+DU29+EC29+EK29+ES29+FA29+FI29+FQ29+FY29+GG29+GO29+GW29+HE29+HM29+HU29+IC29+IK29+IS29+JA29 -> 0 | JK29: =+N29+JD29+JE29-JF29+JG29-JH29-JI29+JJ29 -> 1477 | JM29: =+JK29-JB29 -> 0 | JO29: =+JD29*((K29+L29)*6) -> 87600
B30: Local | C30: LB55L2K072L1S12 | D30: PL2G | F30: L2 | G30: NR | H30: NR | I30: G | J30: 11,9 | K30: 5 | L30: 5 | M30: UN | N30: 57 | V30: =+N30+O30+P30+R30-S30-Q30-T30+U30 -> 57 | AD30: =+V30+W30+X30-Y30+Z30-AA30-AB30+AC30 -> 57 | AL30: =+AD30+AE30+AF30-AG30+AH30-AI30-AJ30+AK30 -> 57 | AT30: =+AL30+AM30+AN30-AO30+AP30-AQ30-AR30+AS30 -> 57 | BB30: =+AT30+AU30+AV30-AW30+AX30-AY30-AZ30+BA30 -> 57 | BJ30: =+BB30+BC30+BD30-BE30+BF30-BG30-BH30+BI30 -> 57 | BR30: =+BJ30+BK30+BL30-BM30+BN30-BO30-BP30+BQ30 -> 57 | BZ30: =+BR30+BS30+BT30-BU30+BV30-BW30-BX30+BY30 -> 57 | CH30: =+BZ30+CA30+CB30-CC30+CD30-CE30-CF30+CG30 -> 57 | CP30: =+CH30+CI30+CJ30-CK30+CL30-CM30-CN30+CO30 -> 57 | CX30: =+CP30+CQ30+CR30-CS30+CT30-CU30-CV30+CW30 -> 57 | DF30: =+CX30+CY30+CZ30-DA30+DB30-DC30-DD30+DE30 -> 57 | DN30: =+DF30+DG30+DH30-DI30+DJ30-DK30-DL30+DM30 -> 57 | DV30: =+DN30+DO30+DP30-DQ30+DR30-DS30-DT30+DU30 -> 57 | ED30: =+DV30+DW30+DX30-DY30+DZ30-EA30-EB30+EC30 -> 57 | EL30: =+ED30+EE30+EF30-EG30+EH30-EI30-EJ30+EK30 -> 57 | ET30: =+EL30+EM30+EN30-EO30+EP30-EQ30-ER30+ES30 -> 57 | FB30: =+ET30+EU30+EV30-EW30+EX30-EY30-EZ30+FA30 -> 57 | FJ30: =+FB30+FC30+FD30-FE30+FF30-FG30-FH30+FI30 -> 57 | FR30: =+FJ30+FK30+FL30-FM30+FN30-FO30-FP30+FQ30 -> 57 | FZ30: =+FR30+FS30+FT30-FU30+FV30-FW30-FX30+FY30 -> 57 | GH30: =+FZ30+GA30+GB30-GC30+GD30-GE30-GF30+GG30 -> 57 | GP30: =+GH30+GI30+GJ30-GK30+GL30-GM30-GN30+GO30 -> 57 | GX30: =+GP30+GQ30+GR30-GS30+GT30-GU30-GV30+GW30 -> 57 | HF30: =+GX30+GY30+GZ30-HA30+HB30-HC30-HD30+HE30 -> 57 | HN30: =+HF30+HG30+HH30-HI30+HJ30-HK30-HL30+HM30 -> 57 | HV30: =+HN30+HO30+HP30-HQ30+HR30-HS30-HT30+HU30 -> 57 | ID30: =+HV30+HW30+HX30-HY30+HZ30-IA30-IB30+IC30 -> 57 | IL30: =+ID30+IE30+IF30-IG30+IH30-II30-IJ30+IK30 -> 57 | IT30: =+IL30+IM30+IN30-IO30+IP30-IQ30-IR30+IS30 -> 57 | JB30: =+IT30+IU30+IV30-IW30+IX30-IY30-IZ30+JA30 -> 57 | JD30: =+O30+W30+AE30+AM30+AU30+BC30+BK30+BS30+CA30+CI30+CQ30+CY30+DG30+DO30+DW30+EE30+EM30+EU30+FC30+FK30+FS30+GA30+GI30+GQ30+GY30+HG30+HO30+HW30+IE30+IM30+IU30 -> 0 | JE30: =+P30+X30+AF30+AN30+AV30+BD30+BL30+BT30+CB30+CJ30+CR30+CZ30+DH30+DP30+DX30+EF30+EN30+EV30+FD30+FL30+FT30+GB30+GJ30+GR30+GZ30+HH30+HP30+HX30+IF30+IN30+IV30 -> 0 | JF30: =+Q30+Y30+AG30+AO30+AW30+BE30+BM30+BU30+CC30+CK30+CS30+DA30+DI30+DQ30+DY30+EG30+EO30+EW30+FE30+FM30+FU30+GC30+GK30+GS30+HA30+HI30+HQ30+HY30+IG30+IO30+IW30 -> 0 | JG30: =+R30+Z30+AH30+AP30+AX30+BF30+BN30+BV30+CD30+CL30+CT30+DB30+DJ30+DR30+DZ30+EH30+EP30+EX30+FF30+FN30+FV30+GD30+GL30+GT30+HB30+HJ30+HR30+HZ30+IH30+IP30+IX30 -> 0 | JH30: =+S30+AA30+AI30+AQ30+AY30+BG30+BO30+BW30+CE30+CM30+CU30+DC30+DK30+DS30+EA30+EI30+EQ30+EY30+FG30+FO30+FW30+GE30+GM30+GU30+HC30+HK30+HS30+IA30+II30+IQ30+IY30 -> 0 | JI30: =+T30+AB30+AJ30+AR30+AZ30+BH30+BP30+BX30+CF30+CN30+CV30+DD30+DL30+DT30+EB30+EJ30+ER30+EZ30+FH30+FP30+FX30+GF30+GN30+GV30+HD30+HL30+HT30+IB30+IJ30+IR30+IZ30 -> 0 | JJ30: =+U30+AC30+AK30+AS30+BA30+BI30+BQ30+BY30+CG30+CO30+CW30+DE30+DM30+DU30+EC30+EK30+ES30+FA30+FI30+FQ30+FY30+GG30+GO30+GW30+HE30+HM30+HU30+IC30+IK30+IS30+JA30 -> 0 | JK30: =+N30+JD30+JE30-JF30+JG30-JH30-JI30+JJ30 -> 57 | JM30: =+JK30-JB30 -> 0 | JO30: =+JD30*((K30+L30)*6) -> 0
B31: Local | C31: LB66L3K072R1S12 | D31: PL3 | E31: MF 56648 | F31: L3 | G31: NR | H31: NR | I31: D | J31: 15,8 | K31: 6 | L31: 6 | M31: UN | N31: 0 | V31: =+N31+O31+P31+R31-S31-Q31-T31+U31 -> 0 | AD31: =+V31+W31+X31-Y31+Z31-AA31-AB31+AC31 -> 0 | AL31: =+AD31+AE31+AF31-AG31+AH31-AI31-AJ31+AK31 -> 0 | AT31: =+AL31+AM31+AN31-AO31+AP31-AQ31-AR31+AS31 -> 0 | BB31: =+AT31+AU31+AV31-AW31+AX31-AY31-AZ31+BA31 -> 0 | BJ31: =+BB31+BC31+BD31-BE31+BF31-BG31-BH31+BI31 -> 0 | BR31: =+BJ31+BK31+BL31-BM31+BN31-BO31-BP31+BQ31 -> 0 | BZ31: =+BR31+BS31+BT31-BU31+BV31-BW31-BX31+BY31 -> 0 | CH31: =+BZ31+CA31+CB31-CC31+CD31-CE31-CF31+CG31 -> 0 | CP31: =+CH31+CI31+CJ31-CK31+CL31-CM31-CN31+CO31 -> 0 | CX31: =+CP31+CQ31+CR31-CS31+CT31-CU31-CV31+CW31 -> 0 | DF31: =+CX31+CY31+CZ31-DA31+DB31-DC31-DD31+DE31 -> 0 | DN31: =+DF31+DG31+DH31-DI31+DJ31-DK31-DL31+DM31 -> 0 | DV31: =+DN31+DO31+DP31-DQ31+DR31-DS31-DT31+DU31 -> 0 | ED31: =+DV31+DW31+DX31-DY31+DZ31-EA31-EB31+EC31 -> 0 | EL31: =+ED31+EE31+EF31-EG31+EH31-EI31-EJ31+EK31 -> 0 | ET31: =+EL31+EM31+EN31-EO31+EP31-EQ31-ER31+ES31 -> 0 | FB31: =+ET31+EU31+EV31-EW31+EX31-EY31-EZ31+FA31 -> 0 | FJ31: =+FB31+FC31+FD31-FE31+FF31-FG31-FH31+FI31 -> 0 | FR31: =+FJ31+FK31+FL31-FM31+FN31-FO31-FP31+FQ31 -> 0 | FZ31: =+FR31+FS31+FT31-FU31+FV31-FW31-FX31+FY31 -> 0 | GH31: =+FZ31+GA31+GB31-GC31+GD31-GE31-GF31+GG31 -> 0 | GP31: =+GH31+GI31+GJ31-GK31+GL31-GM31-GN31+GO31 -> 0 | GX31: =+GP31+GQ31+GR31-GS31+GT31-GU31-GV31+GW31 -> 0 | HF31: =+GX31+GY31+GZ31-HA31+HB31-HC31-HD31+HE31 -> 0 | HN31: =+HF31+HG31+HH31-HI31+HJ31-HK31-HL31+HM31 -> 0 | HV31: =+HN31+HO31+HP31-HQ31+HR31-HS31-HT31+HU31 -> 0 | ID31: =+HV31+HW31+HX31-HY31+HZ31-IA31-IB31+IC31 -> 0 | IL31: =+ID31+IE31+IF31-IG31+IH31-II31-IJ31+IK31 -> 0 | IT31: =+IL31+IM31+IN31-IO31+IP31-IQ31-IR31+IS31 -> 0 | JB31: =+IT31+IU31+IV31-IW31+IX31-IY31-IZ31+JA31 -> 0 | JD31: =+O31+W31+AE31+AM31+AU31+BC31+BK31+BS31+CA31+CI31+CQ31+CY31+DG31+DO31+DW31+EE31+EM31+EU31+FC31+FK31+FS31+GA31+GI31+GQ31+GY31+HG31+HO31+HW31+IE31+IM31+IU31 -> 0 | JE31: =+P31+X31+AF31+AN31+AV31+BD31+BL31+BT31+CB31+CJ31+CR31+CZ31+DH31+DP31+DX31+EF31+EN31+EV31+FD31+FL31+FT31+GB31+GJ31+GR31+GZ31+HH31+HP31+HX31+IF31+IN31+IV31 -> 0 | JF31: =+Q31+Y31+AG31+AO31+AW31+BE31+BM31+BU31+CC31+CK31+CS31+DA31+DI31+DQ31+DY31+EG31+EO31+EW31+FE31+FM31+FU31+GC31+GK31+GS31+HA31+HI31+HQ31+HY31+IG31+IO31+IW31 -> 0 | JG31: =+R31+Z31+AH31+AP31+AX31+BF31+BN31+BV31+CD31+CL31+CT31+DB31+DJ31+DR31+DZ31+EH31+EP31+EX31+FF31+FN31+FV31+GD31+GL31+GT31+HB31+HJ31+HR31+HZ31+IH31+IP31+IX31 -> 0 | JH31: =+S31+AA31+AI31+AQ31+AY31+BG31+BO31+BW31+CE31+CM31+CU31+DC31+DK31+DS31+EA31+EI31+EQ31+EY31+FG31+FO31+FW31+GE31+GM31+GU31+HC31+HK31+HS31+IA31+II31+IQ31+IY31 -> 0 | JI31: =+T31+AB31+AJ31+AR31+AZ31+BH31+BP31+BX31+CF31+CN31+CV31+DD31+DL31+DT31+EB31+EJ31+ER31+EZ31+FH31+FP31+FX31+GF31+GN31+GV31+HD31+HL31+HT31+IB31+IJ31+IR31+IZ31 -> 0 | JJ31: =+U31+AC31+AK31+AS31+BA31+BI31+BQ31+BY31+CG31+CO31+CW31+DE31+DM31+DU31+EC31+EK31+ES31+FA31+FI31+FQ31+FY31+GG31+GO31+GW31+HE31+HM31+HU31+IC31+IK31+IS31+JA31 -> 0 | JK31: =+N31+JD31+JE31-JF31+JG31-JH31-JI31+JJ31 -> 0 | JM31: =+JK31-JB31 -> 0 | JO31: =+JD31*((K31+L31)*6) -> 0
B32: Local | C32: LB66B3K072R1S12 | D32: PL3B | E32: MF 56613 | F32: L3B | G32: NR | H32: NR | I32: D | J32: 15,5 | K32: 6 | L32: 6 | M32: UN | N32: 0 | V32: =+N32+O32+P32+R32-S32-Q32-T32+U32 -> 0 | AD32: =+V32+W32+X32-Y32+Z32-AA32-AB32+AC32 -> 0 | AL32: =+AD32+AE32+AF32-AG32+AH32-AI32-AJ32+AK32 -> 0 | AT32: =+AL32+AM32+AN32-AO32+AP32-AQ32-AR32+AS32 -> 0 | BB32: =+AT32+AU32+AV32-AW32+AX32-AY32-AZ32+BA32 -> 0 | BJ32: =+BB32+BC32+BD32-BE32+BF32-BG32-BH32+BI32 -> 0 | BR32: =+BJ32+BK32+BL32-BM32+BN32-BO32-BP32+BQ32 -> 0 | BZ32: =+BR32+BS32+BT32-BU32+BV32-BW32-BX32+BY32 -> 0 | CH32: =+BZ32+CA32+CB32-CC32+CD32-CE32-CF32+CG32 -> 0 | CP32: =+CH32+CI32+CJ32-CK32+CL32-CM32-CN32+CO32 -> 0 | CX32: =+CP32+CQ32+CR32-CS32+CT32-CU32-CV32+CW32 -> 0 | DF32: =+CX32+CY32+CZ32-DA32+DB32-DC32-DD32+DE32 -> 0 | DN32: =+DF32+DG32+DH32-DI32+DJ32-DK32-DL32+DM32 -> 0 | DV32: =+DN32+DO32+DP32-DQ32+DR32-DS32-DT32+DU32 -> 0 | ED32: =+DV32+DW32+DX32-DY32+DZ32-EA32-EB32+EC32 -> 0 | EL32: =+ED32+EE32+EF32-EG32+EH32-EI32-EJ32+EK32 -> 0 | ET32: =+EL32+EM32+EN32-EO32+EP32-EQ32-ER32+ES32 -> 0 | FB32: =+ET32+EU32+EV32-EW32+EX32-EY32-EZ32+FA32 -> 0 | FJ32: =+FB32+FC32+FD32-FE32+FF32-FG32-FH32+FI32 -> 0 | FR32: =+FJ32+FK32+FL32-FM32+FN32-FO32-FP32+FQ32 -> 0 | FZ32: =+FR32+FS32+FT32-FU32+FV32-FW32-FX32+FY32 -> 0 | GH32: =+FZ32+GA32+GB32-GC32+GD32-GE32-GF32+GG32 -> 0 | GP32: =+GH32+GI32+GJ32-GK32+GL32-GM32-GN32+GO32 -> 0 | GX32: =+GP32+GQ32+GR32-GS32+GT32-GU32-GV32+GW32 -> 0 | HF32: =+GX32+GY32+GZ32-HA32+HB32-HC32-HD32+HE32 -> 0 | HN32: =+HF32+HG32+HH32-HI32+HJ32-HK32-HL32+HM32 -> 0 | HV32: =+HN32+HO32+HP32-HQ32+HR32-HS32-HT32+HU32 -> 0 | ID32: =+HV32+HW32+HX32-HY32+HZ32-IA32-IB32+IC32 -> 0 | IL32: =+ID32+IE32+IF32-IG32+IH32-II32-IJ32+IK32 -> 0 | IT32: =+IL32+IM32+IN32-IO32+IP32-IQ32-IR32+IS32 -> 0 | JB32: =+IT32+IU32+IV32-IW32+IX32-IY32-IZ32+JA32 -> 0 | JD32: =+O32+W32+AE32+AM32+AU32+BC32+BK32+BS32+CA32+CI32+CQ32+CY32+DG32+DO32+DW32+EE32+EM32+EU32+FC32+FK32+FS32+GA32+GI32+GQ32+GY32+HG32+HO32+HW32+IE32+IM32+IU32 -> 0 | JE32: =+P32+X32+AF32+AN32+AV32+BD32+BL32+BT32+CB32+CJ32+CR32+CZ32+DH32+DP32+DX32+EF32+EN32+EV32+FD32+FL32+FT32+GB32+GJ32+GR32+GZ32+HH32+HP32+HX32+IF32+IN32+IV32 -> 0 | JF32: =+Q32+Y32+AG32+AO32+AW32+BE32+BM32+BU32+CC32+CK32+CS32+DA32+DI32+DQ32+DY32+EG32+EO32+EW32+FE32+FM32+FU32+GC32+GK32+GS32+HA32+HI32+HQ32+HY32+IG32+IO32+IW32 -> 0 | JG32: =+R32+Z32+AH32+AP32+AX32+BF32+BN32+BV32+CD32+CL32+CT32+DB32+DJ32+DR32+DZ32+EH32+EP32+EX32+FF32+FN32+FV32+GD32+GL32+GT32+HB32+HJ32+HR32+HZ32+IH32+IP32+IX32 -> 0 | JH32: =+S32+AA32+AI32+AQ32+AY32+BG32+BO32+BW32+CE32+CM32+CU32+DC32+DK32+DS32+EA32+EI32+EQ32+EY32+FG32+FO32+FW32+GE32+GM32+GU32+HC32+HK32+HS32+IA32+II32+IQ32+IY32 -> 0 | JI32: =+T32+AB32+AJ32+AR32+AZ32+BH32+BP32+BX32+CF32+CN32+CV32+DD32+DL32+DT32+EB32+EJ32+ER32+EZ32+FH32+FP32+FX32+GF32+GN32+GV32+HD32+HL32+HT32+IB32+IJ32+IR32+IZ32 -> 0 | JJ32: =+U32+AC32+AK32+AS32+BA32+BI32+BQ32+BY32+CG32+CO32+CW32+DE32+DM32+DU32+EC32+EK32+ES32+FA32+FI32+FQ32+FY32+GG32+GO32+GW32+HE32+HM32+HU32+IC32+IK32+IS32+JA32 -> 0 | JK32: =+N32+JD32+JE32-JF32+JG32-JH32-JI32+JJ32 -> 0 | JM32: =+JK32-JB32 -> 0 | JO32: =+JD32*((K32+L32)*6) -> 0
B33: Local | C33: LB88L5K072R1S12 | D33: PL5 | E33: MF 58515 | F33: L5 | G33: NR | H33: NR | I33: D | J33: 20,8 | K33: 8 | L33: 8 | M33: UN | N33: 0 | V33: =+N33+O33+P33+R33-S33-Q33-T33+U33 -> 0 | AD33: =+V33+W33+X33-Y33+Z33-AA33-AB33+AC33 -> 0 | AL33: =+AD33+AE33+AF33-AG33+AH33-AI33-AJ33+AK33 -> 0 | AT33: =+AL33+AM33+AN33-AO33+AP33-AQ33-AR33+AS33 -> 0 | BB33: =+AT33+AU33+AV33-AW33+AX33-AY33-AZ33+BA33 -> 0 | BJ33: =+BB33+BC33+BD33-BE33+BF33-BG33-BH33+BI33 -> 0 | BR33: =+BJ33+BK33+BL33-BM33+BN33-BO33-BP33+BQ33 -> 0 | BZ33: =+BR33+BS33+BT33-BU33+BV33-BW33-BX33+BY33 -> 0 | CH33: =+BZ33+CA33+CB33-CC33+CD33-CE33-CF33+CG33 -> 0 | CP33: =+CH33+CI33+CJ33-CK33+CL33-CM33-CN33+CO33 -> 0 | CX33: =+CP33+CQ33+CR33-CS33+CT33-CU33-CV33+CW33 -> 0 | DF33: =+CX33+CY33+CZ33-DA33+DB33-DC33-DD33+DE33 -> 0 | DN33: =+DF33+DG33+DH33-DI33+DJ33-DK33-DL33+DM33 -> 0 | DV33: =+DN33+DO33+DP33-DQ33+DR33-DS33-DT33+DU33 -> 0 | ED33: =+DV33+DW33+DX33-DY33+DZ33-EA33-EB33+EC33 -> 0 | EL33: =+ED33+EE33+EF33-EG33+EH33-EI33-EJ33+EK33 -> 0 | ET33: =+EL33+EM33+EN33-EO33+EP33-EQ33-ER33+ES33 -> 0 | FB33: =+ET33+EU33+EV33-EW33+EX33-EY33-EZ33+FA33 -> 0 | FJ33: =+FB33+FC33+FD33-FE33+FF33-FG33-FH33+FI33 -> 0 | FR33: =+FJ33+FK33+FL33-FM33+FN33-FO33-FP33+FQ33 -> 0 | FZ33: =+FR33+FS33+FT33-FU33+FV33-FW33-FX33+FY33 -> 0 | GH33: =+FZ33+GA33+GB33-GC33+GD33-GE33-GF33+GG33 -> 0 | GP33: =+GH33+GI33+GJ33-GK33+GL33-GM33-GN33+GO33 -> 0 | GX33: =+GP33+GQ33+GR33-GS33+GT33-GU33-GV33+GW33 -> 0 | HF33: =+GX33+GY33+GZ33-HA33+HB33-HC33-HD33+HE33 -> 0 | HN33: =+HF33+HG33+HH33-HI33+HJ33-HK33-HL33+HM33 -> 0 | HV33: =+HN33+HO33+HP33-HQ33+HR33-HS33-HT33+HU33 -> 0 | ID33: =+HV33+HW33+HX33-HY33+HZ33-IA33-IB33+IC33 -> 0 | IL33: =+ID33+IE33+IF33-IG33+IH33-II33-IJ33+IK33 -> 0 | IT33: =+IL33+IM33+IN33-IO33+IP33-IQ33-IR33+IS33 -> 0 | JB33: =+IT33+IU33+IV33-IW33+IX33-IY33-IZ33+JA33 -> 0 | JD33: =+O33+W33+AE33+AM33+AU33+BC33+BK33+BS33+CA33+CI33+CQ33+CY33+DG33+DO33+DW33+EE33+EM33+EU33+FC33+FK33+FS33+GA33+GI33+GQ33+GY33+HG33+HO33+HW33+IE33+IM33+IU33 -> 0 | JE33: =+P33+X33+AF33+AN33+AV33+BD33+BL33+BT33+CB33+CJ33+CR33+CZ33+DH33+DP33+DX33+EF33+EN33+EV33+FD33+FL33+FT33+GB33+GJ33+GR33+GZ33+HH33+HP33+HX33+IF33+IN33+IV33 -> 0 | JF33: =+Q33+Y33+AG33+AO33+AW33+BE33+BM33+BU33+CC33+CK33+CS33+DA33+DI33+DQ33+DY33+EG33+EO33+EW33+FE33+FM33+FU33+GC33+GK33+GS33+HA33+HI33+HQ33+HY33+IG33+IO33+IW33 -> 0 | JG33: =+R33+Z33+AH33+AP33+AX33+BF33+BN33+BV33+CD33+CL33+CT33+DB33+DJ33+DR33+DZ33+EH33+EP33+EX33+FF33+FN33+FV33+GD33+GL33+GT33+HB33+HJ33+HR33+HZ33+IH33+IP33+IX33 -> 0 | JH33: =+S33+AA33+AI33+AQ33+AY33+BG33+BO33+BW33+CE33+CM33+CU33+DC33+DK33+DS33+EA33+EI33+EQ33+EY33+FG33+FO33+FW33+GE33+GM33+GU33+HC33+HK33+HS33+IA33+II33+IQ33+IY33 -> 0 | JI33: =+T33+AB33+AJ33+AR33+AZ33+BH33+BP33+BX33+CF33+CN33+CV33+DD33+DL33+DT33+EB33+EJ33+ER33+EZ33+FH33+FP33+FX33+GF33+GN33+GV33+HD33+HL33+HT33+IB33+IJ33+IR33+IZ33 -> 0 | JJ33: =+U33+AC33+AK33+AS33+BA33+BI33+BQ33+BY33+CG33+CO33+CW33+DE33+DM33+DU33+EC33+EK33+ES33+FA33+FI33+FQ33+FY33+GG33+GO33+GW33+HE33+HM33+HU33+IC33+IK33+IS33+JA33 -> 0 | JK33: =+N33+JD33+JE33-JF33+JG33-JH33-JI33+JJ33 -> 0 | JM33: =+JK33-JB33 -> 0 | JO33: =+JD33*((K33+L33)*6) -> 0
B34: Local | C34: LB00L6K5072R1S12 | D34: PL6MF | E34: MF 61002 | F34: L6 | G34: NR | H34: NR | I34: D | J34: 24,2 | K34: 10 | L34: 10 | M34: UN | N34: 96 | V34: =+N34+O34+P34+R34-S34-Q34-T34+U34 -> 96 | AD34: =+V34+W34+X34-Y34+Z34-AA34-AB34+AC34 -> 96 | AL34: =+AD34+AE34+AF34-AG34+AH34-AI34-AJ34+AK34 -> 96 | AT34: =+AL34+AM34+AN34-AO34+AP34-AQ34-AR34+AS34 -> 96 | AU34: 28 | BB34: =+AT34+AU34+AV34-AW34+AX34-AY34-AZ34+BA34 -> 124 | BJ34: =+BB34+BC34+BD34-BE34+BF34-BG34-BH34+BI34 -> 124 | BR34: =+BJ34+BK34+BL34-BM34+BN34-BO34-BP34+BQ34 -> 124 | BZ34: =+BR34+BS34+BT34-BU34+BV34-BW34-BX34+BY34 -> 124 | CH34: =+BZ34+CA34+CB34-CC34+CD34-CE34-CF34+CG34 -> 124 | CP34: =+CH34+CI34+CJ34-CK34+CL34-CM34-CN34+CO34 -> 124 | CX34: =+CP34+CQ34+CR34-CS34+CT34-CU34-CV34+CW34 -> 124 | DF34: =+CX34+CY34+CZ34-DA34+DB34-DC34-DD34+DE34 -> 124 | DN34: =+DF34+DG34+DH34-DI34+DJ34-DK34-DL34+DM34 -> 124 | DV34: =+DN34+DO34+DP34-DQ34+DR34-DS34-DT34+DU34 -> 124 | ED34: =+DV34+DW34+DX34-DY34+DZ34-EA34-EB34+EC34 -> 124 | EL34: =+ED34+EE34+EF34-EG34+EH34-EI34-EJ34+EK34 -> 124 | ET34: =+EL34+EM34+EN34-EO34+EP34-EQ34-ER34+ES34 -> 124 | FB34: =+ET34+EU34+EV34-EW34+EX34-EY34-EZ34+FA34 -> 124 | FJ34: =+FB34+FC34+FD34-FE34+FF34-FG34-FH34+FI34 -> 124 | FR34: =+FJ34+FK34+FL34-FM34+FN34-FO34-FP34+FQ34 -> 124 | FZ34: =+FR34+FS34+FT34-FU34+FV34-FW34-FX34+FY34 -> 124 | GH34: =+FZ34+GA34+GB34-GC34+GD34-GE34-GF34+GG34 -> 124 | GP34: =+GH34+GI34+GJ34-GK34+GL34-GM34-GN34+GO34 -> 124 | GX34: =+GP34+GQ34+GR34-GS34+GT34-GU34-GV34+GW34 -> 124 | HF34: =+GX34+GY34+GZ34-HA34+HB34-HC34-HD34+HE34 -> 124 | HN34: =+HF34+HG34+HH34-HI34+HJ34-HK34-HL34+HM34 -> 124 | HV34: =+HN34+HO34+HP34-HQ34+HR34-HS34-HT34+HU34 -> 124 | ID34: =+HV34+HW34+HX34-HY34+HZ34-IA34-IB34+IC34 -> 124 | IL34: =+ID34+IE34+IF34-IG34+IH34-II34-IJ34+IK34 -> 124 | IT34: =+IL34+IM34+IN34-IO34+IP34-IQ34-IR34+IS34 -> 124 | JB34: =+IT34+IU34+IV34-IW34+IX34-IY34-IZ34+JA34 -> 124 | JD34: =+O34+W34+AE34+AM34+AU34+BC34+BK34+BS34+CA34+CI34+CQ34+CY34+DG34+DO34+DW34+EE34+EM34+EU34+FC34+FK34+FS34+GA34+GI34+GQ34+GY34+HG34+HO34+HW34+IE34+IM34+IU34 -> 28 | JE34: =+P34+X34+AF34+AN34+AV34+BD34+BL34+BT34+CB34+CJ34+CR34+CZ34+DH34+DP34+DX34+EF34+EN34+EV34+FD34+FL34+FT34+GB34+GJ34+GR34+GZ34+HH34+HP34+HX34+IF34+IN34+IV34 -> 0 | JF34: =+Q34+Y34+AG34+AO34+AW34+BE34+BM34+BU34+CC34+CK34+CS34+DA34+DI34+DQ34+DY34+EG34+EO34+EW34+FE34+FM34+FU34+GC34+GK34+GS34+HA34+HI34+HQ34+HY34+IG34+IO34+IW34 -> 0 | JG34: =+R34+Z34+AH34+AP34+AX34+BF34+BN34+BV34+CD34+CL34+CT34+DB34+DJ34+DR34+DZ34+EH34+EP34+EX34+FF34+FN34+FV34+GD34+GL34+GT34+HB34+HJ34+HR34+HZ34+IH34+IP34+IX34 -> 0 | JH34: =+S34+AA34+AI34+AQ34+AY34+BG34+BO34+BW34+CE34+CM34+CU34+DC34+DK34+DS34+EA34+EI34+EQ34+EY34+FG34+FO34+FW34+GE34+GM34+GU34+HC34+HK34+HS34+IA34+II34+IQ34+IY34 -> 0 | JI34: =+T34+AB34+AJ34+AR34+AZ34+BH34+BP34+BX34+CF34+CN34+CV34+DD34+DL34+DT34+EB34+EJ34+ER34+EZ34+FH34+FP34+FX34+GF34+GN34+GV34+HD34+HL34+HT34+IB34+IJ34+IR34+IZ34 -> 0 | JJ34: =+U34+AC34+AK34+AS34+BA34+BI34+BQ34+BY34+CG34+CO34+CW34+DE34+DM34+DU34+EC34+EK34+ES34+FA34+FI34+FQ34+FY34+GG34+GO34+GW34+HE34+HM34+HU34+IC34+IK34+IS34+JA34 -> 0 | JK34: =+N34+JD34+JE34-JF34+JG34-JH34-JI34+JJ34 -> 124 | JM34: =+JK34-JB34 -> 0 | JO34: =+JD34*((K34+L34)*6) -> 3360
B35: Local | C35: M55M10F043L1S13 | D35: PM10 | E35: 570101054 | F35: M10 | G35: NR | H35: NR | I35: G | J35: 18,0 | K35: 5 | L35: 5 | M35: UN | N35: 3841 | T35: 793 | V35: =+N35+O35+P35+R35-S35-Q35-T35+U35 -> 3048 | AD35: =+V35+W35+X35-Y35+Z35-AA35-AB35+AC35 -> 3048 | AL35: =+AD35+AE35+AF35-AG35+AH35-AI35-AJ35+AK35 -> 3048 | AT35: =+AL35+AM35+AN35-AO35+AP35-AQ35-AR35+AS35 -> 3048 | BB35: =+AT35+AU35+AV35-AW35+AX35-AY35-AZ35+BA35 -> 3048 | BJ35: =+BB35+BC35+BD35-BE35+BF35-BG35-BH35+BI35 -> 3048 | BR35: =+BJ35+BK35+BL35-BM35+BN35-BO35-BP35+BQ35 -> 3048 | BZ35: =+BR35+BS35+BT35-BU35+BV35-BW35-BX35+BY35 -> 3048 | CH35: =+BZ35+CA35+CB35-CC35+CD35-CE35-CF35+CG35 -> 3048 | CP35: =+CH35+CI35+CJ35-CK35+CL35-CM35-CN35+CO35 -> 3048 | CX35: =+CP35+CQ35+CR35-CS35+CT35-CU35-CV35+CW35 -> 3048 | DF35: =+CX35+CY35+CZ35-DA35+DB35-DC35-DD35+DE35 -> 3048 | DN35: =+DF35+DG35+DH35-DI35+DJ35-DK35-DL35+DM35 -> 3048 | DV35: =+DN35+DO35+DP35-DQ35+DR35-DS35-DT35+DU35 -> 3048 | ED35: =+DV35+DW35+DX35-DY35+DZ35-EA35-EB35+EC35 -> 3048 | EL35: =+ED35+EE35+EF35-EG35+EH35-EI35-EJ35+EK35 -> 3048 | ET35: =+EL35+EM35+EN35-EO35+EP35-EQ35-ER35+ES35 -> 3048 | FB35: =+ET35+EU35+EV35-EW35+EX35-EY35-EZ35+FA35 -> 3048 | FJ35: =+FB35+FC35+FD35-FE35+FF35-FG35-FH35+FI35 -> 3048 | FR35: =+FJ35+FK35+FL35-FM35+FN35-FO35-FP35+FQ35 -> 3048 | FZ35: =+FR35+FS35+FT35-FU35+FV35-FW35-FX35+FY35 -> 3048 | GH35: =+FZ35+GA35+GB35-GC35+GD35-GE35-GF35+GG35 -> 3048 | GP35: =+GH35+GI35+GJ35-GK35+GL35-GM35-GN35+GO35 -> 3048 | GX35: =+GP35+GQ35+GR35-GS35+GT35-GU35-GV35+GW35 -> 3048 | HF35: =+GX35+GY35+GZ35-HA35+HB35-HC35-HD35+HE35 -> 3048 | HN35: =+HF35+HG35+HH35-HI35+HJ35-HK35-HL35+HM35 -> 3048 | HV35: =+HN35+HO35+HP35-HQ35+HR35-HS35-HT35+HU35 -> 3048 | ID35: =+HV35+HW35+HX35-HY35+HZ35-IA35-IB35+IC35 -> 3048 | IL35: =+ID35+IE35+IF35-IG35+IH35-II35-IJ35+IK35 -> 3048 | IT35: =+IL35+IM35+IN35-IO35+IP35-IQ35-IR35+IS35 -> 3048 | JB35: =+IT35+IU35+IV35-IW35+IX35-IY35-IZ35+JA35 -> 3048 | JD35: =+O35+W35+AE35+AM35+AU35+BC35+BK35+BS35+CA35+CI35+CQ35+CY35+DG35+DO35+DW35+EE35+EM35+EU35+FC35+FK35+FS35+GA35+GI35+GQ35+GY35+HG35+HO35+HW35+IE35+IM35+IU35 -> 0 | JE35: =+P35+X35+AF35+AN35+AV35+BD35+BL35+BT35+CB35+CJ35+CR35+CZ35+DH35+DP35+DX35+EF35+EN35+EV35+FD35+FL35+FT35+GB35+GJ35+GR35+GZ35+HH35+HP35+HX35+IF35+IN35+IV35 -> 0 | JF35: =+Q35+Y35+AG35+AO35+AW35+BE35+BM35+BU35+CC35+CK35+CS35+DA35+DI35+DQ35+DY35+EG35+EO35+EW35+FE35+FM35+FU35+GC35+GK35+GS35+HA35+HI35+HQ35+HY35+IG35+IO35+IW35 -> 0 | JG35: =+R35+Z35+AH35+AP35+AX35+BF35+BN35+BV35+CD35+CL35+CT35+DB35+DJ35+DR35+DZ35+EH35+EP35+EX35+FF35+FN35+FV35+GD35+GL35+GT35+HB35+HJ35+HR35+HZ35+IH35+IP35+IX35 -> 0 | JH35: =+S35+AA35+AI35+AQ35+AY35+BG35+BO35+BW35+CE35+CM35+CU35+DC35+DK35+DS35+EA35+EI35+EQ35+EY35+FG35+FO35+FW35+GE35+GM35+GU35+HC35+HK35+HS35+IA35+II35+IQ35+IY35 -> 0 | JI35: =+T35+AB35+AJ35+AR35+AZ35+BH35+BP35+BX35+CF35+CN35+CV35+DD35+DL35+DT35+EB35+EJ35+ER35+EZ35+FH35+FP35+FX35+GF35+GN35+GV35+HD35+HL35+HT35+IB35+IJ35+IR35+IZ35 -> 793 | JJ35: =+U35+AC35+AK35+AS35+BA35+BI35+BQ35+BY35+CG35+CO35+CW35+DE35+DM35+DU35+EC35+EK35+ES35+FA35+FI35+FQ35+FY35+GG35+GO35+GW35+HE35+HM35+HU35+IC35+IK35+IS35+JA35 -> 0 | JK35: =+N35+JD35+JE35-JF35+JG35-JH35-JI35+JJ35 -> 3048 | JM35: =+JK35-JB35 -> 0 | JO35: =+JD35*((K35+L35)*6) -> 0
B36: Local | C36: MSP55M10F042L1S13 | D36: PM10S | F36: M10 | G36: NR | H36: NR | I36: G | J36: 18,0 | K36: 5 | L36: 5 | M36: UN | N36: 1236 | V36: =+N36+O36+P36+R36-S36-Q36-T36+U36 -> 1236 | AD36: =+V36+W36+X36-Y36+Z36-AA36-AB36+AC36 -> 1236 | AL36: =+AD36+AE36+AF36-AG36+AH36-AI36-AJ36+AK36 -> 1236 | AR36: 53 | AT36: =+AL36+AM36+AN36-AO36+AP36-AQ36-AR36+AS36 -> 1183 | BB36: =+AT36+AU36+AV36-AW36+AX36-AY36-AZ36+BA36 -> 1183 | BJ36: =+BB36+BC36+BD36-BE36+BF36-BG36-BH36+BI36 -> 1183 | BR36: =+BJ36+BK36+BL36-BM36+BN36-BO36-BP36+BQ36 -> 1183 | BZ36: =+BR36+BS36+BT36-BU36+BV36-BW36-BX36+BY36 -> 1183 | CH36: =+BZ36+CA36+CB36-CC36+CD36-CE36-CF36+CG36 -> 1183 | CP36: =+CH36+CI36+CJ36-CK36+CL36-CM36-CN36+CO36 -> 1183 | CX36: =+CP36+CQ36+CR36-CS36+CT36-CU36-CV36+CW36 -> 1183 | DF36: =+CX36+CY36+CZ36-DA36+DB36-DC36-DD36+DE36 -> 1183 | DN36: =+DF36+DG36+DH36-DI36+DJ36-DK36-DL36+DM36 -> 1183 | DV36: =+DN36+DO36+DP36-DQ36+DR36-DS36-DT36+DU36 -> 1183 | ED36: =+DV36+DW36+DX36-DY36+DZ36-EA36-EB36+EC36 -> 1183 | EL36: =+ED36+EE36+EF36-EG36+EH36-EI36-EJ36+EK36 -> 1183 | ET36: =+EL36+EM36+EN36-EO36+EP36-EQ36-ER36+ES36 -> 1183 | FB36: =+ET36+EU36+EV36-EW36+EX36-EY36-EZ36+FA36 -> 1183 | FJ36: =+FB36+FC36+FD36-FE36+FF36-FG36-FH36+FI36 -> 1183 | FR36: =+FJ36+FK36+FL36-FM36+FN36-FO36-FP36+FQ36 -> 1183 | FZ36: =+FR36+FS36+FT36-FU36+FV36-FW36-FX36+FY36 -> 1183 | GH36: =+FZ36+GA36+GB36-GC36+GD36-GE36-GF36+GG36 -> 1183 | GP36: =+GH36+GI36+GJ36-GK36+GL36-GM36-GN36+GO36 -> 1183 | GX36: =+GP36+GQ36+GR36-GS36+GT36-GU36-GV36+GW36 -> 1183 | HF36: =+GX36+GY36+GZ36-HA36+HB36-HC36-HD36+HE36 -> 1183 | HN36: =+HF36+HG36+HH36-HI36+HJ36-HK36-HL36+HM36 -> 1183 | HV36: =+HN36+HO36+HP36-HQ36+HR36-HS36-HT36+HU36 -> 1183 | ID36: =+HV36+HW36+HX36-HY36+HZ36-IA36-IB36+IC36 -> 1183 | IL36: =+ID36+IE36+IF36-IG36+IH36-II36-IJ36+IK36 -> 1183 | IT36: =+IL36+IM36+IN36-IO36+IP36-IQ36-IR36+IS36 -> 1183 | JB36: =+IT36+IU36+IV36-IW36+IX36-IY36-IZ36+JA36 -> 1183 | JD36: =+O36+W36+AE36+AM36+AU36+BC36+BK36+BS36+CA36+CI36+CQ36+CY36+DG36+DO36+DW36+EE36+EM36+EU36+FC36+FK36+FS36+GA36+GI36+GQ36+GY36+HG36+HO36+HW36+IE36+IM36+IU36 -> 0 | JE36: =+P36+X36+AF36+AN36+AV36+BD36+BL36+BT36+CB36+CJ36+CR36+CZ36+DH36+DP36+DX36+EF36+EN36+EV36+FD36+FL36+FT36+GB36+GJ36+GR36+GZ36+HH36+HP36+HX36+IF36+IN36+IV36 -> 0 | JF36: =+Q36+Y36+AG36+AO36+AW36+BE36+BM36+BU36+CC36+CK36+CS36+DA36+DI36+DQ36+DY36+EG36+EO36+EW36+FE36+FM36+FU36+GC36+GK36+GS36+HA36+HI36+HQ36+HY36+IG36+IO36+IW36 -> 0 | JG36: =+R36+Z36+AH36+AP36+AX36+BF36+BN36+BV36+CD36+CL36+CT36+DB36+DJ36+DR36+DZ36+EH36+EP36+EX36+FF36+FN36+FV36+GD36+GL36+GT36+HB36+HJ36+HR36+HZ36+IH36+IP36+IX36 -> 0 | JH36: =+S36+AA36+AI36+AQ36+AY36+BG36+BO36+BW36+CE36+CM36+CU36+DC36+DK36+DS36+EA36+EI36+EQ36+EY36+FG36+FO36+FW36+GE36+GM36+GU36+HC36+HK36+HS36+IA36+II36+IQ36+IY36 -> 0 | JI36: =+T36+AB36+AJ36+AR36+AZ36+BH36+BP36+BX36+CF36+CN36+CV36+DD36+DL36+DT36+EB36+EJ36+ER36+EZ36+FH36+FP36+FX36+GF36+GN36+GV36+HD36+HL36+HT36+IB36+IJ36+IR36+IZ36 -> 53 | JJ36: =+U36+AC36+AK36+AS36+BA36+BI36+BQ36+BY36+CG36+CO36+CW36+DE36+DM36+DU36+EC36+EK36+ES36+FA36+FI36+FQ36+FY36+GG36+GO36+GW36+HE36+HM36+HU36+IC36+IK36+IS36+JA36 -> 0 | JK36: =+N36+JD36+JE36-JF36+JG36-JH36-JI36+JJ36 -> 1183 | JM36: =+JK36-JB36 -> 0 | JO36: =+JD36*((K36+L36)*6) -> 0
B37: Local | C37: M77M11F043L1S13 | D37: PM11 | E37: 600101073 | F37: M11 | G37: NR | H37: NR | I37: G | J37: 22,5 | K37: 7 | L37: 7 | M37: UN | N37: =3088+2 -> 3090 | V37: =+N37+O37+P37+R37-S37-Q37-T37+U37 -> 3090 | AD37: =+V37+W37+X37-Y37+Z37-AA37-AB37+AC37 -> 3090 | AL37: =+AD37+AE37+AF37-AG37+AH37-AI37-AJ37+AK37 -> 3090 | AT37: =+AL37+AM37+AN37-AO37+AP37-AQ37-AR37+AS37 -> 3090 | BB37: =+AT37+AU37+AV37-AW37+AX37-AY37-AZ37+BA37 -> 3090 | BJ37: =+BB37+BC37+BD37-BE37+BF37-BG37-BH37+BI37 -> 3090 | BR37: =+BJ37+BK37+BL37-BM37+BN37-BO37-BP37+BQ37 -> 3090 | BZ37: =+BR37+BS37+BT37-BU37+BV37-BW37-BX37+BY37 -> 3090 | CH37: =+BZ37+CA37+CB37-CC37+CD37-CE37-CF37+CG37 -> 3090 | CP37: =+CH37+CI37+CJ37-CK37+CL37-CM37-CN37+CO37 -> 3090 | CX37: =+CP37+CQ37+CR37-CS37+CT37-CU37-CV37+CW37 -> 3090 | DF37: =+CX37+CY37+CZ37-DA37+DB37-DC37-DD37+DE37 -> 3090 | DN37: =+DF37+DG37+DH37-DI37+DJ37-DK37-DL37+DM37 -> 3090 | DV37: =+DN37+DO37+DP37-DQ37+DR37-DS37-DT37+DU37 -> 3090 | ED37: =+DV37+DW37+DX37-DY37+DZ37-EA37-EB37+EC37 -> 3090 | EL37: =+ED37+EE37+EF37-EG37+EH37-EI37-EJ37+EK37 -> 3090 | ET37: =+EL37+EM37+EN37-EO37+EP37-EQ37-ER37+ES37 -> 3090 | FB37: =+ET37+EU37+EV37-EW37+EX37-EY37-EZ37+FA37 -> 3090 | FJ37: =+FB37+FC37+FD37-FE37+FF37-FG37-FH37+FI37 -> 3090 | FR37: =+FJ37+FK37+FL37-FM37+FN37-FO37-FP37+FQ37 -> 3090 | FZ37: =+FR37+FS37+FT37-FU37+FV37-FW37-FX37+FY37 -> 3090 | GH37: =+FZ37+GA37+GB37-GC37+GD37-GE37-GF37+GG37 -> 3090 | GP37: =+GH37+GI37+GJ37-GK37+GL37-GM37-GN37+GO37 -> 3090 | GX37: =+GP37+GQ37+GR37-GS37+GT37-GU37-GV37+GW37 -> 3090 | HF37: =+GX37+GY37+GZ37-HA37+HB37-HC37-HD37+HE37 -> 3090 | HN37: =+HF37+HG37+HH37-HI37+HJ37-HK37-HL37+HM37 -> 3090 | HV37: =+HN37+HO37+HP37-HQ37+HR37-HS37-HT37+HU37 -> 3090 | ID37: =+HV37+HW37+HX37-HY37+HZ37-IA37-IB37+IC37 -> 3090 | IL37: =+ID37+IE37+IF37-IG37+IH37-II37-IJ37+IK37 -> 3090 | IT37: =+IL37+IM37+IN37-IO37+IP37-IQ37-IR37+IS37 -> 3090 | JB37: =+IT37+IU37+IV37-IW37+IX37-IY37-IZ37+JA37 -> 3090 | JD37: =+O37+W37+AE37+AM37+AU37+BC37+BK37+BS37+CA37+CI37+CQ37+CY37+DG37+DO37+DW37+EE37+EM37+EU37+FC37+FK37+FS37+GA37+GI37+GQ37+GY37+HG37+HO37+HW37+IE37+IM37+IU37 -> 0 | JE37: =+P37+X37+AF37+AN37+AV37+BD37+BL37+BT37+CB37+CJ37+CR37+CZ37+DH37+DP37+DX37+EF37+EN37+EV37+FD37+FL37+FT37+GB37+GJ37+GR37+GZ37+HH37+HP37+HX37+IF37+IN37+IV37 -> 0 | JF37: =+Q37+Y37+AG37+AO37+AW37+BE37+BM37+BU37+CC37+CK37+CS37+DA37+DI37+DQ37+DY37+EG37+EO37+EW37+FE37+FM37+FU37+GC37+GK37+GS37+HA37+HI37+HQ37+HY37+IG37+IO37+IW37 -> 0 | JG37: =+R37+Z37+AH37+AP37+AX37+BF37+BN37+BV37+CD37+CL37+CT37+DB37+DJ37+DR37+DZ37+EH37+EP37+EX37+FF37+FN37+FV37+GD37+GL37+GT37+HB37+HJ37+HR37+HZ37+IH37+IP37+IX37 -> 0 | JH37: =+S37+AA37+AI37+AQ37+AY37+BG37+BO37+BW37+CE37+CM37+CU37+DC37+DK37+DS37+EA37+EI37+EQ37+EY37+FG37+FO37+FW37+GE37+GM37+GU37+HC37+HK37+HS37+IA37+II37+IQ37+IY37 -> 0 | JI37: =+T37+AB37+AJ37+AR37+AZ37+BH37+BP37+BX37+CF37+CN37+CV37+DD37+DL37+DT37+EB37+EJ37+ER37+EZ37+FH37+FP37+FX37+GF37+GN37+GV37+HD37+HL37+HT37+IB37+IJ37+IR37+IZ37 -> 0 | JJ37: =+U37+AC37+AK37+AS37+BA37+BI37+BQ37+BY37+CG37+CO37+CW37+DE37+DM37+DU37+EC37+EK37+ES37+FA37+FI37+FQ37+FY37+GG37+GO37+GW37+HE37+HM37+HU37+IC37+IK37+IS37+JA37 -> 0 | JK37: =+N37+JD37+JE37-JF37+JG37-JH37-JI37+JJ37 -> 3090 | JM37: =+JK37-JB37 -> 0 | JO37: =+JD37*((K37+L37)*6) -> 0
B38: Local | C38: M78M11F042L1S13 | D38: PM11SG | F38: M11 | G38: NR | H38: NR | I38: G | J38: 23,3 | K38: 7 | L38: 8 | M38: UN | N38: 230 | V38: =+N38+O38+P38+R38-S38-Q38-T38+U38 -> 230 | AD38: =+V38+W38+X38-Y38+Z38-AA38-AB38+AC38 -> 230 | AL38: =+AD38+AE38+AF38-AG38+AH38-AI38-AJ38+AK38 -> 230 | AT38: =+AL38+AM38+AN38-AO38+AP38-AQ38-AR38+AS38 -> 230 | BB38: =+AT38+AU38+AV38-AW38+AX38-AY38-AZ38+BA38 -> 230 | BJ38: =+BB38+BC38+BD38-BE38+BF38-BG38-BH38+BI38 -> 230 | BR38: =+BJ38+BK38+BL38-BM38+BN38-BO38-BP38+BQ38 -> 230 | BZ38: =+BR38+BS38+BT38-BU38+BV38-BW38-BX38+BY38 -> 230 | CH38: =+BZ38+CA38+CB38-CC38+CD38-CE38-CF38+CG38 -> 230 | CP38: =+CH38+CI38+CJ38-CK38+CL38-CM38-CN38+CO38 -> 230 | CX38: =+CP38+CQ38+CR38-CS38+CT38-CU38-CV38+CW38 -> 230 | DF38: =+CX38+CY38+CZ38-DA38+DB38-DC38-DD38+DE38 -> 230 | DN38: =+DF38+DG38+DH38-DI38+DJ38-DK38-DL38+DM38 -> 230 | DV38: =+DN38+DO38+DP38-DQ38+DR38-DS38-DT38+DU38 -> 230 | ED38: =+DV38+DW38+DX38-DY38+DZ38-EA38-EB38+EC38 -> 230 | EL38: =+ED38+EE38+EF38-EG38+EH38-EI38-EJ38+EK38 -> 230 | ET38: =+EL38+EM38+EN38-EO38+EP38-EQ38-ER38+ES38 -> 230 | FB38: =+ET38+EU38+EV38-EW38+EX38-EY38-EZ38+FA38 -> 230 | FJ38: =+FB38+FC38+FD38-FE38+FF38-FG38-FH38+FI38 -> 230 | FR38: =+FJ38+FK38+FL38-FM38+FN38-FO38-FP38+FQ38 -> 230 | FZ38: =+FR38+FS38+FT38-FU38+FV38-FW38-FX38+FY38 -> 230 | GH38: =+FZ38+GA38+GB38-GC38+GD38-GE38-GF38+GG38 -> 230 | GP38: =+GH38+GI38+GJ38-GK38+GL38-GM38-GN38+GO38 -> 230 | GX38: =+GP38+GQ38+GR38-GS38+GT38-GU38-GV38+GW38 -> 230 | HF38: =+GX38+GY38+GZ38-HA38+HB38-HC38-HD38+HE38 -> 230 | HN38: =+HF38+HG38+HH38-HI38+HJ38-HK38-HL38+HM38 -> 230 | HV38: =+HN38+HO38+HP38-HQ38+HR38-HS38-HT38+HU38 -> 230 | ID38: =+HV38+HW38+HX38-HY38+HZ38-IA38-IB38+IC38 -> 230 | IL38: =+ID38+IE38+IF38-IG38+IH38-II38-IJ38+IK38 -> 230 | IT38: =+IL38+IM38+IN38-IO38+IP38-IQ38-IR38+IS38 -> 230 | JB38: =+IT38+IU38+IV38-IW38+IX38-IY38-IZ38+JA38 -> 230 | JD38: =+O38+W38+AE38+AM38+AU38+BC38+BK38+BS38+CA38+CI38+CQ38+CY38+DG38+DO38+DW38+EE38+EM38+EU38+FC38+FK38+FS38+GA38+GI38+GQ38+GY38+HG38+HO38+HW38+IE38+IM38+IU38 -> 0 | JE38: =+P38+X38+AF38+AN38+AV38+BD38+BL38+BT38+CB38+CJ38+CR38+CZ38+DH38+DP38+DX38+EF38+EN38+EV38+FD38+FL38+FT38+GB38+GJ38+GR38+GZ38+HH38+HP38+HX38+IF38+IN38+IV38 -> 0 | JF38: =+Q38+Y38+AG38+AO38+AW38+BE38+BM38+BU38+CC38+CK38+CS38+DA38+DI38+DQ38+DY38+EG38+EO38+EW38+FE38+FM38+FU38+GC38+GK38+GS38+HA38+HI38+HQ38+HY38+IG38+IO38+IW38 -> 0 | JG38: =+R38+Z38+AH38+AP38+AX38+BF38+BN38+BV38+CD38+CL38+CT38+DB38+DJ38+DR38+DZ38+EH38+EP38+EX38+FF38+FN38+FV38+GD38+GL38+GT38+HB38+HJ38+HR38+HZ38+IH38+IP38+IX38 -> 0 | JH38: =+S38+AA38+AI38+AQ38+AY38+BG38+BO38+BW38+CE38+CM38+CU38+DC38+DK38+DS38+EA38+EI38+EQ38+EY38+FG38+FO38+FW38+GE38+GM38+GU38+HC38+HK38+HS38+IA38+II38+IQ38+IY38 -> 0 | JI38: =+T38+AB38+AJ38+AR38+AZ38+BH38+BP38+BX38+CF38+CN38+CV38+DD38+DL38+DT38+EB38+EJ38+ER38+EZ38+FH38+FP38+FX38+GF38+GN38+GV38+HD38+HL38+HT38+IB38+IJ38+IR38+IZ38 -> 0 | JJ38: =+U38+AC38+AK38+AS38+BA38+BI38+BQ38+BY38+CG38+CO38+CW38+DE38+DM38+DU38+EC38+EK38+ES38+FA38+FI38+FQ38+FY38+GG38+GO38+GW38+HE38+HM38+HU38+IC38+IK38+IS38+JA38 -> 0 | JK38: =+N38+JD38+JE38-JF38+JG38-JH38-JI38+JJ38 -> 230 | JM38: =+JK38-JB38 -> 0 | JO38: =+JD38*((K38+L38)*6) -> 0
B39: Local | C39: M78M11F042R1S13 | D39: PM11SD | F39: M11 | G39: NR | H39: NR | I39: D | J39: 23,3 | K39: 7 | L39: 8 | M39: UN | N39: 658 | V39: =+N39+O39+P39+R39-S39-Q39-T39+U39 -> 658 | AD39: =+V39+W39+X39-Y39+Z39-AA39-AB39+AC39 -> 658 | AL39: =+AD39+AE39+AF39-AG39+AH39-AI39-AJ39+AK39 -> 658 | AT39: =+AL39+AM39+AN39-AO39+AP39-AQ39-AR39+AS39 -> 658 | BB39: =+AT39+AU39+AV39-AW39+AX39-AY39-AZ39+BA39 -> 658 | BJ39: =+BB39+BC39+BD39-BE39+BF39-BG39-BH39+BI39 -> 658 | BR39: =+BJ39+BK39+BL39-BM39+BN39-BO39-BP39+BQ39 -> 658 | BZ39: =+BR39+BS39+BT39-BU39+BV39-BW39-BX39+BY39 -> 658 | CH39: =+BZ39+CA39+CB39-CC39+CD39-CE39-CF39+CG39 -> 658 | CP39: =+CH39+CI39+CJ39-CK39+CL39-CM39-CN39+CO39 -> 658 | CX39: =+CP39+CQ39+CR39-CS39+CT39-CU39-CV39+CW39 -> 658 | DF39: =+CX39+CY39+CZ39-DA39+DB39-DC39-DD39+DE39 -> 658 | DN39: =+DF39+DG39+DH39-DI39+DJ39-DK39-DL39+DM39 -> 658 | DV39: =+DN39+DO39+DP39-DQ39+DR39-DS39-DT39+DU39 -> 658 | ED39: =+DV39+DW39+DX39-DY39+DZ39-EA39-EB39+EC39 -> 658 | EL39: =+ED39+EE39+EF39-EG39+EH39-EI39-EJ39+EK39 -> 658 | ET39: =+EL39+EM39+EN39-EO39+EP39-EQ39-ER39+ES39 -> 658 | FB39: =+ET39+EU39+EV39-EW39+EX39-EY39-EZ39+FA39 -> 658 | FJ39: =+FB39+FC39+FD39-FE39+FF39-FG39-FH39+FI39 -> 658 | FR39: =+FJ39+FK39+FL39-FM39+FN39-FO39-FP39+FQ39 -> 658 | FZ39: =+FR39+FS39+FT39-FU39+FV39-FW39-FX39+FY39 -> 658 | GH39: =+FZ39+GA39+GB39-GC39+GD39-GE39-GF39+GG39 -> 658 | GP39: =+GH39+GI39+GJ39-GK39+GL39-GM39-GN39+GO39 -> 658 | GX39: =+GP39+GQ39+GR39-GS39+GT39-GU39-GV39+GW39 -> 658 | HF39: =+GX39+GY39+GZ39-HA39+HB39-HC39-HD39+HE39 -> 658 | HN39: =+HF39+HG39+HH39-HI39+HJ39-HK39-HL39+HM39 -> 658 | HV39: =+HN39+HO39+HP39-HQ39+HR39-HS39-HT39+HU39 -> 658 | ID39: =+HV39+HW39+HX39-HY39+HZ39-IA39-IB39+IC39 -> 658 | IL39: =+ID39+IE39+IF39-IG39+IH39-II39-IJ39+IK39 -> 658 | IT39: =+IL39+IM39+IN39-IO39+IP39-IQ39-IR39+IS39 -> 658 | JB39: =+IT39+IU39+IV39-IW39+IX39-IY39-IZ39+JA39 -> 658 | JD39: =+O39+W39+AE39+AM39+AU39+BC39+BK39+BS39+CA39+CI39+CQ39+CY39+DG39+DO39+DW39+EE39+EM39+EU39+FC39+FK39+FS39+GA39+GI39+GQ39+GY39+HG39+HO39+HW39+IE39+IM39+IU39 -> 0 | JE39: =+P39+X39+AF39+AN39+AV39+BD39+BL39+BT39+CB39+CJ39+CR39+CZ39+DH39+DP39+DX39+EF39+EN39+EV39+FD39+FL39+FT39+GB39+GJ39+GR39+GZ39+HH39+HP39+HX39+IF39+IN39+IV39 -> 0 | JF39: =+Q39+Y39+AG39+AO39+AW39+BE39+BM39+BU39+CC39+CK39+CS39+DA39+DI39+DQ39+DY39+EG39+EO39+EW39+FE39+FM39+FU39+GC39+GK39+GS39+HA39+HI39+HQ39+HY39+IG39+IO39+IW39 -> 0 | JG39: =+R39+Z39+AH39+AP39+AX39+BF39+BN39+BV39+CD39+CL39+CT39+DB39+DJ39+DR39+DZ39+EH39+EP39+EX39+FF39+FN39+FV39+GD39+GL39+GT39+HB39+HJ39+HR39+HZ39+IH39+IP39+IX39 -> 0 | JH39: =+S39+AA39+AI39+AQ39+AY39+BG39+BO39+BW39+CE39+CM39+CU39+DC39+DK39+DS39+EA39+EI39+EQ39+EY39+FG39+FO39+FW39+GE39+GM39+GU39+HC39+HK39+HS39+IA39+II39+IQ39+IY39 -> 0 | JI39: =+T39+AB39+AJ39+AR39+AZ39+BH39+BP39+BX39+CF39+CN39+CV39+DD39+DL39+DT39+EB39+EJ39+ER39+EZ39+FH39+FP39+FX39+GF39+GN39+GV39+HD39+HL39+HT39+IB39+IJ39+IR39+IZ39 -> 0 | JJ39: =+U39+AC39+AK39+AS39+BA39+BI39+BQ39+BY39+CG39+CO39+CW39+DE39+DM39+DU39+EC39+EK39+ES39+FA39+FI39+FQ39+FY39+GG39+GO39+GW39+HE39+HM39+HU39+IC39+IK39+IS39+JA39 -> 0 | JK39: =+N39+JD39+JE39-JF39+JG39-JH39-JI39+JJ39 -> 658 | JM39: =+JK39-JB39 -> 0 | JO39: =+JD39*((K39+L39)*6) -> 0
B40: Local | C40: M77M12F043L1S13 | D40: PM12 | E40: 600101070 | F40: M12 | G40: NR | H40: NR | I40: G | J40: 24,6 | K40: 7 | L40: 7 | M40: UN | N40: 655 | V40: =+N40+O40+P40+R40-S40-Q40-T40+U40 -> 655 | AD40: =+V40+W40+X40-Y40+Z40-AA40-AB40+AC40 -> 655 | AE40: 66 | AL40: =+AD40+AE40+AF40-AG40+AH40-AI40-AJ40+AK40 -> 721 | AT40: =+AL40+AM40+AN40-AO40+AP40-AQ40-AR40+AS40 -> 721 | BB40: =+AT40+AU40+AV40-AW40+AX40-AY40-AZ40+BA40 -> 721 | BJ40: =+BB40+BC40+BD40-BE40+BF40-BG40-BH40+BI40 -> 721 | BR40: =+BJ40+BK40+BL40-BM40+BN40-BO40-BP40+BQ40 -> 721 | BZ40: =+BR40+BS40+BT40-BU40+BV40-BW40-BX40+BY40 -> 721 | CH40: =+BZ40+CA40+CB40-CC40+CD40-CE40-CF40+CG40 -> 721 | CP40: =+CH40+CI40+CJ40-CK40+CL40-CM40-CN40+CO40 -> 721 | CX40: =+CP40+CQ40+CR40-CS40+CT40-CU40-CV40+CW40 -> 721 | DF40: =+CX40+CY40+CZ40-DA40+DB40-DC40-DD40+DE40 -> 721 | DN40: =+DF40+DG40+DH40-DI40+DJ40-DK40-DL40+DM40 -> 721 | DV40: =+DN40+DO40+DP40-DQ40+DR40-DS40-DT40+DU40 -> 721 | ED40: =+DV40+DW40+DX40-DY40+DZ40-EA40-EB40+EC40 -> 721 | EL40: =+ED40+EE40+EF40-EG40+EH40-EI40-EJ40+EK40 -> 721 | ET40: =+EL40+EM40+EN40-EO40+EP40-EQ40-ER40+ES40 -> 721 | FB40: =+ET40+EU40+EV40-EW40+EX40-EY40-EZ40+FA40 -> 721 | FJ40: =+FB40+FC40+FD40-FE40+FF40-FG40-FH40+FI40 -> 721 | FR40: =+FJ40+FK40+FL40-FM40+FN40-FO40-FP40+FQ40 -> 721 | FZ40: =+FR40+FS40+FT40-FU40+FV40-FW40-FX40+FY40 -> 721 | GH40: =+FZ40+GA40+GB40-GC40+GD40-GE40-GF40+GG40 -> 721 | GP40: =+GH40+GI40+GJ40-GK40+GL40-GM40-GN40+GO40 -> 721 | GX40: =+GP40+GQ40+GR40-GS40+GT40-GU40-GV40+GW40 -> 721 | HF40: =+GX40+GY40+GZ40-HA40+HB40-HC40-HD40+HE40 -> 721 | HN40: =+HF40+HG40+HH40-HI40+HJ40-HK40-HL40+HM40 -> 721 | HV40: =+HN40+HO40+HP40-HQ40+HR40-HS40-HT40+HU40 -> 721 | ID40: =+HV40+HW40+HX40-HY40+HZ40-IA40-IB40+IC40 -> 721 | IL40: =+ID40+IE40+IF40-IG40+IH40-II40-IJ40+IK40 -> 721 | IT40: =+IL40+IM40+IN40-IO40+IP40-IQ40-IR40+IS40 -> 721 | JB40: =+IT40+IU40+IV40-IW40+IX40-IY40-IZ40+JA40 -> 721 | JD40: =+O40+W40+AE40+AM40+AU40+BC40+BK40+BS40+CA40+CI40+CQ40+CY40+DG40+DO40+DW40+EE40+EM40+EU40+FC40+FK40+FS40+GA40+GI40+GQ40+GY40+HG40+HO40+HW40+IE40+IM40+IU40 -> 66 | JE40: =+P40+X40+AF40+AN40+AV40+BD40+BL40+BT40+CB40+CJ40+CR40+CZ40+DH40+DP40+DX40+EF40+EN40+EV40+FD40+FL40+FT40+GB40+GJ40+GR40+GZ40+HH40+HP40+HX40+IF40+IN40+IV40 -> 0 | JF40: =+Q40+Y40+AG40+AO40+AW40+BE40+BM40+BU40+CC40+CK40+CS40+DA40+DI40+DQ40+DY40+EG40+EO40+EW40+FE40+FM40+FU40+GC40+GK40+GS40+HA40+HI40+HQ40+HY40+IG40+IO40+IW40 -> 0 | JG40: =+R40+Z40+AH40+AP40+AX40+BF40+BN40+BV40+CD40+CL40+CT40+DB40+DJ40+DR40+DZ40+EH40+EP40+EX40+FF40+FN40+FV40+GD40+GL40+GT40+HB40+HJ40+HR40+HZ40+IH40+IP40+IX40 -> 0 | JH40: =+S40+AA40+AI40+AQ40+AY40+BG40+BO40+BW40+CE40+CM40+CU40+DC40+DK40+DS40+EA40+EI40+EQ40+EY40+FG40+FO40+FW40+GE40+GM40+GU40+HC40+HK40+HS40+IA40+II40+IQ40+IY40 -> 0 | JI40: =+T40+AB40+AJ40+AR40+AZ40+BH40+BP40+BX40+CF40+CN40+CV40+DD40+DL40+DT40+EB40+EJ40+ER40+EZ40+FH40+FP40+FX40+GF40+GN40+GV40+HD40+HL40+HT40+IB40+IJ40+IR40+IZ40 -> 0 | JJ40: =+U40+AC40+AK40+AS40+BA40+BI40+BQ40+BY40+CG40+CO40+CW40+DE40+DM40+DU40+EC40+EK40+ES40+FA40+FI40+FQ40+FY40+GG40+GO40+GW40+HE40+HM40+HU40+IC40+IK40+IS40+JA40 -> 0 | JK40: =+N40+JD40+JE40-JF40+JG40-JH40-JI40+JJ40 -> 721 | JM40: =+JK40-JB40 -> 0 | JO40: =+JD40*((K40+L40)*6) -> 5544
B41: Local | C41: M88M12F042L1S13 | D41: PM12S | F41: M12 | G41: NR | H41: NR | I41: G | J41: 26,0 | K41: 8 | L41: 8 | M41: UN | N41: 235 | V41: =+N41+O41+P41+R41-S41-Q41-T41+U41 -> 235 | AD41: =+V41+W41+X41-Y41+Z41-AA41-AB41+AC41 -> 235 | AL41: =+AD41+AE41+AF41-AG41+AH41-AI41-AJ41+AK41 -> 235 | AT41: =+AL41+AM41+AN41-AO41+AP41-AQ41-AR41+AS41 -> 235 | BB41: =+AT41+AU41+AV41-AW41+AX41-AY41-AZ41+BA41 -> 235 | BJ41: =+BB41+BC41+BD41-BE41+BF41-BG41-BH41+BI41 -> 235 | BR41: =+BJ41+BK41+BL41-BM41+BN41-BO41-BP41+BQ41 -> 235 | BZ41: =+BR41+BS41+BT41-BU41+BV41-BW41-BX41+BY41 -> 235 | CH41: =+BZ41+CA41+CB41-CC41+CD41-CE41-CF41+CG41 -> 235 | CP41: =+CH41+CI41+CJ41-CK41+CL41-CM41-CN41+CO41 -> 235 | CX41: =+CP41+CQ41+CR41-CS41+CT41-CU41-CV41+CW41 -> 235 | DF41: =+CX41+CY41+CZ41-DA41+DB41-DC41-DD41+DE41 -> 235 | DN41: =+DF41+DG41+DH41-DI41+DJ41-DK41-DL41+DM41 -> 235 | DV41: =+DN41+DO41+DP41-DQ41+DR41-DS41-DT41+DU41 -> 235 | ED41: =+DV41+DW41+DX41-DY41+DZ41-EA41-EB41+EC41 -> 235 | EL41: =+ED41+EE41+EF41-EG41+EH41-EI41-EJ41+EK41 -> 235 | ET41: =+EL41+EM41+EN41-EO41+EP41-EQ41-ER41+ES41 -> 235 | FB41: =+ET41+EU41+EV41-EW41+EX41-EY41-EZ41+FA41 -> 235 | FJ41: =+FB41+FC41+FD41-FE41+FF41-FG41-FH41+FI41 -> 235 | FR41: =+FJ41+FK41+FL41-FM41+FN41-FO41-FP41+FQ41 -> 235 | FZ41: =+FR41+FS41+FT41-FU41+FV41-FW41-FX41+FY41 -> 235 | GH41: =+FZ41+GA41+GB41-GC41+GD41-GE41-GF41+GG41 -> 235 | GP41: =+GH41+GI41+GJ41-GK41+GL41-GM41-GN41+GO41 -> 235 | GX41: =+GP41+GQ41+GR41-GS41+GT41-GU41-GV41+GW41 -> 235 | HF41: =+GX41+GY41+GZ41-HA41+HB41-HC41-HD41+HE41 -> 235 | HN41: =+HF41+HG41+HH41-HI41+HJ41-HK41-HL41+HM41 -> 235 | HV41: =+HN41+HO41+HP41-HQ41+HR41-HS41-HT41+HU41 -> 235 | ID41: =+HV41+HW41+HX41-HY41+HZ41-IA41-IB41+IC41 -> 235 | IL41: =+ID41+IE41+IF41-IG41+IH41-II41-IJ41+IK41 -> 235 | IT41: =+IL41+IM41+IN41-IO41+IP41-IQ41-IR41+IS41 -> 235 | JB41: =+IT41+IU41+IV41-IW41+IX41-IY41-IZ41+JA41 -> 235 | JD41: =+O41+W41+AE41+AM41+AU41+BC41+BK41+BS41+CA41+CI41+CQ41+CY41+DG41+DO41+DW41+EE41+EM41+EU41+FC41+FK41+FS41+GA41+GI41+GQ41+GY41+HG41+HO41+HW41+IE41+IM41+IU41 -> 0 | JE41: =+P41+X41+AF41+AN41+AV41+BD41+BL41+BT41+CB41+CJ41+CR41+CZ41+DH41+DP41+DX41+EF41+EN41+EV41+FD41+FL41+FT41+GB41+GJ41+GR41+GZ41+HH41+HP41+HX41+IF41+IN41+IV41 -> 0 | JF41: =+Q41+Y41+AG41+AO41+AW41+BE41+BM41+BU41+CC41+CK41+CS41+DA41+DI41+DQ41+DY41+EG41+EO41+EW41+FE41+FM41+FU41+GC41+GK41+GS41+HA41+HI41+HQ41+HY41+IG41+IO41+IW41 -> 0 | JG41: =+R41+Z41+AH41+AP41+AX41+BF41+BN41+BV41+CD41+CL41+CT41+DB41+DJ41+DR41+DZ41+EH41+EP41+EX41+FF41+FN41+FV41+GD41+GL41+GT41+HB41+HJ41+HR41+HZ41+IH41+IP41+IX41 -> 0 | JH41: =+S41+AA41+AI41+AQ41+AY41+BG41+BO41+BW41+CE41+CM41+CU41+DC41+DK41+DS41+EA41+EI41+EQ41+EY41+FG41+FO41+FW41+GE41+GM41+GU41+HC41+HK41+HS41+IA41+II41+IQ41+IY41 -> 0 | JI41: =+T41+AB41+AJ41+AR41+AZ41+BH41+BP41+BX41+CF41+CN41+CV41+DD41+DL41+DT41+EB41+EJ41+ER41+EZ41+FH41+FP41+FX41+GF41+GN41+GV41+HD41+HL41+HT41+IB41+IJ41+IR41+IZ41 -> 0 | JJ41: =+U41+AC41+AK41+AS41+BA41+BI41+BQ41+BY41+CG41+CO41+CW41+DE41+DM41+DU41+EC41+EK41+ES41+FA41+FI41+FQ41+FY41+GG41+GO41+GW41+HE41+HM41+HU41+IC41+IK41+IS41+JA41 -> 0 | JK41: =+N41+JD41+JE41-JF41+JG41-JH41-JI41+JJ41 -> 235 | JM41: =+JK41-JB41 -> 0 | JO41: =+JD41*((K41+L41)*6) -> 0
B42: Local | C42: M89C98P5042R1S13 | D42: PM110 | E42: 61028 | F42: C98 | G42: OP | H42: NR | I42: G | J42: 29,8 | K42: 8 | L42: 9 | M42: UN | N42: 239 | T42: 39 | V42: =+N42+O42+P42+R42-S42-Q42-T42+U42 -> 200 | AD42: =+V42+W42+X42-Y42+Z42-AA42-AB42+AC42 -> 200 | AL42: =+AD42+AE42+AF42-AG42+AH42-AI42-AJ42+AK42 -> 200 | AT42: =+AL42+AM42+AN42-AO42+AP42-AQ42-AR42+AS42 -> 200 | BB42: =+AT42+AU42+AV42-AW42+AX42-AY42-AZ42+BA42 -> 200 | BJ42: =+BB42+BC42+BD42-BE42+BF42-BG42-BH42+BI42 -> 200 | BR42: =+BJ42+BK42+BL42-BM42+BN42-BO42-BP42+BQ42 -> 200 | BZ42: =+BR42+BS42+BT42-BU42+BV42-BW42-BX42+BY42 -> 200 | CH42: =+BZ42+CA42+CB42-CC42+CD42-CE42-CF42+CG42 -> 200 | CP42: =+CH42+CI42+CJ42-CK42+CL42-CM42-CN42+CO42 -> 200 | CX42: =+CP42+CQ42+CR42-CS42+CT42-CU42-CV42+CW42 -> 200 | DF42: =+CX42+CY42+CZ42-DA42+DB42-DC42-DD42+DE42 -> 200 | DN42: =+DF42+DG42+DH42-DI42+DJ42-DK42-DL42+DM42 -> 200 | DV42: =+DN42+DO42+DP42-DQ42+DR42-DS42-DT42+DU42 -> 200 | ED42: =+DV42+DW42+DX42-DY42+DZ42-EA42-EB42+EC42 -> 200 | EL42: =+ED42+EE42+EF42-EG42+EH42-EI42-EJ42+EK42 -> 200 | ET42: =+EL42+EM42+EN42-EO42+EP42-EQ42-ER42+ES42 -> 200 | FB42: =+ET42+EU42+EV42-EW42+EX42-EY42-EZ42+FA42 -> 200 | FJ42: =+FB42+FC42+FD42-FE42+FF42-FG42-FH42+FI42 -> 200 | FR42: =+FJ42+FK42+FL42-FM42+FN42-FO42-FP42+FQ42 -> 200 | FZ42: =+FR42+FS42+FT42-FU42+FV42-FW42-FX42+FY42 -> 200 | GH42: =+FZ42+GA42+GB42-GC42+GD42-GE42-GF42+GG42 -> 200 | GP42: =+GH42+GI42+GJ42-GK42+GL42-GM42-GN42+GO42 -> 200 | GX42: =+GP42+GQ42+GR42-GS42+GT42-GU42-GV42+GW42 -> 200 | HF42: =+GX42+GY42+GZ42-HA42+HB42-HC42-HD42+HE42 -> 200 | HN42: =+HF42+HG42+HH42-HI42+HJ42-HK42-HL42+HM42 -> 200 | HV42: =+HN42+HO42+HP42-HQ42+HR42-HS42-HT42+HU42 -> 200 | ID42: =+HV42+HW42+HX42-HY42+HZ42-IA42-IB42+IC42 -> 200 | IL42: =+ID42+IE42+IF42-IG42+IH42-II42-IJ42+IK42 -> 200 | IT42: =+IL42+IM42+IN42-IO42+IP42-IQ42-IR42+IS42 -> 200 | JB42: =+IT42+IU42+IV42-IW42+IX42-IY42-IZ42+JA42 -> 200 | JD42: =+O42+W42+AE42+AM42+AU42+BC42+BK42+BS42+CA42+CI42+CQ42+CY42+DG42+DO42+DW42+EE42+EM42+EU42+FC42+FK42+FS42+GA42+GI42+GQ42+GY42+HG42+HO42+HW42+IE42+IM42+IU42 -> 0 | JE42: =+P42+X42+AF42+AN42+AV42+BD42+BL42+BT42+CB42+CJ42+CR42+CZ42+DH42+DP42+DX42+EF42+EN42+EV42+FD42+FL42+FT42+GB42+GJ42+GR42+GZ42+HH42+HP42+HX42+IF42+IN42+IV42 -> 0 | JF42: =+Q42+Y42+AG42+AO42+AW42+BE42+BM42+BU42+CC42+CK42+CS42+DA42+DI42+DQ42+DY42+EG42+EO42+EW42+FE42+FM42+FU42+GC42+GK42+GS42+HA42+HI42+HQ42+HY42+IG42+IO42+IW42 -> 0 | JG42: =+R42+Z42+AH42+AP42+AX42+BF42+BN42+BV42+CD42+CL42+CT42+DB42+DJ42+DR42+DZ42+EH42+EP42+EX42+FF42+FN42+FV42+GD42+GL42+GT42+HB42+HJ42+HR42+HZ42+IH42+IP42+IX42 -> 0 | JH42: =+S42+AA42+AI42+AQ42+AY42+BG42+BO42+BW42+CE42+CM42+CU42+DC42+DK42+DS42+EA42+EI42+EQ42+EY42+FG42+FO42+FW42+GE42+GM42+GU42+HC42+HK42+HS42+IA42+II42+IQ42+IY42 -> 0 | JI42: =+T42+AB42+AJ42+AR42+AZ42+BH42+BP42+BX42+CF42+CN42+CV42+DD42+DL42+DT42+EB42+EJ42+ER42+EZ42+FH42+FP42+FX42+GF42+GN42+GV42+HD42+HL42+HT42+IB42+IJ42+IR42+IZ42 -> 39 | JJ42: =+U42+AC42+AK42+AS42+BA42+BI42+BQ42+BY42+CG42+CO42+CW42+DE42+DM42+DU42+EC42+EK42+ES42+FA42+FI42+FQ42+FY42+GG42+GO42+GW42+HE42+HM42+HU42+IC42+IK42+IS42+JA42 -> 0 | JK42: =+N42+JD42+JE42-JF42+JG42-JH42-JI42+JJ42 -> 200 | JM42: =+JK42-JB42 -> 0 | JO42: =+JD42*((K42+L42)*6) -> 0
B43: Local | C43: ML34CF303L1X12 | D43: MAR16 | E43: 70027 | F43: M16 | G43: GR | H43: NR | I43: G | J43: 52,6 | K43: 13 | L43: 14 | M43: UN | N43: 0 | V43: =+N43+O43+P43+R43-S43-Q43-T43+U43 -> 0 | AD43: =+V43+W43+X43-Y43+Z43-AA43-AB43+AC43 -> 0 | AL43: =+AD43+AE43+AF43-AG43+AH43-AI43-AJ43+AK43 -> 0 | AT43: =+AL43+AM43+AN43-AO43+AP43-AQ43-AR43+AS43 -> 0 | BB43: =+AT43+AU43+AV43-AW43+AX43-AY43-AZ43+BA43 -> 0 | BJ43: =+BB43+BC43+BD43-BE43+BF43-BG43-BH43+BI43 -> 0 | BR43: =+BJ43+BK43+BL43-BM43+BN43-BO43-BP43+BQ43 -> 0 | BZ43: =+BR43+BS43+BT43-BU43+BV43-BW43-BX43+BY43 -> 0 | CH43: =+BZ43+CA43+CB43-CC43+CD43-CE43-CF43+CG43 -> 0 | CP43: =+CH43+CI43+CJ43-CK43+CL43-CM43-CN43+CO43 -> 0 | CX43: =+CP43+CQ43+CR43-CS43+CT43-CU43-CV43+CW43 -> 0 | DF43: =+CX43+CY43+CZ43-DA43+DB43-DC43-DD43+DE43 -> 0 | DN43: =+DF43+DG43+DH43-DI43+DJ43-DK43-DL43+DM43 -> 0 | DV43: =+DN43+DO43+DP43-DQ43+DR43-DS43-DT43+DU43 -> 0 | ED43: =+DV43+DW43+DX43-DY43+DZ43-EA43-EB43+EC43 -> 0 | EL43: =+ED43+EE43+EF43-EG43+EH43-EI43-EJ43+EK43 -> 0 | ET43: =+EL43+EM43+EN43-EO43+EP43-EQ43-ER43+ES43 -> 0 | FB43: =+ET43+EU43+EV43-EW43+EX43-EY43-EZ43+FA43 -> 0 | FJ43: =+FB43+FC43+FD43-FE43+FF43-FG43-FH43+FI43 -> 0 | FR43: =+FJ43+FK43+FL43-FM43+FN43-FO43-FP43+FQ43 -> 0 | FZ43: =+FR43+FS43+FT43-FU43+FV43-FW43-FX43+FY43 -> 0 | GH43: =+FZ43+GA43+GB43-GC43+GD43-GE43-GF43+GG43 -> 0 | GP43: =+GH43+GI43+GJ43-GK43+GL43-GM43-GN43+GO43 -> 0 | GX43: =+GP43+GQ43+GR43-GS43+GT43-GU43-GV43+GW43 -> 0 | HF43: =+GX43+GY43+GZ43-HA43+HB43-HC43-HD43+HE43 -> 0 | HN43: =+HF43+HG43+HH43-HI43+HJ43-HK43-HL43+HM43 -> 0 | HV43: =+HN43+HO43+HP43-HQ43+HR43-HS43-HT43+HU43 -> 0 | ID43: =+HV43+HW43+HX43-HY43+HZ43-IA43-IB43+IC43 -> 0 | IL43: =+ID43+IE43+IF43-IG43+IH43-II43-IJ43+IK43 -> 0 | IT43: =+IL43+IM43+IN43-IO43+IP43-IQ43-IR43+IS43 -> 0 | JB43: =+IT43+IU43+IV43-IW43+IX43-IY43-IZ43+JA43 -> 0 | JD43: =+O43+W43+AE43+AM43+AU43+BC43+BK43+BS43+CA43+CI43+CQ43+CY43+DG43+DO43+DW43+EE43+EM43+EU43+FC43+FK43+FS43+GA43+GI43+GQ43+GY43+HG43+HO43+HW43+IE43+IM43+IU43 -> 0 | JE43: =+P43+X43+AF43+AN43+AV43+BD43+BL43+BT43+CB43+CJ43+CR43+CZ43+DH43+DP43+DX43+EF43+EN43+EV43+FD43+FL43+FT43+GB43+GJ43+GR43+GZ43+HH43+HP43+HX43+IF43+IN43+IV43 -> 0 | JF43: =+Q43+Y43+AG43+AO43+AW43+BE43+BM43+BU43+CC43+CK43+CS43+DA43+DI43+DQ43+DY43+EG43+EO43+EW43+FE43+FM43+FU43+GC43+GK43+GS43+HA43+HI43+HQ43+HY43+IG43+IO43+IW43 -> 0 | JG43: =+R43+Z43+AH43+AP43+AX43+BF43+BN43+BV43+CD43+CL43+CT43+DB43+DJ43+DR43+DZ43+EH43+EP43+EX43+FF43+FN43+FV43+GD43+GL43+GT43+HB43+HJ43+HR43+HZ43+IH43+IP43+IX43 -> 0 | JH43: =+S43+AA43+AI43+AQ43+AY43+BG43+BO43+BW43+CE43+CM43+CU43+DC43+DK43+DS43+EA43+EI43+EQ43+EY43+FG43+FO43+FW43+GE43+GM43+GU43+HC43+HK43+HS43+IA43+II43+IQ43+IY43 -> 0 | JI43: =+T43+AB43+AJ43+AR43+AZ43+BH43+BP43+BX43+CF43+CN43+CV43+DD43+DL43+DT43+EB43+EJ43+ER43+EZ43+FH43+FP43+FX43+GF43+GN43+GV43+HD43+HL43+HT43+IB43+IJ43+IR43+IZ43 -> 0 | JJ43: =+U43+AC43+AK43+AS43+BA43+BI43+BQ43+BY43+CG43+CO43+CW43+DE43+DM43+DU43+EC43+EK43+ES43+FA43+FI43+FQ43+FY43+GG43+GO43+GW43+HE43+HM43+HU43+IC43+IK43+IS43+JA43 -> 0 | JK43: =+N43+JD43+JE43-JF43+JG43-JH43-JI43+JJ43 -> 0 | JM43: =+JK43-JB43 -> 0 | JO43: =+JD43*((K43+L43)*6) -> 0
B44: Local | C44: MSP89AF003L1S13 | D44: MAR14 | E44: 62545 | F44: M14 | G44: GR | H44: GR | I44: G | J44: 33,7 | K44: 8 | L44: 9 | M44: UN | N44: 0 | V44: =+N44+O44+P44+R44-S44-Q44-T44+U44 -> 0 | AD44: =+V44+W44+X44-Y44+Z44-AA44-AB44+AC44 -> 0 | AL44: =+AD44+AE44+AF44-AG44+AH44-AI44-AJ44+AK44 -> 0 | AT44: =+AL44+AM44+AN44-AO44+AP44-AQ44-AR44+AS44 -> 0 | BB44: =+AT44+AU44+AV44-AW44+AX44-AY44-AZ44+BA44 -> 0 | BJ44: =+BB44+BC44+BD44-BE44+BF44-BG44-BH44+BI44 -> 0 | BR44: =+BJ44+BK44+BL44-BM44+BN44-BO44-BP44+BQ44 -> 0 | BZ44: =+BR44+BS44+BT44-BU44+BV44-BW44-BX44+BY44 -> 0 | CH44: =+BZ44+CA44+CB44-CC44+CD44-CE44-CF44+CG44 -> 0 | CP44: =+CH44+CI44+CJ44-CK44+CL44-CM44-CN44+CO44 -> 0 | CX44: =+CP44+CQ44+CR44-CS44+CT44-CU44-CV44+CW44 -> 0 | DF44: =+CX44+CY44+CZ44-DA44+DB44-DC44-DD44+DE44 -> 0 | DN44: =+DF44+DG44+DH44-DI44+DJ44-DK44-DL44+DM44 -> 0 | DV44: =+DN44+DO44+DP44-DQ44+DR44-DS44-DT44+DU44 -> 0 | ED44: =+DV44+DW44+DX44-DY44+DZ44-EA44-EB44+EC44 -> 0 | EL44: =+ED44+EE44+EF44-EG44+EH44-EI44-EJ44+EK44 -> 0 | ET44: =+EL44+EM44+EN44-EO44+EP44-EQ44-ER44+ES44 -> 0 | FB44: =+ET44+EU44+EV44-EW44+EX44-EY44-EZ44+FA44 -> 0 | FJ44: =+FB44+FC44+FD44-FE44+FF44-FG44-FH44+FI44 -> 0 | FR44: =+FJ44+FK44+FL44-FM44+FN44-FO44-FP44+FQ44 -> 0 | FZ44: =+FR44+FS44+FT44-FU44+FV44-FW44-FX44+FY44 -> 0 | GH44: =+FZ44+GA44+GB44-GC44+GD44-GE44-GF44+GG44 -> 0 | GP44: =+GH44+GI44+GJ44-GK44+GL44-GM44-GN44+GO44 -> 0 | GX44: =+GP44+GQ44+GR44-GS44+GT44-GU44-GV44+GW44 -> 0 | HF44: =+GX44+GY44+GZ44-HA44+HB44-HC44-HD44+HE44 -> 0 | HN44: =+HF44+HG44+HH44-HI44+HJ44-HK44-HL44+HM44 -> 0 | HV44: =+HN44+HO44+HP44-HQ44+HR44-HS44-HT44+HU44 -> 0 | ID44: =+HV44+HW44+HX44-HY44+HZ44-IA44-IB44+IC44 -> 0 | IL44: =+ID44+IE44+IF44-IG44+IH44-II44-IJ44+IK44 -> 0 | IT44: =+IL44+IM44+IN44-IO44+IP44-IQ44-IR44+IS44 -> 0 | JB44: =+IT44+IU44+IV44-IW44+IX44-IY44-IZ44+JA44 -> 0 | JD44: =+O44+W44+AE44+AM44+AU44+BC44+BK44+BS44+CA44+CI44+CQ44+CY44+DG44+DO44+DW44+EE44+EM44+EU44+FC44+FK44+FS44+GA44+GI44+GQ44+GY44+HG44+HO44+HW44+IE44+IM44+IU44 -> 0 | JE44: =+P44+X44+AF44+AN44+AV44+BD44+BL44+BT44+CB44+CJ44+CR44+CZ44+DH44+DP44+DX44+EF44+EN44+EV44+FD44+FL44+FT44+GB44+GJ44+GR44+GZ44+HH44+HP44+HX44+IF44+IN44+IV44 -> 0 | JF44: =+Q44+Y44+AG44+AO44+AW44+BE44+BM44+BU44+CC44+CK44+CS44+DA44+DI44+DQ44+DY44+EG44+EO44+EW44+FE44+FM44+FU44+GC44+GK44+GS44+HA44+HI44+HQ44+HY44+IG44+IO44+IW44 -> 0 | JG44: =+R44+Z44+AH44+AP44+AX44+BF44+BN44+BV44+CD44+CL44+CT44+DB44+DJ44+DR44+DZ44+EH44+EP44+EX44+FF44+FN44+FV44+GD44+GL44+GT44+HB44+HJ44+HR44+HZ44+IH44+IP44+IX44 -> 0 | JH44: =+S44+AA44+AI44+AQ44+AY44+BG44+BO44+BW44+CE44+CM44+CU44+DC44+DK44+DS44+EA44+EI44+EQ44+EY44+FG44+FO44+FW44+GE44+GM44+GU44+HC44+HK44+HS44+IA44+II44+IQ44+IY44 -> 0 | JI44: =+T44+AB44+AJ44+AR44+AZ44+BH44+BP44+BX44+CF44+CN44+CV44+DD44+DL44+DT44+EB44+EJ44+ER44+EZ44+FH44+FP44+FX44+GF44+GN44+GV44+HD44+HL44+HT44+IB44+IJ44+IR44+IZ44 -> 0 | JJ44: =+U44+AC44+AK44+AS44+BA44+BI44+BQ44+BY44+CG44+CO44+CW44+DE44+DM44+DU44+EC44+EK44+ES44+FA44+FI44+FQ44+FY44+GG44+GO44+GW44+HE44+HM44+HU44+IC44+IK44+IS44+JA44 -> 0 | JK44: =+N44+JD44+JE44-JF44+JG44-JH44-JI44+JJ44 -> 0 | JM44: =+JK44-JB44 -> 0 | JO44: =+JD44*((K44+L44)*6) -> 0
B45: Local | C45: M77M11F043L1S13 | D45: MAR11 | F45: M11 | G45: NR | H45: NR | I45: G | J45: 22,5 | K45: 7 | L45: 7 | M45: UN | N45: 0 | V45: =+N45+O45+P45+R45-S45-Q45-T45+U45 -> 0 | AD45: =+V45+W45+X45-Y45+Z45-AA45-AB45+AC45 -> 0 | AL45: =+AD45+AE45+AF45-AG45+AH45-AI45-AJ45+AK45 -> 0 | AT45: =+AL45+AM45+AN45-AO45+AP45-AQ45-AR45+AS45 -> 0 | BB45: =+AT45+AU45+AV45-AW45+AX45-AY45-AZ45+BA45 -> 0 | BJ45: =+BB45+BC45+BD45-BE45+BF45-BG45-BH45+BI45 -> 0 | BR45: =+BJ45+BK45+BL45-BM45+BN45-BO45-BP45+BQ45 -> 0 | BZ45: =+BR45+BS45+BT45-BU45+BV45-BW45-BX45+BY45 -> 0 | CH45: =+BZ45+CA45+CB45-CC45+CD45-CE45-CF45+CG45 -> 0 | CP45: =+CH45+CI45+CJ45-CK45+CL45-CM45-CN45+CO45 -> 0 | CX45: =+CP45+CQ45+CR45-CS45+CT45-CU45-CV45+CW45 -> 0 | DF45: =+CX45+CY45+CZ45-DA45+DB45-DC45-DD45+DE45 -> 0 | DN45: =+DF45+DG45+DH45-DI45+DJ45-DK45-DL45+DM45 -> 0 | DV45: =+DN45+DO45+DP45-DQ45+DR45-DS45-DT45+DU45 -> 0 | ED45: =+DV45+DW45+DX45-DY45+DZ45-EA45-EB45+EC45 -> 0 | EL45: =+ED45+EE45+EF45-EG45+EH45-EI45-EJ45+EK45 -> 0 | ET45: =+EL45+EM45+EN45-EO45+EP45-EQ45-ER45+ES45 -> 0 | FB45: =+ET45+EU45+EV45-EW45+EX45-EY45-EZ45+FA45 -> 0 | FJ45: =+FB45+FC45+FD45-FE45+FF45-FG45-FH45+FI45 -> 0 | FR45: =+FJ45+FK45+FL45-FM45+FN45-FO45-FP45+FQ45 -> 0 | FZ45: =+FR45+FS45+FT45-FU45+FV45-FW45-FX45+FY45 -> 0 | GH45: =+FZ45+GA45+GB45-GC45+GD45-GE45-GF45+GG45 -> 0 | GP45: =+GH45+GI45+GJ45-GK45+GL45-GM45-GN45+GO45 -> 0 | GX45: =+GP45+GQ45+GR45-GS45+GT45-GU45-GV45+GW45 -> 0 | HF45: =+GX45+GY45+GZ45-HA45+HB45-HC45-HD45+HE45 -> 0 | HN45: =+HF45+HG45+HH45-HI45+HJ45-HK45-HL45+HM45 -> 0 | HV45: =+HN45+HO45+HP45-HQ45+HR45-HS45-HT45+HU45 -> 0 | ID45: =+HV45+HW45+HX45-HY45+HZ45-IA45-IB45+IC45 -> 0 | IL45: =+ID45+IE45+IF45-IG45+IH45-II45-IJ45+IK45 -> 0 | IT45: =+IL45+IM45+IN45-IO45+IP45-IQ45-IR45+IS45 -> 0 | JB45: =+IT45+IU45+IV45-IW45+IX45-IY45-IZ45+JA45 -> 0 | JD45: =+O45+W45+AE45+AM45+AU45+BC45+BK45+BS45+CA45+CI45+CQ45+CY45+DG45+DO45+DW45+EE45+EM45+EU45+FC45+FK45+FS45+GA45+GI45+GQ45+GY45+HG45+HO45+HW45+IE45+IM45+IU45 -> 0 | JE45: =+P45+X45+AF45+AN45+AV45+BD45+BL45+BT45+CB45+CJ45+CR45+CZ45+DH45+DP45+DX45+EF45+EN45+EV45+FD45+FL45+FT45+GB45+GJ45+GR45+GZ45+HH45+HP45+HX45+IF45+IN45+IV45 -> 0 | JF45: =+Q45+Y45+AG45+AO45+AW45+BE45+BM45+BU45+CC45+CK45+CS45+DA45+DI45+DQ45+DY45+EG45+EO45+EW45+FE45+FM45+FU45+GC45+GK45+GS45+HA45+HI45+HQ45+HY45+IG45+IO45+IW45 -> 0 | JG45: =+R45+Z45+AH45+AP45+AX45+BF45+BN45+BV45+CD45+CL45+CT45+DB45+DJ45+DR45+DZ45+EH45+EP45+EX45+FF45+FN45+FV45+GD45+GL45+GT45+HB45+HJ45+HR45+HZ45+IH45+IP45+IX45 -> 0 | JH45: =+S45+AA45+AI45+AQ45+AY45+BG45+BO45+BW45+CE45+CM45+CU45+DC45+DK45+DS45+EA45+EI45+EQ45+EY45+FG45+FO45+FW45+GE45+GM45+GU45+HC45+HK45+HS45+IA45+II45+IQ45+IY45 -> 0 | JI45: =+T45+AB45+AJ45+AR45+AZ45+BH45+BP45+BX45+CF45+CN45+CV45+DD45+DL45+DT45+EB45+EJ45+ER45+EZ45+FH45+FP45+FX45+GF45+GN45+GV45+HD45+HL45+HT45+IB45+IJ45+IR45+IZ45 -> 0 | JJ45: =+U45+AC45+AK45+AS45+BA45+BI45+BQ45+BY45+CG45+CO45+CW45+DE45+DM45+DU45+EC45+EK45+ES45+FA45+FI45+FQ45+FY45+GG45+GO45+GW45+HE45+HM45+HU45+IC45+IK45+IS45+JA45 -> 0 | JK45: =+N45+JD45+JE45-JF45+JG45-JH45-JI45+JJ45 -> 0 | JM45: =+JK45-JB45 -> 0 | JO45: =+JD45*((K45+L45)*6) -> 0
B46: Local | C46: MSP89AF003L1S13 | D46: M14 | F46: M14 | G46: GR | H46: GR | I46: G | J46: 32,7 | K46: 8 | L46: 9 | M46: UN | N46: 638 | T46: 80 | V46: =+N46+O46+P46+R46-S46-Q46-T46+U46 -> 558 | AD46: =+V46+W46+X46-Y46+Z46-AA46-AB46+AC46 -> 558 | AL46: =+AD46+AE46+AF46-AG46+AH46-AI46-AJ46+AK46 -> 558 | AT46: =+AL46+AM46+AN46-AO46+AP46-AQ46-AR46+AS46 -> 558 | BB46: =+AT46+AU46+AV46-AW46+AX46-AY46-AZ46+BA46 -> 558 | BJ46: =+BB46+BC46+BD46-BE46+BF46-BG46-BH46+BI46 -> 558 | BR46: =+BJ46+BK46+BL46-BM46+BN46-BO46-BP46+BQ46 -> 558 | BZ46: =+BR46+BS46+BT46-BU46+BV46-BW46-BX46+BY46 -> 558 | CH46: =+BZ46+CA46+CB46-CC46+CD46-CE46-CF46+CG46 -> 558 | CP46: =+CH46+CI46+CJ46-CK46+CL46-CM46-CN46+CO46 -> 558 | CX46: =+CP46+CQ46+CR46-CS46+CT46-CU46-CV46+CW46 -> 558 | DF46: =+CX46+CY46+CZ46-DA46+DB46-DC46-DD46+DE46 -> 558 | DN46: =+DF46+DG46+DH46-DI46+DJ46-DK46-DL46+DM46 -> 558 | DV46: =+DN46+DO46+DP46-DQ46+DR46-DS46-DT46+DU46 -> 558 | ED46: =+DV46+DW46+DX46-DY46+DZ46-EA46-EB46+EC46 -> 558 | EL46: =+ED46+EE46+EF46-EG46+EH46-EI46-EJ46+EK46 -> 558 | ET46: =+EL46+EM46+EN46-EO46+EP46-EQ46-ER46+ES46 -> 558 | FB46: =+ET46+EU46+EV46-EW46+EX46-EY46-EZ46+FA46 -> 558 | FJ46: =+FB46+FC46+FD46-FE46+FF46-FG46-FH46+FI46 -> 558 | FR46: =+FJ46+FK46+FL46-FM46+FN46-FO46-FP46+FQ46 -> 558 | FZ46: =+FR46+FS46+FT46-FU46+FV46-FW46-FX46+FY46 -> 558 | GH46: =+FZ46+GA46+GB46-GC46+GD46-GE46-GF46+GG46 -> 558 | GP46: =+GH46+GI46+GJ46-GK46+GL46-GM46-GN46+GO46 -> 558 | GX46: =+GP46+GQ46+GR46-GS46+GT46-GU46-GV46+GW46 -> 558 | HF46: =+GX46+GY46+GZ46-HA46+HB46-HC46-HD46+HE46 -> 558 | HN46: =+HF46+HG46+HH46-HI46+HJ46-HK46-HL46+HM46 -> 558 | HV46: =+HN46+HO46+HP46-HQ46+HR46-HS46-HT46+HU46 -> 558 | ID46: =+HV46+HW46+HX46-HY46+HZ46-IA46-IB46+IC46 -> 558 | IL46: =+ID46+IE46+IF46-IG46+IH46-II46-IJ46+IK46 -> 558 | IT46: =+IL46+IM46+IN46-IO46+IP46-IQ46-IR46+IS46 -> 558 | JB46: =+IT46+IU46+IV46-IW46+IX46-IY46-IZ46+JA46 -> 558 | JD46: =+O46+W46+AE46+AM46+AU46+BC46+BK46+BS46+CA46+CI46+CQ46+CY46+DG46+DO46+DW46+EE46+EM46+EU46+FC46+FK46+FS46+GA46+GI46+GQ46+GY46+HG46+HO46+HW46+IE46+IM46+IU46 -> 0 | JE46: =+P46+X46+AF46+AN46+AV46+BD46+BL46+BT46+CB46+CJ46+CR46+CZ46+DH46+DP46+DX46+EF46+EN46+EV46+FD46+FL46+FT46+GB46+GJ46+GR46+GZ46+HH46+HP46+HX46+IF46+IN46+IV46 -> 0 | JF46: =+Q46+Y46+AG46+AO46+AW46+BE46+BM46+BU46+CC46+CK46+CS46+DA46+DI46+DQ46+DY46+EG46+EO46+EW46+FE46+FM46+FU46+GC46+GK46+GS46+HA46+HI46+HQ46+HY46+IG46+IO46+IW46 -> 0 | JG46: =+R46+Z46+AH46+AP46+AX46+BF46+BN46+BV46+CD46+CL46+CT46+DB46+DJ46+DR46+DZ46+EH46+EP46+EX46+FF46+FN46+FV46+GD46+GL46+GT46+HB46+HJ46+HR46+HZ46+IH46+IP46+IX46 -> 0 | JH46: =+S46+AA46+AI46+AQ46+AY46+BG46+BO46+BW46+CE46+CM46+CU46+DC46+DK46+DS46+EA46+EI46+EQ46+EY46+FG46+FO46+FW46+GE46+GM46+GU46+HC46+HK46+HS46+IA46+II46+IQ46+IY46 -> 0 | JI46: =+T46+AB46+AJ46+AR46+AZ46+BH46+BP46+BX46+CF46+CN46+CV46+DD46+DL46+DT46+EB46+EJ46+ER46+EZ46+FH46+FP46+FX46+GF46+GN46+GV46+HD46+HL46+HT46+IB46+IJ46+IR46+IZ46 -> 80 | JJ46: =+U46+AC46+AK46+AS46+BA46+BI46+BQ46+BY46+CG46+CO46+CW46+DE46+DM46+DU46+EC46+EK46+ES46+FA46+FI46+FQ46+FY46+GG46+GO46+GW46+HE46+HM46+HU46+IC46+IK46+IS46+JA46 -> 0 | JK46: =+N46+JD46+JE46-JF46+JG46-JH46-JI46+JJ46 -> 558 | JM46: =+JK46-JB46 -> 0 | JO46: =+JD46*((K46+L46)*6) -> 0
B47: Local | C47: MSP90BF003L1S13 | D47: M15 | E47: 64317 | F47: M15 | G47: GR | H47: GR | I47: G | J47: 37,7 | K47: 9 | L47: 10 | M47: UN | N47: 214 | T47: 122 | V47: =+N47+O47+P47+R47-S47-Q47-T47+U47 -> 92 | AD47: =+V47+W47+X47-Y47+Z47-AA47-AB47+AC47 -> 92 | AE47: 336 | AL47: =+AD47+AE47+AF47-AG47+AH47-AI47-AJ47+AK47 -> 428 | AM47: 585 | AT47: =+AL47+AM47+AN47-AO47+AP47-AQ47-AR47+AS47 -> 1013 | AU47: 402 | BB47: =+AT47+AU47+AV47-AW47+AX47-AY47-AZ47+BA47 -> 1415 | BC47: 185 | BJ47: =+BB47+BC47+BD47-BE47+BF47-BG47-BH47+BI47 -> 1600 | BR47: =+BJ47+BK47+BL47-BM47+BN47-BO47-BP47+BQ47 -> 1600 | BZ47: =+BR47+BS47+BT47-BU47+BV47-BW47-BX47+BY47 -> 1600 | CH47: =+BZ47+CA47+CB47-CC47+CD47-CE47-CF47+CG47 -> 1600 | CP47: =+CH47+CI47+CJ47-CK47+CL47-CM47-CN47+CO47 -> 1600 | CX47: =+CP47+CQ47+CR47-CS47+CT47-CU47-CV47+CW47 -> 1600 | DF47: =+CX47+CY47+CZ47-DA47+DB47-DC47-DD47+DE47 -> 1600 | DN47: =+DF47+DG47+DH47-DI47+DJ47-DK47-DL47+DM47 -> 1600 | DV47: =+DN47+DO47+DP47-DQ47+DR47-DS47-DT47+DU47 -> 1600 | ED47: =+DV47+DW47+DX47-DY47+DZ47-EA47-EB47+EC47 -> 1600 | EL47: =+ED47+EE47+EF47-EG47+EH47-EI47-EJ47+EK47 -> 1600 | ET47: =+EL47+EM47+EN47-EO47+EP47-EQ47-ER47+ES47 -> 1600 | FB47: =+ET47+EU47+EV47-EW47+EX47-EY47-EZ47+FA47 -> 1600 | FJ47: =+FB47+FC47+FD47-FE47+FF47-FG47-FH47+FI47 -> 1600 | FR47: =+FJ47+FK47+FL47-FM47+FN47-FO47-FP47+FQ47 -> 1600 | FZ47: =+FR47+FS47+FT47-FU47+FV47-FW47-FX47+FY47 -> 1600 | GH47: =+FZ47+GA47+GB47-GC47+GD47-GE47-GF47+GG47 -> 1600 | GP47: =+GH47+GI47+GJ47-GK47+GL47-GM47-GN47+GO47 -> 1600 | GX47: =+GP47+GQ47+GR47-GS47+GT47-GU47-GV47+GW47 -> 1600 | HF47: =+GX47+GY47+GZ47-HA47+HB47-HC47-HD47+HE47 -> 1600 | HN47: =+HF47+HG47+HH47-HI47+HJ47-HK47-HL47+HM47 -> 1600 | HV47: =+HN47+HO47+HP47-HQ47+HR47-HS47-HT47+HU47 -> 1600 | ID47: =+HV47+HW47+HX47-HY47+HZ47-IA47-IB47+IC47 -> 1600 | IL47: =+ID47+IE47+IF47-IG47+IH47-II47-IJ47+IK47 -> 1600 | IT47: =+IL47+IM47+IN47-IO47+IP47-IQ47-IR47+IS47 -> 1600 | JB47: =+IT47+IU47+IV47-IW47+IX47-IY47-IZ47+JA47 -> 1600 | JD47: =+O47+W47+AE47+AM47+AU47+BC47+BK47+BS47+CA47+CI47+CQ47+CY47+DG47+DO47+DW47+EE47+EM47+EU47+FC47+FK47+FS47+GA47+GI47+GQ47+GY47+HG47+HO47+HW47+IE47+IM47+IU47 -> 1508 | JE47: =+P47+X47+AF47+AN47+AV47+BD47+BL47+BT47+CB47+CJ47+CR47+CZ47+DH47+DP47+DX47+EF47+EN47+EV47+FD47+FL47+FT47+GB47+GJ47+GR47+GZ47+HH47+HP47+HX47+IF47+IN47+IV47 -> 0 | JF47: =+Q47+Y47+AG47+AO47+AW47+BE47+BM47+BU47+CC47+CK47+CS47+DA47+DI47+DQ47+DY47+EG47+EO47+EW47+FE47+FM47+FU47+GC47+GK47+GS47+HA47+HI47+HQ47+HY47+IG47+IO47+IW47 -> 0 | JG47: =+R47+Z47+AH47+AP47+AX47+BF47+BN47+BV47+CD47+CL47+CT47+DB47+DJ47+DR47+DZ47+EH47+EP47+EX47+FF47+FN47+FV47+GD47+GL47+GT47+HB47+HJ47+HR47+HZ47+IH47+IP47+IX47 -> 0 | JH47: =+S47+AA47+AI47+AQ47+AY47+BG47+BO47+BW47+CE47+CM47+CU47+DC47+DK47+DS47+EA47+EI47+EQ47+EY47+FG47+FO47+FW47+GE47+GM47+GU47+HC47+HK47+HS47+IA47+II47+IQ47+IY47 -> 0 | JI47: =+T47+AB47+AJ47+AR47+AZ47+BH47+BP47+BX47+CF47+CN47+CV47+DD47+DL47+DT47+EB47+EJ47+ER47+EZ47+FH47+FP47+FX47+GF47+GN47+GV47+HD47+HL47+HT47+IB47+IJ47+IR47+IZ47 -> 122 | JJ47: =+U47+AC47+AK47+AS47+BA47+BI47+BQ47+BY47+CG47+CO47+CW47+DE47+DM47+DU47+EC47+EK47+ES47+FA47+FI47+FQ47+FY47+GG47+GO47+GW47+HE47+HM47+HU47+IC47+IK47+IS47+JA47 -> 0 | JK47: =+N47+JD47+JE47-JF47+JG47-JH47-JI47+JJ47 -> 1600 | JM47: =+JK47-JB47 -> 0 | JO47: =+JD47*((K47+L47)*6) -> 171912
B48: Local | C48: MSP12BF009L1S13 | D48: M15S | E48: 67043 | F48: M15 | G48: GR | H48: NR | I48: G | J48: 42,0 | K48: 11 | L48: 12 | M48: UN | N48: 229 | T48: 71 | V48: =+N48+O48+P48+R48-S48-Q48-T48+U48 -> 158 | AD48: =+V48+W48+X48-Y48+Z48-AA48-AB48+AC48 -> 158 | AE48: 216 | AL48: =+AD48+AE48+AF48-AG48+AH48-AI48-AJ48+AK48 -> 374 | AT48: =+AL48+AM48+AN48-AO48+AP48-AQ48-AR48+AS48 -> 374 | BB48: =+AT48+AU48+AV48-AW48+AX48-AY48-AZ48+BA48 -> 374 | BJ48: =+BB48+BC48+BD48-BE48+BF48-BG48-BH48+BI48 -> 374 | BR48: =+BJ48+BK48+BL48-BM48+BN48-BO48-BP48+BQ48 -> 374 | BZ48: =+BR48+BS48+BT48-BU48+BV48-BW48-BX48+BY48 -> 374 | CH48: =+BZ48+CA48+CB48-CC48+CD48-CE48-CF48+CG48 -> 374 | CP48: =+CH48+CI48+CJ48-CK48+CL48-CM48-CN48+CO48 -> 374 | CX48: =+CP48+CQ48+CR48-CS48+CT48-CU48-CV48+CW48 -> 374 | DF48: =+CX48+CY48+CZ48-DA48+DB48-DC48-DD48+DE48 -> 374 | DN48: =+DF48+DG48+DH48-DI48+DJ48-DK48-DL48+DM48 -> 374 | DV48: =+DN48+DO48+DP48-DQ48+DR48-DS48-DT48+DU48 -> 374 | ED48: =+DV48+DW48+DX48-DY48+DZ48-EA48-EB48+EC48 -> 374 | EL48: =+ED48+EE48+EF48-EG48+EH48-EI48-EJ48+EK48 -> 374 | ET48: =+EL48+EM48+EN48-EO48+EP48-EQ48-ER48+ES48 -> 374 | FB48: =+ET48+EU48+EV48-EW48+EX48-EY48-EZ48+FA48 -> 374 | FJ48: =+FB48+FC48+FD48-FE48+FF48-FG48-FH48+FI48 -> 374 | FR48: =+FJ48+FK48+FL48-FM48+FN48-FO48-FP48+FQ48 -> 374 | FZ48: =+FR48+FS48+FT48-FU48+FV48-FW48-FX48+FY48 -> 374 | GH48: =+FZ48+GA48+GB48-GC48+GD48-GE48-GF48+GG48 -> 374 | GP48: =+GH48+GI48+GJ48-GK48+GL48-GM48-GN48+GO48 -> 374 | GX48: =+GP48+GQ48+GR48-GS48+GT48-GU48-GV48+GW48 -> 374 | HF48: =+GX48+GY48+GZ48-HA48+HB48-HC48-HD48+HE48 -> 374 | HN48: =+HF48+HG48+HH48-HI48+HJ48-HK48-HL48+HM48 -> 374 | HV48: =+HN48+HO48+HP48-HQ48+HR48-HS48-HT48+HU48 -> 374 | ID48: =+HV48+HW48+HX48-HY48+HZ48-IA48-IB48+IC48 -> 374 | IL48: =+ID48+IE48+IF48-IG48+IH48-II48-IJ48+IK48 -> 374 | IT48: =+IL48+IM48+IN48-IO48+IP48-IQ48-IR48+IS48 -> 374 | JB48: =+IT48+IU48+IV48-IW48+IX48-IY48-IZ48+JA48 -> 374 | JD48: =+O48+W48+AE48+AM48+AU48+BC48+BK48+BS48+CA48+CI48+CQ48+CY48+DG48+DO48+DW48+EE48+EM48+EU48+FC48+FK48+FS48+GA48+GI48+GQ48+GY48+HG48+HO48+HW48+IE48+IM48+IU48 -> 216 | JE48: =+P48+X48+AF48+AN48+AV48+BD48+BL48+BT48+CB48+CJ48+CR48+CZ48+DH48+DP48+DX48+EF48+EN48+EV48+FD48+FL48+FT48+GB48+GJ48+GR48+GZ48+HH48+HP48+HX48+IF48+IN48+IV48 -> 0 | JF48: =+Q48+Y48+AG48+AO48+AW48+BE48+BM48+BU48+CC48+CK48+CS48+DA48+DI48+DQ48+DY48+EG48+EO48+EW48+FE48+FM48+FU48+GC48+GK48+GS48+HA48+HI48+HQ48+HY48+IG48+IO48+IW48 -> 0 | JG48: =+R48+Z48+AH48+AP48+AX48+BF48+BN48+BV48+CD48+CL48+CT48+DB48+DJ48+DR48+DZ48+EH48+EP48+EX48+FF48+FN48+FV48+GD48+GL48+GT48+HB48+HJ48+HR48+HZ48+IH48+IP48+IX48 -> 0 | JH48: =+S48+AA48+AI48+AQ48+AY48+BG48+BO48+BW48+CE48+CM48+CU48+DC48+DK48+DS48+EA48+EI48+EQ48+EY48+FG48+FO48+FW48+GE48+GM48+GU48+HC48+HK48+HS48+IA48+II48+IQ48+IY48 -> 0 | JI48: =+T48+AB48+AJ48+AR48+AZ48+BH48+BP48+BX48+CF48+CN48+CV48+DD48+DL48+DT48+EB48+EJ48+ER48+EZ48+FH48+FP48+FX48+GF48+GN48+GV48+HD48+HL48+HT48+IB48+IJ48+IR48+IZ48 -> 71 | JJ48: =+U48+AC48+AK48+AS48+BA48+BI48+BQ48+BY48+CG48+CO48+CW48+DE48+DM48+DU48+EC48+EK48+ES48+FA48+FI48+FQ48+FY48+GG48+GO48+GW48+HE48+HM48+HU48+IC48+IK48+IS48+JA48 -> 0 | JK48: =+N48+JD48+JE48-JF48+JG48-JH48-JI48+JJ48 -> 374 | JM48: =+JK48-JB48 -> 0 | JO48: =+JD48*((K48+L48)*6) -> 29808
B49: Local | C49: ML23CF003L1S13 | D49: M16 | E49: 68040 | F49: M16 | G49: GR | H49: GR | I49: G | J49: 50,5 | K49: 12 | L49: 13 | M49: UN | N49: 0 | V49: =+N49+O49+P49+R49-S49-Q49-T49+U49 -> 0 | AD49: =+V49+W49+X49-Y49+Z49-AA49-AB49+AC49 -> 0 | AL49: =+AD49+AE49+AF49-AG49+AH49-AI49-AJ49+AK49 -> 0 | AT49: =+AL49+AM49+AN49-AO49+AP49-AQ49-AR49+AS49 -> 0 | BB49: =+AT49+AU49+AV49-AW49+AX49-AY49-AZ49+BA49 -> 0 | BJ49: =+BB49+BC49+BD49-BE49+BF49-BG49-BH49+BI49 -> 0 | BR49: =+BJ49+BK49+BL49-BM49+BN49-BO49-BP49+BQ49 -> 0 | BZ49: =+BR49+BS49+BT49-BU49+BV49-BW49-BX49+BY49 -> 0 | CH49: =+BZ49+CA49+CB49-CC49+CD49-CE49-CF49+CG49 -> 0 | CP49: =+CH49+CI49+CJ49-CK49+CL49-CM49-CN49+CO49 -> 0 | CX49: =+CP49+CQ49+CR49-CS49+CT49-CU49-CV49+CW49 -> 0 | DF49: =+CX49+CY49+CZ49-DA49+DB49-DC49-DD49+DE49 -> 0 | DN49: =+DF49+DG49+DH49-DI49+DJ49-DK49-DL49+DM49 -> 0 | DV49: =+DN49+DO49+DP49-DQ49+DR49-DS49-DT49+DU49 -> 0 | ED49: =+DV49+DW49+DX49-DY49+DZ49-EA49-EB49+EC49 -> 0 | EL49: =+ED49+EE49+EF49-EG49+EH49-EI49-EJ49+EK49 -> 0 | ET49: =+EL49+EM49+EN49-EO49+EP49-EQ49-ER49+ES49 -> 0 | FB49: =+ET49+EU49+EV49-EW49+EX49-EY49-EZ49+FA49 -> 0 | FJ49: =+FB49+FC49+FD49-FE49+FF49-FG49-FH49+FI49 -> 0 | FR49: =+FJ49+FK49+FL49-FM49+FN49-FO49-FP49+FQ49 -> 0 | FZ49: =+FR49+FS49+FT49-FU49+FV49-FW49-FX49+FY49 -> 0 | GH49: =+FZ49+GA49+GB49-GC49+GD49-GE49-GF49+GG49 -> 0 | GP49: =+GH49+GI49+GJ49-GK49+GL49-GM49-GN49+GO49 -> 0 | GX49: =+GP49+GQ49+GR49-GS49+GT49-GU49-GV49+GW49 -> 0 | HF49: =+GX49+GY49+GZ49-HA49+HB49-HC49-HD49+HE49 -> 0 | HN49: =+HF49+HG49+HH49-HI49+HJ49-HK49-HL49+HM49 -> 0 | HV49: =+HN49+HO49+HP49-HQ49+HR49-HS49-HT49+HU49 -> 0 | ID49: =+HV49+HW49+HX49-HY49+HZ49-IA49-IB49+IC49 -> 0 | IL49: =+ID49+IE49+IF49-IG49+IH49-II49-IJ49+IK49 -> 0 | IT49: =+IL49+IM49+IN49-IO49+IP49-IQ49-IR49+IS49 -> 0 | JB49: =+IT49+IU49+IV49-IW49+IX49-IY49-IZ49+JA49 -> 0 | JD49: =+O49+W49+AE49+AM49+AU49+BC49+BK49+BS49+CA49+CI49+CQ49+CY49+DG49+DO49+DW49+EE49+EM49+EU49+FC49+FK49+FS49+GA49+GI49+GQ49+GY49+HG49+HO49+HW49+IE49+IM49+IU49 -> 0 | JE49: =+P49+X49+AF49+AN49+AV49+BD49+BL49+BT49+CB49+CJ49+CR49+CZ49+DH49+DP49+DX49+EF49+EN49+EV49+FD49+FL49+FT49+GB49+GJ49+GR49+GZ49+HH49+HP49+HX49+IF49+IN49+IV49 -> 0 | JF49: =+Q49+Y49+AG49+AO49+AW49+BE49+BM49+BU49+CC49+CK49+CS49+DA49+DI49+DQ49+DY49+EG49+EO49+EW49+FE49+FM49+FU49+GC49+GK49+GS49+HA49+HI49+HQ49+HY49+IG49+IO49+IW49 -> 0 | JG49: =+R49+Z49+AH49+AP49+AX49+BF49+BN49+BV49+CD49+CL49+CT49+DB49+DJ49+DR49+DZ49+EH49+EP49+EX49+FF49+FN49+FV49+GD49+GL49+GT49+HB49+HJ49+HR49+HZ49+IH49+IP49+IX49 -> 0 | JH49: =+S49+AA49+AI49+AQ49+AY49+BG49+BO49+BW49+CE49+CM49+CU49+DC49+DK49+DS49+EA49+EI49+EQ49+EY49+FG49+FO49+FW49+GE49+GM49+GU49+HC49+HK49+HS49+IA49+II49+IQ49+IY49 -> 0 | JI49: =+T49+AB49+AJ49+AR49+AZ49+BH49+BP49+BX49+CF49+CN49+CV49+DD49+DL49+DT49+EB49+EJ49+ER49+EZ49+FH49+FP49+FX49+GF49+GN49+GV49+HD49+HL49+HT49+IB49+IJ49+IR49+IZ49 -> 0 | JJ49: =+U49+AC49+AK49+AS49+BA49+BI49+BQ49+BY49+CG49+CO49+CW49+DE49+DM49+DU49+EC49+EK49+ES49+FA49+FI49+FQ49+FY49+GG49+GO49+GW49+HE49+HM49+HU49+IC49+IK49+IS49+JA49 -> 0 | JK49: =+N49+JD49+JE49-JF49+JG49-JH49-JI49+JJ49 -> 0 | JM49: =+JK49-JB49 -> 0 | JO49: =+JD49*((K49+L49)*6) -> 0
B50: Local | C50: ML34CF003L1X13 | D50: M16B | F50: M16 | G50: GR | H50: GR | I50: G | J50: 52,5 | K50: 13 | L50: 14 | M50: UN | N50: 0 | V50: =+N50+O50+P50+R50-S50-Q50-T50+U50 -> 0 | AD50: =+V50+W50+X50-Y50+Z50-AA50-AB50+AC50 -> 0 | AL50: =+AD50+AE50+AF50-AG50+AH50-AI50-AJ50+AK50 -> 0 | AT50: =+AL50+AM50+AN50-AO50+AP50-AQ50-AR50+AS50 -> 0 | BB50: =+AT50+AU50+AV50-AW50+AX50-AY50-AZ50+BA50 -> 0 | BJ50: =+BB50+BC50+BD50-BE50+BF50-BG50-BH50+BI50 -> 0 | BR50: =+BJ50+BK50+BL50-BM50+BN50-BO50-BP50+BQ50 -> 0 | BZ50: =+BR50+BS50+BT50-BU50+BV50-BW50-BX50+BY50 -> 0 | CH50: =+BZ50+CA50+CB50-CC50+CD50-CE50-CF50+CG50 -> 0 | CP50: =+CH50+CI50+CJ50-CK50+CL50-CM50-CN50+CO50 -> 0 | CX50: =+CP50+CQ50+CR50-CS50+CT50-CU50-CV50+CW50 -> 0 | DF50: =+CX50+CY50+CZ50-DA50+DB50-DC50-DD50+DE50 -> 0 | DN50: =+DF50+DG50+DH50-DI50+DJ50-DK50-DL50+DM50 -> 0 | DV50: =+DN50+DO50+DP50-DQ50+DR50-DS50-DT50+DU50 -> 0 | ED50: =+DV50+DW50+DX50-DY50+DZ50-EA50-EB50+EC50 -> 0 | EL50: =+ED50+EE50+EF50-EG50+EH50-EI50-EJ50+EK50 -> 0 | ET50: =+EL50+EM50+EN50-EO50+EP50-EQ50-ER50+ES50 -> 0 | FB50: =+ET50+EU50+EV50-EW50+EX50-EY50-EZ50+FA50 -> 0 | FJ50: =+FB50+FC50+FD50-FE50+FF50-FG50-FH50+FI50 -> 0 | FR50: =+FJ50+FK50+FL50-FM50+FN50-FO50-FP50+FQ50 -> 0 | FZ50: =+FR50+FS50+FT50-FU50+FV50-FW50-FX50+FY50 -> 0 | GH50: =+FZ50+GA50+GB50-GC50+GD50-GE50-GF50+GG50 -> 0 | GP50: =+GH50+GI50+GJ50-GK50+GL50-GM50-GN50+GO50 -> 0 | GX50: =+GP50+GQ50+GR50-GS50+GT50-GU50-GV50+GW50 -> 0 | HF50: =+GX50+GY50+GZ50-HA50+HB50-HC50-HD50+HE50 -> 0 | HN50: =+HF50+HG50+HH50-HI50+HJ50-HK50-HL50+HM50 -> 0 | HV50: =+HN50+HO50+HP50-HQ50+HR50-HS50-HT50+HU50 -> 0 | ID50: =+HV50+HW50+HX50-HY50+HZ50-IA50-IB50+IC50 -> 0 | IL50: =+ID50+IE50+IF50-IG50+IH50-II50-IJ50+IK50 -> 0 | IT50: =+IL50+IM50+IN50-IO50+IP50-IQ50-IR50+IS50 -> 0 | JB50: =+IT50+IU50+IV50-IW50+IX50-IY50-IZ50+JA50 -> 0 | JD50: =+O50+W50+AE50+AM50+AU50+BC50+BK50+BS50+CA50+CI50+CQ50+CY50+DG50+DO50+DW50+EE50+EM50+EU50+FC50+FK50+FS50+GA50+GI50+GQ50+GY50+HG50+HO50+HW50+IE50+IM50+IU50 -> 0 | JE50: =+P50+X50+AF50+AN50+AV50+BD50+BL50+BT50+CB50+CJ50+CR50+CZ50+DH50+DP50+DX50+EF50+EN50+EV50+FD50+FL50+FT50+GB50+GJ50+GR50+GZ50+HH50+HP50+HX50+IF50+IN50+IV50 -> 0 | JF50: =+Q50+Y50+AG50+AO50+AW50+BE50+BM50+BU50+CC50+CK50+CS50+DA50+DI50+DQ50+DY50+EG50+EO50+EW50+FE50+FM50+FU50+GC50+GK50+GS50+HA50+HI50+HQ50+HY50+IG50+IO50+IW50 -> 0 | JG50: =+R50+Z50+AH50+AP50+AX50+BF50+BN50+BV50+CD50+CL50+CT50+DB50+DJ50+DR50+DZ50+EH50+EP50+EX50+FF50+FN50+FV50+GD50+GL50+GT50+HB50+HJ50+HR50+HZ50+IH50+IP50+IX50 -> 0 | JH50: =+S50+AA50+AI50+AQ50+AY50+BG50+BO50+BW50+CE50+CM50+CU50+DC50+DK50+DS50+EA50+EI50+EQ50+EY50+FG50+FO50+FW50+GE50+GM50+GU50+HC50+HK50+HS50+IA50+II50+IQ50+IY50 -> 0 | JI50: =+T50+AB50+AJ50+AR50+AZ50+BH50+BP50+BX50+CF50+CN50+CV50+DD50+DL50+DT50+EB50+EJ50+ER50+EZ50+FH50+FP50+FX50+GF50+GN50+GV50+HD50+HL50+HT50+IB50+IJ50+IR50+IZ50 -> 0 | JJ50: =+U50+AC50+AK50+AS50+BA50+BI50+BQ50+BY50+CG50+CO50+CW50+DE50+DM50+DU50+EC50+EK50+ES50+FA50+FI50+FQ50+FY50+GG50+GO50+GW50+HE50+HM50+HU50+IC50+IK50+IS50+JA50 -> 0 | JK50: =+N50+JD50+JE50-JF50+JG50-JH50-JI50+JJ50 -> 0 | JM50: =+JK50-JB50 -> 0 | JO50: =+JD50*((K50+L50)*6) -> 0
B51: Local | C51: MSP90ADL002L1S13 | D51: M14SMF | E51: EC89AX3_1 | F51: M14 | G51: NR | H51: NR | I51: G | J51: 21,8 | K51: 9 | L51: 10 | M51: UN | N51: 78 | V51: =+N51+O51+P51+R51-S51-Q51-T51+U51 -> 78 | AD51: =+V51+W51+X51-Y51+Z51-AA51-AB51+AC51 -> 78 | AL51: =+AD51+AE51+AF51-AG51+AH51-AI51-AJ51+AK51 -> 78 | AT51: =+AL51+AM51+AN51-AO51+AP51-AQ51-AR51+AS51 -> 78 | BB51: =+AT51+AU51+AV51-AW51+AX51-AY51-AZ51+BA51 -> 78 | BJ51: =+BB51+BC51+BD51-BE51+BF51-BG51-BH51+BI51 -> 78 | BR51: =+BJ51+BK51+BL51-BM51+BN51-BO51-BP51+BQ51 -> 78 | BZ51: =+BR51+BS51+BT51-BU51+BV51-BW51-BX51+BY51 -> 78 | CH51: =+BZ51+CA51+CB51-CC51+CD51-CE51-CF51+CG51 -> 78 | CP51: =+CH51+CI51+CJ51-CK51+CL51-CM51-CN51+CO51 -> 78 | CX51: =+CP51+CQ51+CR51-CS51+CT51-CU51-CV51+CW51 -> 78 | DF51: =+CX51+CY51+CZ51-DA51+DB51-DC51-DD51+DE51 -> 78 | DN51: =+DF51+DG51+DH51-DI51+DJ51-DK51-DL51+DM51 -> 78 | DV51: =+DN51+DO51+DP51-DQ51+DR51-DS51-DT51+DU51 -> 78 | ED51: =+DV51+DW51+DX51-DY51+DZ51-EA51-EB51+EC51 -> 78 | EL51: =+ED51+EE51+EF51-EG51+EH51-EI51-EJ51+EK51 -> 78 | ET51: =+EL51+EM51+EN51-EO51+EP51-EQ51-ER51+ES51 -> 78 | FB51: =+ET51+EU51+EV51-EW51+EX51-EY51-EZ51+FA51 -> 78 | FJ51: =+FB51+FC51+FD51-FE51+FF51-FG51-FH51+FI51 -> 78 | FR51: =+FJ51+FK51+FL51-FM51+FN51-FO51-FP51+FQ51 -> 78 | FZ51: =+FR51+FS51+FT51-FU51+FV51-FW51-FX51+FY51 -> 78 | GH51: =+FZ51+GA51+GB51-GC51+GD51-GE51-GF51+GG51 -> 78 | GP51: =+GH51+GI51+GJ51-GK51+GL51-GM51-GN51+GO51 -> 78 | GX51: =+GP51+GQ51+GR51-GS51+GT51-GU51-GV51+GW51 -> 78 | HF51: =+GX51+GY51+GZ51-HA51+HB51-HC51-HD51+HE51 -> 78 | HN51: =+HF51+HG51+HH51-HI51+HJ51-HK51-HL51+HM51 -> 78 | HV51: =+HN51+HO51+HP51-HQ51+HR51-HS51-HT51+HU51 -> 78 | ID51: =+HV51+HW51+HX51-HY51+HZ51-IA51-IB51+IC51 -> 78 | IL51: =+ID51+IE51+IF51-IG51+IH51-II51-IJ51+IK51 -> 78 | IT51: =+IL51+IM51+IN51-IO51+IP51-IQ51-IR51+IS51 -> 78 | JB51: =+IT51+IU51+IV51-IW51+IX51-IY51-IZ51+JA51 -> 78 | JD51: =+O51+W51+AE51+AM51+AU51+BC51+BK51+BS51+CA51+CI51+CQ51+CY51+DG51+DO51+DW51+EE51+EM51+EU51+FC51+FK51+FS51+GA51+GI51+GQ51+GY51+HG51+HO51+HW51+IE51+IM51+IU51 -> 0 | JE51: =+P51+X51+AF51+AN51+AV51+BD51+BL51+BT51+CB51+CJ51+CR51+CZ51+DH51+DP51+DX51+EF51+EN51+EV51+FD51+FL51+FT51+GB51+GJ51+GR51+GZ51+HH51+HP51+HX51+IF51+IN51+IV51 -> 0 | JF51: =+Q51+Y51+AG51+AO51+AW51+BE51+BM51+BU51+CC51+CK51+CS51+DA51+DI51+DQ51+DY51+EG51+EO51+EW51+FE51+FM51+FU51+GC51+GK51+GS51+HA51+HI51+HQ51+HY51+IG51+IO51+IW51 -> 0 | JG51: =+R51+Z51+AH51+AP51+AX51+BF51+BN51+BV51+CD51+CL51+CT51+DB51+DJ51+DR51+DZ51+EH51+EP51+EX51+FF51+FN51+FV51+GD51+GL51+GT51+HB51+HJ51+HR51+HZ51+IH51+IP51+IX51 -> 0 | JH51: =+S51+AA51+AI51+AQ51+AY51+BG51+BO51+BW51+CE51+CM51+CU51+DC51+DK51+DS51+EA51+EI51+EQ51+EY51+FG51+FO51+FW51+GE51+GM51+GU51+HC51+HK51+HS51+IA51+II51+IQ51+IY51 -> 0 | JI51: =+T51+AB51+AJ51+AR51+AZ51+BH51+BP51+BX51+CF51+CN51+CV51+DD51+DL51+DT51+EB51+EJ51+ER51+EZ51+FH51+FP51+FX51+GF51+GN51+GV51+HD51+HL51+HT51+IB51+IJ51+IR51+IZ51 -> 0 | JJ51: =+U51+AC51+AK51+AS51+BA51+BI51+BQ51+BY51+CG51+CO51+CW51+DE51+DM51+DU51+EC51+EK51+ES51+FA51+FI51+FQ51+FY51+GG51+GO51+GW51+HE51+HM51+HU51+IC51+IK51+IS51+JA51 -> 0 | JK51: =+N51+JD51+JE51-JF51+JG51-JH51-JI51+JJ51 -> 78 | JM51: =+JK51-JB51 -> 0 | JO51: =+JD51*((K51+L51)*6) -> 0
B52: Local | C52: MSP12BDL002L1S13 | D52: M15SMF | E52: EC01BX3_1 | F52: M15 | G52: NR | H52: NR | I52: G | J52: 27,3 | K52: 11 | L52: 12 | M52: UN | N52: 376 | V52: =+N52+O52+P52+R52-S52-Q52-T52+U52 -> 376 | AD52: =+V52+W52+X52-Y52+Z52-AA52-AB52+AC52 -> 376 | AL52: =+AD52+AE52+AF52-AG52+AH52-AI52-AJ52+AK52 -> 376 | AT52: =+AL52+AM52+AN52-AO52+AP52-AQ52-AR52+AS52 -> 376 | BB52: =+AT52+AU52+AV52-AW52+AX52-AY52-AZ52+BA52 -> 376 | BJ52: =+BB52+BC52+BD52-BE52+BF52-BG52-BH52+BI52 -> 376 | BR52: =+BJ52+BK52+BL52-BM52+BN52-BO52-BP52+BQ52 -> 376 | BZ52: =+BR52+BS52+BT52-BU52+BV52-BW52-BX52+BY52 -> 376 | CH52: =+BZ52+CA52+CB52-CC52+CD52-CE52-CF52+CG52 -> 376 | CP52: =+CH52+CI52+CJ52-CK52+CL52-CM52-CN52+CO52 -> 376 | CX52: =+CP52+CQ52+CR52-CS52+CT52-CU52-CV52+CW52 -> 376 | DF52: =+CX52+CY52+CZ52-DA52+DB52-DC52-DD52+DE52 -> 376 | DN52: =+DF52+DG52+DH52-DI52+DJ52-DK52-DL52+DM52 -> 376 | DV52: =+DN52+DO52+DP52-DQ52+DR52-DS52-DT52+DU52 -> 376 | ED52: =+DV52+DW52+DX52-DY52+DZ52-EA52-EB52+EC52 -> 376 | EL52: =+ED52+EE52+EF52-EG52+EH52-EI52-EJ52+EK52 -> 376 | ET52: =+EL52+EM52+EN52-EO52+EP52-EQ52-ER52+ES52 -> 376 | FB52: =+ET52+EU52+EV52-EW52+EX52-EY52-EZ52+FA52 -> 376 | FJ52: =+FB52+FC52+FD52-FE52+FF52-FG52-FH52+FI52 -> 376 | FR52: =+FJ52+FK52+FL52-FM52+FN52-FO52-FP52+FQ52 -> 376 | FZ52: =+FR52+FS52+FT52-FU52+FV52-FW52-FX52+FY52 -> 376 | GH52: =+FZ52+GA52+GB52-GC52+GD52-GE52-GF52+GG52 -> 376 | GP52: =+GH52+GI52+GJ52-GK52+GL52-GM52-GN52+GO52 -> 376 | GX52: =+GP52+GQ52+GR52-GS52+GT52-GU52-GV52+GW52 -> 376 | HF52: =+GX52+GY52+GZ52-HA52+HB52-HC52-HD52+HE52 -> 376 | HN52: =+HF52+HG52+HH52-HI52+HJ52-HK52-HL52+HM52 -> 376 | HV52: =+HN52+HO52+HP52-HQ52+HR52-HS52-HT52+HU52 -> 376 | ID52: =+HV52+HW52+HX52-HY52+HZ52-IA52-IB52+IC52 -> 376 | IL52: =+ID52+IE52+IF52-IG52+IH52-II52-IJ52+IK52 -> 376 | IT52: =+IL52+IM52+IN52-IO52+IP52-IQ52-IR52+IS52 -> 376 | JB52: =+IT52+IU52+IV52-IW52+IX52-IY52-IZ52+JA52 -> 376 | JD52: =+O52+W52+AE52+AM52+AU52+BC52+BK52+BS52+CA52+CI52+CQ52+CY52+DG52+DO52+DW52+EE52+EM52+EU52+FC52+FK52+FS52+GA52+GI52+GQ52+GY52+HG52+HO52+HW52+IE52+IM52+IU52 -> 0 | JE52: =+P52+X52+AF52+AN52+AV52+BD52+BL52+BT52+CB52+CJ52+CR52+CZ52+DH52+DP52+DX52+EF52+EN52+EV52+FD52+FL52+FT52+GB52+GJ52+GR52+GZ52+HH52+HP52+HX52+IF52+IN52+IV52 -> 0 | JF52: =+Q52+Y52+AG52+AO52+AW52+BE52+BM52+BU52+CC52+CK52+CS52+DA52+DI52+DQ52+DY52+EG52+EO52+EW52+FE52+FM52+FU52+GC52+GK52+GS52+HA52+HI52+HQ52+HY52+IG52+IO52+IW52 -> 0 | JG52: =+R52+Z52+AH52+AP52+AX52+BF52+BN52+BV52+CD52+CL52+CT52+DB52+DJ52+DR52+DZ52+EH52+EP52+EX52+FF52+FN52+FV52+GD52+GL52+GT52+HB52+HJ52+HR52+HZ52+IH52+IP52+IX52 -> 0 | JH52: =+S52+AA52+AI52+AQ52+AY52+BG52+BO52+BW52+CE52+CM52+CU52+DC52+DK52+DS52+EA52+EI52+EQ52+EY52+FG52+FO52+FW52+GE52+GM52+GU52+HC52+HK52+HS52+IA52+II52+IQ52+IY52 -> 0 | JI52: =+T52+AB52+AJ52+AR52+AZ52+BH52+BP52+BX52+CF52+CN52+CV52+DD52+DL52+DT52+EB52+EJ52+ER52+EZ52+FH52+FP52+FX52+GF52+GN52+GV52+HD52+HL52+HT52+IB52+IJ52+IR52+IZ52 -> 0 | JJ52: =+U52+AC52+AK52+AS52+BA52+BI52+BQ52+BY52+CG52+CO52+CW52+DE52+DM52+DU52+EC52+EK52+ES52+FA52+FI52+FQ52+FY52+GG52+GO52+GW52+HE52+HM52+HU52+IC52+IK52+IS52+JA52 -> 0 | JK52: =+N52+JD52+JE52-JF52+JG52-JH52-JI52+JJ52 -> 376 | JM52: =+JK52-JB52 -> 0 | JO52: =+JD52*((K52+L52)*6) -> 0
B53: Local | C53: ML34CDL002L1X13 | D53: M16SMF | E53: EC34CX3_1 | F53: M16 | G53: NR | H53: NR | I53: G | J53: 32,9 | K53: 13 | L53: 14 | M53: UN | N53: 18 | V53: =+N53+O53+P53+R53-S53-Q53-T53+U53 -> 18 | AD53: =+V53+W53+X53-Y53+Z53-AA53-AB53+AC53 -> 18 | AL53: =+AD53+AE53+AF53-AG53+AH53-AI53-AJ53+AK53 -> 18 | AT53: =+AL53+AM53+AN53-AO53+AP53-AQ53-AR53+AS53 -> 18 | BB53: =+AT53+AU53+AV53-AW53+AX53-AY53-AZ53+BA53 -> 18 | BJ53: =+BB53+BC53+BD53-BE53+BF53-BG53-BH53+BI53 -> 18 | BR53: =+BJ53+BK53+BL53-BM53+BN53-BO53-BP53+BQ53 -> 18 | BZ53: =+BR53+BS53+BT53-BU53+BV53-BW53-BX53+BY53 -> 18 | CH53: =+BZ53+CA53+CB53-CC53+CD53-CE53-CF53+CG53 -> 18 | CP53: =+CH53+CI53+CJ53-CK53+CL53-CM53-CN53+CO53 -> 18 | CX53: =+CP53+CQ53+CR53-CS53+CT53-CU53-CV53+CW53 -> 18 | DF53: =+CX53+CY53+CZ53-DA53+DB53-DC53-DD53+DE53 -> 18 | DN53: =+DF53+DG53+DH53-DI53+DJ53-DK53-DL53+DM53 -> 18 | DV53: =+DN53+DO53+DP53-DQ53+DR53-DS53-DT53+DU53 -> 18 | ED53: =+DV53+DW53+DX53-DY53+DZ53-EA53-EB53+EC53 -> 18 | EL53: =+ED53+EE53+EF53-EG53+EH53-EI53-EJ53+EK53 -> 18 | ET53: =+EL53+EM53+EN53-EO53+EP53-EQ53-ER53+ES53 -> 18 | FB53: =+ET53+EU53+EV53-EW53+EX53-EY53-EZ53+FA53 -> 18 | FJ53: =+FB53+FC53+FD53-FE53+FF53-FG53-FH53+FI53 -> 18 | FR53: =+FJ53+FK53+FL53-FM53+FN53-FO53-FP53+FQ53 -> 18 | FZ53: =+FR53+FS53+FT53-FU53+FV53-FW53-FX53+FY53 -> 18 | GH53: =+FZ53+GA53+GB53-GC53+GD53-GE53-GF53+GG53 -> 18 | GP53: =+GH53+GI53+GJ53-GK53+GL53-GM53-GN53+GO53 -> 18 | GX53: =+GP53+GQ53+GR53-GS53+GT53-GU53-GV53+GW53 -> 18 | HF53: =+GX53+GY53+GZ53-HA53+HB53-HC53-HD53+HE53 -> 18 | HN53: =+HF53+HG53+HH53-HI53+HJ53-HK53-HL53+HM53 -> 18 | HV53: =+HN53+HO53+HP53-HQ53+HR53-HS53-HT53+HU53 -> 18 | ID53: =+HV53+HW53+HX53-HY53+HZ53-IA53-IB53+IC53 -> 18 | IL53: =+ID53+IE53+IF53-IG53+IH53-II53-IJ53+IK53 -> 18 | IT53: =+IL53+IM53+IN53-IO53+IP53-IQ53-IR53+IS53 -> 18 | JB53: =+IT53+IU53+IV53-IW53+IX53-IY53-IZ53+JA53 -> 18 | JD53: =+O53+W53+AE53+AM53+AU53+BC53+BK53+BS53+CA53+CI53+CQ53+CY53+DG53+DO53+DW53+EE53+EM53+EU53+FC53+FK53+FS53+GA53+GI53+GQ53+GY53+HG53+HO53+HW53+IE53+IM53+IU53 -> 0 | JE53: =+P53+X53+AF53+AN53+AV53+BD53+BL53+BT53+CB53+CJ53+CR53+CZ53+DH53+DP53+DX53+EF53+EN53+EV53+FD53+FL53+FT53+GB53+GJ53+GR53+GZ53+HH53+HP53+HX53+IF53+IN53+IV53 -> 0 | JF53: =+Q53+Y53+AG53+AO53+AW53+BE53+BM53+BU53+CC53+CK53+CS53+DA53+DI53+DQ53+DY53+EG53+EO53+EW53+FE53+FM53+FU53+GC53+GK53+GS53+HA53+HI53+HQ53+HY53+IG53+IO53+IW53 -> 0 | JG53: =+R53+Z53+AH53+AP53+AX53+BF53+BN53+BV53+CD53+CL53+CT53+DB53+DJ53+DR53+DZ53+EH53+EP53+EX53+FF53+FN53+FV53+GD53+GL53+GT53+HB53+HJ53+HR53+HZ53+IH53+IP53+IX53 -> 0 | JH53: =+S53+AA53+AI53+AQ53+AY53+BG53+BO53+BW53+CE53+CM53+CU53+DC53+DK53+DS53+EA53+EI53+EQ53+EY53+FG53+FO53+FW53+GE53+GM53+GU53+HC53+HK53+HS53+IA53+II53+IQ53+IY53 -> 0 | JI53: =+T53+AB53+AJ53+AR53+AZ53+BH53+BP53+BX53+CF53+CN53+CV53+DD53+DL53+DT53+EB53+EJ53+ER53+EZ53+FH53+FP53+FX53+GF53+GN53+GV53+HD53+HL53+HT53+IB53+IJ53+IR53+IZ53 -> 0 | JJ53: =+U53+AC53+AK53+AS53+BA53+BI53+BQ53+BY53+CG53+CO53+CW53+DE53+DM53+DU53+EC53+EK53+ES53+FA53+FI53+FQ53+FY53+GG53+GO53+GW53+HE53+HM53+HU53+IC53+IK53+IS53+JA53 -> 0 | JK53: =+N53+JD53+JE53-JF53+JG53-JH53-JI53+JJ53 -> 18 | JM53: =+JK53-JB53 -> 0 | JO53: =+JD53*((K53+L53)*6) -> 0
B54: Local | D54: PM10D | F54: M10 | G54: GR | H54: GR | I54: D | J54: 18,0 | K54: 5 | L54: 5 | M54: UN | N54: 44 | V54: =+N54+O54+P54+R54-S54-Q54-T54+U54 -> 44 | AD54: =+V54+W54+X54-Y54+Z54-AA54-AB54+AC54 -> 44 | AL54: =+AD54+AE54+AF54-AG54+AH54-AI54-AJ54+AK54 -> 44 | AT54: =+AL54+AM54+AN54-AO54+AP54-AQ54-AR54+AS54 -> 44 | BB54: =+AT54+AU54+AV54-AW54+AX54-AY54-AZ54+BA54 -> 44 | BJ54: =+BB54+BC54+BD54-BE54+BF54-BG54-BH54+BI54 -> 44 | BR54: =+BJ54+BK54+BL54-BM54+BN54-BO54-BP54+BQ54 -> 44 | BZ54: =+BR54+BS54+BT54-BU54+BV54-BW54-BX54+BY54 -> 44 | CH54: =+BZ54+CA54+CB54-CC54+CD54-CE54-CF54+CG54 -> 44 | CP54: =+CH54+CI54+CJ54-CK54+CL54-CM54-CN54+CO54 -> 44 | CX54: =+CP54+CQ54+CR54-CS54+CT54-CU54-CV54+CW54 -> 44 | DF54: =+CX54+CY54+CZ54-DA54+DB54-DC54-DD54+DE54 -> 44 | DN54: =+DF54+DG54+DH54-DI54+DJ54-DK54-DL54+DM54 -> 44 | DV54: =+DN54+DO54+DP54-DQ54+DR54-DS54-DT54+DU54 -> 44 | ED54: =+DV54+DW54+DX54-DY54+DZ54-EA54-EB54+EC54 -> 44 | EL54: =+ED54+EE54+EF54-EG54+EH54-EI54-EJ54+EK54 -> 44 | ET54: =+EL54+EM54+EN54-EO54+EP54-EQ54-ER54+ES54 -> 44 | FB54: =+ET54+EU54+EV54-EW54+EX54-EY54-EZ54+FA54 -> 44 | FJ54: =+FB54+FC54+FD54-FE54+FF54-FG54-FH54+FI54 -> 44 | FR54: =+FJ54+FK54+FL54-FM54+FN54-FO54-FP54+FQ54 -> 44 | FZ54: =+FR54+FS54+FT54-FU54+FV54-FW54-FX54+FY54 -> 44 | GH54: =+FZ54+GA54+GB54-GC54+GD54-GE54-GF54+GG54 -> 44 | GP54: =+GH54+GI54+GJ54-GK54+GL54-GM54-GN54+GO54 -> 44 | GX54: =+GP54+GQ54+GR54-GS54+GT54-GU54-GV54+GW54 -> 44 | HF54: =+GX54+GY54+GZ54-HA54+HB54-HC54-HD54+HE54 -> 44 | HN54: =+HF54+HG54+HH54-HI54+HJ54-HK54-HL54+HM54 -> 44 | HV54: =+HN54+HO54+HP54-HQ54+HR54-HS54-HT54+HU54 -> 44 | ID54: =+HV54+HW54+HX54-HY54+HZ54-IA54-IB54+IC54 -> 44 | IL54: =+ID54+IE54+IF54-IG54+IH54-II54-IJ54+IK54 -> 44 | IT54: =+IL54+IM54+IN54-IO54+IP54-IQ54-IR54+IS54 -> 44 | JB54: =+IT54+IU54+IV54-IW54+IX54-IY54-IZ54+JA54 -> 44 | JD54: =+O54+W54+AE54+AM54+AU54+BC54+BK54+BS54+CA54+CI54+CQ54+CY54+DG54+DO54+DW54+EE54+EM54+EU54+FC54+FK54+FS54+GA54+GI54+GQ54+GY54+HG54+HO54+HW54+IE54+IM54+IU54 -> 0 | JE54: =+P54+X54+AF54+AN54+AV54+BD54+BL54+BT54+CB54+CJ54+CR54+CZ54+DH54+DP54+DX54+EF54+EN54+EV54+FD54+FL54+FT54+GB54+GJ54+GR54+GZ54+HH54+HP54+HX54+IF54+IN54+IV54 -> 0 | JF54: =+Q54+Y54+AG54+AO54+AW54+BE54+BM54+BU54+CC54+CK54+CS54+DA54+DI54+DQ54+DY54+EG54+EO54+EW54+FE54+FM54+FU54+GC54+GK54+GS54+HA54+HI54+HQ54+HY54+IG54+IO54+IW54 -> 0 | JG54: =+R54+Z54+AH54+AP54+AX54+BF54+BN54+BV54+CD54+CL54+CT54+DB54+DJ54+DR54+DZ54+EH54+EP54+EX54+FF54+FN54+FV54+GD54+GL54+GT54+HB54+HJ54+HR54+HZ54+IH54+IP54+IX54 -> 0 | JH54: =+S54+AA54+AI54+AQ54+AY54+BG54+BO54+BW54+CE54+CM54+CU54+DC54+DK54+DS54+EA54+EI54+EQ54+EY54+FG54+FO54+FW54+GE54+GM54+GU54+HC54+HK54+HS54+IA54+II54+IQ54+IY54 -> 0 | JI54: =+T54+AB54+AJ54+AR54+AZ54+BH54+BP54+BX54+CF54+CN54+CV54+DD54+DL54+DT54+EB54+EJ54+ER54+EZ54+FH54+FP54+FX54+GF54+GN54+GV54+HD54+HL54+HT54+IB54+IJ54+IR54+IZ54 -> 0 | JJ54: =+U54+AC54+AK54+AS54+BA54+BI54+BQ54+BY54+CG54+CO54+CW54+DE54+DM54+DU54+EC54+EK54+ES54+FA54+FI54+FQ54+FY54+GG54+GO54+GW54+HE54+HM54+HU54+IC54+IK54+IS54+JA54 -> 0 | JK54: =+N54+JD54+JE54-JF54+JG54-JH54-JI54+JJ54 -> 44 | JM54: =+JK54-JB54 -> 0 | JO54: =+JD54*((K54+L54)*6) -> 0
B55: Local | D55: PM10SD | F55: M10 | G55: NR | H55: NR | I55: D | J55: 18,0 | K55: 5 | L55: 5 | M55: UN | N55: 20 | V55: =+N55+O55+P55+R55-S55-Q55-T55+U55 -> 20 | AD55: =+V55+W55+X55-Y55+Z55-AA55-AB55+AC55 -> 20 | AL55: =+AD55+AE55+AF55-AG55+AH55-AI55-AJ55+AK55 -> 20 | AT55: =+AL55+AM55+AN55-AO55+AP55-AQ55-AR55+AS55 -> 20 | BB55: =+AT55+AU55+AV55-AW55+AX55-AY55-AZ55+BA55 -> 20 | BJ55: =+BB55+BC55+BD55-BE55+BF55-BG55-BH55+BI55 -> 20 | BR55: =+BJ55+BK55+BL55-BM55+BN55-BO55-BP55+BQ55 -> 20 | BZ55: =+BR55+BS55+BT55-BU55+BV55-BW55-BX55+BY55 -> 20 | CH55: =+BZ55+CA55+CB55-CC55+CD55-CE55-CF55+CG55 -> 20 | CP55: =+CH55+CI55+CJ55-CK55+CL55-CM55-CN55+CO55 -> 20 | CX55: =+CP55+CQ55+CR55-CS55+CT55-CU55-CV55+CW55 -> 20 | DF55: =+CX55+CY55+CZ55-DA55+DB55-DC55-DD55+DE55 -> 20 | DN55: =+DF55+DG55+DH55-DI55+DJ55-DK55-DL55+DM55 -> 20 | DV55: =+DN55+DO55+DP55-DQ55+DR55-DS55-DT55+DU55 -> 20 | ED55: =+DV55+DW55+DX55-DY55+DZ55-EA55-EB55+EC55 -> 20 | EL55: =+ED55+EE55+EF55-EG55+EH55-EI55-EJ55+EK55 -> 20 | ET55: =+EL55+EM55+EN55-EO55+EP55-EQ55-ER55+ES55 -> 20 | FB55: =+ET55+EU55+EV55-EW55+EX55-EY55-EZ55+FA55 -> 20 | FJ55: =+FB55+FC55+FD55-FE55+FF55-FG55-FH55+FI55 -> 20 | FR55: =+FJ55+FK55+FL55-FM55+FN55-FO55-FP55+FQ55 -> 20 | FZ55: =+FR55+FS55+FT55-FU55+FV55-FW55-FX55+FY55 -> 20 | GH55: =+FZ55+GA55+GB55-GC55+GD55-GE55-GF55+GG55 -> 20 | GP55: =+GH55+GI55+GJ55-GK55+GL55-GM55-GN55+GO55 -> 20 | GX55: =+GP55+GQ55+GR55-GS55+GT55-GU55-GV55+GW55 -> 20 | HF55: =+GX55+GY55+GZ55-HA55+HB55-HC55-HD55+HE55 -> 20 | HN55: =+HF55+HG55+HH55-HI55+HJ55-HK55-HL55+HM55 -> 20 | HV55: =+HN55+HO55+HP55-HQ55+HR55-HS55-HT55+HU55 -> 20 | ID55: =+HV55+HW55+HX55-HY55+HZ55-IA55-IB55+IC55 -> 20 | IL55: =+ID55+IE55+IF55-IG55+IH55-II55-IJ55+IK55 -> 20 | IT55: =+IL55+IM55+IN55-IO55+IP55-IQ55-IR55+IS55 -> 20 | JB55: =+IT55+IU55+IV55-IW55+IX55-IY55-IZ55+JA55 -> 20 | JD55: =+O55+W55+AE55+AM55+AU55+BC55+BK55+BS55+CA55+CI55+CQ55+CY55+DG55+DO55+DW55+EE55+EM55+EU55+FC55+FK55+FS55+GA55+GI55+GQ55+GY55+HG55+HO55+HW55+IE55+IM55+IU55 -> 0 | JE55: =+P55+X55+AF55+AN55+AV55+BD55+BL55+BT55+CB55+CJ55+CR55+CZ55+DH55+DP55+DX55+EF55+EN55+EV55+FD55+FL55+FT55+GB55+GJ55+GR55+GZ55+HH55+HP55+HX55+IF55+IN55+IV55 -> 0 | JF55: =+Q55+Y55+AG55+AO55+AW55+BE55+BM55+BU55+CC55+CK55+CS55+DA55+DI55+DQ55+DY55+EG55+EO55+EW55+FE55+FM55+FU55+GC55+GK55+GS55+HA55+HI55+HQ55+HY55+IG55+IO55+IW55 -> 0 | JG55: =+R55+Z55+AH55+AP55+AX55+BF55+BN55+BV55+CD55+CL55+CT55+DB55+DJ55+DR55+DZ55+EH55+EP55+EX55+FF55+FN55+FV55+GD55+GL55+GT55+HB55+HJ55+HR55+HZ55+IH55+IP55+IX55 -> 0 | JH55: =+S55+AA55+AI55+AQ55+AY55+BG55+BO55+BW55+CE55+CM55+CU55+DC55+DK55+DS55+EA55+EI55+EQ55+EY55+FG55+FO55+FW55+GE55+GM55+GU55+HC55+HK55+HS55+IA55+II55+IQ55+IY55 -> 0 | JI55: =+T55+AB55+AJ55+AR55+AZ55+BH55+BP55+BX55+CF55+CN55+CV55+DD55+DL55+DT55+EB55+EJ55+ER55+EZ55+FH55+FP55+FX55+GF55+GN55+GV55+HD55+HL55+HT55+IB55+IJ55+IR55+IZ55 -> 0 | JJ55: =+U55+AC55+AK55+AS55+BA55+BI55+BQ55+BY55+CG55+CO55+CW55+DE55+DM55+DU55+EC55+EK55+ES55+FA55+FI55+FQ55+FY55+GG55+GO55+GW55+HE55+HM55+HU55+IC55+IK55+IS55+JA55 -> 0 | JK55: =+N55+JD55+JE55-JF55+JG55-JH55-JI55+JJ55 -> 20 | JM55: =+JK55-JB55 -> 0 | JO55: =+JD55*((K55+L55)*6) -> 0
B56: Local | C56: 21S2EFB | D56: 21S2EFB | F56: S2 | G56: NR | H56: NR | I56: D | K56: 6 | L56: 7 | M56: UN | N56: 95 | V56: =+N56+O56+P56+R56-S56-Q56-T56+U56 -> 95 | AD56: =+V56+W56+X56-Y56+Z56-AA56-AB56+AC56 -> 95 | AL56: =+AD56+AE56+AF56-AG56+AH56-AI56-AJ56+AK56 -> 95 | AT56: =+AL56+AM56+AN56-AO56+AP56-AQ56-AR56+AS56 -> 95 | BB56: =+AT56+AU56+AV56-AW56+AX56-AY56-AZ56+BA56 -> 95 | BJ56: =+BB56+BC56+BD56-BE56+BF56-BG56-BH56+BI56 -> 95 | BR56: =+BJ56+BK56+BL56-BM56+BN56-BO56-BP56+BQ56 -> 95 | BZ56: =+BR56+BS56+BT56-BU56+BV56-BW56-BX56+BY56 -> 95 | CH56: =+BZ56+CA56+CB56-CC56+CD56-CE56-CF56+CG56 -> 95 | CP56: =+CH56+CI56+CJ56-CK56+CL56-CM56-CN56+CO56 -> 95 | CX56: =+CP56+CQ56+CR56-CS56+CT56-CU56-CV56+CW56 -> 95 | DF56: =+CX56+CY56+CZ56-DA56+DB56-DC56-DD56+DE56 -> 95 | DN56: =+DF56+DG56+DH56-DI56+DJ56-DK56-DL56+DM56 -> 95 | DV56: =+DN56+DO56+DP56-DQ56+DR56-DS56-DT56+DU56 -> 95 | ED56: =+DV56+DW56+DX56-DY56+DZ56-EA56-EB56+EC56 -> 95 | EL56: =+ED56+EE56+EF56-EG56+EH56-EI56-EJ56+EK56 -> 95 | ET56: =+EL56+EM56+EN56-EO56+EP56-EQ56-ER56+ES56 -> 95 | FB56: =+ET56+EU56+EV56-EW56+EX56-EY56-EZ56+FA56 -> 95 | FJ56: =+FB56+FC56+FD56-FE56+FF56-FG56-FH56+FI56 -> 95 | FR56: =+FJ56+FK56+FL56-FM56+FN56-FO56-FP56+FQ56 -> 95 | FZ56: =+FR56+FS56+FT56-FU56+FV56-FW56-FX56+FY56 -> 95 | GH56: =+FZ56+GA56+GB56-GC56+GD56-GE56-GF56+GG56 -> 95 | GP56: =+GH56+GI56+GJ56-GK56+GL56-GM56-GN56+GO56 -> 95 | GX56: =+GP56+GQ56+GR56-GS56+GT56-GU56-GV56+GW56 -> 95 | HF56: =+GX56+GY56+GZ56-HA56+HB56-HC56-HD56+HE56 -> 95 | HN56: =+HF56+HG56+HH56-HI56+HJ56-HK56-HL56+HM56 -> 95 | HV56: =+HN56+HO56+HP56-HQ56+HR56-HS56-HT56+HU56 -> 95 | ID56: =+HV56+HW56+HX56-HY56+HZ56-IA56-IB56+IC56 -> 95 | IL56: =+ID56+IE56+IF56-IG56+IH56-II56-IJ56+IK56 -> 95 | IT56: =+IL56+IM56+IN56-IO56+IP56-IQ56-IR56+IS56 -> 95 | JB56: =+IT56+IU56+IV56-IW56+IX56-IY56-IZ56+JA56 -> 95 | JD56: =+O56+W56+AE56+AM56+AU56+BC56+BK56+BS56+CA56+CI56+CQ56+CY56+DG56+DO56+DW56+EE56+EM56+EU56+FC56+FK56+FS56+GA56+GI56+GQ56+GY56+HG56+HO56+HW56+IE56+IM56+IU56 -> 0 | JE56: =+P56+X56+AF56+AN56+AV56+BD56+BL56+BT56+CB56+CJ56+CR56+CZ56+DH56+DP56+DX56+EF56+EN56+EV56+FD56+FL56+FT56+GB56+GJ56+GR56+GZ56+HH56+HP56+HX56+IF56+IN56+IV56 -> 0 | JF56: =+Q56+Y56+AG56+AO56+AW56+BE56+BM56+BU56+CC56+CK56+CS56+DA56+DI56+DQ56+DY56+EG56+EO56+EW56+FE56+FM56+FU56+GC56+GK56+GS56+HA56+HI56+HQ56+HY56+IG56+IO56+IW56 -> 0 | JG56: =+R56+Z56+AH56+AP56+AX56+BF56+BN56+BV56+CD56+CL56+CT56+DB56+DJ56+DR56+DZ56+EH56+EP56+EX56+FF56+FN56+FV56+GD56+GL56+GT56+HB56+HJ56+HR56+HZ56+IH56+IP56+IX56 -> 0 | JH56: =+S56+AA56+AI56+AQ56+AY56+BG56+BO56+BW56+CE56+CM56+CU56+DC56+DK56+DS56+EA56+EI56+EQ56+EY56+FG56+FO56+FW56+GE56+GM56+GU56+HC56+HK56+HS56+IA56+II56+IQ56+IY56 -> 0 | JI56: =+T56+AB56+AJ56+AR56+AZ56+BH56+BP56+BX56+CF56+CN56+CV56+DD56+DL56+DT56+EB56+EJ56+ER56+EZ56+FH56+FP56+FX56+GF56+GN56+GV56+HD56+HL56+HT56+IB56+IJ56+IR56+IZ56 -> 0 | JJ56: =+U56+AC56+AK56+AS56+BA56+BI56+BQ56+BY56+CG56+CO56+CW56+DE56+DM56+DU56+EC56+EK56+ES56+FA56+FI56+FQ56+FY56+GG56+GO56+GW56+HE56+HM56+HU56+IC56+IK56+IS56+JA56 -> 0 | JK56: =+N56+JD56+JE56-JF56+JG56-JH56-JI56+JJ56 -> 95 | JM56: =+JK56-JB56 -> 0 | JO56: =+JD56*((K56+L56)*6) -> 0
B57: Local | C57: 21S3EFB | D57: 21S3EFB | F57: S3 | G57: NR | H57: NR | I57: D | K57: 7 | L57: 8 | M57: UN | N57: 324 | V57: =+N57+O57+P57+R57-S57-Q57-T57+U57 -> 324 | AD57: =+V57+W57+X57-Y57+Z57-AA57-AB57+AC57 -> 324 | AL57: =+AD57+AE57+AF57-AG57+AH57-AI57-AJ57+AK57 -> 324 | AT57: =+AL57+AM57+AN57-AO57+AP57-AQ57-AR57+AS57 -> 324 | BB57: =+AT57+AU57+AV57-AW57+AX57-AY57-AZ57+BA57 -> 324 | BJ57: =+BB57+BC57+BD57-BE57+BF57-BG57-BH57+BI57 -> 324 | BR57: =+BJ57+BK57+BL57-BM57+BN57-BO57-BP57+BQ57 -> 324 | BZ57: =+BR57+BS57+BT57-BU57+BV57-BW57-BX57+BY57 -> 324 | CH57: =+BZ57+CA57+CB57-CC57+CD57-CE57-CF57+CG57 -> 324 | CP57: =+CH57+CI57+CJ57-CK57+CL57-CM57-CN57+CO57 -> 324 | CX57: =+CP57+CQ57+CR57-CS57+CT57-CU57-CV57+CW57 -> 324 | DF57: =+CX57+CY57+CZ57-DA57+DB57-DC57-DD57+DE57 -> 324 | DN57: =+DF57+DG57+DH57-DI57+DJ57-DK57-DL57+DM57 -> 324 | DV57: =+DN57+DO57+DP57-DQ57+DR57-DS57-DT57+DU57 -> 324 | ED57: =+DV57+DW57+DX57-DY57+DZ57-EA57-EB57+EC57 -> 324 | EL57: =+ED57+EE57+EF57-EG57+EH57-EI57-EJ57+EK57 -> 324 | ET57: =+EL57+EM57+EN57-EO57+EP57-EQ57-ER57+ES57 -> 324 | FB57: =+ET57+EU57+EV57-EW57+EX57-EY57-EZ57+FA57 -> 324 | FJ57: =+FB57+FC57+FD57-FE57+FF57-FG57-FH57+FI57 -> 324 | FR57: =+FJ57+FK57+FL57-FM57+FN57-FO57-FP57+FQ57 -> 324 | FZ57: =+FR57+FS57+FT57-FU57+FV57-FW57-FX57+FY57 -> 324 | GH57: =+FZ57+GA57+GB57-GC57+GD57-GE57-GF57+GG57 -> 324 | GP57: =+GH57+GI57+GJ57-GK57+GL57-GM57-GN57+GO57 -> 324 | GX57: =+GP57+GQ57+GR57-GS57+GT57-GU57-GV57+GW57 -> 324 | HF57: =+GX57+GY57+GZ57-HA57+HB57-HC57-HD57+HE57 -> 324 | HN57: =+HF57+HG57+HH57-HI57+HJ57-HK57-HL57+HM57 -> 324 | HV57: =+HN57+HO57+HP57-HQ57+HR57-HS57-HT57+HU57 -> 324 | ID57: =+HV57+HW57+HX57-HY57+HZ57-IA57-IB57+IC57 -> 324 | IL57: =+ID57+IE57+IF57-IG57+IH57-II57-IJ57+IK57 -> 324 | IT57: =+IL57+IM57+IN57-IO57+IP57-IQ57-IR57+IS57 -> 324 | JB57: =+IT57+IU57+IV57-IW57+IX57-IY57-IZ57+JA57 -> 324 | JD57: =+O57+W57+AE57+AM57+AU57+BC57+BK57+BS57+CA57+CI57+CQ57+CY57+DG57+DO57+DW57+EE57+EM57+EU57+FC57+FK57+FS57+GA57+GI57+GQ57+GY57+HG57+HO57+HW57+IE57+IM57+IU57 -> 0 | JE57: =+P57+X57+AF57+AN57+AV57+BD57+BL57+BT57+CB57+CJ57+CR57+CZ57+DH57+DP57+DX57+EF57+EN57+EV57+FD57+FL57+FT57+GB57+GJ57+GR57+GZ57+HH57+HP57+HX57+IF57+IN57+IV57 -> 0 | JF57: =+Q57+Y57+AG57+AO57+AW57+BE57+BM57+BU57+CC57+CK57+CS57+DA57+DI57+DQ57+DY57+EG57+EO57+EW57+FE57+FM57+FU57+GC57+GK57+GS57+HA57+HI57+HQ57+HY57+IG57+IO57+IW57 -> 0 | JG57: =+R57+Z57+AH57+AP57+AX57+BF57+BN57+BV57+CD57+CL57+CT57+DB57+DJ57+DR57+DZ57+EH57+EP57+EX57+FF57+FN57+FV57+GD57+GL57+GT57+HB57+HJ57+HR57+HZ57+IH57+IP57+IX57 -> 0 | JH57: =+S57+AA57+AI57+AQ57+AY57+BG57+BO57+BW57+CE57+CM57+CU57+DC57+DK57+DS57+EA57+EI57+EQ57+EY57+FG57+FO57+FW57+GE57+GM57+GU57+HC57+HK57+HS57+IA57+II57+IQ57+IY57 -> 0 | JI57: =+T57+AB57+AJ57+AR57+AZ57+BH57+BP57+BX57+CF57+CN57+CV57+DD57+DL57+DT57+EB57+EJ57+ER57+EZ57+FH57+FP57+FX57+GF57+GN57+GV57+HD57+HL57+HT57+IB57+IJ57+IR57+IZ57 -> 0 | JJ57: =+U57+AC57+AK57+AS57+BA57+BI57+BQ57+BY57+CG57+CO57+CW57+DE57+DM57+DU57+EC57+EK57+ES57+FA57+FI57+FQ57+FY57+GG57+GO57+GW57+HE57+HM57+HU57+IC57+IK57+IS57+JA57 -> 0 | JK57: =+N57+JD57+JE57-JF57+JG57-JH57-JI57+JJ57 -> 324 | JM57: =+JK57-JB57 -> 0 | JO57: =+JD57*((K57+L57)*6) -> 0
B58: Local | C58: 21S5EFB | D58: 21S5EFB | F58: S5 | G58: NR | H58: NR | I58: D | K58: 10 | L58: 10 | M58: UN | N58: 249 | V58: =+N58+O58+P58+R58-S58-Q58-T58+U58 -> 249 | AD58: =+V58+W58+X58-Y58+Z58-AA58-AB58+AC58 -> 249 | AL58: =+AD58+AE58+AF58-AG58+AH58-AI58-AJ58+AK58 -> 249 | AT58: =+AL58+AM58+AN58-AO58+AP58-AQ58-AR58+AS58 -> 249 | BB58: =+AT58+AU58+AV58-AW58+AX58-AY58-AZ58+BA58 -> 249 | BJ58: =+BB58+BC58+BD58-BE58+BF58-BG58-BH58+BI58 -> 249 | BR58: =+BJ58+BK58+BL58-BM58+BN58-BO58-BP58+BQ58 -> 249 | BZ58: =+BR58+BS58+BT58-BU58+BV58-BW58-BX58+BY58 -> 249 | CH58: =+BZ58+CA58+CB58-CC58+CD58-CE58-CF58+CG58 -> 249 | CP58: =+CH58+CI58+CJ58-CK58+CL58-CM58-CN58+CO58 -> 249 | CX58: =+CP58+CQ58+CR58-CS58+CT58-CU58-CV58+CW58 -> 249 | DF58: =+CX58+CY58+CZ58-DA58+DB58-DC58-DD58+DE58 -> 249 | DN58: =+DF58+DG58+DH58-DI58+DJ58-DK58-DL58+DM58 -> 249 | DV58: =+DN58+DO58+DP58-DQ58+DR58-DS58-DT58+DU58 -> 249 | ED58: =+DV58+DW58+DX58-DY58+DZ58-EA58-EB58+EC58 -> 249 | EL58: =+ED58+EE58+EF58-EG58+EH58-EI58-EJ58+EK58 -> 249 | ET58: =+EL58+EM58+EN58-EO58+EP58-EQ58-ER58+ES58 -> 249 | FB58: =+ET58+EU58+EV58-EW58+EX58-EY58-EZ58+FA58 -> 249 | FJ58: =+FB58+FC58+FD58-FE58+FF58-FG58-FH58+FI58 -> 249 | FR58: =+FJ58+FK58+FL58-FM58+FN58-FO58-FP58+FQ58 -> 249 | FZ58: =+FR58+FS58+FT58-FU58+FV58-FW58-FX58+FY58 -> 249 | GH58: =+FZ58+GA58+GB58-GC58+GD58-GE58-GF58+GG58 -> 249 | GP58: =+GH58+GI58+GJ58-GK58+GL58-GM58-GN58+GO58 -> 249 | GX58: =+GP58+GQ58+GR58-GS58+GT58-GU58-GV58+GW58 -> 249 | HF58: =+GX58+GY58+GZ58-HA58+HB58-HC58-HD58+HE58 -> 249 | HN58: =+HF58+HG58+HH58-HI58+HJ58-HK58-HL58+HM58 -> 249 | HV58: =+HN58+HO58+HP58-HQ58+HR58-HS58-HT58+HU58 -> 249 | ID58: =+HV58+HW58+HX58-HY58+HZ58-IA58-IB58+IC58 -> 249 | IL58: =+ID58+IE58+IF58-IG58+IH58-II58-IJ58+IK58 -> 249 | IT58: =+IL58+IM58+IN58-IO58+IP58-IQ58-IR58+IS58 -> 249 | JB58: =+IT58+IU58+IV58-IW58+IX58-IY58-IZ58+JA58 -> 249 | JD58: =+O58+W58+AE58+AM58+AU58+BC58+BK58+BS58+CA58+CI58+CQ58+CY58+DG58+DO58+DW58+EE58+EM58+EU58+FC58+FK58+FS58+GA58+GI58+GQ58+GY58+HG58+HO58+HW58+IE58+IM58+IU58 -> 0 | JE58: =+P58+X58+AF58+AN58+AV58+BD58+BL58+BT58+CB58+CJ58+CR58+CZ58+DH58+DP58+DX58+EF58+EN58+EV58+FD58+FL58+FT58+GB58+GJ58+GR58+GZ58+HH58+HP58+HX58+IF58+IN58+IV58 -> 0 | JF58: =+Q58+Y58+AG58+AO58+AW58+BE58+BM58+BU58+CC58+CK58+CS58+DA58+DI58+DQ58+DY58+EG58+EO58+EW58+FE58+FM58+FU58+GC58+GK58+GS58+HA58+HI58+HQ58+HY58+IG58+IO58+IW58 -> 0 | JG58: =+R58+Z58+AH58+AP58+AX58+BF58+BN58+BV58+CD58+CL58+CT58+DB58+DJ58+DR58+DZ58+EH58+EP58+EX58+FF58+FN58+FV58+GD58+GL58+GT58+HB58+HJ58+HR58+HZ58+IH58+IP58+IX58 -> 0 | JH58: =+S58+AA58+AI58+AQ58+AY58+BG58+BO58+BW58+CE58+CM58+CU58+DC58+DK58+DS58+EA58+EI58+EQ58+EY58+FG58+FO58+FW58+GE58+GM58+GU58+HC58+HK58+HS58+IA58+II58+IQ58+IY58 -> 0 | JI58: =+T58+AB58+AJ58+AR58+AZ58+BH58+BP58+BX58+CF58+CN58+CV58+DD58+DL58+DT58+EB58+EJ58+ER58+EZ58+FH58+FP58+FX58+GF58+GN58+GV58+HD58+HL58+HT58+IB58+IJ58+IR58+IZ58 -> 0 | JJ58: =+U58+AC58+AK58+AS58+BA58+BI58+BQ58+BY58+CG58+CO58+CW58+DE58+DM58+DU58+EC58+EK58+ES58+FA58+FI58+FQ58+FY58+GG58+GO58+GW58+HE58+HM58+HU58+IC58+IK58+IS58+JA58 -> 0 | JK58: =+N58+JD58+JE58-JF58+JG58-JH58-JI58+JJ58 -> 249 | JM58: =+JK58-JB58 -> 0 | JO58: =+JD58*((K58+L58)*6) -> 0
B59: Local | C59: 21M15SSMF | D59: M15S MF | F59: M15 | I59: G | K59: 11 | L59: 11 | M59: UN | N59: 64 | V59: =+N59+O59+P59+R59-S59-Q59-T59+U59 -> 64 | AD59: =+V59+W59+X59-Y59+Z59-AA59-AB59+AC59 -> 64 | AL59: =+AD59+AE59+AF59-AG59+AH59-AI59-AJ59+AK59 -> 64 | AT59: =+AL59+AM59+AN59-AO59+AP59-AQ59-AR59+AS59 -> 64 | BB59: =+AT59+AU59+AV59-AW59+AX59-AY59-AZ59+BA59 -> 64 | BJ59: =+BB59+BC59+BD59-BE59+BF59-BG59-BH59+BI59 -> 64 | BR59: =+BJ59+BK59+BL59-BM59+BN59-BO59-BP59+BQ59 -> 64 | BZ59: =+BR59+BS59+BT59-BU59+BV59-BW59-BX59+BY59 -> 64 | CH59: =+BZ59+CA59+CB59-CC59+CD59-CE59-CF59+CG59 -> 64 | CP59: =+CH59+CI59+CJ59-CK59+CL59-CM59-CN59+CO59 -> 64 | CX59: =+CP59+CQ59+CR59-CS59+CT59-CU59-CV59+CW59 -> 64 | DF59: =+CX59+CY59+CZ59-DA59+DB59-DC59-DD59+DE59 -> 64 | DN59: =+DF59+DG59+DH59-DI59+DJ59-DK59-DL59+DM59 -> 64 | DV59: =+DN59+DO59+DP59-DQ59+DR59-DS59-DT59+DU59 -> 64 | ED59: =+DV59+DW59+DX59-DY59+DZ59-EA59-EB59+EC59 -> 64 | EL59: =+ED59+EE59+EF59-EG59+EH59-EI59-EJ59+EK59 -> 64 | ET59: =+EL59+EM59+EN59-EO59+EP59-EQ59-ER59+ES59 -> 64 | FB59: =+ET59+EU59+EV59-EW59+EX59-EY59-EZ59+FA59 -> 64 | FJ59: =+FB59+FC59+FD59-FE59+FF59-FG59-FH59+FI59 -> 64 | FR59: =+FJ59+FK59+FL59-FM59+FN59-FO59-FP59+FQ59 -> 64 | FZ59: =+FR59+FS59+FT59-FU59+FV59-FW59-FX59+FY59 -> 64 | GH59: =+FZ59+GA59+GB59-GC59+GD59-GE59-GF59+GG59 -> 64 | GP59: =+GH59+GI59+GJ59-GK59+GL59-GM59-GN59+GO59 -> 64 | GX59: =+GP59+GQ59+GR59-GS59+GT59-GU59-GV59+GW59 -> 64 | HF59: =+GX59+GY59+GZ59-HA59+HB59-HC59-HD59+HE59 -> 64 | HN59: =+HF59+HG59+HH59-HI59+HJ59-HK59-HL59+HM59 -> 64 | HV59: =+HN59+HO59+HP59-HQ59+HR59-HS59-HT59+HU59 -> 64 | ID59: =+HV59+HW59+HX59-HY59+HZ59-IA59-IB59+IC59 -> 64 | IL59: =+ID59+IE59+IF59-IG59+IH59-II59-IJ59+IK59 -> 64 | IT59: =+IL59+IM59+IN59-IO59+IP59-IQ59-IR59+IS59 -> 64 | JB59: =+IT59+IU59+IV59-IW59+IX59-IY59-IZ59+JA59 -> 64 | JD59: =+O59+W59+AE59+AM59+AU59+BC59+BK59+BS59+CA59+CI59+CQ59+CY59+DG59+DO59+DW59+EE59+EM59+EU59+FC59+FK59+FS59+GA59+GI59+GQ59+GY59+HG59+HO59+HW59+IE59+IM59+IU59 -> 0 | JE59: =+P59+X59+AF59+AN59+AV59+BD59+BL59+BT59+CB59+CJ59+CR59+CZ59+DH59+DP59+DX59+EF59+EN59+EV59+FD59+FL59+FT59+GB59+GJ59+GR59+GZ59+HH59+HP59+HX59+IF59+IN59+IV59 -> 0 | JF59: =+Q59+Y59+AG59+AO59+AW59+BE59+BM59+BU59+CC59+CK59+CS59+DA59+DI59+DQ59+DY59+EG59+EO59+EW59+FE59+FM59+FU59+GC59+GK59+GS59+HA59+HI59+HQ59+HY59+IG59+IO59+IW59 -> 0 | JG59: =+R59+Z59+AH59+AP59+AX59+BF59+BN59+BV59+CD59+CL59+CT59+DB59+DJ59+DR59+DZ59+EH59+EP59+EX59+FF59+FN59+FV59+GD59+GL59+GT59+HB59+HJ59+HR59+HZ59+IH59+IP59+IX59 -> 0 | JH59: =+S59+AA59+AI59+AQ59+AY59+BG59+BO59+BW59+CE59+CM59+CU59+DC59+DK59+DS59+EA59+EI59+EQ59+EY59+FG59+FO59+FW59+GE59+GM59+GU59+HC59+HK59+HS59+IA59+II59+IQ59+IY59 -> 0 | JI59: =+T59+AB59+AJ59+AR59+AZ59+BH59+BP59+BX59+CF59+CN59+CV59+DD59+DL59+DT59+EB59+EJ59+ER59+EZ59+FH59+FP59+FX59+GF59+GN59+GV59+HD59+HL59+HT59+IB59+IJ59+IR59+IZ59 -> 0 | JJ59: =+U59+AC59+AK59+AS59+BA59+BI59+BQ59+BY59+CG59+CO59+CW59+DE59+DM59+DU59+EC59+EK59+ES59+FA59+FI59+FQ59+FY59+GG59+GO59+GW59+HE59+HM59+HU59+IC59+IK59+IS59+JA59 -> 0 | JK59: =+N59+JD59+JE59-JF59+JG59-JH59-JI59+JJ59 -> 64 | JM59: =+JK59-JB59 -> 0 | JO59: =+JD59*((K59+L59)*6) -> 0
B60: Local | C60: 21MF110 | D60: 21MF110 | G60: OP | H60: NR | I60: D | M60: UN | N60: 302 | V60: =+N60+O60+P60+R60-S60-Q60-T60+U60 -> 302 | AD60: =+V60+W60+X60-Y60+Z60-AA60-AB60+AC60 -> 302 | AL60: =+AD60+AE60+AF60-AG60+AH60-AI60-AJ60+AK60 -> 302 | AT60: =+AL60+AM60+AN60-AO60+AP60-AQ60-AR60+AS60 -> 302 | BB60: =+AT60+AU60+AV60-AW60+AX60-AY60-AZ60+BA60 -> 302 | BJ60: =+BB60+BC60+BD60-BE60+BF60-BG60-BH60+BI60 -> 302 | BR60: =+BJ60+BK60+BL60-BM60+BN60-BO60-BP60+BQ60 -> 302 | BZ60: =+BR60+BS60+BT60-BU60+BV60-BW60-BX60+BY60 -> 302 | CH60: =+BZ60+CA60+CB60-CC60+CD60-CE60-CF60+CG60 -> 302 | CP60: =+CH60+CI60+CJ60-CK60+CL60-CM60-CN60+CO60 -> 302 | CX60: =+CP60+CQ60+CR60-CS60+CT60-CU60-CV60+CW60 -> 302 | DF60: =+CX60+CY60+CZ60-DA60+DB60-DC60-DD60+DE60 -> 302 | DN60: =+DF60+DG60+DH60-DI60+DJ60-DK60-DL60+DM60 -> 302 | DV60: =+DN60+DO60+DP60-DQ60+DR60-DS60-DT60+DU60 -> 302 | ED60: =+DV60+DW60+DX60-DY60+DZ60-EA60-EB60+EC60 -> 302 | EL60: =+ED60+EE60+EF60-EG60+EH60-EI60-EJ60+EK60 -> 302 | ET60: =+EL60+EM60+EN60-EO60+EP60-EQ60-ER60+ES60 -> 302 | FB60: =+ET60+EU60+EV60-EW60+EX60-EY60-EZ60+FA60 -> 302 | FJ60: =+FB60+FC60+FD60-FE60+FF60-FG60-FH60+FI60 -> 302 | FR60: =+FJ60+FK60+FL60-FM60+FN60-FO60-FP60+FQ60 -> 302 | FZ60: =+FR60+FS60+FT60-FU60+FV60-FW60-FX60+FY60 -> 302 | GH60: =+FZ60+GA60+GB60-GC60+GD60-GE60-GF60+GG60 -> 302 | GP60: =+GH60+GI60+GJ60-GK60+GL60-GM60-GN60+GO60 -> 302 | GX60: =+GP60+GQ60+GR60-GS60+GT60-GU60-GV60+GW60 -> 302 | HF60: =+GX60+GY60+GZ60-HA60+HB60-HC60-HD60+HE60 -> 302 | HN60: =+HF60+HG60+HH60-HI60+HJ60-HK60-HL60+HM60 -> 302 | HV60: =+HN60+HO60+HP60-HQ60+HR60-HS60-HT60+HU60 -> 302 | ID60: =+HV60+HW60+HX60-HY60+HZ60-IA60-IB60+IC60 -> 302 | IL60: =+ID60+IE60+IF60-IG60+IH60-II60-IJ60+IK60 -> 302 | IT60: =+IL60+IM60+IN60-IO60+IP60-IQ60-IR60+IS60 -> 302 | JB60: =+IT60+IU60+IV60-IW60+IX60-IY60-IZ60+JA60 -> 302 | JD60: =+O60+W60+AE60+AM60+AU60+BC60+BK60+BS60+CA60+CI60+CQ60+CY60+DG60+DO60+DW60+EE60+EM60+EU60+FC60+FK60+FS60+GA60+GI60+GQ60+GY60+HG60+HO60+HW60+IE60+IM60+IU60 -> 0 | JE60: =+P60+X60+AF60+AN60+AV60+BD60+BL60+BT60+CB60+CJ60+CR60+CZ60+DH60+DP60+DX60+EF60+EN60+EV60+FD60+FL60+FT60+GB60+GJ60+GR60+GZ60+HH60+HP60+HX60+IF60+IN60+IV60 -> 0 | JF60: =+Q60+Y60+AG60+AO60+AW60+BE60+BM60+BU60+CC60+CK60+CS60+DA60+DI60+DQ60+DY60+EG60+EO60+EW60+FE60+FM60+FU60+GC60+GK60+GS60+HA60+HI60+HQ60+HY60+IG60+IO60+IW60 -> 0 | JG60: =+R60+Z60+AH60+AP60+AX60+BF60+BN60+BV60+CD60+CL60+CT60+DB60+DJ60+DR60+DZ60+EH60+EP60+EX60+FF60+FN60+FV60+GD60+GL60+GT60+HB60+HJ60+HR60+HZ60+IH60+IP60+IX60 -> 0 | JH60: =+S60+AA60+AI60+AQ60+AY60+BG60+BO60+BW60+CE60+CM60+CU60+DC60+DK60+DS60+EA60+EI60+EQ60+EY60+FG60+FO60+FW60+GE60+GM60+GU60+HC60+HK60+HS60+IA60+II60+IQ60+IY60 -> 0 | JI60: =+T60+AB60+AJ60+AR60+AZ60+BH60+BP60+BX60+CF60+CN60+CV60+DD60+DL60+DT60+EB60+EJ60+ER60+EZ60+FH60+FP60+FX60+GF60+GN60+GV60+HD60+HL60+HT60+IB60+IJ60+IR60+IZ60 -> 0 | JJ60: =+U60+AC60+AK60+AS60+BA60+BI60+BQ60+BY60+CG60+CO60+CW60+DE60+DM60+DU60+EC60+EK60+ES60+FA60+FI60+FQ60+FY60+GG60+GO60+GW60+HE60+HM60+HU60+IC60+IK60+IS60+JA60 -> 0 | JK60: =+N60+JD60+JE60-JF60+JG60-JH60-JI60+JJ60 -> 302 | JM60: =+JK60-JB60 -> 0 | JO60: =+JD60*((K60+L60)*6) -> 0
