Workbook
Name ariana: '20-08'!$A:$B
Name bousalem: '80'!$A:$B
Name cf: #REF!
Name gabes: #REF!
Name gafsa: #REF!
Name Lancer_la_requête_à_partir_de_MFGPROD: '20'!$A$1:$B$49
Name Lancer_la_requête_à_partir_de_MFGPROD: '20-02'!$A$1:$B$42
Name Lancer_la_requête_à_partir_de_MFGPROD: '20-03'!$A$1:$B$45
Name Lancer_la_requête_à_partir_de_MFGPROD: '20-04'!$A$1:$B$47
Name Lancer_la_requête_à_partir_de_MFGPROD: '20-06'!$A$1:$B$46
Name Lancer_la_requête_à_partir_de_MFGPROD: '20-07'!$A$1:$B$41
Name Lancer_la_requête_à_partir_de_MFGPROD: '40-01'!$A$1:$B$44
Name Lancer_la_requête_à_partir_de_MFGPROD: '40-02'!$A$1:$B$42
Name Lancer_la_requête_à_partir_de_MFGPROD: '40-03'!$A$1:$B$25
Name Lancer_la_requête_à_partir_de_MFGPROD: '40-10'!$A$1:$B$3
Name Lancer_la_requête_à_partir_de_MFGPROD: '80'!$A$1:$B$49
Name Lancer_la_requête_à_partir_de_MFGPROD_1: '80'!$A$1:$B$44
Name Lancer_la_requête_à_partir_de_MFGPROD_1: '80-01'!$A$1:$B$41
Name Lancer_la_requête_à_partir_de_MFGPROD_1: '80-02'!$A$1:$B$42
Name Lancer_la_requête_à_partir_de_MFGPROD_1: '80-10'!$A$1:$B$3
Name magrine: #REF!
Name megrine: #REF!
Name mfg: #REF!
Name sfax: #REF!
Name sousse: '40'!$A:$B

Sheet RECAP
A2: STOCK AGENCE NORD/CENTRE
A4: Code article | C4: Exped | D4: 20 | E4: 20-02 | F4: 20-03 | G4: 20-04 | H4: 20-06 | I4: 20-07 | J4: 20-08 | K4: TOTAL | L4: 40 | M4: 40-01 | N4: 40-02 | O4: 40-03 | P4: 40-10 | Q4: SOUSSE | R4: 80 | S4: 80-01 | T4: 80-02 | U4: 80-10 | V4: Jendouba
A5: 10MAR10 | C5: =IF(ISNUMBER(VLOOKUP($A5,'09'!$A:$B,2,0)),(VLOOKUP($A5,'09'!$A:$B,2,0)),0) -> 0 | D5: =IF(ISNUMBER(VLOOKUP($A5,'20'!$A:$B,2,0)),(VLOOKUP($A5,'20'!$A:$B,2,0)),0) -> 0 | E5: =IF(ISNUMBER(VLOOKUP(A5,'20-02'!A:B,2,0)),(VLOOKUP(A5,'20-02'!A:B,2,0)),0) -> 0 | F5: =IF(ISNUMBER(VLOOKUP(A5,'20-03'!A:B,2,0)),(VLOOKUP(A5,'20-03'!A:B,2,0)),0) -> 0 | G5: =IF(ISNUMBER(VLOOKUP(A5,'20-04'!A:B,2,0)),(VLOOKUP(A5,'20-04'!A:B,2,0)),0) -> 0 | H5: =IF(ISNUMBER(VLOOKUP(A5,'20-06'!A:B,2,0)),(VLOOKUP(A5,'20-06'!A:B,2,0)),0) -> 0 | I5: =IF(ISNUMBER(VLOOKUP(A5,'20-07'!A:B,2,0)),(VLOOKUP(A5,'20-07'!A:B,2,0)),0) -> 0 | J5: =IF(ISNUMBER(VLOOKUP(A5,'20-08'!A:B,2,0)),(VLOOKUP(A5,'20-08'!A:B,2,0)),0) -> 0 | K5: =SUM(D5:J5) -> 0 | L5: =IF(ISNUMBER(VLOOKUP(A5,'40'!A:B,2,0)),(VLOOKUP(A5,'40'!A:B,2,0)),0) -> 0 | M5: =IF(ISNUMBER(VLOOKUP(A5,'40-01'!A:B,2,0)),(VLOOKUP(A5,'40-01'!A:B,2,0)),0) -> 0 | N5: =IF(ISNUMBER(VLOOKUP(A5,'40-02'!A:B,2,0)),(VLOOKUP(A5,'40-02'!A:B,2,0)),0) -> 0 | O5: =IF(ISNUMBER(VLOOKUP(A5,'40-03'!A:B,2,0)),(VLOOKUP(A5,'40-03'!A:B,2,0)),0) -> 0 | P5: =IF(ISNUMBER(VLOOKUP(A5,'40-10'!A:B,2,0)),(VLOOKUP(A5,'40-10'!A:B,2,0)),0) -> 0 | Q5: =SUM(L5:P5) -> 0 | R5: =IF(ISNUMBER(VLOOKUP(A5,'80'!A:B,2,0)),(VLOOKUP(A5,'80'!A:B,2,0)),0) -> 0 | S5: =IF(ISNUMBER(VLOOKUP(A5,'80-01'!A:B,2,0)),(VLOOKUP(A5,'80-01'!A:B,2,0)),0) -> 0 | T5: =IF(ISNUMBER(VLOOKUP(A5,'80-02'!A:B,2,0)),(VLOOKUP(A5,'80-02'!A:B,2,0)),0) -> 0 | U5: =IF(ISNUMBER(VLOOKUP(A5,'80-10'!A:B,2,0)),(VLOOKUP(A5,'80-10'!A:B,2,0)),0) -> 0 | V5: =SUM(R5:U5) -> 0
A6: 10MAR11 | C6: =IF(ISNUMBER(VLOOKUP($A6,'09'!$A:$B,2,0)),(VLOOKUP($A6,'09'!$A:$B,2,0)),0) -> 0 | D6: =IF(ISNUMBER(VLOOKUP(A6,'20'!A:B,2,0)),(VLOOKUP(A6,'20'!A:B,2,0)),0) -> 0 | E6: =IF(ISNUMBER(VLOOKUP(A6,'20-02'!A:B,2,0)),(VLOOKUP(A6,'20-02'!A:B,2,0)),0) -> 0 | F6: =IF(ISNUMBER(VLOOKUP(A6,'20-03'!A:B,2,0)),(VLOOKUP(A6,'20-03'!A:B,2,0)),0) -> 0 | G6: =IF(ISNUMBER(VLOOKUP(A6,'20-04'!A:B,2,0)),(VLOOKUP(A6,'20-04'!A:B,2,0)),0) -> 0 | H6: =IF(ISNUMBER(VLOOKUP(A6,'20-06'!A:B,2,0)),(VLOOKUP(A6,'20-06'!A:B,2,0)),0) -> 0 | I6: =IF(ISNUMBER(VLOOKUP(A6,'20-07'!A:B,2,0)),(VLOOKUP(A6,'20-07'!A:B,2,0)),0) -> 0 | J6: =IF(ISNUMBER(VLOOKUP(A6,'20-08'!A:B,2,0)),(VLOOKUP(A6,'20-08'!A:B,2,0)),0) -> 0 | K6: =SUM(D6:J6) -> 0 | L6: =IF(ISNUMBER(VLOOKUP(A6,'40'!A:B,2,0)),(VLOOKUP(A6,'40'!A:B,2,0)),0) -> 0 | M6: =IF(ISNUMBER(VLOOKUP(A6,'40-01'!A:B,2,0)),(VLOOKUP(A6,'40-01'!A:B,2,0)),0) -> 0 | N6: =IF(ISNUMBER(VLOOKUP(A6,'40-02'!A:B,2,0)),(VLOOKUP(A6,'40-02'!A:B,2,0)),0) -> 0 | O6: =IF(ISNUMBER(VLOOKUP(A6,'40-03'!A:B,2,0)),(VLOOKUP(A6,'40-03'!A:B,2,0)),0) -> 0 | P6: =IF(ISNUMBER(VLOOKUP(A6,'40-10'!A:B,2,0)),(VLOOKUP(A6,'40-10'!A:B,2,0)),0) -> 0 | Q6: =SUM(L6:P6) -> 0 | R6: =IF(ISNUMBER(VLOOKUP(A6,'80'!A:B,2,0)),(VLOOKUP(A6,'80'!A:B,2,0)),0) -> 0 | S6: =IF(ISNUMBER(VLOOKUP(A6,'80-01'!A:B,2,0)),(VLOOKUP(A6,'80-01'!A:B,2,0)),0) -> 0 | T6: =IF(ISNUMBER(VLOOKUP(A6,'80-02'!A:B,2,0)),(VLOOKUP(A6,'80-02'!A:B,2,0)),0) -> 0 | U6: =IF(ISNUMBER(VLOOKUP(A6,'80-10'!A:B,2,0)),(VLOOKUP(A6,'80-10'!A:B,2,0)),0) -> 0 | V6: =SUM(R6:U6) -> 0
A7: 10MAR14 | C7: =IF(ISNUMBER(VLOOKUP($A7,'09'!$A:$B,2,0)),(VLOOKUP($A7,'09'!$A:$B,2,0)),0) -> 0 | D7: =IF(ISNUMBER(VLOOKUP(A7,'20'!A:B,2,0)),(VLOOKUP(A7,'20'!A:B,2,0)),0) -> 0 | E7: =IF(ISNUMBER(VLOOKUP(A7,'20-02'!A:B,2,0)),(VLOOKUP(A7,'20-02'!A:B,2,0)),0) -> 0 | F7: =IF(ISNUMBER(VLOOKUP(A7,'20-03'!A:B,2,0)),(VLOOKUP(A7,'20-03'!A:B,2,0)),0) -> 0 | G7: =IF(ISNUMBER(VLOOKUP(A7,'20-04'!A:B,2,0)),(VLOOKUP(A7,'20-04'!A:B,2,0)),0) -> 0 | H7: =IF(ISNUMBER(VLOOKUP(A7,'20-06'!A:B,2,0)),(VLOOKUP(A7,'20-06'!A:B,2,0)),0) -> 0 | I7: =IF(ISNUMBER(VLOOKUP(A7,'20-07'!A:B,2,0)),(VLOOKUP(A7,'20-07'!A:B,2,0)),0) -> 0 | J7: =IF(ISNUMBER(VLOOKUP(A7,'20-08'!A:B,2,0)),(VLOOKUP(A7,'20-08'!A:B,2,0)),0) -> 0 | K7: =SUM(D7:J7) -> 0 | L7: =IF(ISNUMBER(VLOOKUP(A7,'40'!A:B,2,0)),(VLOOKUP(A7,'40'!A:B,2,0)),0) -> 2 | M7: =IF(ISNUMBER(VLOOKUP(A7,'40-01'!A:B,2,0)),(VLOOKUP(A7,'40-01'!A:B,2,0)),0) -> 0 | N7: =IF(ISNUMBER(VLOOKUP(A7,'40-02'!A:B,2,0)),(VLOOKUP(A7,'40-02'!A:B,2,0)),0) -> 0 | O7: =IF(ISNUMBER(VLOOKUP(A7,'40-03'!A:B,2,0)),(VLOOKUP(A7,'40-03'!A:B,2,0)),0) -> 0 | P7: =IF(ISNUMBER(VLOOKUP(A7,'40-10'!A:B,2,0)),(VLOOKUP(A7,'40-10'!A:B,2,0)),0) -> 0 | Q7: =SUM(L7:P7) -> 2 | R7: =IF(ISNUMBER(VLOOKUP(A7,'80'!A:B,2,0)),(VLOOKUP(A7,'80'!A:B,2,0)),0) -> 0 | S7: =IF(ISNUMBER(VLOOKUP(A7,'80-01'!A:B,2,0)),(VLOOKUP(A7,'80-01'!A:B,2,0)),0) -> 0 | T7: =IF(ISNUMBER(VLOOKUP(A7,'80-02'!A:B,2,0)),(VLOOKUP(A7,'80-02'!A:B,2,0)),0) -> 0 | U7: =IF(ISNUMBER(VLOOKUP(A7,'80-10'!A:B,2,0)),(VLOOKUP(A7,'80-10'!A:B,2,0)),0) -> 0 | V7: =SUM(R7:U7) -> 0
A8: 10MAR200 | C8: =IF(ISNUMBER(VLOOKUP($A8,'09'!$A:$B,2,0)),(VLOOKUP($A8,'09'!$A:$B,2,0)),0) -> 0 | D8: =IF(ISNUMBER(VLOOKUP(A8,'20'!A:B,2,0)),(VLOOKUP(A8,'20'!A:B,2,0)),0) -> 4 | E8: =IF(ISNUMBER(VLOOKUP(A8,'20-02'!A:B,2,0)),(VLOOKUP(A8,'20-02'!A:B,2,0)),0) -> 0 | F8: =IF(ISNUMBER(VLOOKUP(A8,'20-03'!A:B,2,0)),(VLOOKUP(A8,'20-03'!A:B,2,0)),0) -> 2 | G8: =IF(ISNUMBER(VLOOKUP(A8,'20-04'!A:B,2,0)),(VLOOKUP(A8,'20-04'!A:B,2,0)),0) -> 0 | H8: =IF(ISNUMBER(VLOOKUP(A8,'20-06'!A:B,2,0)),(VLOOKUP(A8,'20-06'!A:B,2,0)),0) -> 0 | I8: =IF(ISNUMBER(VLOOKUP(A8,'20-07'!A:B,2,0)),(VLOOKUP(A8,'20-07'!A:B,2,0)),0) -> 0 | J8: =IF(ISNUMBER(VLOOKUP(A8,'20-08'!A:B,2,0)),(VLOOKUP(A8,'20-08'!A:B,2,0)),0) -> 0 | K8: =SUM(D8:J8) -> 6 | L8: =IF(ISNUMBER(VLOOKUP(A8,'40'!A:B,2,0)),(VLOOKUP(A8,'40'!A:B,2,0)),0) -> 6 | M8: =IF(ISNUMBER(VLOOKUP(A8,'40-01'!A:B,2,0)),(VLOOKUP(A8,'40-01'!A:B,2,0)),0) -> 0 | N8: =IF(ISNUMBER(VLOOKUP(A8,'40-02'!A:B,2,0)),(VLOOKUP(A8,'40-02'!A:B,2,0)),0) -> 0 | O8: =IF(ISNUMBER(VLOOKUP(A8,'40-03'!A:B,2,0)),(VLOOKUP(A8,'40-03'!A:B,2,0)),0) -> 0 | P8: =IF(ISNUMBER(VLOOKUP(A8,'40-10'!A:B,2,0)),(VLOOKUP(A8,'40-10'!A:B,2,0)),0) -> 0 | Q8: =SUM(L8:P8) -> 6 | R8: =IF(ISNUMBER(VLOOKUP(A8,'80'!A:B,2,0)),(VLOOKUP(A8,'80'!A:B,2,0)),0) -> 0 | S8: =IF(ISNUMBER(VLOOKUP(A8,'80-01'!A:B,2,0)),(VLOOKUP(A8,'80-01'!A:B,2,0)),0) -> 0 | T8: =IF(ISNUMBER(VLOOKUP(A8,'80-02'!A:B,2,0)),(VLOOKUP(A8,'80-02'!A:B,2,0)),0) -> 0 | U8: =IF(ISNUMBER(VLOOKUP(A8,'80-10'!A:B,2,0)),(VLOOKUP(A8,'80-10'!A:B,2,0)),0) -> 0 | V8: =SUM(R8:U8) -> 0
A9: 10N400 | C9: =IF(ISNUMBER(VLOOKUP($A9,'09'!$A:$B,2,0)),(VLOOKUP($A9,'09'!$A:$B,2,0)),0) -> 0 | D9: =IF(ISNUMBER(VLOOKUP(A9,'20'!A:B,2,0)),(VLOOKUP(A9,'20'!A:B,2,0)),0) -> 0 | E9: =IF(ISNUMBER(VLOOKUP(A9,'20-02'!A:B,2,0)),(VLOOKUP(A9,'20-02'!A:B,2,0)),0) -> 0 | F9: =IF(ISNUMBER(VLOOKUP(A9,'20-03'!A:B,2,0)),(VLOOKUP(A9,'20-03'!A:B,2,0)),0) -> 0 | G9: =IF(ISNUMBER(VLOOKUP(A9,'20-04'!A:B,2,0)),(VLOOKUP(A9,'20-04'!A:B,2,0)),0) -> 0 | H9: =IF(ISNUMBER(VLOOKUP(A9,'20-06'!A:B,2,0)),(VLOOKUP(A9,'20-06'!A:B,2,0)),0) -> 0 | I9: =IF(ISNUMBER(VLOOKUP(A9,'20-07'!A:B,2,0)),(VLOOKUP(A9,'20-07'!A:B,2,0)),0) -> 0 | J9: =IF(ISNUMBER(VLOOKUP(A9,'20-08'!A:B,2,0)),(VLOOKUP(A9,'20-08'!A:B,2,0)),0) -> 0 | K9: =SUM(D9:J9) -> 0 | L9: =IF(ISNUMBER(VLOOKUP(A9,'40'!A:B,2,0)),(VLOOKUP(A9,'40'!A:B,2,0)),0) -> 0 | M9: =IF(ISNUMBER(VLOOKUP(A9,'40-01'!A:B,2,0)),(VLOOKUP(A9,'40-01'!A:B,2,0)),0) -> 0 | N9: =IF(ISNUMBER(VLOOKUP(A9,'40-02'!A:B,2,0)),(VLOOKUP(A9,'40-02'!A:B,2,0)),0) -> 0 | O9: =IF(ISNUMBER(VLOOKUP(A9,'40-03'!A:B,2,0)),(VLOOKUP(A9,'40-03'!A:B,2,0)),0) -> 0 | P9: =IF(ISNUMBER(VLOOKUP(A9,'40-10'!A:B,2,0)),(VLOOKUP(A9,'40-10'!A:B,2,0)),0) -> 0 | Q9: =SUM(L9:P9) -> 0 | R9: =IF(ISNUMBER(VLOOKUP(A9,'80'!A:B,2,0)),(VLOOKUP(A9,'80'!A:B,2,0)),0) -> 0 | S9: =IF(ISNUMBER(VLOOKUP(A9,'80-01'!A:B,2,0)),(VLOOKUP(A9,'80-01'!A:B,2,0)),0) -> 0 | T9: =IF(ISNUMBER(VLOOKUP(A9,'80-02'!A:B,2,0)),(VLOOKUP(A9,'80-02'!A:B,2,0)),0) -> 0 | U9: =IF(ISNUMBER(VLOOKUP(A9,'80-10'!A:B,2,0)),(VLOOKUP(A9,'80-10'!A:B,2,0)),0) -> 0 | V9: =SUM(R9:U9) -> 0
A10: 10N430D | C10: =IF(ISNUMBER(VLOOKUP($A10,'09'!$A:$B,2,0)),(VLOOKUP($A10,'09'!$A:$B,2,0)),0) -> 0 | D10: =IF(ISNUMBER(VLOOKUP(A10,'20'!A:B,2,0)),(VLOOKUP(A10,'20'!A:B,2,0)),0) -> 0 | E10: =IF(ISNUMBER(VLOOKUP(A10,'20-02'!A:B,2,0)),(VLOOKUP(A10,'20-02'!A:B,2,0)),0) -> 0 | F10: =IF(ISNUMBER(VLOOKUP(A10,'20-03'!A:B,2,0)),(VLOOKUP(A10,'20-03'!A:B,2,0)),0) -> 0 | G10: =IF(ISNUMBER(VLOOKUP(A10,'20-04'!A:B,2,0)),(VLOOKUP(A10,'20-04'!A:B,2,0)),0) -> 0 | H10: =IF(ISNUMBER(VLOOKUP(A10,'20-06'!A:B,2,0)),(VLOOKUP(A10,'20-06'!A:B,2,0)),0) -> 0 | I10: =IF(ISNUMBER(VLOOKUP(A10,'20-07'!A:B,2,0)),(VLOOKUP(A10,'20-07'!A:B,2,0)),0) -> 0 | J10: =IF(ISNUMBER(VLOOKUP(A10,'20-08'!A:B,2,0)),(VLOOKUP(A10,'20-08'!A:B,2,0)),0) -> 0 | K10: =SUM(D10:J10) -> 0 | L10: =IF(ISNUMBER(VLOOKUP(A10,'40'!A:B,2,0)),(VLOOKUP(A10,'40'!A:B,2,0)),0) -> 0 | M10: =IF(ISNUMBER(VLOOKUP(A10,'40-01'!A:B,2,0)),(VLOOKUP(A10,'40-01'!A:B,2,0)),0) -> 0 | N10: =IF(ISNUMBER(VLOOKUP(A10,'40-02'!A:B,2,0)),(VLOOKUP(A10,'40-02'!A:B,2,0)),0) -> 0 | O10: =IF(ISNUMBER(VLOOKUP(A10,'40-03'!A:B,2,0)),(VLOOKUP(A10,'40-03'!A:B,2,0)),0) -> 0 | P10: =IF(ISNUMBER(VLOOKUP(A10,'40-10'!A:B,2,0)),(VLOOKUP(A10,'40-10'!A:B,2,0)),0) -> 0 | Q10: =SUM(L10:P10) -> 0 | R10: =IF(ISNUMBER(VLOOKUP(A10,'80'!A:B,2,0)),(VLOOKUP(A10,'80'!A:B,2,0)),0) -> 0 | S10: =IF(ISNUMBER(VLOOKUP(A10,'80-01'!A:B,2,0)),(VLOOKUP(A10,'80-01'!A:B,2,0)),0) -> 0 | T10: =IF(ISNUMBER(VLOOKUP(A10,'80-02'!A:B,2,0)),(VLOOKUP(A10,'80-02'!A:B,2,0)),0) -> 0 | U10: =IF(ISNUMBER(VLOOKUP(A10,'80-10'!A:B,2,0)),(VLOOKUP(A10,'80-10'!A:B,2,0)),0) -> 0 | V10: =SUM(R10:U10) -> 0
A11: 10PE2B | C11: =IF(ISNUMBER(VLOOKUP($A11,'09'!$A:$B,2,0)),(VLOOKUP($A11,'09'!$A:$B,2,0)),0) -> 0 | D11: =IF(ISNUMBER(VLOOKUP(A11,'20'!A:B,2,0)),(VLOOKUP(A11,'20'!A:B,2,0)),0) -> 2 | E11: =IF(ISNUMBER(VLOOKUP(A11,'20-02'!A:B,2,0)),(VLOOKUP(A11,'20-02'!A:B,2,0)),0) -> 0 | F11: =IF(ISNUMBER(VLOOKUP(A11,'20-03'!A:B,2,0)),(VLOOKUP(A11,'20-03'!A:B,2,0)),0) -> 0 | G11: =IF(ISNUMBER(VLOOKUP(A11,'20-04'!A:B,2,0)),(VLOOKUP(A11,'20-04'!A:B,2,0)),0) -> 0 | H11: =IF(ISNUMBER(VLOOKUP(A11,'20-06'!A:B,2,0)),(VLOOKUP(A11,'20-06'!A:B,2,0)),0) -> 0 | I11: =IF(ISNUMBER(VLOOKUP(A11,'20-07'!A:B,2,0)),(VLOOKUP(A11,'20-07'!A:B,2,0)),0) -> 0 | J11: =IF(ISNUMBER(VLOOKUP(A11,'20-08'!A:B,2,0)),(VLOOKUP(A11,'20-08'!A:B,2,0)),0) -> 0 | K11: =SUM(D11:J11) -> 2 | L11: =IF(ISNUMBER(VLOOKUP(A11,'40'!A:B,2,0)),(VLOOKUP(A11,'40'!A:B,2,0)),0) -> 0 | M11: =IF(ISNUMBER(VLOOKUP(A11,'40-01'!A:B,2,0)),(VLOOKUP(A11,'40-01'!A:B,2,0)),0) -> 0 | N11: =IF(ISNUMBER(VLOOKUP(A11,'40-02'!A:B,2,0)),(VLOOKUP(A11,'40-02'!A:B,2,0)),0) -> 0 | O11: =IF(ISNUMBER(VLOOKUP(A11,'40-03'!A:B,2,0)),(VLOOKUP(A11,'40-03'!A:B,2,0)),0) -> 0 | P11: =IF(ISNUMBER(VLOOKUP(A11,'40-10'!A:B,2,0)),(VLOOKUP(A11,'40-10'!A:B,2,0)),0) -> 0 | Q11: =SUM(L11:P11) -> 0 | R11: =IF(ISNUMBER(VLOOKUP(A11,'80'!A:B,2,0)),(VLOOKUP(A11,'80'!A:B,2,0)),0) -> 0 | S11: =IF(ISNUMBER(VLOOKUP(A11,'80-01'!A:B,2,0)),(VLOOKUP(A11,'80-01'!A:B,2,0)),0) -> 0 | T11: =IF(ISNUMBER(VLOOKUP(A11,'80-02'!A:B,2,0)),(VLOOKUP(A11,'80-02'!A:B,2,0)),0) -> 0 | U11: =IF(ISNUMBER(VLOOKUP(A11,'80-10'!A:B,2,0)),(VLOOKUP(A11,'80-10'!A:B,2,0)),0) -> 0 | V11: =SUM(R11:U11) -> 0
A12: 10PL1 | C12: =IF(ISNUMBER(VLOOKUP($A12,'09'!$A:$B,2,0)),(VLOOKUP($A12,'09'!$A:$B,2,0)),0) -> 394 | D12: =IF(ISNUMBER(VLOOKUP(A12,'20'!A:B,2,0)),(VLOOKUP(A12,'20'!A:B,2,0)),0) -> 113 | E12: =IF(ISNUMBER(VLOOKUP(A12,'20-02'!A:B,2,0)),(VLOOKUP(A12,'20-02'!A:B,2,0)),0) -> 11 | F12: =IF(ISNUMBER(VLOOKUP(A12,'20-03'!A:B,2,0)),(VLOOKUP(A12,'20-03'!A:B,2,0)),0) -> 8 | G12: =IF(ISNUMBER(VLOOKUP(A12,'20-04'!A:B,2,0)),(VLOOKUP(A12,'20-04'!A:B,2,0)),0) -> 18 | H12: =IF(ISNUMBER(VLOOKUP(A12,'20-06'!A:B,2,0)),(VLOOKUP(A12,'20-06'!A:B,2,0)),0) -> 15 | I12: =IF(ISNUMBER(VLOOKUP(A12,'20-07'!A:B,2,0)),(VLOOKUP(A12,'20-07'!A:B,2,0)),0) -> 27 | J12: =IF(ISNUMBER(VLOOKUP(A12,'20-08'!A:B,2,0)),(VLOOKUP(A12,'20-08'!A:B,2,0)),0) -> 0 | K12: =SUM(D12:J12) -> 192 | L12: =IF(ISNUMBER(VLOOKUP(A12,'40'!A:B,2,0)),(VLOOKUP(A12,'40'!A:B,2,0)),0) -> 57 | M12: =IF(ISNUMBER(VLOOKUP(A12,'40-01'!A:B,2,0)),(VLOOKUP(A12,'40-01'!A:B,2,0)),0) -> 7 | N12: =IF(ISNUMBER(VLOOKUP(A12,'40-02'!A:B,2,0)),(VLOOKUP(A12,'40-02'!A:B,2,0)),0) -> 10 | O12: =IF(ISNUMBER(VLOOKUP(A12,'40-03'!A:B,2,0)),(VLOOKUP(A12,'40-03'!A:B,2,0)),0) -> 0 | P12: =IF(ISNUMBER(VLOOKUP(A12,'40-10'!A:B,2,0)),(VLOOKUP(A12,'40-10'!A:B,2,0)),0) -> 0 | Q12: =SUM(L12:P12) -> 74 | R12: =IF(ISNUMBER(VLOOKUP(A12,'80'!A:B,2,0)),(VLOOKUP(A12,'80'!A:B,2,0)),0) -> 29 | S12: =IF(ISNUMBER(VLOOKUP(A12,'80-01'!A:B,2,0)),(VLOOKUP(A12,'80-01'!A:B,2,0)),0) -> 6 | T12: =IF(ISNUMBER(VLOOKUP(A12,'80-02'!A:B,2,0)),(VLOOKUP(A12,'80-02'!A:B,2,0)),0) -> 9 | U12: =IF(ISNUMBER(VLOOKUP(A12,'80-10'!A:B,2,0)),(VLOOKUP(A12,'80-10'!A:B,2,0)),0) -> 0 | V12: =SUM(R12:U12) -> 44
A13: 10PL1B | C13: =IF(ISNUMBER(VLOOKUP($A13,'09'!$A:$B,2,0)),(VLOOKUP($A13,'09'!$A:$B,2,0)),0) -> 104 | D13: =IF(ISNUMBER(VLOOKUP(A13,'20'!A:B,2,0)),(VLOOKUP(A13,'20'!A:B,2,0)),0) -> 59 | E13: =IF(ISNUMBER(VLOOKUP(A13,'20-02'!A:B,2,0)),(VLOOKUP(A13,'20-02'!A:B,2,0)),0) -> 6 | F13: =IF(ISNUMBER(VLOOKUP(A13,'20-03'!A:B,2,0)),(VLOOKUP(A13,'20-03'!A:B,2,0)),0) -> 0 | G13: =IF(ISNUMBER(VLOOKUP(A13,'20-04'!A:B,2,0)),(VLOOKUP(A13,'20-04'!A:B,2,0)),0) -> 4 | H13: =IF(ISNUMBER(VLOOKUP(A13,'20-06'!A:B,2,0)),(VLOOKUP(A13,'20-06'!A:B,2,0)),0) -> 4 | I13: =IF(ISNUMBER(VLOOKUP(A13,'20-07'!A:B,2,0)),(VLOOKUP(A13,'20-07'!A:B,2,0)),0) -> 1 | J13: =IF(ISNUMBER(VLOOKUP(A13,'20-08'!A:B,2,0)),(VLOOKUP(A13,'20-08'!A:B,2,0)),0) -> 0 | K13: =SUM(D13:J13) -> 74 | L13: =IF(ISNUMBER(VLOOKUP(A13,'40'!A:B,2,0)),(VLOOKUP(A13,'40'!A:B,2,0)),0) -> 5 | M13: =IF(ISNUMBER(VLOOKUP(A13,'40-01'!A:B,2,0)),(VLOOKUP(A13,'40-01'!A:B,2,0)),0) -> 0 | N13: =IF(ISNUMBER(VLOOKUP(A13,'40-02'!A:B,2,0)),(VLOOKUP(A13,'40-02'!A:B,2,0)),0) -> 0 | O13: =IF(ISNUMBER(VLOOKUP(A13,'40-03'!A:B,2,0)),(VLOOKUP(A13,'40-03'!A:B,2,0)),0) -> 0 | P13: =IF(ISNUMBER(VLOOKUP(A13,'40-10'!A:B,2,0)),(VLOOKUP(A13,'40-10'!A:B,2,0)),0) -> 0 | Q13: =SUM(L13:P13) -> 5 | R13: =IF(ISNUMBER(VLOOKUP(A13,'80'!A:B,2,0)),(VLOOKUP(A13,'80'!A:B,2,0)),0) -> 4 | S13: =IF(ISNUMBER(VLOOKUP(A13,'80-01'!A:B,2,0)),(VLOOKUP(A13,'80-01'!A:B,2,0)),0) -> 1 | T13: =IF(ISNUMBER(VLOOKUP(A13,'80-02'!A:B,2,0)),(VLOOKUP(A13,'80-02'!A:B,2,0)),0) -> 1 | U13: =IF(ISNUMBER(VLOOKUP(A13,'80-10'!A:B,2,0)),(VLOOKUP(A13,'80-10'!A:B,2,0)),0) -> 0 | V13: =SUM(R13:U13) -> 6
A14: 10PL1G | C14: =IF(ISNUMBER(VLOOKUP($A14,'09'!$A:$B,2,0)),(VLOOKUP($A14,'09'!$A:$B,2,0)),0) -> 0 | D14: =IF(ISNUMBER(VLOOKUP(A14,'20'!A:B,2,0)),(VLOOKUP(A14,'20'!A:B,2,0)),0) -> 8 | E14: =IF(ISNUMBER(VLOOKUP(A14,'20-02'!A:B,2,0)),(VLOOKUP(A14,'20-02'!A:B,2,0)),0) -> 1 | F14: =IF(ISNUMBER(VLOOKUP(A14,'20-03'!A:B,2,0)),(VLOOKUP(A14,'20-03'!A:B,2,0)),0) -> 2 | G14: =IF(ISNUMBER(VLOOKUP(A14,'20-04'!A:B,2,0)),(VLOOKUP(A14,'20-04'!A:B,2,0)),0) -> 2 | H14: =IF(ISNUMBER(VLOOKUP(A14,'20-06'!A:B,2,0)),(VLOOKUP(A14,'20-06'!A:B,2,0)),0) -> 0 | I14: =IF(ISNUMBER(VLOOKUP(A14,'20-07'!A:B,2,0)),(VLOOKUP(A14,'20-07'!A:B,2,0)),0) -> 2 | J14: =IF(ISNUMBER(VLOOKUP(A14,'20-08'!A:B,2,0)),(VLOOKUP(A14,'20-08'!A:B,2,0)),0) -> 0 | K14: =SUM(D14:J14) -> 15 | L14: =IF(ISNUMBER(VLOOKUP(A14,'40'!A:B,2,0)),(VLOOKUP(A14,'40'!A:B,2,0)),0) -> 4 | M14: =IF(ISNUMBER(VLOOKUP(A14,'40-01'!A:B,2,0)),(VLOOKUP(A14,'40-01'!A:B,2,0)),0) -> 0 | N14: =IF(ISNUMBER(VLOOKUP(A14,'40-02'!A:B,2,0)),(VLOOKUP(A14,'40-02'!A:B,2,0)),0) -> 0 | O14: =IF(ISNUMBER(VLOOKUP(A14,'40-03'!A:B,2,0)),(VLOOKUP(A14,'40-03'!A:B,2,0)),0) -> 0 | P14: =IF(ISNUMBER(VLOOKUP(A14,'40-10'!A:B,2,0)),(VLOOKUP(A14,'40-10'!A:B,2,0)),0) -> 0 | Q14: =SUM(L14:P14) -> 4 | R14: =IF(ISNUMBER(VLOOKUP(A14,'80'!A:B,2,0)),(VLOOKUP(A14,'80'!A:B,2,0)),0) -> 0 | S14: =IF(ISNUMBER(VLOOKUP(A14,'80-01'!A:B,2,0)),(VLOOKUP(A14,'80-01'!A:B,2,0)),0) -> 1 | T14: =IF(ISNUMBER(VLOOKUP(A14,'80-02'!A:B,2,0)),(VLOOKUP(A14,'80-02'!A:B,2,0)),0) -> 0 | U14: =IF(ISNUMBER(VLOOKUP(A14,'80-10'!A:B,2,0)),(VLOOKUP(A14,'80-10'!A:B,2,0)),0) -> 0 | V14: =SUM(R14:U14) -> 1
A15: 10PL2 | C15: =IF(ISNUMBER(VLOOKUP($A15,'09'!$A:$B,2,0)),(VLOOKUP($A15,'09'!$A:$B,2,0)),0) -> 322 | D15: =IF(ISNUMBER(VLOOKUP(A15,'20'!A:B,2,0)),(VLOOKUP(A15,'20'!A:B,2,0)),0) -> 121 | E15: =IF(ISNUMBER(VLOOKUP(A15,'20-02'!A:B,2,0)),(VLOOKUP(A15,'20-02'!A:B,2,0)),0) -> 12 | F15: =IF(ISNUMBER(VLOOKUP(A15,'20-03'!A:B,2,0)),(VLOOKUP(A15,'20-03'!A:B,2,0)),0) -> 7 | G15: =IF(ISNUMBER(VLOOKUP(A15,'20-04'!A:B,2,0)),(VLOOKUP(A15,'20-04'!A:B,2,0)),0) -> 16 | H15: =IF(ISNUMBER(VLOOKUP(A15,'20-06'!A:B,2,0)),(VLOOKUP(A15,'20-06'!A:B,2,0)),0) -> 6 | I15: =IF(ISNUMBER(VLOOKUP(A15,'20-07'!A:B,2,0)),(VLOOKUP(A15,'20-07'!A:B,2,0)),0) -> 10 | J15: =IF(ISNUMBER(VLOOKUP(A15,'20-08'!A:B,2,0)),(VLOOKUP(A15,'20-08'!A:B,2,0)),0) -> 0 | K15: =SUM(D15:J15) -> 172 | L15: =IF(ISNUMBER(VLOOKUP(A15,'40'!A:B,2,0)),(VLOOKUP(A15,'40'!A:B,2,0)),0) -> 36 | M15: =IF(ISNUMBER(VLOOKUP(A15,'40-01'!A:B,2,0)),(VLOOKUP(A15,'40-01'!A:B,2,0)),0) -> 3 | N15: =IF(ISNUMBER(VLOOKUP(A15,'40-02'!A:B,2,0)),(VLOOKUP(A15,'40-02'!A:B,2,0)),0) -> 9 | O15: =IF(ISNUMBER(VLOOKUP(A15,'40-03'!A:B,2,0)),(VLOOKUP(A15,'40-03'!A:B,2,0)),0) -> 0 | P15: =IF(ISNUMBER(VLOOKUP(A15,'40-10'!A:B,2,0)),(VLOOKUP(A15,'40-10'!A:B,2,0)),0) -> 0 | Q15: =SUM(L15:P15) -> 48 | R15: =IF(ISNUMBER(VLOOKUP(A15,'80'!A:B,2,0)),(VLOOKUP(A15,'80'!A:B,2,0)),0) -> 23 | S15: =IF(ISNUMBER(VLOOKUP(A15,'80-01'!A:B,2,0)),(VLOOKUP(A15,'80-01'!A:B,2,0)),0) -> 4 | T15: =IF(ISNUMBER(VLOOKUP(A15,'80-02'!A:B,2,0)),(VLOOKUP(A15,'80-02'!A:B,2,0)),0) -> 3 | U15: =IF(ISNUMBER(VLOOKUP(A15,'80-10'!A:B,2,0)),(VLOOKUP(A15,'80-10'!A:B,2,0)),0) -> 0 | V15: =SUM(R15:U15) -> 30
A16: 10PL2B | C16: =IF(ISNUMBER(VLOOKUP($A16,'09'!$A:$B,2,0)),(VLOOKUP($A16,'09'!$A:$B,2,0)),0) -> 6 | D16: =IF(ISNUMBER(VLOOKUP(A16,'20'!A:B,2,0)),(VLOOKUP(A16,'20'!A:B,2,0)),0) -> 4 | E16: =IF(ISNUMBER(VLOOKUP(A16,'20-02'!A:B,2,0)),(VLOOKUP(A16,'20-02'!A:B,2,0)),0) -> 0 | F16: =IF(ISNUMBER(VLOOKUP(A16,'20-03'!A:B,2,0)),(VLOOKUP(A16,'20-03'!A:B,2,0)),0) -> 0 | G16: =IF(ISNUMBER(VLOOKUP(A16,'20-04'!A:B,2,0)),(VLOOKUP(A16,'20-04'!A:B,2,0)),0) -> 0 | H16: =IF(ISNUMBER(VLOOKUP(A16,'20-06'!A:B,2,0)),(VLOOKUP(A16,'20-06'!A:B,2,0)),0) -> 0 | I16: =IF(ISNUMBER(VLOOKUP(A16,'20-07'!A:B,2,0)),(VLOOKUP(A16,'20-07'!A:B,2,0)),0) -> 0 | J16: =IF(ISNUMBER(VLOOKUP(A16,'20-08'!A:B,2,0)),(VLOOKUP(A16,'20-08'!A:B,2,0)),0) -> 0 | K16: =SUM(D16:J16) -> 4 | L16: =IF(ISNUMBER(VLOOKUP(A16,'40'!A:B,2,0)),(VLOOKUP(A16,'40'!A:B,2,0)),0) -> 3 | M16: =IF(ISNUMBER(VLOOKUP(A16,'40-01'!A:B,2,0)),(VLOOKUP(A16,'40-01'!A:B,2,0)),0) -> 1 | N16: =IF(ISNUMBER(VLOOKUP(A16,'40-02'!A:B,2,0)),(VLOOKUP(A16,'40-02'!A:B,2,0)),0) -> 0 | O16: =IF(ISNUMBER(VLOOKUP(A16,'40-03'!A:B,2,0)),(VLOOKUP(A16,'40-03'!A:B,2,0)),0) -> 0 | P16: =IF(ISNUMBER(VLOOKUP(A16,'40-10'!A:B,2,0)),(VLOOKUP(A16,'40-10'!A:B,2,0)),0) -> 0 | Q16: =SUM(L16:P16) -> 4 | R16: =IF(ISNUMBER(VLOOKUP(A16,'80'!A:B,2,0)),(VLOOKUP(A16,'80'!A:B,2,0)),0) -> 2 | S16: =IF(ISNUMBER(VLOOKUP(A16,'80-01'!A:B,2,0)),(VLOOKUP(A16,'80-01'!A:B,2,0)),0) -> 0 | T16: =IF(ISNUMBER(VLOOKUP(A16,'80-02'!A:B,2,0)),(VLOOKUP(A16,'80-02'!A:B,2,0)),0) -> 0 | U16: =IF(ISNUMBER(VLOOKUP(A16,'80-10'!A:B,2,0)),(VLOOKUP(A16,'80-10'!A:B,2,0)),0) -> 0 | V16: =SUM(R16:U16) -> 2
A17: 10PL2G | C17: =IF(ISNUMBER(VLOOKUP($A17,'09'!$A:$B,2,0)),(VLOOKUP($A17,'09'!$A:$B,2,0)),0) -> 5 | D17: =IF(ISNUMBER(VLOOKUP(A17,'20'!A:B,2,0)),(VLOOKUP(A17,'20'!A:B,2,0)),0) -> 3 | E17: =IF(ISNUMBER(VLOOKUP(A17,'20-02'!A:B,2,0)),(VLOOKUP(A17,'20-02'!A:B,2,0)),0) -> 0 | F17: =IF(ISNUMBER(VLOOKUP(A17,'20-03'!A:B,2,0)),(VLOOKUP(A17,'20-03'!A:B,2,0)),0) -> 0 | G17: =IF(ISNUMBER(VLOOKUP(A17,'20-04'!A:B,2,0)),(VLOOKUP(A17,'20-04'!A:B,2,0)),0) -> 0 | H17: =IF(ISNUMBER(VLOOKUP(A17,'20-06'!A:B,2,0)),(VLOOKUP(A17,'20-06'!A:B,2,0)),0) -> 0 | I17: =IF(ISNUMBER(VLOOKUP(A17,'20-07'!A:B,2,0)),(VLOOKUP(A17,'20-07'!A:B,2,0)),0) -> 0 | J17: =IF(ISNUMBER(VLOOKUP(A17,'20-08'!A:B,2,0)),(VLOOKUP(A17,'20-08'!A:B,2,0)),0) -> 0 | K17: =SUM(D17:J17) -> 3 | L17: =IF(ISNUMBER(VLOOKUP(A17,'40'!A:B,2,0)),(VLOOKUP(A17,'40'!A:B,2,0)),0) -> 2 | M17: =IF(ISNUMBER(VLOOKUP(A17,'40-01'!A:B,2,0)),(VLOOKUP(A17,'40-01'!A:B,2,0)),0) -> 0 | N17: =IF(ISNUMBER(VLOOKUP(A17,'40-02'!A:B,2,0)),(VLOOKUP(A17,'40-02'!A:B,2,0)),0) -> 0 | O17: =IF(ISNUMBER(VLOOKUP(A17,'40-03'!A:B,2,0)),(VLOOKUP(A17,'40-03'!A:B,2,0)),0) -> 0 | P17: =IF(ISNUMBER(VLOOKUP(A17,'40-10'!A:B,2,0)),(VLOOKUP(A17,'40-10'!A:B,2,0)),0) -> 0 | Q17: =SUM(L17:P17) -> 2 | R17: =IF(ISNUMBER(VLOOKUP(A17,'80'!A:B,2,0)),(VLOOKUP(A17,'80'!A:B,2,0)),0) -> 1 | S17: =IF(ISNUMBER(VLOOKUP(A17,'80-01'!A:B,2,0)),(VLOOKUP(A17,'80-01'!A:B,2,0)),0) -> 0 | T17: =IF(ISNUMBER(VLOOKUP(A17,'80-02'!A:B,2,0)),(VLOOKUP(A17,'80-02'!A:B,2,0)),0) -> 0 | U17: =IF(ISNUMBER(VLOOKUP(A17,'80-10'!A:B,2,0)),(VLOOKUP(A17,'80-10'!A:B,2,0)),0) -> 0 | V17: =SUM(R17:U17) -> 1
... A61: 10M16DB | C61: =IF(ISNUMBER(VLOOKUP($A61,'09'!$A:$B,2,0)),(VLOOKUP($A61,'09'!$A:$B,2,0)),0) -> 3 | D61: =IF(ISNUMBER(VLOOKUP(A61,'20'!A:B,2,0)),(VLOOKUP(A61,'20'!A:B,2,0)),0) -> 0 | E61: =IF(ISNUMBER(VLOOKUP(A61,'20-02'!A:B,2,0)),(VLOOKUP(A61,'20-02'!A:B,2,0)),0) -> 0 | F61: =IF(ISNUMBER(VLOOKUP(A61,'20-03'!A:B,2,0)),(VLOOKUP(A61,'20-03'!A:B,2,0)),0) -> 0 | G61: =IF(ISNUMBER(VLOOKUP(A61,'20-04'!A:B,2,0)),(VLOOKUP(A61,'20-04'!A:B,2,0)),0) -> 0 | H61: =IF(ISNUMBER(VLOOKUP(A61,'20-06'!A:B,2,0)),(VLOOKUP(A61,'20-06'!A:B,2,0)),0) -> 0 | I61: =IF(ISNUMBER(VLOOKUP(A61,'20-07'!A:B,2,0)),(VLOOKUP(A61,'20-07'!A:B,2,0)),0) -> 0 | J61: =IF(ISNUMBER(VLOOKUP(A61,'20-08'!A:B,2,0)),(VLOOKUP(A61,'20-08'!A:B,2,0)),0) -> 0 | K61: =SUM(D61:J61) -> 0 | L61: =IF(ISNUMBER(VLOOKUP(A61,'40'!A:B,2,0)),(VLOOKUP(A61,'40'!A:B,2,0)),0) -> 0 | M61: =IF(ISNUMBER(VLOOKUP(A61,'40-01'!A:B,2,0)),(VLOOKUP(A61,'40-01'!A:B,2,0)),0) -> 0 | N61: =IF(ISNUMBER(VLOOKUP(A61,'40-02'!A:B,2,0)),(VLOOKUP(A61,'40-02'!A:B,2,0)),0) -> 0 | O61: =IF(ISNUMBER(VLOOKUP(A61,'40-03'!A:B,2,0)),(VLOOKUP(A61,'40-03'!A:B,2,0)),0) -> 0 | P61: =IF(ISNUMBER(VLOOKUP(A61,'40-10'!A:B,2,0)),(VLOOKUP(A61,'40-10'!A:B,2,0)),0) -> 0 | Q61: =SUM(L61:P61) -> 0 | R61: =IF(ISNUMBER(VLOOKUP(A61,'80'!A:B,2,0)),(VLOOKUP(A61,'80'!A:B,2,0)),0) -> 0 | S61: =IF(ISNUMBER(VLOOKUP(A61,'80-01'!A:B,2,0)),(VLOOKUP(A61,'80-01'!A:B,2,0)),0) -> 0 | T61: =IF(ISNUMBER(VLOOKUP(A61,'80-02'!A:B,2,0)),(VLOOKUP(A61,'80-02'!A:B,2,0)),0) -> 0 | U61: =IF(ISNUMBER(VLOOKUP(A61,'80-10'!A:B,2,0)),(VLOOKUP(A61,'80-10'!A:B,2,0)),0) -> 0 | V61: =SUM(R61:U61) -> 0
A62: TOTAL | B62: =SUM(B5:B61) -> 0 | C62: =SUM(C5:C61) -> 2305 | D62: =SUM(D5:D61) -> 1017 | E62: =SUM(E5:E61) -> 143 | F62: =SUM(F5:F61) -> 215 | G62: =SUM(G5:G61) -> 187 | H62: =SUM(H5:H61) -> 128 | I62: =SUM(I5:I61) -> 124 | ... V62: =SUM(V5:V61) -> 603
A64: 00H2OC6 | B64: 30 | C64: =IF(ISNUMBER(VLOOKUP($A64,'09'!$A:$B,2,0)),(VLOOKUP($A64,'09'!$A:$B,2,0)),0) -> 0 | D64: =IF(ISNUMBER(VLOOKUP(A64,'20'!A:B,2,0)),(VLOOKUP(A64,'20'!A:B,2,0)),0) -> 0 | E64: =IF(ISNUMBER(VLOOKUP(A64,'20-02'!A:B,2,0)),(VLOOKUP(A64,'20-02'!A:B,2,0)),0) -> 0 | F64: =IF(ISNUMBER(VLOOKUP(A64,'20-03'!A:B,2,0)),(VLOOKUP(A64,'20-03'!A:B,2,0)),0) -> 0 | G64: =IF(ISNUMBER(VLOOKUP(A64,'20-04'!A:B,2,0)),(VLOOKUP(A64,'20-04'!A:B,2,0)),0) -> 0 | H64: =IF(ISNUMBER(VLOOKUP(A64,'20-06'!A:B,2,0)),(VLOOKUP(A64,'20-06'!A:B,2,0)),0) -> 0 | I64: =IF(ISNUMBER(VLOOKUP(A64,'20-07'!A:B,2,0)),(VLOOKUP(A64,'20-07'!A:B,2,0)),0) -> 0 | J64: =IF(ISNUMBER(VLOOKUP(A64,'20-08'!A:B,2,0)),(VLOOKUP(A64,'20-08'!A:B,2,0)),0) -> 0 | K64: =SUM(D64:J64) -> 0 | L64: =IF(ISNUMBER(VLOOKUP(A64,'40'!A:B,2,0)),(VLOOKUP(A64,'40'!A:B,2,0)),0) -> 0 | M64: =IF(ISNUMBER(VLOOKUP(A64,'40-01'!A:B,2,0)),(VLOOKUP(A64,'40-01'!A:B,2,0)),0) -> 0 | N64: =IF(ISNUMBER(VLOOKUP(A64,'40-02'!A:B,2,0)),(VLOOKUP(A64,'40-02'!A:B,2,0)),0) -> 0 | O64: =IF(ISNUMBER(VLOOKUP(A64,'40-03'!A:B,2,0)),(VLOOKUP(A64,'40-03'!A:B,2,0)),0) -> 0 | P64: =IF(ISNUMBER(VLOOKUP(A64,'40-10'!A:B,2,0)),(VLOOKUP(A64,'40-10'!A:B,2,0)),0) -> 0 | Q64: =SUM(L64:P64) -> 0 | R64: =IF(ISNUMBER(VLOOKUP(A64,'80'!A:B,2,0)),(VLOOKUP(A64,'80'!A:B,2,0)),0) -> 0 | S64: =IF(ISNUMBER(VLOOKUP(A64,'80-01'!A:B,2,0)),(VLOOKUP(A64,'80-01'!A:B,2,0)),0) -> 0 | T64: =IF(ISNUMBER(VLOOKUP(A64,'80-02'!A:B,2,0)),(VLOOKUP(A64,'80-02'!A:B,2,0)),0) -> 0 | U64: =IF(ISNUMBER(VLOOKUP(A64,'80-10'!A:B,2,0)),(VLOOKUP(A64,'80-10'!A:B,2,0)),0) -> 0 | V64: =SUM(R64:U64) -> 0

Sheet 20-08
A1: ld_part | B1: sum(ld_qty_oh)

Sheet 20-07
A1: ld_part | B1: sum(ld_qty_oh)
A2: 10D23 | B2: 0
A3: 10D26 | B3: 0
A4: 10D26D | B4: 0
A5: 10D31 | B5: 0
A6: 10D31D | B6: 0
A7: 10M14 | B7: 0
A8: 10M15 | B8: 0
A9: 10M15S | B9: 0
A10: 10M16 | B10: 0
A11: 10MAR200 | B11: 0
A12: 10NS40 | B12: 4
A13: 10NS40G | B13: 0
... A41: 10S6 | B41: 0

Sheet 20-06
A1: ld_part | B1: sum(ld_qty_oh)
A2: 10D23 | B2: 0
A3: 10D26 | B3: 1
A4: 10D26D | B4: 1
A5: 10D31 | B5: 1
A6: 10D31D | B6: 1
A7: 10HD10 | B7: 0
A8: 10HD11 | B8: 0
A9: 10HD2 | B9: 0
A10: 10HD3 | B10: 0
A11: 10M14 | B11: 2
A12: 10M15 | B12: 5
A13: 10M15S | B13: 0
... A46: 10S6 | B46: 0

Sheet 20-04
A1: ld_part | B1: sum(ld_qty_oh)
A2: 10D23 | B2: 1
A3: 10D26 | B3: 2
A4: 10D26D | B4: 1
A5: 10D31 | B5: 0
A6: 10D31D | B6: 0
A7: 10HD10 | B7: 0
A8: 10HD11 | B8: 0
A9: 10HD2 | B9: 0
A10: 10HD3 | B10: 0
A11: 10M14 | B11: 2
A12: 10M15 | B12: 2
A13: 10M15S | B13: 2
... A47: 10S6 | B47: 0

Sheet 20-03
A1: ld_part | B1: sum(ld_qty_oh)
A2: 10D23 | B2: 0
A3: 10D26 | B3: 2
A4: 10D26D | B4: 2
A5: 10D31 | B5: 2
A6: 10D31D | B6: 1
A7: 10HD2 | B7: 0
A8: 10HD3 | B8: 0
A9: 10M14 | B9: 2
A10: 10M15 | B10: 38
A11: 10M15S | B11: 0
A12: 10M16 | B12: 0
A13: 10M16DB | B13: 0
... A45: 10S6 | B45: 0

Sheet 20-02
A1: ld_part | B1: sum(ld_qty_oh)
A2: 10D23 | B2: 0
A3: 10D26 | B3: 3
A4: 10D26D | B4: 0
A5: 10D31 | B5: 1
A6: 10D31D | B6: 0
A7: 10M14 | B7: 0
A8: 10M15 | B8: 0
A9: 10M15S | B9: 0
A10: 10M16 | B10: 1
A11: 10NS40 | B11: 4
A12: 10NS40G | B12: 0
A13: 10NS60 | B13: 0
... A42: 10S6 | B42: 0

Sheet 20
A1: ld_part | B1: sum(ld_qty_oh)
A2: 10D23 | B2: 4
A3: 10D26 | B3: 4
A4: 10D26D | B4: 1
A5: 10D31 | B5: 9
A6: 10D31D | B6: 10
A7: 10HD10 | B7: 0
A8: 10HD11 | B8: 0
A9: 10HD2 | B9: 4
A10: 10HD3 | B10: 5
A11: 10M14 | B11: 17
A12: 10M15 | B12: 25
A13: 10M15S | B13: 10
... A49: 10S6 | B49: 2

Sheet 40-10
A1: ld_part | B1: sum(ld_qty_oh)

Sheet 40-03
A1: ld_part | B1: sum(ld_qty_oh)
A2: 10D26 | B2: 0
A3: 10M14 | B3: 0
A4: 10M15 | B4: 0
A5: 10M15S | B5: 0
A6: 10NS40 | B6: 0
A7: 10PL1 | B7: 0
A8: 10PL2 | B8: 0
A9: 10PL3 | B9: 0
A10: 10PL5 | B10: 0
A11: 10PM10 | B11: 0
A12: 10PM11 | B12: 0
A13: 10PM12 | B13: 0
... A25: 10S5 | B25: 0

Sheet 40-02
A1: ld_part | B1: sum(ld_qty_oh)
A2: 10D23 | B2: 0
A3: 10D26 | B3: 2
A4: 10D26D | B4: 0
A5: 10D31 | B5: 3
A6: 10D31D | B6: 1
A7: 10HD10 | B7: 0
A8: 10HD11 | B8: 0
A9: 10M14 | B9: 0
A10: 10M15 | B10: 4
A11: 10M15S | B11: 2
A12: 10MAR200 | B12: 0
A13: 10NS40 | B13: 3
... A42: 10S5 | B42: 5

Sheet 40-01
A1: ld_part | B1: sum(ld_qty_oh)
A2: 10D23 | B2: 1
A3: 10D26 | B3: 1
A4: 10D26D | B4: 0
A5: 10D31 | B5: 1
A6: 10D31D | B6: 0
A7: 10HD10 | B7: 7
A8: 10HD11 | B8: 1
A9: 10HD3 | B9: 0
A10: 10M14 | B10: 2
A11: 10M15 | B11: 7
A12: 10M15S | B12: 2
A13: 10M16 | B13: 0
... A44: 10S5 | B44: 0

Sheet 40
A1: ld_part | B1: sum(ld_qty_oh)
A2: 10D23 | B2: 1
A3: 10D26 | B3: 13
A4: 10D26D | B4: 4
A5: 10D31 | B5: 10
A6: 10D31D | B6: 4
A7: 10HD10 | B7: 16
A8: 10HD11 | B8: 5
A9: 10HD2 | B9: 1
A10: 10HD3 | B10: 3
A11: 10M14 | B11: 30
A12: 10M15 | B12: 46
A13: 10M15S | B13: 25
... A49: 10S6 | B49: 1

Sheet 80-10
A1: ld_part | B1: sum(ld_qty_oh)

Sheet 80-02
A1: ld_part | B1: sum(ld_qty_oh)
A2: 10D23 | B2: 0
A3: 10D26 | B3: 5
A4: 10D26D | B4: 1
A5: 10D31 | B5: 3
A6: 10D31D | B6: 1
A7: 10HD10 | B7: 1
A8: 10HD11 | B8: 0
A9: 10HD3 | B9: 0
A10: 10M14 | B10: 2
A11: 10M15 | B11: 0
A12: 10M15S | B12: 0
A13: 10M16 | B13: 0
... A42: 10S5 | B42: 4

Sheet 80-01
A1: ld_part | B1: sum(ld_qty_oh)
A2: 10D23 | B2: 0
A3: 10D26 | B3: 0
A4: 10D26D | B4: 0
A5: 10D31 | B5: 1
A6: 10D31D | B6: 2
A7: 10HD10 | B7: 1
A8: 10HD11 | B8: 0
A9: 10HD3 | B9: 1
A10: 10M14 | B10: 3
A11: 10M15 | B11: 10
A12: 10M15S | B12: 0
A13: 10M16 | B13: 8
... A41: 10S5 | B41: 2

Sheet 80
A1: ld_part | B1: sum(ld_qty_oh)
A2: 10D23 | B2: 2
A3: 10D26 | B3: 0
A4: 10D26D | B4: 1
A5: 10D31 | B5: 6
A6: 10D31D | B6: 1
A7: 10HD10 | B7: 5
A8: 10HD11 | B8: 4
A9: 10HD3 | B9: 6
A10: 10M14 | B10: 30
A11: 10M15 | B11: 1
A12: 10M15S | B12: 4
A13: 10M16 | B13: 0
... A44: 10S6 | B44: 1

Sheet 09
A1: ld_part | B1: sum(ld_qty_oh)
A2: 00-CAISSON | B2: 0
A3: 106N11 | B3: 4
A4: 10D23 | B4: 0
A5: 10D26 | B5: 0
A6: 10D26D | B6: 3
A7: 10D31 | B7: 19
A8: 10D31D | B8: 29
A9: 10HD10 | B9: 0
A10: 10HD11 | B10: 8
A11: 10HD2 | B11: 0
A12: 10HD3 | B12: 14
A13: 10M14 | B13: 60
... A56: 15-5EPZS600 | B56: 0
