Workbook
Name Lancer_la_requête_à_partir_de_MFGPROD: '40-01'!$A$1:$B$43
Name Lancer_la_requête_à_partir_de_MFGPROD: '40-02'!$A$1:$B$40
Name Lancer_la_requête_à_partir_de_MFGPROD: '40-03'!$A$1:$B$20
Name Lancer_la_requête_à_partir_de_MFGPROD: '40-10'!$A$1:$B$3
Name Lancer_la_requête_à_partir_de_MFGPROD_1: '80'!$A$1:$B$43
Name Lancer_la_requête_à_partir_de_MFGPROD_1: '80-01'!$A$1:$B$38
Name Lancer_la_requête_à_partir_de_MFGPROD_1: '80-02'!$A$1:$B$41
Name Lancer_la_requête_à_partir_de_MFGPROD_1: '80-10'!$A$1:$B$3
Name Lancer_la_requête_à_partir_de_SND: SECHE!$A$1:$B$27
Name STOCK_SND: 'site 09'!$A$1:$B$55

Sheet RECAP
G1: STOCK PRODUITS FINIS SND | W1: Cde: MARS 2020
A2: Article | B2: Stck min | C2: Stock Exped | D2: Stock Sèches | E2: MEGRINE | F2: Cde Megrine | G2: SFAX | H2: Cde Sfax | I2: SOUSSE | J2: Cde Sousse | K2: GABES | L2: Cde Gabes | M2: GAFSA | N2: Cde Gafsa | O2: Gafsa STA | P2: JENDOUBA | Q2: Cde jend | R2: TOTAL | S2: Vte Batt | T2: Vte/S | U2: Stk min | V2: Cde | W2: S10 | X2: S11 | Y2: S12 | Z2: S13 | AA2: TOTAL | AB2: Appro au 27/02/20 | AC2: Cde 02/2020 | AF2: Stk exped après liv | AG2: Besoin | AH2: Palette
A3: 10MAR10 | C3: =IF(ISNUMBER(VLOOKUP(A3,'site 09'!A:B,2,0)),(VLOOKUP(A3,'site 09'!A:B,2,0)),0) -> 0 | E3: =IF(ISNUMBER(VLOOKUP(A3,'site 20'!A:B,2,0)),(VLOOKUP(A3,'site 20'!A:B,2,0)),0) -> 0 | G3: =IF(ISNUMBER(VLOOKUP(A3,Sfax!A:B,2,0)),(VLOOKUP(A3,Sfax!A:B,2,0)),0) -> 0 | I3: =IF(ISNUMBER(VLOOKUP(A3,Sousse!A:B,2,0)),(VLOOKUP(A3,Sousse!A:B,2,0)),0) -> 0 | K3: =IF(ISNUMBER(VLOOKUP(A3,Gabes!A:B,2,0)),(VLOOKUP(A3,Gabes!A:B,2,0)),0) -> 0 | M3: =IF(ISNUMBER(VLOOKUP(A3,GAFSA!A:B,2,0)),(VLOOKUP(A3,GAFSA!A:B,2,0)),0) -> 0 | P3: =IF(ISNUMBER(VLOOKUP(A3,Jendouba!A:B,2,0)),(VLOOKUP(A3,Jendouba!A:B,2,0)),0) -> 0 | R3: =P3+M3+K3+I3+G3+E3+C3 -> 0 | U3: =B3 -> 0 | AF3: =C3-F3-H3-J3-L3-N3-Q3 -> 0
A4: 10MAR11 | C4: =IF(ISNUMBER(VLOOKUP(A4,'site 09'!A:B,2,0)),(VLOOKUP(A4,'site 09'!A:B,2,0)),0) -> 0 | E4: =IF(ISNUMBER(VLOOKUP(A4,'site 20'!A:B,2,0)),(VLOOKUP(A4,'site 20'!A:B,2,0)),0) -> 0 | G4: =IF(ISNUMBER(VLOOKUP(A4,Sfax!A:B,2,0)),(VLOOKUP(A4,Sfax!A:B,2,0)),0) -> 0 | I4: =IF(ISNUMBER(VLOOKUP(A4,Sousse!A:B,2,0)),(VLOOKUP(A4,Sousse!A:B,2,0)),0) -> 0 | K4: =IF(ISNUMBER(VLOOKUP(A4,Gabes!A:B,2,0)),(VLOOKUP(A4,Gabes!A:B,2,0)),0) -> 0 | M4: =IF(ISNUMBER(VLOOKUP(A4,GAFSA!A:B,2,0)),(VLOOKUP(A4,GAFSA!A:B,2,0)),0) -> 0 | P4: =IF(ISNUMBER(VLOOKUP(A4,Jendouba!A:B,2,0)),(VLOOKUP(A4,Jendouba!A:B,2,0)),0) -> 0 | R4: =P4+M4+K4+I4+G4+E4+C4 -> 0 | U4: =B4 -> 0 | AF4: =C4-F4-H4-J4-L4-N4-Q4 -> 0
A5: 10MAR14 | C5: =IF(ISNUMBER(VLOOKUP(A5,'site 09'!A:B,2,0)),(VLOOKUP(A5,'site 09'!A:B,2,0)),0) -> 0 | D5: =IF(ISNUMBER(VLOOKUP(A5,SECHE!A:B,2,0)),(VLOOKUP(A5,SECHE!A:B,2,0)),0) -> 0 | E5: =IF(ISNUMBER(VLOOKUP(A5,'site 20'!A:B,2,0)),(VLOOKUP(A5,'site 20'!A:B,2,0)),0) -> 0 | G5: =IF(ISNUMBER(VLOOKUP(A5,Sfax!A:B,2,0)),(VLOOKUP(A5,Sfax!A:B,2,0)),0) -> 0 | I5: =IF(ISNUMBER(VLOOKUP(A5,Sousse!A:B,2,0)),(VLOOKUP(A5,Sousse!A:B,2,0)),0) -> 0 | K5: =IF(ISNUMBER(VLOOKUP(A5,Gabes!A:B,2,0)),(VLOOKUP(A5,Gabes!A:B,2,0)),0) -> 0 | M5: =IF(ISNUMBER(VLOOKUP(A5,GAFSA!A:B,2,0)),(VLOOKUP(A5,GAFSA!A:B,2,0)),0) -> 0 | P5: =IF(ISNUMBER(VLOOKUP(A5,Jendouba!A:B,2,0)),(VLOOKUP(A5,Jendouba!A:B,2,0)),0) -> 0 | R5: =P5+M5+K5+I5+G5+E5+C5 -> 0 | U5: =B5 -> 0 | AF5: =C5-F5-H5-J5-L5-N5-Q5 -> 0
A6: 10MAR200 | B6: 25 | C6: =IF(ISNUMBER(VLOOKUP(A6,'site 09'!A:B,2,0)),(VLOOKUP(A6,'site 09'!A:B,2,0)),0) -> 25 | D6: =IF(ISNUMBER(VLOOKUP(A6,SECHE!A:B,2,0)),(VLOOKUP(A6,SECHE!A:B,2,0)),0) -> 0 | E6: =IF(ISNUMBER(VLOOKUP(A6,'site 20'!A:B,2,0)),(VLOOKUP(A6,'site 20'!A:B,2,0)),0) -> 0 | G6: =IF(ISNUMBER(VLOOKUP(A6,Sfax!A:B,2,0)),(VLOOKUP(A6,Sfax!A:B,2,0)),0) -> 18 | I6: =IF(ISNUMBER(VLOOKUP(A6,Sousse!A:B,2,0)),(VLOOKUP(A6,Sousse!A:B,2,0)),0) -> 5 | K6: =IF(ISNUMBER(VLOOKUP(A6,Gabes!A:B,2,0)),(VLOOKUP(A6,Gabes!A:B,2,0)),0) -> 3 | M6: =IF(ISNUMBER(VLOOKUP(A6,GAFSA!A:B,2,0)),(VLOOKUP(A6,GAFSA!A:B,2,0)),0) -> 0 | P6: =IF(ISNUMBER(VLOOKUP(A6,Jendouba!A:B,2,0)),(VLOOKUP(A6,Jendouba!A:B,2,0)),0) -> 0 | R6: =P6+M6+K6+I6+G6+E6+C6 -> 51 | S6: 70 | T6: =S6/4 -> 17.5 | U6: =B6 -> 25 | V6: =+S6+U6-C6 -> 70 | W6: 48 | Y6: 48 | AA6: =SUM(W6:Z6) -> 96 | AB6: 8 | AC6: =AA6 -> 96 | AD6: =AB6-AC6 -> -88 | AE6: =AD6/AC6 -> -0.91666667 | AF6: =C6-F6-H6-J6-L6-N6-Q6-O6 -> 25
A7: 10N260 | C7: =IF(ISNUMBER(VLOOKUP(A7,'site 09'!A:B,2,0)),(VLOOKUP(A7,'site 09'!A:B,2,0)),0) -> 0 | D7: =IF(ISNUMBER(VLOOKUP(A7,SECHE!A:B,2,0)),(VLOOKUP(A7,SECHE!A:B,2,0)),0) -> 0 | E7: =IF(ISNUMBER(VLOOKUP(A7,'site 20'!A:B,2,0)),(VLOOKUP(A7,'site 20'!A:B,2,0)),0) -> 0 | G7: =IF(ISNUMBER(VLOOKUP(A7,Sfax!A:B,2,0)),(VLOOKUP(A7,Sfax!A:B,2,0)),0) -> 0 | I7: =IF(ISNUMBER(VLOOKUP(A7,Sousse!A:B,2,0)),(VLOOKUP(A7,Sousse!A:B,2,0)),0) -> 0 | K7: =IF(ISNUMBER(VLOOKUP(A7,Gabes!A:B,2,0)),(VLOOKUP(A7,Gabes!A:B,2,0)),0) -> 0 | M7: =IF(ISNUMBER(VLOOKUP(A7,GAFSA!A:B,2,0)),(VLOOKUP(A7,GAFSA!A:B,2,0)),0) -> 0 | P7: =IF(ISNUMBER(VLOOKUP(A7,Jendouba!A:B,2,0)),(VLOOKUP(A7,Jendouba!A:B,2,0)),0) -> 0 | R7: =P7+M7+K7+I7+G7+E7+C7 -> 0 | T7: =S7/4 -> 0 | U7: =B7 -> 0 | V7: =+S7+U7-C7 -> 0 | AA7: =SUM(W7:Z7) -> 0 | AC7: 0 | AF7: =C7-F7-H7-J7-L7-N7-Q7-O7 -> 0
A8: 10N350 | C8: =IF(ISNUMBER(VLOOKUP(A8,'site 09'!A:B,2,0)),(VLOOKUP(A8,'site 09'!A:B,2,0)),0) -> 0 | D8: =IF(ISNUMBER(VLOOKUP(A8,SECHE!A:B,2,0)),(VLOOKUP(A8,SECHE!A:B,2,0)),0) -> 0 | E8: =IF(ISNUMBER(VLOOKUP(A8,'site 20'!A:B,2,0)),(VLOOKUP(A8,'site 20'!A:B,2,0)),0) -> 0 | G8: =IF(ISNUMBER(VLOOKUP(A8,Sfax!A:B,2,0)),(VLOOKUP(A8,Sfax!A:B,2,0)),0) -> 0 | I8: =IF(ISNUMBER(VLOOKUP(A8,Sousse!A:B,2,0)),(VLOOKUP(A8,Sousse!A:B,2,0)),0) -> 0 | K8: =IF(ISNUMBER(VLOOKUP(A8,Gabes!A:B,2,0)),(VLOOKUP(A8,Gabes!A:B,2,0)),0) -> 0 | M8: =IF(ISNUMBER(VLOOKUP(A8,GAFSA!A:B,2,0)),(VLOOKUP(A8,GAFSA!A:B,2,0)),0) -> 0 | P8: =IF(ISNUMBER(VLOOKUP(A8,Jendouba!A:B,2,0)),(VLOOKUP(A8,Jendouba!A:B,2,0)),0) -> 0 | R8: =P8+M8+K8+I8+G8+E8+C8 -> 0 | T8: =S8/4 -> 0 | U8: =B8 -> 0 | V8: =+S8+U8-C8 -> 0 | AA8: =SUM(W8:Z8) -> 0 | AC8: 0 | AF8: =C8-F8-H8-J8-L8-N8-Q8-O8 -> 0
A9: 10N380 | C9: =IF(ISNUMBER(VLOOKUP(A9,'site 09'!A:B,2,0)),(VLOOKUP(A9,'site 09'!A:B,2,0)),0) -> 0 | D9: =IF(ISNUMBER(VLOOKUP(A9,SECHE!A:B,2,0)),(VLOOKUP(A9,SECHE!A:B,2,0)),0) -> 0 | E9: =IF(ISNUMBER(VLOOKUP(A9,'site 20'!A:B,2,0)),(VLOOKUP(A9,'site 20'!A:B,2,0)),0) -> 0 | G9: =IF(ISNUMBER(VLOOKUP(A9,Sfax!A:B,2,0)),(VLOOKUP(A9,Sfax!A:B,2,0)),0) -> 0 | I9: =IF(ISNUMBER(VLOOKUP(A9,Sousse!A:B,2,0)),(VLOOKUP(A9,Sousse!A:B,2,0)),0) -> 0 | K9: =IF(ISNUMBER(VLOOKUP(A9,Gabes!A:B,2,0)),(VLOOKUP(A9,Gabes!A:B,2,0)),0) -> 0 | M9: =IF(ISNUMBER(VLOOKUP(A9,GAFSA!A:B,2,0)),(VLOOKUP(A9,GAFSA!A:B,2,0)),0) -> 0 | P9: =IF(ISNUMBER(VLOOKUP(A9,Jendouba!A:B,2,0)),(VLOOKUP(A9,Jendouba!A:B,2,0)),0) -> 0 | R9: =P9+M9+K9+I9+G9+E9+C9 -> 0 | T9: =S9/4 -> 0 | U9: =B9 -> 0 | V9: =+S9+U9-C9 -> 0 | AA9: =SUM(W9:Z9) -> 0 | AC9: 0 | AF9: =C9-F9-H9-J9-L9-N9-Q9-O9 -> 0
A10: 10N400 | C10: =IF(ISNUMBER(VLOOKUP(A10,'site 09'!A:B,2,0)),(VLOOKUP(A10,'site 09'!A:B,2,0)),0) -> 0 | D10: =IF(ISNUMBER(VLOOKUP(A10,SECHE!A:B,2,0)),(VLOOKUP(A10,SECHE!A:B,2,0)),0) -> 0 | E10: =IF(ISNUMBER(VLOOKUP(A10,'site 20'!A:B,2,0)),(VLOOKUP(A10,'site 20'!A:B,2,0)),0) -> 0 | G10: =IF(ISNUMBER(VLOOKUP(A10,Sfax!A:B,2,0)),(VLOOKUP(A10,Sfax!A:B,2,0)),0) -> 0 | I10: =IF(ISNUMBER(VLOOKUP(A10,Sousse!A:B,2,0)),(VLOOKUP(A10,Sousse!A:B,2,0)),0) -> 0 | K10: =IF(ISNUMBER(VLOOKUP(A10,Gabes!A:B,2,0)),(VLOOKUP(A10,Gabes!A:B,2,0)),0) -> 0 | M10: =IF(ISNUMBER(VLOOKUP(A10,GAFSA!A:B,2,0)),(VLOOKUP(A10,GAFSA!A:B,2,0)),0) -> 0 | P10: =IF(ISNUMBER(VLOOKUP(A10,Jendouba!A:B,2,0)),(VLOOKUP(A10,Jendouba!A:B,2,0)),0) -> 0 | R10: =P10+M10+K10+I10+G10+E10+C10 -> 0 | T10: =S10/4 -> 0 | U10: =B10 -> 0 | V10: =+S10+U10-C10 -> 0 | AA10: =SUM(W10:Z10) -> 0 | AC10: 0 | AF10: =C10-F10-H10-J10-L10-N10-Q10-O10 -> 0
A11: 10N430 | C11: =IF(ISNUMBER(VLOOKUP(A11,'site 09'!A:B,2,0)),(VLOOKUP(A11,'site 09'!A:B,2,0)),0) -> 0 | D11: =IF(ISNUMBER(VLOOKUP(A11,SECHE!A:B,2,0)),(VLOOKUP(A11,SECHE!A:B,2,0)),0) -> 0 | E11: =IF(ISNUMBER(VLOOKUP(A11,'site 20'!A:B,2,0)),(VLOOKUP(A11,'site 20'!A:B,2,0)),0) -> 0 | G11: =IF(ISNUMBER(VLOOKUP(A11,Sfax!A:B,2,0)),(VLOOKUP(A11,Sfax!A:B,2,0)),0) -> 0 | I11: =IF(ISNUMBER(VLOOKUP(A11,Sousse!A:B,2,0)),(VLOOKUP(A11,Sousse!A:B,2,0)),0) -> 0 | K11: =IF(ISNUMBER(VLOOKUP(A11,Gabes!A:B,2,0)),(VLOOKUP(A11,Gabes!A:B,2,0)),0) -> 0 | M11: =IF(ISNUMBER(VLOOKUP(A11,GAFSA!A:B,2,0)),(VLOOKUP(A11,GAFSA!A:B,2,0)),0) -> 0 | P11: =IF(ISNUMBER(VLOOKUP(A11,Jendouba!A:B,2,0)),(VLOOKUP(A11,Jendouba!A:B,2,0)),0) -> 0 | R11: =P11+M11+K11+I11+G11+E11+C11 -> 0 | T11: =S11/4 -> 0 | U11: =B11 -> 0 | V11: =+S11+U11-C11 -> 0 | AA11: =SUM(W11:Z11) -> 0 | AC11: 0 | AF11: =C11-F11-H11-J11-L11-N11-Q11-O11 -> 0
A12: 10N430D | C12: =IF(ISNUMBER(VLOOKUP(A12,'site 09'!A:B,2,0)),(VLOOKUP(A12,'site 09'!A:B,2,0)),0) -> 0 | D12: =IF(ISNUMBER(VLOOKUP(A12,SECHE!A:B,2,0)),(VLOOKUP(A12,SECHE!A:B,2,0)),0) -> 0 | E12: =IF(ISNUMBER(VLOOKUP(A12,'site 20'!A:B,2,0)),(VLOOKUP(A12,'site 20'!A:B,2,0)),0) -> 0 | G12: =IF(ISNUMBER(VLOOKUP(A12,Sfax!A:B,2,0)),(VLOOKUP(A12,Sfax!A:B,2,0)),0) -> 0 | I12: =IF(ISNUMBER(VLOOKUP(A12,Sousse!A:B,2,0)),(VLOOKUP(A12,Sousse!A:B,2,0)),0) -> 0 | K12: =IF(ISNUMBER(VLOOKUP(A12,Gabes!A:B,2,0)),(VLOOKUP(A12,Gabes!A:B,2,0)),0) -> 0 | M12: =IF(ISNUMBER(VLOOKUP(A12,GAFSA!A:B,2,0)),(VLOOKUP(A12,GAFSA!A:B,2,0)),0) -> 0 | P12: =IF(ISNUMBER(VLOOKUP(A12,Jendouba!A:B,2,0)),(VLOOKUP(A12,Jendouba!A:B,2,0)),0) -> 0 | R12: =P12+M12+K12+I12+G12+E12+C12 -> 0 | T12: =S12/4 -> 0 | U12: =B12 -> 0 | V12: =+S12+U12-C12 -> 0 | AA12: =SUM(W12:Z12) -> 0 | AC12: 0 | AF12: =C12-F12-H12-J12-L12-N12-Q12-O12 -> 0
A13: 10N500 | C13: =IF(ISNUMBER(VLOOKUP(A13,'site 09'!A:B,2,0)),(VLOOKUP(A13,'site 09'!A:B,2,0)),0) -> 0 | D13: =IF(ISNUMBER(VLOOKUP(A13,SECHE!A:B,2,0)),(VLOOKUP(A13,SECHE!A:B,2,0)),0) -> 0 | E13: =IF(ISNUMBER(VLOOKUP(A13,'site 20'!A:B,2,0)),(VLOOKUP(A13,'site 20'!A:B,2,0)),0) -> 0 | G13: =IF(ISNUMBER(VLOOKUP(A13,Sfax!A:B,2,0)),(VLOOKUP(A13,Sfax!A:B,2,0)),0) -> 0 | I13: =IF(ISNUMBER(VLOOKUP(A13,Sousse!A:B,2,0)),(VLOOKUP(A13,Sousse!A:B,2,0)),0) -> 0 | K13: =IF(ISNUMBER(VLOOKUP(A13,Gabes!A:B,2,0)),(VLOOKUP(A13,Gabes!A:B,2,0)),0) -> 0 | M13: =IF(ISNUMBER(VLOOKUP(A13,GAFSA!A:B,2,0)),(VLOOKUP(A13,GAFSA!A:B,2,0)),0) -> 0 | P13: =IF(ISNUMBER(VLOOKUP(A13,Jendouba!A:B,2,0)),(VLOOKUP(A13,Jendouba!A:B,2,0)),0) -> 0 | R13: =P13+M13+K13+I13+G13+E13+C13 -> 0 | T13: =S13/4 -> 0 | U13: =B13 -> 0 | V13: =+S13+U13-C13 -> 0 | AA13: =SUM(W13:Z13) -> 0 | AC13: 0 | AF13: =C13-F13-H13-J13-L13-N13-Q13-O13 -> 0
A14: 10PE1 | C14: =IF(ISNUMBER(VLOOKUP(A14,'site 09'!A:B,2,0)),(VLOOKUP(A14,'site 09'!A:B,2,0)),0) -> 0 | D14: =IF(ISNUMBER(VLOOKUP(A14,SECHE!A:B,2,0)),(VLOOKUP(A14,SECHE!A:B,2,0)),0) -> 0 | E14: =IF(ISNUMBER(VLOOKUP(A14,'site 20'!A:B,2,0)),(VLOOKUP(A14,'site 20'!A:B,2,0)),0) -> 0 | G14: =IF(ISNUMBER(VLOOKUP(A14,Sfax!A:B,2,0)),(VLOOKUP(A14,Sfax!A:B,2,0)),0) -> 0 | I14: =IF(ISNUMBER(VLOOKUP(A14,Sousse!A:B,2,0)),(VLOOKUP(A14,Sousse!A:B,2,0)),0) -> 0 | K14: =IF(ISNUMBER(VLOOKUP(A14,Gabes!A:B,2,0)),(VLOOKUP(A14,Gabes!A:B,2,0)),0) -> 0 | M14: =IF(ISNUMBER(VLOOKUP(A14,GAFSA!A:B,2,0)),(VLOOKUP(A14,GAFSA!A:B,2,0)),0) -> 0 | P14: =IF(ISNUMBER(VLOOKUP(A14,Jendouba!A:B,2,0)),(VLOOKUP(A14,Jendouba!A:B,2,0)),0) -> 0 | R14: =P14+M14+K14+I14+G14+E14+C14 -> 0 | T14: =S14/4 -> 0 | U14: =B14 -> 0 | V14: =+S14+U14-C14 -> 0 | AA14: =SUM(W14:Z14) -> 0 | AC14: 0 | AF14: =C14-F14-H14-J14-L14-N14-Q14-O14 -> 0
A15: 10PE2 | C15: =IF(ISNUMBER(VLOOKUP(A15,'site 09'!A:B,2,0)),(VLOOKUP(A15,'site 09'!A:B,2,0)),0) -> 0 | D15: =IF(ISNUMBER(VLOOKUP(A15,SECHE!A:B,2,0)),(VLOOKUP(A15,SECHE!A:B,2,0)),0) -> 0 | E15: =IF(ISNUMBER(VLOOKUP(A15,'site 20'!A:B,2,0)),(VLOOKUP(A15,'site 20'!A:B,2,0)),0) -> 0 | G15: =IF(ISNUMBER(VLOOKUP(A15,Sfax!A:B,2,0)),(VLOOKUP(A15,Sfax!A:B,2,0)),0) -> 0 | I15: =IF(ISNUMBER(VLOOKUP(A15,Sousse!A:B,2,0)),(VLOOKUP(A15,Sousse!A:B,2,0)),0) -> 0 | K15: =IF(ISNUMBER(VLOOKUP(A15,Gabes!A:B,2,0)),(VLOOKUP(A15,Gabes!A:B,2,0)),0) -> 0 | M15: =IF(ISNUMBER(VLOOKUP(A15,GAFSA!A:B,2,0)),(VLOOKUP(A15,GAFSA!A:B,2,0)),0) -> 0 | P15: =IF(ISNUMBER(VLOOKUP(A15,Jendouba!A:B,2,0)),(VLOOKUP(A15,Jendouba!A:B,2,0)),0) -> 0 | R15: =P15+M15+K15+I15+G15+E15+C15 -> 0 | T15: =S15/4 -> 0 | U15: =B15 -> 0 | V15: =+S15+U15-C15 -> 0 | AA15: =SUM(W15:Z15) -> 0 | AC15: 0 | AF15: =C15-F15-H15-J15-L15-N15-Q15-O15 -> 0
A16: 10PE2B | B16: 20 | C16: =IF(ISNUMBER(VLOOKUP(A16,'site 09'!A:B,2,0)),(VLOOKUP(A16,'site 09'!A:B,2,0)),0) -> 2 | D16: =IF(ISNUMBER(VLOOKUP(A16,SECHE!A:B,2,0)),(VLOOKUP(A16,SECHE!A:B,2,0)),0) -> 0 | E16: =IF(ISNUMBER(VLOOKUP(A16,'site 20'!A:B,2,0)),(VLOOKUP(A16,'site 20'!A:B,2,0)),0) -> 3 | G16: =IF(ISNUMBER(VLOOKUP(A16,Sfax!A:B,2,0)),(VLOOKUP(A16,Sfax!A:B,2,0)),0) -> 0 | I16: =IF(ISNUMBER(VLOOKUP(A16,Sousse!A:B,2,0)),(VLOOKUP(A16,Sousse!A:B,2,0)),0) -> 0 | K16: =IF(ISNUMBER(VLOOKUP(A16,Gabes!A:B,2,0)),(VLOOKUP(A16,Gabes!A:B,2,0)),0) -> 0 | M16: =IF(ISNUMBER(VLOOKUP(A16,GAFSA!A:B,2,0)),(VLOOKUP(A16,GAFSA!A:B,2,0)),0) -> 3 | P16: =IF(ISNUMBER(VLOOKUP(A16,Jendouba!A:B,2,0)),(VLOOKUP(A16,Jendouba!A:B,2,0)),0) -> 0 | R16: =P16+M16+K16+I16+G16+E16+C16 -> 8 | T16: =S16/4 -> 0 | U16: =B16 -> 20 | V16: =+S16+U16-C16 -> 18 | AA16: =SUM(W16:Z16) -> 0 | AC16: =AA16 -> 0 | AD16: =AB16-AC16 -> 0 | AE16: =AD16/AC16 -> #DIV/0! | AF16: =C16-F16-H16-J16-L16-N16-Q16-O16 -> 2
A17: 10PL1 | B17: 300 | C17: =IF(ISNUMBER(VLOOKUP(A17,'site 09'!A:B,2,0)),(VLOOKUP(A17,'site 09'!A:B,2,0)),0) -> 144 | D17: =IF(ISNUMBER(VLOOKUP(A17,SECHE!A:B,2,0)),(VLOOKUP(A17,SECHE!A:B,2,0)),0) -> 120 | E17: =IF(ISNUMBER(VLOOKUP(A17,'site 20'!A:B,2,0)),(VLOOKUP(A17,'site 20'!A:B,2,0)),0) -> 70 | G17: =IF(ISNUMBER(VLOOKUP(A17,Sfax!A:B,2,0)),(VLOOKUP(A17,Sfax!A:B,2,0)),0) -> 59 | I17: =IF(ISNUMBER(VLOOKUP(A17,Sousse!A:B,2,0)),(VLOOKUP(A17,Sousse!A:B,2,0)),0) -> 62 | K17: =IF(ISNUMBER(VLOOKUP(A17,Gabes!A:B,2,0)),(VLOOKUP(A17,Gabes!A:B,2,0)),0) -> 113 | M17: =IF(ISNUMBER(VLOOKUP(A17,GAFSA!A:B,2,0)),(VLOOKUP(A17,GAFSA!A:B,2,0)),0) -> 61 | P17: =IF(ISNUMBER(VLOOKUP(A17,Jendouba!A:B,2,0)),(VLOOKUP(A17,Jendouba!A:B,2,0)),0) -> 16 | R17: =P17+M17+K17+I17+G17+E17+C17 -> 525 | S17: 1000 | T17: =S17/4 -> 250 | U17: =B17 -> 300 | V17: =+S17+U17-C17 -> 1156 | W17: 100 | X17: 100 | Y17: 400 | Z17: 400 | AA17: =SUM(W17:Z17) -> 1000 | AB17: 950 | AC17: =AA17 -> 1000 | AD17: =AB17-AC17 -> -50 | AE17: =AD17/AC17 -> -0.05 | AF17: =C17-F17-H17-J17-L17-N17-Q17-O17 -> 144 | AH17: 100
A18: 10PL1B | B18: 46 | C18: =IF(ISNUMBER(VLOOKUP(A18,'site 09'!A:B,2,0)),(VLOOKUP(A18,'site 09'!A:B,2,0)),0) -> 38 | D18: =IF(ISNUMBER(VLOOKUP(A18,SECHE!A:B,2,0)),(VLOOKUP(A18,SECHE!A:B,2,0)),0) -> 1 | E18: =IF(ISNUMBER(VLOOKUP(A18,'site 20'!A:B,2,0)),(VLOOKUP(A18,'site 20'!A:B,2,0)),0) -> 26 | G18: =IF(ISNUMBER(VLOOKUP(A18,Sfax!A:B,2,0)),(VLOOKUP(A18,Sfax!A:B,2,0)),0) -> 0 | I18: =IF(ISNUMBER(VLOOKUP(A18,Sousse!A:B,2,0)),(VLOOKUP(A18,Sousse!A:B,2,0)),0) -> 7 | K18: =IF(ISNUMBER(VLOOKUP(A18,Gabes!A:B,2,0)),(VLOOKUP(A18,Gabes!A:B,2,0)),0) -> 9 | M18: =IF(ISNUMBER(VLOOKUP(A18,GAFSA!A:B,2,0)),(VLOOKUP(A18,GAFSA!A:B,2,0)),0) -> 20 | P18: =IF(ISNUMBER(VLOOKUP(A18,Jendouba!A:B,2,0)),(VLOOKUP(A18,Jendouba!A:B,2,0)),0) -> 5 | R18: =P18+M18+K18+I18+G18+E18+C18 -> 105 | S18: 100 | T18: =S18/4 -> 25 | U18: =B18 -> 46 | V18: =+S18+U18-C18 -> 108 | X18: 20 | Y18: 80 | AA18: =SUM(W18:Z18) -> 100 | AB18: 110 | AC18: =AA18 -> 100 | AD18: =AB18-AC18 -> 10 | AE18: =AD18/AC18 -> 0.1 | AF18: =C18-F18-H18-J18-L18-N18-Q18-O18 -> 38
A19: 10PL1G | B19: 15 | C19: =IF(ISNUMBER(VLOOKUP(A19,'site 09'!A:B,2,0)),(VLOOKUP(A19,'site 09'!A:B,2,0)),0) -> 50 | E19: =IF(ISNUMBER(VLOOKUP(A19,'site 20'!A:B,2,0)),(VLOOKUP(A19,'site 20'!A:B,2,0)),0) -> 12 | G19: =IF(ISNUMBER(VLOOKUP(A19,Sfax!A:B,2,0)),(VLOOKUP(A19,Sfax!A:B,2,0)),0) -> 5 | I19: =IF(ISNUMBER(VLOOKUP(A19,Sousse!A:B,2,0)),(VLOOKUP(A19,Sousse!A:B,2,0)),0) -> 5 | K19: =IF(ISNUMBER(VLOOKUP(A19,Gabes!A:B,2,0)),(VLOOKUP(A19,Gabes!A:B,2,0)),0) -> 12 | M19: =IF(ISNUMBER(VLOOKUP(A19,GAFSA!A:B,2,0)),(VLOOKUP(A19,GAFSA!A:B,2,0)),0) -> 5 | P19: =IF(ISNUMBER(VLOOKUP(A19,Jendouba!A:B,2,0)),(VLOOKUP(A19,Jendouba!A:B,2,0)),0) -> 3 | R19: =P19+M19+K19+I19+G19+E19+C19 -> 92 | S19: 40 | T19: =S19/4 -> 10 | U19: =B19 -> 15 | V19: =+S19+U19-C19 -> 5 | Y19: 40 | AA19: =SUM(W19:Z19) -> 40 | AC19: =AA19 -> 40 | AD19: =AB19-AC19 -> -40 | AF19: =C19-F19-H19-J19-L19-N19-Q19-O19 -> 50
A20: 10PL2 | B20: 250 | C20: =IF(ISNUMBER(VLOOKUP(A20,'site 09'!A:B,2,0)),(VLOOKUP(A20,'site 09'!A:B,2,0)),0) -> 0 | D20: =IF(ISNUMBER(VLOOKUP(A20,SECHE!A:B,2,0)),(VLOOKUP(A20,SECHE!A:B,2,0)),0) -> 222 | E20: =IF(ISNUMBER(VLOOKUP(A20,'site 20'!A:B,2,0)),(VLOOKUP(A20,'site 20'!A:B,2,0)),0) -> 119 | G20: =IF(ISNUMBER(VLOOKUP(A20,Sfax!A:B,2,0)),(VLOOKUP(A20,Sfax!A:B,2,0)),0) -> 42 | I20: =IF(ISNUMBER(VLOOKUP(A20,Sousse!A:B,2,0)),(VLOOKUP(A20,Sousse!A:B,2,0)),0) -> 53 | K20: =IF(ISNUMBER(VLOOKUP(A20,Gabes!A:B,2,0)),(VLOOKUP(A20,Gabes!A:B,2,0)),0) -> 82 | M20: =IF(ISNUMBER(VLOOKUP(A20,GAFSA!A:B,2,0)),(VLOOKUP(A20,GAFSA!A:B,2,0)),0) -> 25 | P20: =IF(ISNUMBER(VLOOKUP(A20,Jendouba!A:B,2,0)),(VLOOKUP(A20,Jendouba!A:B,2,0)),0) -> 27 | R20: =P20+M20+K20+I20+G20+E20+C20 -> 348 | S20: 700 | T20: =S20/4 -> 175 | U20: =B20 -> 250 | V20: =+S20+U20-C20 -> 950 | W20: 100 | Y20: 400 | Z20: 250 | AA20: =SUM(W20:Z20) -> 750 | AB20: 603 | AC20: =AA20 -> 750 | AD20: =AB20-AC20 -> -147 | AE20: =AD20/AC20 -> -0.196 | AF20: =C20-F20-H20-J20-L20-N20-Q20-O20 -> 0
A21: 10PL2B | B21: 6 | C21: =IF(ISNUMBER(VLOOKUP(A21,'site 09'!A:B,2,0)),(VLOOKUP(A21,'site 09'!A:B,2,0)),0) -> 4 | D21: =IF(ISNUMBER(VLOOKUP(A21,SECHE!A:B,2,0)),(VLOOKUP(A21,SECHE!A:B,2,0)),0) -> 6 | E21: =IF(ISNUMBER(VLOOKUP(A21,'site 20'!A:B,2,0)),(VLOOKUP(A21,'site 20'!A:B,2,0)),0) -> 6 | G21: =IF(ISNUMBER(VLOOKUP(A21,Sfax!A:B,2,0)),(VLOOKUP(A21,Sfax!A:B,2,0)),0) -> 0 | I21: =IF(ISNUMBER(VLOOKUP(A21,Sousse!A:B,2,0)),(VLOOKUP(A21,Sousse!A:B,2,0)),0) -> 4 | K21: =IF(ISNUMBER(VLOOKUP(A21,Gabes!A:B,2,0)),(VLOOKUP(A21,Gabes!A:B,2,0)),0) -> 8 | M21: =IF(ISNUMBER(VLOOKUP(A21,GAFSA!A:B,2,0)),(VLOOKUP(A21,GAFSA!A:B,2,0)),0) -> 10 | P21: =IF(ISNUMBER(VLOOKUP(A21,Jendouba!A:B,2,0)),(VLOOKUP(A21,Jendouba!A:B,2,0)),0) -> 0 | R21: =P21+M21+K21+I21+G21+E21+C21 -> 32 | S21: 15 | T21: =S21/4 -> 3.75 | U21: =B21 -> 6 | V21: =+S21+U21-C21 -> 17 | Y21: 20 | AA21: =SUM(W21:Z21) -> 20 | AC21: =AA21 -> 20 | AD21: =AB21-AC21 -> -20 | AE21: =AD21/AC21 -> -1 | AF21: =C21-F21-H21-J21-L21-N21-Q21-O21 -> 4
A22: 10PL2G | B22: 5 | C22: =IF(ISNUMBER(VLOOKUP(A22,'site 09'!A:B,2,0)),(VLOOKUP(A22,'site 09'!A:B,2,0)),0) -> 3 | D22: =IF(ISNUMBER(VLOOKUP(A22,SECHE!A:B,2,0)),(VLOOKUP(A22,SECHE!A:B,2,0)),0) -> 0 | E22: =IF(ISNUMBER(VLOOKUP(A22,'site 20'!A:B,2,0)),(VLOOKUP(A22,'site 20'!A:B,2,0)),0) -> 4 | G22: =IF(ISNUMBER(VLOOKUP(A22,Sfax!A:B,2,0)),(VLOOKUP(A22,Sfax!A:B,2,0)),0) -> 3 | I22: =IF(ISNUMBER(VLOOKUP(A22,Sousse!A:B,2,0)),(VLOOKUP(A22,Sousse!A:B,2,0)),0) -> 1 | K22: =IF(ISNUMBER(VLOOKUP(A22,Gabes!A:B,2,0)),(VLOOKUP(A22,Gabes!A:B,2,0)),0) -> 3 | M22: =IF(ISNUMBER(VLOOKUP(A22,GAFSA!A:B,2,0)),(VLOOKUP(A22,GAFSA!A:B,2,0)),0) -> 3 | P22: =IF(ISNUMBER(VLOOKUP(A22,Jendouba!A:B,2,0)),(VLOOKUP(A22,Jendouba!A:B,2,0)),0) -> 1 | R22: =P22+M22+K22+I22+G22+E22+C22 -> 18 | S22: 10 | T22: =S22/4 -> 2.5 | U22: =B22 -> 5 | V22: =+S22+U22-C22 -> 12 | Y22: 10 | AA22: =SUM(W22:Z22) -> 10 | AB22: 19 | AC22: =AA22 -> 10 | AD22: =AB22-AC22 -> 9 | AF22: =C22-F22-H22-J22-L22-N22-Q22-O22 -> 3
A23: 10PL3 | B23: 300 | C23: =IF(ISNUMBER(VLOOKUP(A23,'site 09'!A:B,2,0)),(VLOOKUP(A23,'site 09'!A:B,2,0)),0) -> 150 | D23: =IF(ISNUMBER(VLOOKUP(A23,SECHE!A:B,2,0)),(VLOOKUP(A23,SECHE!A:B,2,0)),0) -> 193 | E23: =IF(ISNUMBER(VLOOKUP(A23,'site 20'!A:B,2,0)),(VLOOKUP(A23,'site 20'!A:B,2,0)),0) -> 24 | G23: =IF(ISNUMBER(VLOOKUP(A23,Sfax!A:B,2,0)),(VLOOKUP(A23,Sfax!A:B,2,0)),0) -> 63 | I23: =IF(ISNUMBER(VLOOKUP(A23,Sousse!A:B,2,0)),(VLOOKUP(A23,Sousse!A:B,2,0)),0) -> 79 | K23: =IF(ISNUMBER(VLOOKUP(A23,Gabes!A:B,2,0)),(VLOOKUP(A23,Gabes!A:B,2,0)),0) -> 56 | M23: =IF(ISNUMBER(VLOOKUP(A23,GAFSA!A:B,2,0)),(VLOOKUP(A23,GAFSA!A:B,2,0)),0) -> 71 | P23: =IF(ISNUMBER(VLOOKUP(A23,Jendouba!A:B,2,0)),(VLOOKUP(A23,Jendouba!A:B,2,0)),0) -> 16 | R23: =P23+M23+K23+I23+G23+E23+C23 -> 459 | S23: 1200 | T23: =S23/4 -> 300 | U23: =B23 -> 300 | V23: =+S23+U23-C23 -> 1350 | W23: 160 | X23: 80 | Y23: 500 | Z23: 450 | AA23: =SUM(W23:Z23) -> 1190 | AB23: 1048 | AC23: =AA23 -> 1190 | AD23: =AB23-AC23 -> -142 | AE23: =AD23/AC23 -> -0.11932773 | AF23: =C23-F23-H23-J23-L23-N23-Q23-O23 -> 150 | AH23: 80
A24: 10PL3B | B24: 9 | C24: =IF(ISNUMBER(VLOOKUP(A24,'site 09'!A:B,2,0)),(VLOOKUP(A24,'site 09'!A:B,2,0)),0) -> 5 | D24: =IF(ISNUMBER(VLOOKUP(A24,SECHE!A:B,2,0)),(VLOOKUP(A24,SECHE!A:B,2,0)),0) -> 0 | E24: =IF(ISNUMBER(VLOOKUP(A24,'site 20'!A:B,2,0)),(VLOOKUP(A24,'site 20'!A:B,2,0)),0) -> 5 | G24: =IF(ISNUMBER(VLOOKUP(A24,Sfax!A:B,2,0)),(VLOOKUP(A24,Sfax!A:B,2,0)),0) -> 0 | I24: =IF(ISNUMBER(VLOOKUP(A24,Sousse!A:B,2,0)),(VLOOKUP(A24,Sousse!A:B,2,0)),0) -> 2 | K24: =IF(ISNUMBER(VLOOKUP(A24,Gabes!A:B,2,0)),(VLOOKUP(A24,Gabes!A:B,2,0)),0) -> 3 | M24: =IF(ISNUMBER(VLOOKUP(A24,GAFSA!A:B,2,0)),(VLOOKUP(A24,GAFSA!A:B,2,0)),0) -> 7 | P24: =IF(ISNUMBER(VLOOKUP(A24,Jendouba!A:B,2,0)),(VLOOKUP(A24,Jendouba!A:B,2,0)),0) -> 0 | R24: =P24+M24+K24+I24+G24+E24+C24 -> 22 | S24: 15 | T24: =S24/4 -> 3.75 | U24: =B24 -> 9 | V24: =+S24+U24-C24 -> 19 | AA24: =SUM(W24:Z24) -> 0 | AC24: =AA24 -> 0 | AD24: =AB24-AC24 -> 0 | AE24: =AD24/AC24 -> #DIV/0! | AF24: =C24-F24-H24-J24-L24-N24-Q24-O24 -> 5
A25: 10PL5 | B25: 80 | C25: =IF(ISNUMBER(VLOOKUP(A25,'site 09'!A:B,2,0)),(VLOOKUP(A25,'site 09'!A:B,2,0)),0) -> 90 | D25: =IF(ISNUMBER(VLOOKUP(A25,SECHE!A:B,2,0)),(VLOOKUP(A25,SECHE!A:B,2,0)),0) -> 0 | E25: =IF(ISNUMBER(VLOOKUP(A25,'site 20'!A:B,2,0)),(VLOOKUP(A25,'site 20'!A:B,2,0)),0) -> 15 | G25: =IF(ISNUMBER(VLOOKUP(A25,Sfax!A:B,2,0)),(VLOOKUP(A25,Sfax!A:B,2,0)),0) -> 9 | I25: =IF(ISNUMBER(VLOOKUP(A25,Sousse!A:B,2,0)),(VLOOKUP(A25,Sousse!A:B,2,0)),0) -> 14 | K25: =IF(ISNUMBER(VLOOKUP(A25,Gabes!A:B,2,0)),(VLOOKUP(A25,Gabes!A:B,2,0)),0) -> 30 | M25: =IF(ISNUMBER(VLOOKUP(A25,GAFSA!A:B,2,0)),(VLOOKUP(A25,GAFSA!A:B,2,0)),0) -> 18 | P25: =IF(ISNUMBER(VLOOKUP(A25,Jendouba!A:B,2,0)),(VLOOKUP(A25,Jendouba!A:B,2,0)),0) -> 11 | R25: =P25+M25+K25+I25+G25+E25+C25 -> 187 | S25: 200 | T25: =S25/4 -> 50 | U25: =B25 -> 80 | V25: =+S25+U25-C25 -> 190 | W25: 40 | Y25: 120 | Z25: 60 | AA25: =SUM(W25:Z25) -> 220 | AB25: 169 | AC25: =AA25 -> 220 | AD25: =AB25-AC25 -> -51 | AE25: =AD25/AC25 -> -0.23181818 | AF25: =C25-F25-H25-J25-L25-N25-Q25-O25 -> 90 | AH25: 60
A26: 10PM10 | B26: 280 | C26: =IF(ISNUMBER(VLOOKUP(A26,'site 09'!A:B,2,0)),(VLOOKUP(A26,'site 09'!A:B,2,0)),0) -> 250 | D26: =IF(ISNUMBER(VLOOKUP(A26,SECHE!A:B,2,0)),(VLOOKUP(A26,SECHE!A:B,2,0)),0) -> 21 | E26: =IF(ISNUMBER(VLOOKUP(A26,'site 20'!A:B,2,0)),(VLOOKUP(A26,'site 20'!A:B,2,0)),0) -> 29 | G26: =IF(ISNUMBER(VLOOKUP(A26,Sfax!A:B,2,0)),(VLOOKUP(A26,Sfax!A:B,2,0)),0) -> 69 | I26: =IF(ISNUMBER(VLOOKUP(A26,Sousse!A:B,2,0)),(VLOOKUP(A26,Sousse!A:B,2,0)),0) -> 74 | K26: =IF(ISNUMBER(VLOOKUP(A26,Gabes!A:B,2,0)),(VLOOKUP(A26,Gabes!A:B,2,0)),0) -> 59 | M26: =IF(ISNUMBER(VLOOKUP(A26,GAFSA!A:B,2,0)),(VLOOKUP(A26,GAFSA!A:B,2,0)),0) -> 95 | P26: =IF(ISNUMBER(VLOOKUP(A26,Jendouba!A:B,2,0)),(VLOOKUP(A26,Jendouba!A:B,2,0)),0) -> 7 | R26: =P26+M26+K26+I26+G26+E26+C26 -> 583 | S26: 1000 | T26: =S26/4 -> 250 | U26: =B26 -> 280 | V26: =+S26+U26-C26 -> 1030 | W26: 64 | X26: 64 | Y26: 500 | Z26: 400 | AA26: =SUM(W26:Z26) -> 1028 | AB26: 914 | AC26: =AA26 -> 1028 | AD26: =AB26-AC26 -> -114 | AE26: =AD26/AC26 -> -0.11089494 | AF26: =C26-F26-H26-J26-L26-N26-Q26-O26 -> 250 | AH26: 64
A27: 10PM10D | B27: 20 | C27: =IF(ISNUMBER(VLOOKUP(A27,'site 09'!A:B,2,0)),(VLOOKUP(A27,'site 09'!A:B,2,0)),0) -> 0 | D27: =IF(ISNUMBER(VLOOKUP(A27,SECHE!A:B,2,0)),(VLOOKUP(A27,SECHE!A:B,2,0)),0) -> 0 | E27: =IF(ISNUMBER(VLOOKUP(A27,'site 20'!A:B,2,0)),(VLOOKUP(A27,'site 20'!A:B,2,0)),0) -> 0 | G27: =IF(ISNUMBER(VLOOKUP(A27,Sfax!A:B,2,0)),(VLOOKUP(A27,Sfax!A:B,2,0)),0) -> 0 | I27: =IF(ISNUMBER(VLOOKUP(A27,Sousse!A:B,2,0)),(VLOOKUP(A27,Sousse!A:B,2,0)),0) -> 0 | K27: =IF(ISNUMBER(VLOOKUP(A27,Gabes!A:B,2,0)),(VLOOKUP(A27,Gabes!A:B,2,0)),0) -> 0 | M27: =IF(ISNUMBER(VLOOKUP(A27,GAFSA!A:B,2,0)),(VLOOKUP(A27,GAFSA!A:B,2,0)),0) -> 0 | P27: =IF(ISNUMBER(VLOOKUP(A27,Jendouba!A:B,2,0)),(VLOOKUP(A27,Jendouba!A:B,2,0)),0) -> 0 | R27: =P27+M27+K27+I27+G27+E27+C27 -> 0 | T27: =S27/4 -> 0 | U27: =B27 -> 20 | V27: =+S27+U27-C27 -> 20 | AA27: =SUM(W27:Z27) -> 0 | AC27: =AA27 -> 0 | AD27: =AB27-AC27 -> 0 | AE27: =AD27/AC27 -> #DIV/0! | AF27: =C27-F27-H27-J27-L27-N27-Q27-O27 -> 0
A28: 10PM11 | B28: 300 | C28: =IF(ISNUMBER(VLOOKUP(A28,'site 09'!A:B,2,0)),(VLOOKUP(A28,'site 09'!A:B,2,0)),0) -> 136 | D28: =IF(ISNUMBER(VLOOKUP(A28,SECHE!A:B,2,0)),(VLOOKUP(A28,SECHE!A:B,2,0)),0) -> 10 | E28: =IF(ISNUMBER(VLOOKUP(A28,'site 20'!A:B,2,0)),(VLOOKUP(A28,'site 20'!A:B,2,0)),0) -> 66 | F28: 48 | G28: =IF(ISNUMBER(VLOOKUP(A28,Sfax!A:B,2,0)),(VLOOKUP(A28,Sfax!A:B,2,0)),0) -> 65 | I28: =IF(ISNUMBER(VLOOKUP(A28,Sousse!A:B,2,0)),(VLOOKUP(A28,Sousse!A:B,2,0)),0) -> 79 | K28: =IF(ISNUMBER(VLOOKUP(A28,Gabes!A:B,2,0)),(VLOOKUP(A28,Gabes!A:B,2,0)),0) -> 105 | M28: =IF(ISNUMBER(VLOOKUP(A28,GAFSA!A:B,2,0)),(VLOOKUP(A28,GAFSA!A:B,2,0)),0) -> 74 | P28: =IF(ISNUMBER(VLOOKUP(A28,Jendouba!A:B,2,0)),(VLOOKUP(A28,Jendouba!A:B,2,0)),0) -> 12 | R28: =P28+M28+K28+I28+G28+E28+C28 -> 537 | S28: 900 | T28: =S28/4 -> 225 | U28: =B28 -> 300 | V28: =+S28+U28-C28 -> 1064 | W28: =96+48 -> 144 | X28: 48 | Y28: 450 | Z28: 350 | AA28: =SUM(W28:Z28) -> 992 | AB28: 823 | AC28: =AA28 -> 992 | AD28: =AB28-AC28 -> -169 | AE28: =AD28/AC28 -> -0.1703629 | AF28: =C28-F28-H28-J28-L28-N28-Q28-O28 -> 88
A29: 10PM11D | C29: =IF(ISNUMBER(VLOOKUP(A29,'site 09'!A:B,2,0)),(VLOOKUP(A29,'site 09'!A:B,2,0)),0) -> 0 | D29: =IF(ISNUMBER(VLOOKUP(A29,SECHE!A:B,2,0)),(VLOOKUP(A29,SECHE!A:B,2,0)),0) -> 0 | E29: =IF(ISNUMBER(VLOOKUP(A29,'site 20'!A:B,2,0)),(VLOOKUP(A29,'site 20'!A:B,2,0)),0) -> 0 | G29: =IF(ISNUMBER(VLOOKUP(A29,Sfax!A:B,2,0)),(VLOOKUP(A29,Sfax!A:B,2,0)),0) -> 0 | I29: =IF(ISNUMBER(VLOOKUP(A29,Sousse!A:B,2,0)),(VLOOKUP(A29,Sousse!A:B,2,0)),0) -> 0 | K29: =IF(ISNUMBER(VLOOKUP(A29,Gabes!A:B,2,0)),(VLOOKUP(A29,Gabes!A:B,2,0)),0) -> 0 | M29: =IF(ISNUMBER(VLOOKUP(A29,GAFSA!A:B,2,0)),(VLOOKUP(A29,GAFSA!A:B,2,0)),0) -> 0 | P29: =IF(ISNUMBER(VLOOKUP(A29,Jendouba!A:B,2,0)),(VLOOKUP(A29,Jendouba!A:B,2,0)),0) -> 0 | R29: =P29+M29+K29+I29+G29+E29+C29 -> 0 | T29: =S29/4 -> 0 | U29: =B29 -> 0 | V29: =+S29+U29-C29 -> 0 | AA29: =SUM(W29:Z29) -> 0 | AC29: 0 | AD29: =AB29-AC29 -> 0 | AE29: =AD29/AC29 -> #DIV/0! | AF29: =C29-F29-H29-J29-L29-N29-Q29-O29 -> 0
A30: 10PM12 | B30: 120 | C30: =IF(ISNUMBER(VLOOKUP(A30,'site 09'!A:B,2,0)),(VLOOKUP(A30,'site 09'!A:B,2,0)),0) -> 111 | D30: =IF(ISNUMBER(VLOOKUP(A30,SECHE!A:B,2,0)),(VLOOKUP(A30,SECHE!A:B,2,0)),0) -> 22 | E30: =IF(ISNUMBER(VLOOKUP(A30,'site 20'!A:B,2,0)),(VLOOKUP(A30,'site 20'!A:B,2,0)),0) -> 20 | G30: =IF(ISNUMBER(VLOOKUP(A30,Sfax!A:B,2,0)),(VLOOKUP(A30,Sfax!A:B,2,0)),0) -> 23 | I30: =IF(ISNUMBER(VLOOKUP(A30,Sousse!A:B,2,0)),(VLOOKUP(A30,Sousse!A:B,2,0)),0) -> 17 | K30: =IF(ISNUMBER(VLOOKUP(A30,Gabes!A:B,2,0)),(VLOOKUP(A30,Gabes!A:B,2,0)),0) -> 26 | M30: =IF(ISNUMBER(VLOOKUP(A30,GAFSA!A:B,2,0)),(VLOOKUP(A30,GAFSA!A:B,2,0)),0) -> 30 | P30: =IF(ISNUMBER(VLOOKUP(A30,Jendouba!A:B,2,0)),(VLOOKUP(A30,Jendouba!A:B,2,0)),0) -> 15 | R30: =P30+M30+K30+I30+G30+E30+C30 -> 242 | S30: 350 | T30: =S30/4 -> 87.5 | U30: =B30 -> 120 | V30: =+S30+U30-C30 -> 359 | W30: 48 | X30: 48 | Y30: 180 | Z30: 80 | AA30: =SUM(W30:Z30) -> 356 | AB30: 314 | AC30: =AA30 -> 356 | AD30: =AB30-AC30 -> -42 | AE30: =AD30/AC30 -> -0.11797753 | AF30: =C30-F30-H30-J30-L30-N30-Q30-O30 -> 111 | AH30: 48
A31: 10NS40 | B31: 40 | C31: =IF(ISNUMBER(VLOOKUP(A31,'site 09'!A:B,2,0)),(VLOOKUP(A31,'site 09'!A:B,2,0)),0) -> 1 | E31: =IF(ISNUMBER(VLOOKUP(A31,'site 20'!A:B,2,0)),(VLOOKUP(A31,'site 20'!A:B,2,0)),0) -> 26 | G31: =IF(ISNUMBER(VLOOKUP(A31,Sfax!A:B,2,0)),(VLOOKUP(A31,Sfax!A:B,2,0)),0) -> 12 | I31: =IF(ISNUMBER(VLOOKUP(A31,Sousse!A:B,2,0)),(VLOOKUP(A31,Sousse!A:B,2,0)),0) -> 15 | K31: =IF(ISNUMBER(VLOOKUP(A31,Gabes!A:B,2,0)),(VLOOKUP(A31,Gabes!A:B,2,0)),0) -> 6 | M31: =IF(ISNUMBER(VLOOKUP(A31,GAFSA!A:B,2,0)),(VLOOKUP(A31,GAFSA!A:B,2,0)),0) -> 12 | P31: =IF(ISNUMBER(VLOOKUP(A31,Jendouba!A:B,2,0)),(VLOOKUP(A31,Jendouba!A:B,2,0)),0) -> 6 | R31: =P31+M31+K31+I31+G31+E31+C31 -> 78 | S31: 200 | T31: =S31/4 -> 50 | U31: =B31 -> 40 | V31: =+S31+U31-C31 -> 239 | W31: 60 | Y31: 100 | Z31: 40 | AA31: =SUM(W31:Z31) -> 200 | AB31: 215 | AC31: =AA31 -> 200 | AD31: =AB31-AC31 -> 15 | AE31: =AD31/AC31 -> 0.075 | AF31: =C31-F31-H31-J31-L31-N31-Q31-O31 -> 1
A32: 10NS40G | B32: 5 | C32: =IF(ISNUMBER(VLOOKUP(A32,'site 09'!A:B,2,0)),(VLOOKUP(A32,'site 09'!A:B,2,0)),0) -> 4 | E32: =IF(ISNUMBER(VLOOKUP(A32,'site 20'!A:B,2,0)),(VLOOKUP(A32,'site 20'!A:B,2,0)),0) -> 0 | F32: 2 | G32: =IF(ISNUMBER(VLOOKUP(A32,Sfax!A:B,2,0)),(VLOOKUP(A32,Sfax!A:B,2,0)),0) -> 3 | I32: =IF(ISNUMBER(VLOOKUP(A32,Sousse!A:B,2,0)),(VLOOKUP(A32,Sousse!A:B,2,0)),0) -> 2 | K32: =IF(ISNUMBER(VLOOKUP(A32,Gabes!A:B,2,0)),(VLOOKUP(A32,Gabes!A:B,2,0)),0) -> 1 | M32: =IF(ISNUMBER(VLOOKUP(A32,GAFSA!A:B,2,0)),(VLOOKUP(A32,GAFSA!A:B,2,0)),0) -> 2 | P32: =IF(ISNUMBER(VLOOKUP(A32,Jendouba!A:B,2,0)),(VLOOKUP(A32,Jendouba!A:B,2,0)),0) -> 0 | R32: =P32+M32+K32+I32+G32+E32+C32 -> 12 | S32: 10 | T32: =S32/4 -> 2.5 | U32: =B32 -> 5 | V32: =+S32+U32-C32 -> 11 | AA32: =SUM(W32:Z32) -> 0 | AC32: =AA32 -> 0 | AD32: =AB32-AC32 -> 0 | AE32: =AD32/AC32 -> #DIV/0! | AF32: =C32-F32-H32-J32-L32-N32-Q32-O32 -> 2
A33: 10NS60 | C33: =IF(ISNUMBER(VLOOKUP(A33,'site 09'!A:B,2,0)),(VLOOKUP(A33,'site 09'!A:B,2,0)),0) -> 0 | E33: =IF(ISNUMBER(VLOOKUP(A33,'site 20'!A:B,2,0)),(VLOOKUP(A33,'site 20'!A:B,2,0)),0) -> 0 | G33: =IF(ISNUMBER(VLOOKUP(A33,Sfax!A:B,2,0)),(VLOOKUP(A33,Sfax!A:B,2,0)),0) -> 0 | I33: =IF(ISNUMBER(VLOOKUP(A33,Sousse!A:B,2,0)),(VLOOKUP(A33,Sousse!A:B,2,0)),0) -> 0 | K33: =IF(ISNUMBER(VLOOKUP(A33,Gabes!A:B,2,0)),(VLOOKUP(A33,Gabes!A:B,2,0)),0) -> 0 | M33: =IF(ISNUMBER(VLOOKUP(A33,GAFSA!A:B,2,0)),(VLOOKUP(A33,GAFSA!A:B,2,0)),0) -> 0 | P33: =IF(ISNUMBER(VLOOKUP(A33,Jendouba!A:B,2,0)),(VLOOKUP(A33,Jendouba!A:B,2,0)),0) -> 0 | R33: =P33+M33+K33+I33+G33+E33+C33 -> 0 | S33: 60 | T33: =S33/4 -> 15 | U33: =B33 -> 0 | V33: =+S33+U33-C33 -> 60 | W33: 30 | Y33: 40 | AA33: =SUM(W33:Z33) -> 70 | AF33: =C33-F33-H33-J33-L33-N33-Q33-O33 -> 0
A34: 10D23 | B34: 10 | C34: =IF(ISNUMBER(VLOOKUP(A34,'site 09'!A:B,2,0)),(VLOOKUP(A34,'site 09'!A:B,2,0)),0) -> 15 | E34: =IF(ISNUMBER(VLOOKUP(A34,'site 20'!A:B,2,0)),(VLOOKUP(A34,'site 20'!A:B,2,0)),0) -> 0 | G34: =IF(ISNUMBER(VLOOKUP(A34,Sfax!A:B,2,0)),(VLOOKUP(A34,Sfax!A:B,2,0)),0) -> 2 | I34: =IF(ISNUMBER(VLOOKUP(A34,Sousse!A:B,2,0)),(VLOOKUP(A34,Sousse!A:B,2,0)),0) -> 3 | K34: =IF(ISNUMBER(VLOOKUP(A34,Gabes!A:B,2,0)),(VLOOKUP(A34,Gabes!A:B,2,0)),0) -> 1 | M34: =IF(ISNUMBER(VLOOKUP(A34,GAFSA!A:B,2,0)),(VLOOKUP(A34,GAFSA!A:B,2,0)),0) -> 2 | P34: =IF(ISNUMBER(VLOOKUP(A34,Jendouba!A:B,2,0)),(VLOOKUP(A34,Jendouba!A:B,2,0)),0) -> 0 | R34: =P34+M34+K34+I34+G34+E34+C34 -> 23 | S34: 10 | T34: =S34/4 -> 2.5 | U34: =B34 -> 10 | V34: =+S34+U34-C34 -> 5 | Y34: 20 | AA34: =SUM(W34:Z34) -> 20 | AC34: =AA34 -> 20 | AD34: =AB34-AC34 -> -20 | AF34: =C34-F34-H34-J34-L34-N34-Q34-O34 -> 15
A35: 10D26 | B35: 64 | C35: =IF(ISNUMBER(VLOOKUP(A35,'site 09'!A:B,2,0)),(VLOOKUP(A35,'site 09'!A:B,2,0)),0) -> 70 | E35: =IF(ISNUMBER(VLOOKUP(A35,'site 20'!A:B,2,0)),(VLOOKUP(A35,'site 20'!A:B,2,0)),0) -> 21 | G35: =IF(ISNUMBER(VLOOKUP(A35,Sfax!A:B,2,0)),(VLOOKUP(A35,Sfax!A:B,2,0)),0) -> 5 | I35: =IF(ISNUMBER(VLOOKUP(A35,Sousse!A:B,2,0)),(VLOOKUP(A35,Sousse!A:B,2,0)),0) -> 17 | K35: =IF(ISNUMBER(VLOOKUP(A35,Gabes!A:B,2,0)),(VLOOKUP(A35,Gabes!A:B,2,0)),0) -> 7 | M35: =IF(ISNUMBER(VLOOKUP(A35,GAFSA!A:B,2,0)),(VLOOKUP(A35,GAFSA!A:B,2,0)),0) -> 23 | P35: =IF(ISNUMBER(VLOOKUP(A35,Jendouba!A:B,2,0)),(VLOOKUP(A35,Jendouba!A:B,2,0)),0) -> 18 | R35: =P35+M35+K35+I35+G35+E35+C35 -> 161 | S35: 100 | T35: =S35/4 -> 25 | U35: =B35 -> 64 | V35: =+S35+U35-C35 -> 94 | Y35: 64 | Z35: 32 | AA35: =SUM(W35:Z35) -> 96 | AB35: 95 | AC35: =AA35 -> 96 | AD35: =AB35-AC35 -> -1 | AF35: =C35-F35-H35-J35-L35-N35-Q35-O35 -> 70
A36: 10D26D | B36: 16 | C36: =IF(ISNUMBER(VLOOKUP(A36,'site 09'!A:B,2,0)),(VLOOKUP(A36,'site 09'!A:B,2,0)),0) -> 14 | E36: =IF(ISNUMBER(VLOOKUP(A36,'site 20'!A:B,2,0)),(VLOOKUP(A36,'site 20'!A:B,2,0)),0) -> 6 | F36: 8 | G36: =IF(ISNUMBER(VLOOKUP(A36,Sfax!A:B,2,0)),(VLOOKUP(A36,Sfax!A:B,2,0)),0) -> 4 | I36: =IF(ISNUMBER(VLOOKUP(A36,Sousse!A:B,2,0)),(VLOOKUP(A36,Sousse!A:B,2,0)),0) -> 3 | K36: =IF(ISNUMBER(VLOOKUP(A36,Gabes!A:B,2,0)),(VLOOKUP(A36,Gabes!A:B,2,0)),0) -> 5 | M36: =IF(ISNUMBER(VLOOKUP(A36,GAFSA!A:B,2,0)),(VLOOKUP(A36,GAFSA!A:B,2,0)),0) -> 3 | P36: =IF(ISNUMBER(VLOOKUP(A36,Jendouba!A:B,2,0)),(VLOOKUP(A36,Jendouba!A:B,2,0)),0) -> 3 | R36: =P36+M36+K36+I36+G36+E36+C36 -> 38 | S36: 20 | T36: =S36/4 -> 5 | U36: =B36 -> 16 | V36: =+S36+U36-C36 -> 22 | AA36: =SUM(W36:Z36) -> 0 | AC36: =AA36 -> 0 | AD36: =AB36-AC36 -> 0 | AF36: =C36-F36-H36-J36-L36-N36-Q36-O36 -> 6
A37: 10D31 | B37: 48 | C37: =IF(ISNUMBER(VLOOKUP(A37,'site 09'!A:B,2,0)),(VLOOKUP(A37,'site 09'!A:B,2,0)),0) -> 54 | E37: =IF(ISNUMBER(VLOOKUP(A37,'site 20'!A:B,2,0)),(VLOOKUP(A37,'site 20'!A:B,2,0)),0) -> 13 | G37: =IF(ISNUMBER(VLOOKUP(A37,Sfax!A:B,2,0)),(VLOOKUP(A37,Sfax!A:B,2,0)),0) -> 6 | I37: =IF(ISNUMBER(VLOOKUP(A37,Sousse!A:B,2,0)),(VLOOKUP(A37,Sousse!A:B,2,0)),0) -> 19 | K37: =IF(ISNUMBER(VLOOKUP(A37,Gabes!A:B,2,0)),(VLOOKUP(A37,Gabes!A:B,2,0)),0) -> 5 | M37: =IF(ISNUMBER(VLOOKUP(A37,GAFSA!A:B,2,0)),(VLOOKUP(A37,GAFSA!A:B,2,0)),0) -> 4 | P37: =IF(ISNUMBER(VLOOKUP(A37,Jendouba!A:B,2,0)),(VLOOKUP(A37,Jendouba!A:B,2,0)),0) -> 9 | R37: =P37+M37+K37+I37+G37+E37+C37 -> 110 | S37: 80 | T37: =S37/4 -> 20 | U37: =B37 -> 48 | V37: =+S37+U37-C37 -> 74 | X37: 24 | Y37: 60 | AA37: =SUM(W37:Z37) -> 84 | AB37: 73 | AC37: =AA37 -> 84 | AD37: =AB37-AC37 -> -11 | AF37: =C37-F37-H37-J37-L37-N37-Q37-O37 -> 54
A38: 10D31D | B38: 24 | C38: =IF(ISNUMBER(VLOOKUP(A38,'site 09'!A:B,2,0)),(VLOOKUP(A38,'site 09'!A:B,2,0)),0) -> 21 | E38: =IF(ISNUMBER(VLOOKUP(A38,'site 20'!A:B,2,0)),(VLOOKUP(A38,'site 20'!A:B,2,0)),0) -> 6 | G38: =IF(ISNUMBER(VLOOKUP(A38,Sfax!A:B,2,0)),(VLOOKUP(A38,Sfax!A:B,2,0)),0) -> 3 | I38: =IF(ISNUMBER(VLOOKUP(A38,Sousse!A:B,2,0)),(VLOOKUP(A38,Sousse!A:B,2,0)),0) -> 3 | K38: =IF(ISNUMBER(VLOOKUP(A38,Gabes!A:B,2,0)),(VLOOKUP(A38,Gabes!A:B,2,0)),0) -> 3 | M38: =IF(ISNUMBER(VLOOKUP(A38,GAFSA!A:B,2,0)),(VLOOKUP(A38,GAFSA!A:B,2,0)),0) -> 5 | P38: =IF(ISNUMBER(VLOOKUP(A38,Jendouba!A:B,2,0)),(VLOOKUP(A38,Jendouba!A:B,2,0)),0) -> 3 | R38: =P38+M38+K38+I38+G38+E38+C38 -> 44 | S38: 30 | T38: =S38/4 -> 7.5 | U38: =B38 -> 24 | V38: =+S38+U38-C38 -> 33 | Y38: 24 | AA38: =SUM(W38:Z38) -> 24 | AB38: 44 | AC38: =AA38 -> 24 | AD38: =AB38-AC38 -> 20 | AF38: =C38-F38-H38-J38-L38-N38-Q38-O38 -> 21
A39: 10PRL1 | B39: 80 | C39: =IF(ISNUMBER(VLOOKUP(A39,'site 09'!A:B,2,0)),(VLOOKUP(A39,'site 09'!A:B,2,0)),0) -> 79 | D39: =IF(ISNUMBER(VLOOKUP(A39,SECHE!A:B,2,0)),(VLOOKUP(A39,SECHE!A:B,2,0)),0) -> 0 | E39: =IF(ISNUMBER(VLOOKUP(A39,'site 20'!A:B,2,0)),(VLOOKUP(A39,'site 20'!A:B,2,0)),0) -> 45 | G39: =IF(ISNUMBER(VLOOKUP(A39,Sfax!A:B,2,0)),(VLOOKUP(A39,Sfax!A:B,2,0)),0) -> 0 | I39: =IF(ISNUMBER(VLOOKUP(A39,Sousse!A:B,2,0)),(VLOOKUP(A39,Sousse!A:B,2,0)),0) -> 20 | K39: =IF(ISNUMBER(VLOOKUP(A39,Gabes!A:B,2,0)),(VLOOKUP(A39,Gabes!A:B,2,0)),0) -> 0 | M39: =IF(ISNUMBER(VLOOKUP(A39,GAFSA!A:B,2,0)),(VLOOKUP(A39,GAFSA!A:B,2,0)),0) -> 18 | P39: =IF(ISNUMBER(VLOOKUP(A39,Jendouba!A:B,2,0)),(VLOOKUP(A39,Jendouba!A:B,2,0)),0) -> 8 | R39: =P39+M39+K39+I39+G39+E39+C39 -> 170 | S39: 120 | T39: =S39/4 -> 30 | U39: =B39 -> 80 | V39: =+S39+U39-C39 -> 121 | W39: 50 | Y39: 100 | AA39: =SUM(W39:Z39) -> 150 | AB39: 101 | AC39: =AA39 -> 150 | AD39: =AB39-AC39 -> -49 | AE39: =AD39/AC39 -> -0.32666667 | AF39: =C39-F39-H39-J39-L39-N39-Q39-O39 -> 79
A40: 10PRL1B | B40: 20 | C40: =IF(ISNUMBER(VLOOKUP(A40,'site 09'!A:B,2,0)),(VLOOKUP(A40,'site 09'!A:B,2,0)),0) -> 29 | D40: =IF(ISNUMBER(VLOOKUP(A40,SECHE!A:B,2,0)),(VLOOKUP(A40,SECHE!A:B,2,0)),0) -> 0 | E40: =IF(ISNUMBER(VLOOKUP(A40,'site 20'!A:B,2,0)),(VLOOKUP(A40,'site 20'!A:B,2,0)),0) -> 9 | F40: 20 | G40: =IF(ISNUMBER(VLOOKUP(A40,Sfax!A:B,2,0)),(VLOOKUP(A40,Sfax!A:B,2,0)),0) -> 4 | I40: =IF(ISNUMBER(VLOOKUP(A40,Sousse!A:B,2,0)),(VLOOKUP(A40,Sousse!A:B,2,0)),0) -> 4 | K40: =IF(ISNUMBER(VLOOKUP(A40,Gabes!A:B,2,0)),(VLOOKUP(A40,Gabes!A:B,2,0)),0) -> 5 | M40: =IF(ISNUMBER(VLOOKUP(A40,GAFSA!A:B,2,0)),(VLOOKUP(A40,GAFSA!A:B,2,0)),0) -> 1 | P40: =IF(ISNUMBER(VLOOKUP(A40,Jendouba!A:B,2,0)),(VLOOKUP(A40,Jendouba!A:B,2,0)),0) -> 13 | R40: =P40+M40+K40+I40+G40+E40+C40 -> 65 | S40: 60 | T40: =S40/4 -> 15 | U40: =B40 -> 20 | V40: =+S40+U40-C40 -> 51 | W40: 40 | Y40: 50 | AA40: =SUM(W40:Z40) -> 90 | AB40: 45 | AC40: =AA40 -> 90 | AD40: =AB40-AC40 -> -45 | AE40: =AD40/AC40 -> -0.5 | AF40: =C40-F40-H40-J40-L40-N40-Q40-O40 -> 9
...

Sheet site 09
A1: ld_part | B1: sum(ld_qty_oh)
A2: 00-CAISSON | B2: 0
A3: 106N11 | B3: 4
A4: 10D23 | B4: 15
A5: 10D26 | B5: 70
A6: 10D26D | B6: 14
A7: 10D31 | B7: 54
A8: 10D31D | B8: 21
A9: 10HD10 | B9: 9
A10: 10HD11 | B10: 0
A11: 10HD2 | B11: 0
A12: 10HD3 | B12: 0
A13: 10M14 | B13: 69
... A55: 15-5EPZS600 | B55: 0

Sheet site 20
A1: ld_part | B1: sum(ld_qty_oh)
A2: 10D23 | B2: 0
A3: 10D26 | B3: 21
A4: 10D26D | B4: 6
A5: 10D31 | B5: 13
A6: 10D31D | B6: 6
A7: 10HD10 | B7: 4
A8: 10HD11 | B8: 0
A9: 10HD2 | B9: 1
A10: 10HD3 | B10: 1
A11: 10M14 | B11: 35
A12: 10M15 | B12: 14
A13: 10M15S | B13: 18
... A48: 10S6 | B48: 3

Sheet 20-02
A1: ld_part | B1: sum(ld_qty_oh)
A2: 10D23 | B2: 0
A3: 10D26 | B3: 3
A4: 10D26D | B4: 0
A5: 10D31 | B5: 1
A6: 10D31D | B6: 0
A7: 10M14 | B7: 2
A8: 10M15 | B8: 14
A9: 10M15S | B9: 0
A10: 10M16 | B10: 3
A11: 10NS40 | B11: 4
A12: 10NS40G | B12: 0
A13: 10PE2B | B13: 0
... A41: 10S6 | B41: 0

Sheet 20-03
A1: ld_part | B1: sum(ld_qty_oh)
A2: 10D23 | B2: 0
A3: 10D26 | B3: 1
A4: 10D26D | B4: 0
A5: 10D31 | B5: 3
A6: 10D31D | B6: 0
A7: 10HD2 | B7: 1
A8: 10HD3 | B8: 1
A9: 10M14 | B9: 1
A10: 10M15 | B10: 19
A11: 10M15S | B11: 0
A12: 10M16 | B12: 0
A13: 10MAR200 | B13: 1
... A43: 10S6 | B43: 0

Sheet 20-04
A31: ld_part | B31: sum(ld_qty_oh)
A32: 10D23 | B32: 1
A33: 10D26 | B33: 2
A34: 10D26D | B34: 1
A35: 10D31 | B35: 0
A36: 10D31D | B36: 1
A37: 10HD10 | B37: 0
A38: 10HD11 | B38: 3
A39: 10HD2 | B39: 0
A40: 10HD3 | B40: 0
A41: 10M14 | B41: 5
A42: 10M15 | B42: 2
A43: 10M15S | B43: 0
... A77: 10S6 | B77: 0

Sheet 20-06
A1: ld_part | B1: sum(ld_qty_oh)
A2: 10D23 | B2: 1
A3: 10D26 | B3: 2
A4: 10D26D | B4: 1
A5: 10D31 | B5: 1
A6: 10D31D | B6: 1
A7: 10HD11 | B7: 0
A8: 10HD2 | B8: 0
A9: 10HD3 | B9: 0
A10: 10M14 | B10: 1
A11: 10M15 | B11: 12
A12: 10M15S | B12: 0
A13: 10M16 | B13: 1
... A43: 10S6 | B43: 0

Sheet 20-07
A1: ld_part | B1: sum(ld_qty_oh)
A2: 10D23 | B2: 0
A3: 10D26 | B3: 1
A4: 10D26D | B4: 0
A5: 10D31 | B5: 0
A6: 10D31D | B6: 0
A7: 10M14 | B7: 0
A8: 10M15 | B8: 4
A9: 10M15S | B9: 0
A10: 10M16 | B10: 0
A11: 10MAR200 | B11: 0
A12: 10NS40 | B12: 7
A13: 10NS40G | B13: 0
... A40: 10S6 | B40: 0

Sheet Sfax
A1: ld_part | B1: sum(ld_qty_oh)
A2: 10D23 | B2: 2
A3: 10D26 | B3: 5
A4: 10D26D | B4: 4
A5: 10D31 | B5: 6
A6: 10D31D | B6: 3
A7: 10HD10 | B7: 7
A8: 10HD11 | B8: 3
A9: 10HD2 | B9: 15
A10: 10HD3 | B10: 2
A11: 10M14 | B11: 22
A12: 10M15 | B12: 20
A13: 10M15S | B13: 26
... A42: 10PRL3 | B42: 0

Sheet Sousse
A1: ld_part | B1: sum(ld_qty_oh)
A2: 10D23 | B2: 3
A3: 10D26 | B3: 17
A4: 10D26D | B4: 3
A5: 10D31 | B5: 19
A6: 10D31D | B6: 3
A7: 10HD10 | B7: 29
A8: 10HD11 | B8: 7
A9: 10HD2 | B9: 3
A10: 10HD3 | B10: 5
A11: 10M14 | B11: 37
A12: 10M15 | B12: 38
A13: 10M15S | B13: 12
... A48: 10S6 | B48: 2

Sheet Gabes
A1: ld_part | B1: sum(ld_qty_oh)
A2: 10D23 | B2: 1
A3: 10D26 | B3: 7
A4: 10D26D | B4: 5
A5: 10D31 | B5: 5
A6: 10D31D | B6: 3
A7: 10HD10 | B7: 4
A8: 10HD11 | B8: 5
A9: 10HD2 | B9: 6
A10: 10HD3 | B10: 6
A11: 10M14 | B11: 34
A12: 10M15 | B12: 34
A13: 10M15S | B13: 7
... A44: 10S6 | B44: 2

Sheet GAFSA
A1: ld_part | B1: sum(ld_qty_oh)
A2: 10D23 | B2: 2
A3: 10D26 | B3: 23
A4: 10D26D | B4: 3
A5: 10D31 | B5: 4
A6: 10D31D | B6: 5
A7: 10HD10 | B7: 2
A8: 10HD11 | B8: 6
A9: 10HD2 | B9: 0
A10: 10HD3 | B10: 5
A11: 10M14 | B11: 12
A12: 10M15 | B12: 24
A13: 10M15S | B13: 0
... A46: 10S6 | B46: 1

Sheet Jendouba
A1: ld_part | B1: sum(ld_qty_oh)
A2: 10D23 | B2: 0
A3: 10D26 | B3: 18
A4: 10D26D | B4: 3
A5: 10D31 | B5: 9
A6: 10D31D | B6: 3
A7: 10HD10 | B7: 3
A8: 10HD11 | B8: 7
A9: 10HD3 | B9: 6
A10: 10M14 | B10: 31
A11: 10M15 | B11: 9
A12: 10M15S | B12: 3
A13: 10M16 | B13: 2
... A43: 10S6 | B43: 1

Sheet SECHE
A1: ld_part | B1: sum(ld_qty_oh)
A2: 106N11 | B2: 5
A3: 10D26 | B3: 9
A4: 10D31 | B4: 36
A5: 10m14 | B5: 0
A6: 10M15 | B6: 44
A7: 10m15s | B7: 21
A8: 10M16 | B8: 17
A9: 10M16DB | B9: 1
A10: 10MAR200 | B10: 0
A11: 10PL1 | B11: 120
A12: 10PL1B | B12: 1
A13: 10pl2 | B13: 222
... A27: 10S6 | B27: 2

Sheet liv Gf
Q1: LIVRAISONS
B2: 43831 | C2: 43862 | D2: 43891 | E2: 43922 | F2: 43952 | G2: 43983 | H2: 44013 | I2: 44044 | J2: 44075 | K2: 44105 | L2: 44136 | M2: 44166 | N2: CUMUL | O2: PG HT | P2: VAL HT | Q2: 43846 | R2: 43859 | S2: 43874 | T2: 43888 | AV2: TOTAL | AW2: Stock Final
A3: 10MAR200 | N3: =SUM(B3:M3) -> 0 | AV3: =SUM(Q3:AU3) -> 0 | AW3: =+AV3-N3 -> 0
A4: 10PE2B | N4: =SUM(B4:M4) -> 0 | AV4: =SUM(Q4:AU4) -> 0 | AW4: =+AV4-N4 -> 0
A5: 10PL1 | N5: =SUM(B5:M5) -> 0 | P5: =+O5*Q5 -> 0 | Q5: 10 | R5: 10 | AV5: =SUM(Q5:AU5) -> 20 | AW5: =+AV5-N5 -> 20
A6: 10PL1B | N6: =SUM(B6:M6) -> 0 | P6: =+O6*Q6 -> 0 | Q6: 10 | AV6: =SUM(Q6:AU6) -> 10 | AW6: =+AV6-N6 -> 10
A7: 10PL2 | N7: =SUM(B7:M7) -> 0 | P7: =+O7*Q7 -> 0 | AV7: =SUM(Q7:AU7) -> 0 | AW7: =+AV7-N7 -> 0
A8: 10PL2B | N8: =SUM(B8:M8) -> 0 | P8: =+O8*Q8 -> 0 | AV8: =SUM(Q8:AU8) -> 0 | AW8: =+AV8-N8 -> 0
A9: 10PL2G | N9: =SUM(B9:M9) -> 0 | P9: =+O9*Q9 -> 0 | AV9: =SUM(Q9:AU9) -> 0 | AW9: =+AV9-N9 -> 0
A10: 10PL3 | N10: =SUM(B10:M10) -> 0 | P10: =+O10*Q10 -> 0 | Q10: 10 | AV10: =SUM(Q10:AU10) -> 10 | AW10: =+AV10-N10 -> 10
A11: 10PL3B | N11: =SUM(B11:M11) -> 0 | P11: =+O11*Q11 -> 0 | AV11: =SUM(Q11:AU11) -> 0 | AW11: =+AV11-N11 -> 0
A12: 10PL5 | N12: =SUM(B12:M12) -> 0 | P12: =+O12*Q12 -> 0 | AV12: =SUM(Q12:AU12) -> 0 | AW12: =+AV12-N12 -> 0
A13: 10PM10 | N13: =SUM(B13:M13) -> 0 | P13: =+O13*Q13 -> 0 | Q13: 10 | R13: 20 | S13: 10 | T13: 20 | AV13: =SUM(Q13:AU13) -> 60 | AW13: =+AV13-N13 -> 60
A14: 10PM11 | N14: =SUM(B14:M14) -> 0 | P14: =+O14*Q14 -> 0 | Q14: 10 | R14: 10 | S14: 20 | T14: 20 | AV14: =SUM(Q14:AU14) -> 60 | AW14: =+AV14-N14 -> 60
A15: 10PM12 | N15: =SUM(B15:M15) -> 0 | P15: =+O15*Q15 -> 0 | AV15: =SUM(Q15:AU15) -> 0 | AW15: =+AV15-N15 -> 0
A16: 10PRL1 | N16: =SUM(B16:M16) -> 0 | P16: =+O16*Q16 -> 0 | Q16: 10 | R16: 20 | T16: 10 | AV16: =SUM(Q16:AU16) -> 40 | AW16: =+AV16-N16 -> 40
A17: 10PRL1B | N17: =SUM(B17:M17) -> 0 | P17: =+O17*Q17 -> 0 | AV17: =SUM(Q17:AU17) -> 0 | AW17: =+AV17-N17 -> 0
A18: 10PRL2 | N18: =SUM(B18:M18) -> 0 | P18: =+O18*Q18 -> 0 | T18: 10 | AV18: =SUM(Q18:AU18) -> 10 | AW18: =+AV18-N18 -> 10
A19: 10PRL2B | N19: =SUM(B19:M19) -> 0 | P19: =+O19*Q19 -> 0 | AV19: =SUM(Q19:AU19) -> 0 | AW19: =+AV19-N19 -> 0
A20: 10PRL3 | N20: =SUM(B20:M20) -> 0 | P20: =+O20*Q20 -> 0 | Q20: 10 | T20: 10 | AV20: =SUM(Q20:AU20) -> 20 | AW20: =+AV20-N20 -> 20
A21: 10PRL3B | N21: =SUM(B21:M21) -> 0 | P21: =+O21*Q21 -> 0 | AV21: =SUM(Q21:AU21) -> 0 | AW21: =+AV21-N21 -> 0
A22: 10PRM10 | N22: =SUM(B22:M22) -> 0 | P22: =+O22*Q22 -> 0 | Q22: 10 | R22: 10 | T22: 24 | AV22: =SUM(Q22:AU22) -> 44 | AW22: =+AV22-N22 -> 44
A23: 10PRM10D | N23: =SUM(B23:M23) -> 0 | P23: =+O23*Q23 -> 0 | AV23: =SUM(Q23:AU23) -> 0 | AW23: =+AV23-N23 -> 0
A24: 10PRM11 | N24: =SUM(B24:M24) -> 0 | P24: =+O24*Q24 -> 0 | Q24: 10 | R24: 20 | T24: 24 | AV24: =SUM(Q24:AU24) -> 54 | AW24: =+AV24-N24 -> 54
A25: 10PRM11D | N25: =SUM(B25:M25) -> 0 | P25: =+O25*Q25 -> 0 | Q25: 5 | T25: 5 | AV25: =SUM(Q25:AU25) -> 10 | AW25: =+AV25-N25 -> 10
A26: 10PRM12 | N26: =SUM(B26:M26) -> 0 | P26: =+O26*Q26 -> 0 | Q26: 5 | T26: 5 | AV26: =SUM(Q26:AU26) -> 10 | AW26: =+AV26-N26 -> 10
A27: 10PR110 | N27: =SUM(B27:M27) -> 0 | P27: =+O27*Q27 -> 0 | AV27: =SUM(Q27:AU27) -> 0 | AW27: =+AV27-N27 -> 0
A28: 10S1 | N28: =SUM(B28:M28) -> 0 | P28: =+O28*Q28 -> 0 | AV28: =SUM(Q28:AU28) -> 0 | AW28: =+AV28-N28 -> 0
A29: 10S2 | N29: =SUM(B29:M29) -> 0 | P29: =+O29*Q29 -> 0 | AV29: =SUM(Q29:AU29) -> 0 | AW29: =+AV29-N29 -> 0
A30: 10S3 | N30: =SUM(B30:M30) -> 0 | P30: =+O30*Q30 -> 0 | AV30: =SUM(Q30:AU30) -> 0 | AW30: =+AV30-N30 -> 0
A31: 10S5 | N31: =SUM(B31:M31) -> 0 | P31: =+O31*Q31 -> 0 | AV31: =SUM(Q31:AU31) -> 0 | AW31: =+AV31-N31 -> 0
A32: 10HD2 | N32: =SUM(B32:M32) -> 0 | P32: =+O32*Q32 -> 0 | AV32: =SUM(Q32:AU32) -> 0 | AW32: =+AV32-N32 -> 0
A33: 10HD3 | N33: =SUM(B33:M33) -> 0 | P33: =+O33*Q33 -> 0 | AV33: =SUM(Q33:AU33) -> 0 | AW33: =+AV33-N33 -> 0
A34: 10HD10 | N34: =SUM(B34:M34) -> 0 | P34: =+O34*Q34 -> 0 | AV34: =SUM(Q34:AU34) -> 0 | AW34: =+AV34-N34 -> 0
A35: 10HD11 | N35: =SUM(B35:M35) -> 0 | P35: =+O35*Q35 -> 0 | AV35: =SUM(Q35:AU35) -> 0 | AW35: =+AV35-N35 -> 0
A36: 10M14 | N36: =SUM(B36:M36) -> 0 | P36: =+O36*Q36 -> 0 | R36: 5 | AV36: =SUM(Q36:AU36) -> 5 | AW36: =+AV36-N36 -> 5
A37: 10M15 | N37: =SUM(B37:M37) -> 0 | P37: =+O37*Q37 -> 0 | Q37: 5 | R37: 5 | AV37: =SUM(Q37:AU37) -> 10 | AW37: =+AV37-N37 -> 10
A38: 10M15S | N38: =SUM(B38:M38) -> 0 | P38: =+O38*Q38 -> 0 | R38: 5 | AV38: =SUM(Q38:AU38) -> 5 | AW38: =+AV38-N38 -> 5
A39: 10M16 | N39: =SUM(B39:M39) -> 0 | P39: =+O39*Q39 -> 0 | AV39: =SUM(Q39:AU39) -> 0 | AW39: =+AV39-N39 -> 0
A40: 10M16DB | N40: =SUM(B40:M40) -> 0 | P40: =+O40*Q40 -> 0 | AV40: =SUM(Q40:AU40) -> 0 | AW40: =+AV40-N40 -> 0
...

Sheet 40-03
A1: ld_part | B1: sum(ld_qty_oh)
A2: 10D26 | B2: 0
A3: 10M14 | B3: 0
A4: 10M15 | B4: 0
A5: 10NS40 | B5: 0
A6: 10PL1 | B6: 0
A7: 10PL2 | B7: 0
A8: 10PL3 | B8: 0
A9: 10PL5 | B9: 0
A10: 10PM10 | B10: 0
A11: 10PRL1 | B11: 0
A12: 10PRL2 | B12: 0
A13: 10PRL3 | B13: 0
... A20: 10S5 | B20: 0

Sheet 40-02
A1: ld_part | B1: sum(ld_qty_oh)
A2: 10D26 | B2: 1
A3: 10D26D | B3: 0
A4: 10D31 | B4: 2
A5: 10D31D | B5: 0
A6: 10HD10 | B6: 2
A7: 10HD11 | B7: 2
A8: 10M14 | B8: 9
A9: 10M15 | B9: 8
A10: 10M15S | B10: 26
A11: 10MAR200 | B11: 0
A12: 10NS40 | B12: 1
A13: 10NS40G | B13: 0
... A40: 10S5 | B40: 3

Sheet 40-01
A1: ld_part | B1: sum(ld_qty_oh)
A2: 10D23 | B2: 0
A3: 10D26 | B3: 1
A4: 10D26D | B4: 0
A5: 10D31 | B5: 0
A6: 10D31D | B6: 0
A7: 10HD10 | B7: 6
A8: 10HD11 | B8: 1
A9: 10HD3 | B9: 0
A10: 10M14 | B10: 4
A11: 10M15 | B11: 6
A12: 10M15S | B12: 1
A13: 10M16 | B13: 4
... A43: 10S5 | B43: 1

Sheet 40
A1: ld_part | B1: sum(ld_qty_oh)
A2: 10D23 | B2: 3
A3: 10D26 | B3: 8
A4: 10D26D | B4: 5
A5: 10D31 | B5: 8
A6: 10D31D | B6: 6
A7: 10HD10 | B7: 4
A8: 10HD11 | B8: 3
A9: 10HD2 | B9: 3
A10: 10HD3 | B10: 2
A11: 10M14 | B11: 16
A12: 10M15 | B12: 16
A13: 10M15S | B13: 30
... A48: 10S6 | B48: 2

Sheet 40-10
A1: ld_part | B1: sum(ld_qty_oh)

Sheet 80-10
A1: ld_part | B1: sum(ld_qty_oh)

Sheet 80-02
A1: ld_part | B1: sum(ld_qty_oh)
A2: 10D23 | B2: 0
A3: 10D26 | B3: 3
A4: 10D26D | B4: 1
A5: 10D31 | B5: 1
A6: 10D31D | B6: 1
A7: 10HD10 | B7: 0
A8: 10HD11 | B8: 1
A9: 10HD3 | B9: 1
A10: 10M14 | B10: 2
A11: 10M15 | B11: 0
A12: 10M15S | B12: 0
A13: 10M16 | B13: 0
... A41: 10S5 | B41: 1

Sheet 80-01
A1: ld_part | B1: sum(ld_qty_oh)
A2: 10D23 | B2: 0
A3: 10D26 | B3: 2
A4: 10D26D | B4: 1
A5: 10D31 | B5: 1
A6: 10D31D | B6: 2
A7: 10HD10 | B7: 1
A8: 10HD11 | B8: 0
A9: 10HD3 | B9: 1
A10: 10M14 | B10: 2
A11: 10M15 | B11: 0
A12: 10NS40 | B12: 1
A13: 10PL1 | B13: 6
... A38: 10S5 | B38: 1

Sheet 80
A1: ld_part | B1: sum(ld_qty_oh)
A2: 10D23 | B2: 0
A3: 10D26 | B3: 20
A4: 10D26D | B4: 4
A5: 10D31 | B5: 17
A6: 10D31D | B6: 1
A7: 10HD10 | B7: 4
A8: 10HD11 | B8: 6
A9: 10HD3 | B9: 1
A10: 10M14 | B10: 37
A11: 10M15 | B11: 17
A12: 10M15S | B12: 4
A13: 10M16 | B13: 6
... A43: 10S6 | B43: 1
